BEGIN:VCALENDAR
VERSION:2.0
PRODID:-//864 Food Trucks - ECPv6.15.20//NONSGML v1.0//EN
CALSCALE:GREGORIAN
METHOD:PUBLISH
X-ORIGINAL-URL:https://864foodtrucks.com
X-WR-CALDESC:Events for 864 Food Trucks
REFRESH-INTERVAL;VALUE=DURATION:PT1H
X-Robots-Tag:noindex
X-PUBLISHED-TTL:PT1H
BEGIN:VTIMEZONE
TZID:America/New_York
BEGIN:DAYLIGHT
TZOFFSETFROM:-0500
TZOFFSETTO:-0400
TZNAME:EDT
DTSTART:20250309T070000
END:DAYLIGHT
BEGIN:STANDARD
TZOFFSETFROM:-0400
TZOFFSETTO:-0500
TZNAME:EST
DTSTART:20251102T060000
END:STANDARD
BEGIN:DAYLIGHT
TZOFFSETFROM:-0500
TZOFFSETTO:-0400
TZNAME:EDT
DTSTART:20260308T070000
END:DAYLIGHT
BEGIN:STANDARD
TZOFFSETFROM:-0400
TZOFFSETTO:-0500
TZNAME:EST
DTSTART:20261101T060000
END:STANDARD
BEGIN:DAYLIGHT
TZOFFSETFROM:-0500
TZOFFSETTO:-0400
TZNAME:EDT
DTSTART:20270314T070000
END:DAYLIGHT
BEGIN:STANDARD
TZOFFSETFROM:-0400
TZOFFSETTO:-0500
TZNAME:EST
DTSTART:20271107T060000
END:STANDARD
END:VTIMEZONE
BEGIN:VEVENT
DTSTART;TZID=America/New_York:20260110T083000
DTEND;TZID=America/New_York:20260110T083000
DTSTAMP:20260425T124303
CREATED:20250217T222338Z
LAST-MODIFIED:20260420T151359Z
UID:58541-1768033800-1768033800@864foodtrucks.com
SUMMARY:Scout's Doughnuts @ Grateful Brew
DESCRIPTION:Handcrafted 100 Layer Doughnuts\nMade in Greenville\, SC #SweeterTogether
URL:https://864foodtrucks.com/event/scouts-doughnuts-grateful-brew-2/2026-01-10/
LOCATION:Grateful Brew\, 501 S Pleasantburg Dr\, Greenville\, SC\, 29607\, United States
CATEGORIES:Food Truck Schedules,Greenville
ATTACH;FMTTYPE=image/jpeg:https://864foodtrucks.com/wp-content/uploads/2022/08/Scouts-Doughnuts-1.jpg
ORGANIZER;CN="Scouts Doughnuts":MAILTO:hello@scoutsdoughnuts.com
GEO:34.8292844;-82.36962
X-APPLE-STRUCTURED-LOCATION;VALUE=URI;X-ADDRESS=Grateful Brew 501 S Pleasantburg Dr Greenville SC 29607 United States;X-APPLE-RADIUS=500;X-TITLE=501 S Pleasantburg Dr:geo:-82.36962,34.8292844
END:VEVENT
BEGIN:VEVENT
DTSTART;TZID=America/New_York:20260110T090000
DTEND;TZID=America/New_York:20260110T140000
DTSTAMP:20260425T124303
CREATED:20251021T124207Z
LAST-MODIFIED:20260421T172834Z
UID:58548-1768035600-1768053600@864foodtrucks.com
SUMMARY:The Rolling Dough @ Greenwood Hobby Lobby
DESCRIPTION:
URL:https://864foodtrucks.com/event/the-rolling-dough-greenwood-hobby-lobby/2026-01-10/
LOCATION:Hobby Lobby Greenwood\, 315 By-Pass 72 NW\, Greenwood\, 29649
CATEGORIES:Food Truck Schedules,Greenwood
ATTACH;FMTTYPE=image/jpeg:https://864foodtrucks.com/wp-content/uploads/2021/05/The-Rolling-Dough-Company-Truck.jpg
ORGANIZER;CN="The Rolling Dough Company":MAILTO:therollingdoughco@yahoo.com
GEO:34.2096048;-82.1777896
X-APPLE-STRUCTURED-LOCATION;VALUE=URI;X-ADDRESS=Hobby Lobby Greenwood 315 By-Pass 72 NW Greenwood 29649;X-APPLE-RADIUS=500;X-TITLE=315 By-Pass 72 NW:geo:-82.1777896,34.2096048
END:VEVENT
BEGIN:VEVENT
DTSTART;TZID=America/New_York:20260110T120000
DTEND;TZID=America/New_York:20260110T150000
DTSTAMP:20260425T124303
CREATED:20260107T183229Z
LAST-MODIFIED:20260107T183229Z
UID:58588-1768046400-1768057200@864foodtrucks.com
SUMMARY:The Salted Fry @ TR Winter Pop Up Market
DESCRIPTION:100% Gluten Free Food Trailer! Crispy Belgian style pommes frites loaded with your choice of savory toppings. Choose from multiple house made sauces and unique ketchup flavors!
URL:https://864foodtrucks.com/event/the-salted-fry-tr-winter-pop-up-market/
LOCATION:Trailblazer Park\, 235 Trailblazer Dr\, Travelers Rest\, SC\, 29690\, United States
CATEGORIES:Food Truck Schedules,Travelers Rest
ATTACH;FMTTYPE=image/jpeg:https://864foodtrucks.com/wp-content/uploads/2025/05/The-Salted-Fry-1.jpg
ORGANIZER;CN="The Salted Fry":MAILTO:thesaltedfry@gmail.com
GEO:34.95593;-82.4419747
X-APPLE-STRUCTURED-LOCATION;VALUE=URI;X-ADDRESS=Trailblazer Park 235 Trailblazer Dr Travelers Rest SC 29690 United States;X-APPLE-RADIUS=500;X-TITLE=235 Trailblazer Dr:geo:-82.4419747,34.95593
END:VEVENT
BEGIN:VEVENT
DTSTART;TZID=America/New_York:20260110T130000
DTEND;TZID=America/New_York:20260110T190000
DTSTAMP:20260425T124303
CREATED:20260105T004949Z
LAST-MODIFIED:20260413T195205Z
UID:58479-1768050000-1768071600@864foodtrucks.com
SUMMARY:Uncle Luke's @ GVL Wine and Spirits
DESCRIPTION:Uncle Lukes LLC\nNamed after my Father\nBook for Job worksite’s Corporate lunches\, Churches\, Festivals\, Apartments buildings.
URL:https://864foodtrucks.com/event/uncle-lukes-gvl-wine-and-spirits/2026-01-10/
LOCATION:GVL Wine & Spirits\, 4025 Kennett Pike\, Greenville\, South Carolina
CATEGORIES:Food Truck Schedules,Greenville
ATTACH;FMTTYPE=image/jpeg:https://864foodtrucks.com/wp-content/uploads/2025/12/Uncle-Lukes.jpg
ORGANIZER;CN="Uncle Luke's":MAILTO:j.diggs864@gmail.com
GEO:34.8484984;-82.4000158
X-APPLE-STRUCTURED-LOCATION;VALUE=URI;X-ADDRESS=GVL Wine & Spirits 4025 Kennett Pike Greenville South Carolina;X-APPLE-RADIUS=500;X-TITLE=4025 Kennett Pike:geo:-82.4000158,34.8484984
END:VEVENT
END:VCALENDAR