BEGIN:VCALENDAR
VERSION:2.0
PRODID:-//864 Food Trucks - ECPv6.15.20//NONSGML v1.0//EN
CALSCALE:GREGORIAN
METHOD:PUBLISH
X-WR-CALNAME:864 Food Trucks
X-ORIGINAL-URL:https://864foodtrucks.com
X-WR-CALDESC:Events for 864 Food Trucks
REFRESH-INTERVAL;VALUE=DURATION:PT1H
X-Robots-Tag:noindex
X-PUBLISHED-TTL:PT1H
BEGIN:VTIMEZONE
TZID:America/New_York
BEGIN:DAYLIGHT
TZOFFSETFROM:-0500
TZOFFSETTO:-0400
TZNAME:EDT
DTSTART:20250309T070000
END:DAYLIGHT
BEGIN:STANDARD
TZOFFSETFROM:-0400
TZOFFSETTO:-0500
TZNAME:EST
DTSTART:20251102T060000
END:STANDARD
BEGIN:DAYLIGHT
TZOFFSETFROM:-0500
TZOFFSETTO:-0400
TZNAME:EDT
DTSTART:20260308T070000
END:DAYLIGHT
BEGIN:STANDARD
TZOFFSETFROM:-0400
TZOFFSETTO:-0500
TZNAME:EST
DTSTART:20261101T060000
END:STANDARD
BEGIN:DAYLIGHT
TZOFFSETFROM:-0500
TZOFFSETTO:-0400
TZNAME:EDT
DTSTART:20270314T070000
END:DAYLIGHT
BEGIN:STANDARD
TZOFFSETFROM:-0400
TZOFFSETTO:-0500
TZNAME:EST
DTSTART:20271107T060000
END:STANDARD
END:VTIMEZONE
BEGIN:VEVENT
DTSTART;TZID=America/New_York:20260214T073000
DTEND;TZID=America/New_York:20260214T113000
DTSTAMP:20260424T102711
CREATED:20260119T002134Z
LAST-MODIFIED:20260119T002134Z
UID:59546-1771054200-1771068600@864foodtrucks.com
SUMMARY:Cinnabon @ Byrnes High School
DESCRIPTION:Cinnabon Food Truck Greenville
URL:https://864foodtrucks.com/event/cinnabon-byrnes-high-school/2026-02-14/
LOCATION:James F Byrnes High School\, East Main Street 150\, Spartanburg\, South Carolina\, 29306\, United States
CATEGORIES:Duncan,Food Truck Schedules
ATTACH;FMTTYPE=image/jpeg:https://864foodtrucks.com/wp-content/uploads/2024/12/326870080_1829549937401559_2632445834433428235_n-2.jpg
ORGANIZER;CN="Cinnabon Greenville":MAILTO:info@hotbonssc.com
GEO:34.949949;-81.9299288
X-APPLE-STRUCTURED-LOCATION;VALUE=URI;X-ADDRESS=James F Byrnes High School East Main Street 150 Spartanburg South Carolina 29306 United States;X-APPLE-RADIUS=500;X-TITLE=East Main Street 150:geo:-81.9299288,34.949949
END:VEVENT
BEGIN:VEVENT
DTSTART;TZID=America/New_York:20260214T090000
DTEND;TZID=America/New_York:20260214T140000
DTSTAMP:20260424T102711
CREATED:20251021T124207Z
LAST-MODIFIED:20260421T172839Z
UID:59591-1771059600-1771077600@864foodtrucks.com
SUMMARY:The Rolling Dough @ Greenwood Hobby Lobby
DESCRIPTION:
URL:https://864foodtrucks.com/event/the-rolling-dough-greenwood-hobby-lobby/2026-02-14/
LOCATION:Hobby Lobby Greenwood\, 315 By-Pass 72 NW\, Greenwood\, 29649
CATEGORIES:Food Truck Schedules,Greenwood
ATTACH;FMTTYPE=image/jpeg:https://864foodtrucks.com/wp-content/uploads/2021/05/The-Rolling-Dough-Company-Truck.jpg
ORGANIZER;CN="The Rolling Dough Company":MAILTO:therollingdoughco@yahoo.com
GEO:34.2096048;-82.1777896
X-APPLE-STRUCTURED-LOCATION;VALUE=URI;X-ADDRESS=Hobby Lobby Greenwood 315 By-Pass 72 NW Greenwood 29649;X-APPLE-RADIUS=500;X-TITLE=315 By-Pass 72 NW:geo:-82.1777896,34.2096048
END:VEVENT
BEGIN:VEVENT
DTSTART;TZID=America/New_York:20260214T120000
DTEND;TZID=America/New_York:20260214T120000
DTSTAMP:20260424T102711
CREATED:20260208T210713Z
LAST-MODIFIED:20260208T210713Z
UID:59553-1771070400-1771070400@864foodtrucks.com
SUMMARY:The Salted Fry @ Traveler's Rest Farmer's Market
DESCRIPTION:100% Gluten Free Food Trailer! Crispy Belgian style pommes frites loaded with your choice of savory toppings. Choose from multiple house made sauces and unique ketchup flavors!
URL:https://864foodtrucks.com/event/the-salted-fry-travelers-rest-farmers-market-2/
LOCATION:Trailblazer Park\, 235 Trailblazer Dr\, Travelers Rest\, SC\, 29690\, United States
CATEGORIES:Food Truck Schedules,Travelers Rest
ATTACH;FMTTYPE=image/jpeg:https://864foodtrucks.com/wp-content/uploads/2025/05/The-Salted-Fry-1.jpg
ORGANIZER;CN="The Salted Fry":MAILTO:thesaltedfry@gmail.com
GEO:34.95593;-82.4419747
X-APPLE-STRUCTURED-LOCATION;VALUE=URI;X-ADDRESS=Trailblazer Park 235 Trailblazer Dr Travelers Rest SC 29690 United States;X-APPLE-RADIUS=500;X-TITLE=235 Trailblazer Dr:geo:-82.4419747,34.95593
END:VEVENT
BEGIN:VEVENT
DTSTART;TZID=America/New_York:20260214T170000
DTEND;TZID=America/New_York:20260214T200000
DTSTAMP:20260424T102711
CREATED:20260119T202716Z
LAST-MODIFIED:20260119T202716Z
UID:59662-1771088400-1771099200@864foodtrucks.com
SUMMARY:Havana Taste @ Wine & Bourbon Barn
DESCRIPTION:Authentic Cuban Savor
URL:https://864foodtrucks.com/event/havana-taste-wine-bourbon-barn/2026-02-14/
LOCATION:Wine & Bourbon Barn\, 30 Ray E Talley Ct\, Simpsonville\, South Carolina
CATEGORIES:Food Truck Schedules,Simpsonville
ATTACH;FMTTYPE=image/jpeg:https://864foodtrucks.com/wp-content/uploads/2024/11/Havana-taste.jpg
ORGANIZER;CN="Havana Taste":MAILTO:havanatasteinc@gmail.com
GEO:34.7131362;-82.254555
X-APPLE-STRUCTURED-LOCATION;VALUE=URI;X-ADDRESS=Wine & Bourbon Barn 30 Ray E Talley Ct Simpsonville South Carolina;X-APPLE-RADIUS=500;X-TITLE=30 Ray E Talley Ct:geo:-82.254555,34.7131362
END:VEVENT
BEGIN:VEVENT
DTSTART;TZID=America/New_York:20260214T170000
DTEND;TZID=America/New_York:20260214T210000
DTSTAMP:20260424T102711
CREATED:20260112T195311Z
LAST-MODIFIED:20260222T204835Z
UID:59581-1771088400-1771102800@864foodtrucks.com
SUMMARY:Local Pie Pizza Co @ 129 Cleveland St
DESCRIPTION:
URL:https://864foodtrucks.com/event/local-pie-pizza-co-129-cleveland-st/2026-02-14/
LOCATION:129 Cleveland St\, 129 Cleveland St\, Greenville\, South Carolina
CATEGORIES:Food Truck Schedules,Greenville
ATTACH;FMTTYPE=image/jpeg:https://864foodtrucks.com/wp-content/uploads/2021/12/Local-Pie-Pizza-3.jpg
ORGANIZER;CN="Local Pie Pizza Company":MAILTO:cory@localpiepizzacompany.com
GEO:34.8385691;-82.3963296
X-APPLE-STRUCTURED-LOCATION;VALUE=URI;X-ADDRESS=129 Cleveland St 129 Cleveland St Greenville South Carolina;X-APPLE-RADIUS=500;X-TITLE=129 Cleveland St:geo:-82.3963296,34.8385691
END:VEVENT
BEGIN:VEVENT
DTSTART;TZID=America/New_York:20260214T173000
DTEND;TZID=America/New_York:20260214T200000
DTSTAMP:20260424T102711
CREATED:20251110T202549Z
LAST-MODIFIED:20260413T172130Z
UID:59540-1771090200-1771099200@864foodtrucks.com
SUMMARY:The Noodle Lady @ The Community Tap
DESCRIPTION:Authentic Chinese dishes for catering and events. Artisan Noodles and 100% Natural. Check out here our events calendar in Greenville\, South Carolina. #TheNoodleLady
URL:https://864foodtrucks.com/event/the-noodle-lady-the-community-tap-6/2026-02-14/
LOCATION:The Community Tap\, 217 Wade Hampton Blvd\, Greenville\, South Carolina
CATEGORIES:Food Truck Schedules,Greenville
ATTACH;FMTTYPE=image/jpeg:https://864foodtrucks.com/wp-content/uploads/2023/07/Noodle-lady.jpg
ORGANIZER;CN="The Noodle Lady":MAILTO:thenoodlelady@yahoo.com
GEO:34.8625763;-82.3857613
X-APPLE-STRUCTURED-LOCATION;VALUE=URI;X-ADDRESS=The Community Tap 217 Wade Hampton Blvd Greenville South Carolina;X-APPLE-RADIUS=500;X-TITLE=217 Wade Hampton Blvd:geo:-82.3857613,34.8625763
END:VEVENT
END:VCALENDAR