BEGIN:VCALENDAR
VERSION:2.0
PRODID:-//864 Food Trucks - ECPv6.15.20//NONSGML v1.0//EN
CALSCALE:GREGORIAN
METHOD:PUBLISH
X-WR-CALNAME:864 Food Trucks
X-ORIGINAL-URL:https://864foodtrucks.com
X-WR-CALDESC:Events for 864 Food Trucks
REFRESH-INTERVAL;VALUE=DURATION:PT1H
X-Robots-Tag:noindex
X-PUBLISHED-TTL:PT1H
BEGIN:VTIMEZONE
TZID:America/New_York
BEGIN:DAYLIGHT
TZOFFSETFROM:-0500
TZOFFSETTO:-0400
TZNAME:EDT
DTSTART:20250309T070000
END:DAYLIGHT
BEGIN:STANDARD
TZOFFSETFROM:-0400
TZOFFSETTO:-0500
TZNAME:EST
DTSTART:20251102T060000
END:STANDARD
BEGIN:DAYLIGHT
TZOFFSETFROM:-0500
TZOFFSETTO:-0400
TZNAME:EDT
DTSTART:20260308T070000
END:DAYLIGHT
BEGIN:STANDARD
TZOFFSETFROM:-0400
TZOFFSETTO:-0500
TZNAME:EST
DTSTART:20261101T060000
END:STANDARD
BEGIN:DAYLIGHT
TZOFFSETFROM:-0500
TZOFFSETTO:-0400
TZNAME:EDT
DTSTART:20270314T070000
END:DAYLIGHT
BEGIN:STANDARD
TZOFFSETFROM:-0400
TZOFFSETTO:-0500
TZNAME:EST
DTSTART:20271107T060000
END:STANDARD
END:VTIMEZONE
BEGIN:VEVENT
DTSTART;TZID=America/New_York:20260217T170000
DTEND;TZID=America/New_York:20260217T210000
DTSTAMP:20260425T140620
CREATED:20260112T195311Z
LAST-MODIFIED:20260222T204836Z
UID:59748-1771347600-1771362000@864foodtrucks.com
SUMMARY:Local Pie Pizza Co @ 129 Cleveland St
DESCRIPTION:
URL:https://864foodtrucks.com/event/local-pie-pizza-co-129-cleveland-st/2026-02-17/
LOCATION:129 Cleveland St\, 129 Cleveland St\, Greenville\, South Carolina
CATEGORIES:Food Truck Schedules,Greenville
ATTACH;FMTTYPE=image/jpeg:https://864foodtrucks.com/wp-content/uploads/2021/12/Local-Pie-Pizza-3.jpg
ORGANIZER;CN="Local Pie Pizza Company":MAILTO:cory@localpiepizzacompany.com
GEO:34.8385691;-82.3963296
X-APPLE-STRUCTURED-LOCATION;VALUE=URI;X-ADDRESS=129 Cleveland St 129 Cleveland St Greenville South Carolina;X-APPLE-RADIUS=500;X-TITLE=129 Cleveland St:geo:-82.3963296,34.8385691
END:VEVENT
BEGIN:VEVENT
DTSTART;TZID=America/New_York:20260217T173000
DTEND;TZID=America/New_York:20260217T200000
DTSTAMP:20260425T140620
CREATED:20250217T193719Z
LAST-MODIFIED:20260420T151032Z
UID:59777-1771349400-1771358400@864foodtrucks.com
SUMMARY:Electric Food Truck @ Grateful Brew
DESCRIPTION:We are the world’s first all electric food truck\, serving Greenville\, SC.
URL:https://864foodtrucks.com/event/grateful-brew-electric-food-truck/2026-02-17/
LOCATION:Grateful Brew\, 501 S Pleasantburg Dr\, Greenville\, SC\, 29607\, United States
CATEGORIES:Food Truck Schedules,Greenville
ATTACH;FMTTYPE=image/jpeg:https://864foodtrucks.com/wp-content/uploads/2023/03/Electric-Food-Truck.jpg
ORGANIZER;CN="The Electric Food Truck":MAILTO:team@theelectricfoodtruck.com
GEO:34.8292844;-82.36962
X-APPLE-STRUCTURED-LOCATION;VALUE=URI;X-ADDRESS=Grateful Brew 501 S Pleasantburg Dr Greenville SC 29607 United States;X-APPLE-RADIUS=500;X-TITLE=501 S Pleasantburg Dr:geo:-82.36962,34.8292844
END:VEVENT
BEGIN:VEVENT
DTSTART;TZID=America/New_York:20260217T173000
DTEND;TZID=America/New_York:20260217T200000
DTSTAMP:20260425T140620
CREATED:20251110T205331Z
LAST-MODIFIED:20260323T203806Z
UID:59774-1771349400-1771358400@864foodtrucks.com
SUMMARY:Churro Masters @ CESA Spartanburg
DESCRIPTION:Delicious CHURROS made fresh!
URL:https://864foodtrucks.com/event/churro-masters-cesa-spartanburg/2026-02-17/
LOCATION:CESA Spartanburg\, 125 S Main St\, Duncan\, South Carolina
CATEGORIES:Duncan,Food Truck Schedules
ATTACH;FMTTYPE=image/jpeg:https://864foodtrucks.com/wp-content/uploads/2025/03/Churro-Masters.jpg
ORGANIZER;CN="Churro Masters":MAILTO:Churromastersemail@gmail.com
GEO:34.923101;-82.1042981
X-APPLE-STRUCTURED-LOCATION;VALUE=URI;X-ADDRESS=CESA Spartanburg 125 S Main St Duncan South Carolina;X-APPLE-RADIUS=500;X-TITLE=125 S Main St:geo:-82.1042981,34.923101
END:VEVENT
END:VCALENDAR