BEGIN:VCALENDAR
VERSION:2.0
PRODID:-//864 Food Trucks - ECPv6.15.20//NONSGML v1.0//EN
CALSCALE:GREGORIAN
METHOD:PUBLISH
X-ORIGINAL-URL:https://864foodtrucks.com
X-WR-CALDESC:Events for 864 Food Trucks
REFRESH-INTERVAL;VALUE=DURATION:PT1H
X-Robots-Tag:noindex
X-PUBLISHED-TTL:PT1H
BEGIN:VTIMEZONE
TZID:America/New_York
BEGIN:DAYLIGHT
TZOFFSETFROM:-0500
TZOFFSETTO:-0400
TZNAME:EDT
DTSTART:20250309T070000
END:DAYLIGHT
BEGIN:STANDARD
TZOFFSETFROM:-0400
TZOFFSETTO:-0500
TZNAME:EST
DTSTART:20251102T060000
END:STANDARD
BEGIN:DAYLIGHT
TZOFFSETFROM:-0500
TZOFFSETTO:-0400
TZNAME:EDT
DTSTART:20260308T070000
END:DAYLIGHT
BEGIN:STANDARD
TZOFFSETFROM:-0400
TZOFFSETTO:-0500
TZNAME:EST
DTSTART:20261101T060000
END:STANDARD
BEGIN:DAYLIGHT
TZOFFSETFROM:-0500
TZOFFSETTO:-0400
TZNAME:EDT
DTSTART:20270314T070000
END:DAYLIGHT
BEGIN:STANDARD
TZOFFSETFROM:-0400
TZOFFSETTO:-0500
TZNAME:EST
DTSTART:20271107T060000
END:STANDARD
END:VTIMEZONE
BEGIN:VEVENT
DTSTART;TZID=America/New_York:20260219T110000
DTEND;TZID=America/New_York:20260219T130000
DTSTAMP:20260425T092818
CREATED:20250921T193810Z
LAST-MODIFIED:20260419T195309Z
UID:59742-1771498800-1771506000@864foodtrucks.com
SUMMARY:Simpell Sammies @ BASF
DESCRIPTION:Simpell Sammies is open for business and ready to serve you flavorful and delicious sandwiches and hoagies.
URL:https://864foodtrucks.com/event/simpell-sammies-basf-3/2026-02-19/
LOCATION:BASF Catalysts LLC\, 554 Engelhard Drive\, Seneca\, South Carolina
CATEGORIES:Food Truck Schedules,Seneca
ATTACH;FMTTYPE=image/jpeg:https://864foodtrucks.com/wp-content/uploads/2023/06/Simpell-Sammies-Trailer.jpg
ORGANIZER;CN="Simpell Sammies":MAILTO:info@simpelltreats.com
GEO:34.6518557;-82.955869
X-APPLE-STRUCTURED-LOCATION;VALUE=URI;X-ADDRESS=BASF Catalysts LLC 554 Engelhard Drive Seneca South Carolina;X-APPLE-RADIUS=500;X-TITLE=554 Engelhard Drive:geo:-82.955869,34.6518557
END:VEVENT
BEGIN:VEVENT
DTSTART;TZID=America/New_York:20260219T170000
DTEND;TZID=America/New_York:20260219T190000
DTSTAMP:20260425T092818
CREATED:20260216T002742Z
LAST-MODIFIED:20260216T002742Z
UID:59731-1771520400-1771527600@864foodtrucks.com
SUMMARY:The Noodle Lady @ Peachtree Village
DESCRIPTION:Authentic Chinese dishes for catering and events. Artisan Noodles and 100% Natural. Check out here our events calendar in Greenville\, South Carolina. #TheNoodleLady
URL:https://864foodtrucks.com/event/the-noodle-lady-peachtree-village/
LOCATION:Peachtree Village\, 1303 Peak View Drive\, Boiling Springs\, SC\, 29316\, United States
CATEGORIES:Boiling Springs,Food Truck Schedules
ATTACH;FMTTYPE=image/jpeg:https://864foodtrucks.com/wp-content/uploads/2023/07/Noodle-lady.jpg
ORGANIZER;CN="The Noodle Lady":MAILTO:thenoodlelady@yahoo.com
GEO:35.0638109;-81.9951473
X-APPLE-STRUCTURED-LOCATION;VALUE=URI;X-ADDRESS=Peachtree Village 1303 Peak View Drive Boiling Springs SC 29316 United States;X-APPLE-RADIUS=500;X-TITLE=1303 Peak View Drive:geo:-81.9951473,35.0638109
END:VEVENT
BEGIN:VEVENT
DTSTART;TZID=America/New_York:20260219T170000
DTEND;TZID=America/New_York:20260219T210000
DTSTAMP:20260425T092818
CREATED:20260112T195311Z
LAST-MODIFIED:20260222T204838Z
UID:59750-1771520400-1771534800@864foodtrucks.com
SUMMARY:Local Pie Pizza Co @ 129 Cleveland St
DESCRIPTION:
URL:https://864foodtrucks.com/event/local-pie-pizza-co-129-cleveland-st/2026-02-19/
LOCATION:129 Cleveland St\, 129 Cleveland St\, Greenville\, South Carolina
CATEGORIES:Food Truck Schedules,Greenville
ATTACH;FMTTYPE=image/jpeg:https://864foodtrucks.com/wp-content/uploads/2021/12/Local-Pie-Pizza-3.jpg
ORGANIZER;CN="Local Pie Pizza Company":MAILTO:cory@localpiepizzacompany.com
GEO:34.8385691;-82.3963296
X-APPLE-STRUCTURED-LOCATION;VALUE=URI;X-ADDRESS=129 Cleveland St 129 Cleveland St Greenville South Carolina;X-APPLE-RADIUS=500;X-TITLE=129 Cleveland St:geo:-82.3963296,34.8385691
END:VEVENT
BEGIN:VEVENT
DTSTART;TZID=America/New_York:20260219T173000
DTEND;TZID=America/New_York:20260219T173000
DTSTAMP:20260425T092818
CREATED:20250616T235910Z
LAST-MODIFIED:20260223T193855Z
UID:59756-1771522200-1771522200@864foodtrucks.com
SUMMARY:The Salted Fry @ Community Tap
DESCRIPTION:100% Gluten Free Food Trailer! Crispy Belgian style pommes frites loaded with your choice of savory toppings. Choose from multiple house made sauces and unique ketchup flavors!
URL:https://864foodtrucks.com/event/the-salted-fry-community-tap/2026-02-19/
LOCATION:The Community Tap\, 217 Wade Hampton Blvd\, Greenville\, South Carolina
CATEGORIES:Food Truck Schedules,Greenville
ATTACH;FMTTYPE=image/jpeg:https://864foodtrucks.com/wp-content/uploads/2025/05/The-Salted-Fry-1.jpg
ORGANIZER;CN="The Salted Fry":MAILTO:thesaltedfry@gmail.com
GEO:34.8625763;-82.3857613
X-APPLE-STRUCTURED-LOCATION;VALUE=URI;X-ADDRESS=The Community Tap 217 Wade Hampton Blvd Greenville South Carolina;X-APPLE-RADIUS=500;X-TITLE=217 Wade Hampton Blvd:geo:-82.3857613,34.8625763
END:VEVENT
END:VCALENDAR