BEGIN:VCALENDAR
VERSION:2.0
PRODID:-//864 Food Trucks - ECPv6.15.20//NONSGML v1.0//EN
CALSCALE:GREGORIAN
METHOD:PUBLISH
X-WR-CALNAME:864 Food Trucks
X-ORIGINAL-URL:https://864foodtrucks.com
X-WR-CALDESC:Events for 864 Food Trucks
REFRESH-INTERVAL;VALUE=DURATION:PT1H
X-Robots-Tag:noindex
X-PUBLISHED-TTL:PT1H
BEGIN:VTIMEZONE
TZID:America/New_York
BEGIN:DAYLIGHT
TZOFFSETFROM:-0500
TZOFFSETTO:-0400
TZNAME:EDT
DTSTART:20250309T070000
END:DAYLIGHT
BEGIN:STANDARD
TZOFFSETFROM:-0400
TZOFFSETTO:-0500
TZNAME:EST
DTSTART:20251102T060000
END:STANDARD
BEGIN:DAYLIGHT
TZOFFSETFROM:-0500
TZOFFSETTO:-0400
TZNAME:EDT
DTSTART:20260308T070000
END:DAYLIGHT
BEGIN:STANDARD
TZOFFSETFROM:-0400
TZOFFSETTO:-0500
TZNAME:EST
DTSTART:20261101T060000
END:STANDARD
BEGIN:DAYLIGHT
TZOFFSETFROM:-0500
TZOFFSETTO:-0400
TZNAME:EDT
DTSTART:20270314T070000
END:DAYLIGHT
BEGIN:STANDARD
TZOFFSETFROM:-0400
TZOFFSETTO:-0500
TZNAME:EST
DTSTART:20271107T060000
END:STANDARD
END:VTIMEZONE
BEGIN:VEVENT
DTSTART;TZID=America/New_York:20260224T170000
DTEND;TZID=America/New_York:20260224T190000
DTSTAMP:20260425T223457
CREATED:20260222T200505Z
LAST-MODIFIED:20260222T200505Z
UID:60057-1771952400-1771959600@864foodtrucks.com
SUMMARY:Cinnabon @ Abner Creek Academy
DESCRIPTION:Cinnabon Food Truck Greenville
URL:https://864foodtrucks.com/event/cinnabon-abner-creek-academy/
LOCATION:Abner Creek Academy\, 2050 Abner Creek Rd\, Duncan\, South Carolina
CATEGORIES:Duncan,Food Truck Schedules
ATTACH;FMTTYPE=image/jpeg:https://864foodtrucks.com/wp-content/uploads/2024/12/326870080_1829549937401559_2632445834433428235_n-2.jpg
ORGANIZER;CN="Cinnabon Greenville":MAILTO:info@hotbonssc.com
END:VEVENT
BEGIN:VEVENT
DTSTART;TZID=America/New_York:20260224T170000
DTEND;TZID=America/New_York:20260224T200000
DTSTAMP:20260425T223457
CREATED:20230530T182944Z
LAST-MODIFIED:20260402T131724Z
UID:60136-1771952400-1771963200@864foodtrucks.com
SUMMARY:Dos Bros @ Walking Stick Way
DESCRIPTION:
URL:https://864foodtrucks.com/event/dos-bros-walking-stick-way/2026-02-24/
LOCATION:100 Walking Stick Way\, 100 Walkingstick Way\, Simpsonville\, SC\, United States
CATEGORIES:Food Truck Schedules,Simpsonville
ATTACH;FMTTYPE=image/jpeg:https://864foodtrucks.com/wp-content/uploads/2021/10/Dos-Bros-Tacos-Truck.jpg
ORGANIZER;CN="Dos Bros Tacos 864":MAILTO:jesusi86@yahoo.com
END:VEVENT
BEGIN:VEVENT
DTSTART;TZID=America/New_York:20260224T170000
DTEND;TZID=America/New_York:20260224T210000
DTSTAMP:20260425T223457
CREATED:20251215T233217Z
LAST-MODIFIED:20260421T002841Z
UID:60127-1771952400-1771966800@864foodtrucks.com
SUMMARY:Uncle Luke's @ Community Tap
DESCRIPTION:Uncle Lukes LLC\nNamed after my Father\nBook for Job worksite’s Corporate lunches\, Churches\, Festivals\, Apartments buildings.
URL:https://864foodtrucks.com/event/uncle-lukes-community-tap/2026-02-24/
LOCATION:The Community Tap\, 217 Wade Hampton Blvd\, Greenville\, South Carolina
CATEGORIES:Food Truck Schedules,Greenville
ATTACH;FMTTYPE=image/jpeg:https://864foodtrucks.com/wp-content/uploads/2025/12/Uncle-Lukes.jpg
ORGANIZER;CN="Uncle Luke's":MAILTO:j.diggs864@gmail.com
GEO:34.8625763;-82.3857613
X-APPLE-STRUCTURED-LOCATION;VALUE=URI;X-ADDRESS=The Community Tap 217 Wade Hampton Blvd Greenville South Carolina;X-APPLE-RADIUS=500;X-TITLE=217 Wade Hampton Blvd:geo:-82.3857613,34.8625763
END:VEVENT
BEGIN:VEVENT
DTSTART;TZID=America/New_York:20260224T170000
DTEND;TZID=America/New_York:20260224T210000
DTSTAMP:20260425T223457
CREATED:20260112T195311Z
LAST-MODIFIED:20260112T195311Z
UID:60084-1771952400-1771966800@864foodtrucks.com
SUMMARY:Local Pie Pizza Co @ 129 Cleveland St
DESCRIPTION:
URL:https://864foodtrucks.com/event/local-pie-pizza-co-129-cleveland-st/2026-02-24/
LOCATION:129 Cleveland St\, 129 Cleveland St\, Greenville\, South Carolina
CATEGORIES:Food Truck Schedules,Greenville
ATTACH;FMTTYPE=image/jpeg:https://864foodtrucks.com/wp-content/uploads/2021/12/Local-Pie-Pizza-3.jpg
ORGANIZER;CN="Local Pie Pizza Company":MAILTO:cory@localpiepizzacompany.com
GEO:34.8385691;-82.3963296
X-APPLE-STRUCTURED-LOCATION;VALUE=URI;X-ADDRESS=129 Cleveland St 129 Cleveland St Greenville South Carolina;X-APPLE-RADIUS=500;X-TITLE=129 Cleveland St:geo:-82.3963296,34.8385691
END:VEVENT
END:VCALENDAR