BEGIN:VCALENDAR
VERSION:2.0
PRODID:-//864 Food Trucks - ECPv6.15.20//NONSGML v1.0//EN
CALSCALE:GREGORIAN
METHOD:PUBLISH
X-WR-CALNAME:864 Food Trucks
X-ORIGINAL-URL:https://864foodtrucks.com
X-WR-CALDESC:Events for 864 Food Trucks
REFRESH-INTERVAL;VALUE=DURATION:PT1H
X-Robots-Tag:noindex
X-PUBLISHED-TTL:PT1H
BEGIN:VTIMEZONE
TZID:America/New_York
BEGIN:DAYLIGHT
TZOFFSETFROM:-0500
TZOFFSETTO:-0400
TZNAME:EDT
DTSTART:20240310T070000
END:DAYLIGHT
BEGIN:STANDARD
TZOFFSETFROM:-0400
TZOFFSETTO:-0500
TZNAME:EST
DTSTART:20241103T060000
END:STANDARD
BEGIN:DAYLIGHT
TZOFFSETFROM:-0500
TZOFFSETTO:-0400
TZNAME:EDT
DTSTART:20250309T070000
END:DAYLIGHT
BEGIN:STANDARD
TZOFFSETFROM:-0400
TZOFFSETTO:-0500
TZNAME:EST
DTSTART:20251102T060000
END:STANDARD
BEGIN:DAYLIGHT
TZOFFSETFROM:-0500
TZOFFSETTO:-0400
TZNAME:EDT
DTSTART:20260308T070000
END:DAYLIGHT
BEGIN:STANDARD
TZOFFSETFROM:-0400
TZOFFSETTO:-0500
TZNAME:EST
DTSTART:20261101T060000
END:STANDARD
END:VTIMEZONE
BEGIN:VEVENT
DTSTART;TZID=America/New_York:20251006T110000
DTEND;TZID=America/New_York:20251006T130000
DTSTAMP:20260425T223922
CREATED:20250413T140759Z
LAST-MODIFIED:20260302T002413Z
UID:54809-1759748400-1759755600@864foodtrucks.com
SUMMARY:Simpell Sammies @ Michelin
DESCRIPTION:Simpell Sammies is open for business and ready to serve you flavorful and delicious sandwiches and hoagies.
URL:https://864foodtrucks.com/event/simpell-sammies-michelin-2/2025-10-06/
LOCATION:Michelin\, 10 Bib Way\, Anderson\, South Carolina
CATEGORIES:Anderson,Food Truck Schedules
ATTACH;FMTTYPE=image/jpeg:https://864foodtrucks.com/wp-content/uploads/2023/06/Simpell-Sammies-Trailer.jpg
ORGANIZER;CN="Simpell Sammies":MAILTO:info@simpelltreats.com
GEO:34.7264362;-82.3658822
X-APPLE-STRUCTURED-LOCATION;VALUE=URI;X-ADDRESS=Michelin 10 Bib Way Anderson South Carolina;X-APPLE-RADIUS=500;X-TITLE=10 Bib Way:geo:-82.3658822,34.7264362
END:VEVENT
BEGIN:VEVENT
DTSTART;TZID=America/New_York:20251007T110000
DTEND;TZID=America/New_York:20251007T160000
DTSTAMP:20260425T223922
CREATED:20250915T131112Z
LAST-MODIFIED:20260420T125154Z
UID:54831-1759834800-1759852800@864foodtrucks.com
SUMMARY:Cinnabon @ Chesnee Food Lion
DESCRIPTION:Cinnabon Food Truck Greenville
URL:https://864foodtrucks.com/event/cinnabon-chesnee-food-lion/2025-10-07/
LOCATION:Food Lion Chesnee\, 712 S Alabama Ave\, Chesnee\, South Carolina\, 29323
CATEGORIES:Chesnee,Food Truck Schedules
ATTACH;FMTTYPE=image/jpeg:https://864foodtrucks.com/wp-content/uploads/2024/12/326870080_1829549937401559_2632445834433428235_n-2.jpg
ORGANIZER;CN="Cinnabon Greenville":MAILTO:info@hotbonssc.com
GEO:35.1367556;-81.8630291
X-APPLE-STRUCTURED-LOCATION;VALUE=URI;X-ADDRESS=Food Lion Chesnee 712 S Alabama Ave Chesnee South Carolina 29323;X-APPLE-RADIUS=500;X-TITLE=712 S Alabama Ave:geo:-81.8630291,35.1367556
END:VEVENT
BEGIN:VEVENT
DTSTART;TZID=America/New_York:20251007T170000
DTEND;TZID=America/New_York:20251007T200000
DTSTAMP:20260425T223922
CREATED:20250602T142903Z
LAST-MODIFIED:20260217T005315Z
UID:54796-1759856400-1759867200@864foodtrucks.com
SUMMARY:Local Pie Pizza Co @ Community Tap
DESCRIPTION:
URL:https://864foodtrucks.com/event/local-pie-pizza-co-community-tap-4/2025-10-07/
LOCATION:The Community Tap\, 217 Wade Hampton Blvd\, Greenville\, South Carolina
CATEGORIES:Food Truck Schedules,Greenville
ATTACH;FMTTYPE=image/jpeg:https://864foodtrucks.com/wp-content/uploads/2021/12/Local-Pie-Pizza-3.jpg
ORGANIZER;CN="Local Pie Pizza Company":MAILTO:cory@localpiepizzacompany.com
GEO:34.8625763;-82.3857613
X-APPLE-STRUCTURED-LOCATION;VALUE=URI;X-ADDRESS=The Community Tap 217 Wade Hampton Blvd Greenville South Carolina;X-APPLE-RADIUS=500;X-TITLE=217 Wade Hampton Blvd:geo:-82.3857613,34.8625763
END:VEVENT
BEGIN:VEVENT
DTSTART;TZID=America/New_York:20251007T173000
DTEND;TZID=America/New_York:20251007T200000
DTSTAMP:20260425T223922
CREATED:20250217T193719Z
LAST-MODIFIED:20260420T151025Z
UID:54837-1759858200-1759867200@864foodtrucks.com
SUMMARY:Electric Food Truck @ Grateful Brew
DESCRIPTION:We are the world’s first all electric food truck\, serving Greenville\, SC.
URL:https://864foodtrucks.com/event/grateful-brew-electric-food-truck/2025-10-07/
LOCATION:Grateful Brew\, 501 S Pleasantburg Dr\, Greenville\, SC\, 29607\, United States
CATEGORIES:Food Truck Schedules,Greenville
ATTACH;FMTTYPE=image/jpeg:https://864foodtrucks.com/wp-content/uploads/2023/03/Electric-Food-Truck.jpg
ORGANIZER;CN="The Electric Food Truck":MAILTO:team@theelectricfoodtruck.com
GEO:34.8292844;-82.36962
X-APPLE-STRUCTURED-LOCATION;VALUE=URI;X-ADDRESS=Grateful Brew 501 S Pleasantburg Dr Greenville SC 29607 United States;X-APPLE-RADIUS=500;X-TITLE=501 S Pleasantburg Dr:geo:-82.36962,34.8292844
END:VEVENT
BEGIN:VEVENT
DTSTART;TZID=America/New_York:20251008T070000
DTEND;TZID=America/New_York:20251008T130000
DTSTAMP:20260425T223922
CREATED:20250210T235244Z
LAST-MODIFIED:20250210T235244Z
UID:54864-1759906800-1759928400@864foodtrucks.com
SUMMARY:Rolling Dough @ Greenwood Hobby Lobby
DESCRIPTION:
URL:https://864foodtrucks.com/event/rolling-dough-greenwood-hobby-lobby/2025-10-08/
LOCATION:Hobby Lobby Greenwood\, 315 By-Pass 72 NW\, Greenwood\, 29649
CATEGORIES:Food Truck Schedules,Greenwood
ATTACH;FMTTYPE=image/jpeg:https://864foodtrucks.com/wp-content/uploads/2021/05/The-Rolling-Dough-Company-Truck.jpg
ORGANIZER;CN="The Rolling Dough Company":MAILTO:therollingdoughco@yahoo.com
GEO:34.2096048;-82.1777896
X-APPLE-STRUCTURED-LOCATION;VALUE=URI;X-ADDRESS=Hobby Lobby Greenwood 315 By-Pass 72 NW Greenwood 29649;X-APPLE-RADIUS=500;X-TITLE=315 By-Pass 72 NW:geo:-82.1777896,34.2096048
END:VEVENT
BEGIN:VEVENT
DTSTART;TZID=America/New_York:20251008T110000
DTEND;TZID=America/New_York:20251008T160000
DTSTAMP:20260425T223922
CREATED:20250331T003544Z
LAST-MODIFIED:20260323T195538Z
UID:54829-1759921200-1759939200@864foodtrucks.com
SUMMARY:Cinnabon @ Spartanburg Reginal Medical Center
DESCRIPTION:Cinnabon Food Truck Greenville
URL:https://864foodtrucks.com/event/cinnabon-spartanburg-reginal-healthcare/2025-10-08/
LOCATION:Spartanburg Regional Healthcare\, 101 E Wood St\, Spartanburg\, South Carolina
CATEGORIES:Food Truck Schedules,Spartanburg
ATTACH;FMTTYPE=image/jpeg:https://864foodtrucks.com/wp-content/uploads/2024/12/326870080_1829549937401559_2632445834433428235_n-2.jpg
ORGANIZER;CN="Cinnabon Greenville":MAILTO:info@hotbonssc.com
GEO:34.966283;-81.9393976
X-APPLE-STRUCTURED-LOCATION;VALUE=URI;X-ADDRESS=Spartanburg Regional Healthcare 101 E Wood St Spartanburg South Carolina;X-APPLE-RADIUS=500;X-TITLE=101 E Wood St:geo:-81.9393976,34.966283
END:VEVENT
BEGIN:VEVENT
DTSTART;TZID=America/New_York:20251008T160000
DTEND;TZID=America/New_York:20251008T210000
DTSTAMP:20260425T223922
CREATED:20251006T124307Z
LAST-MODIFIED:20251006T124307Z
UID:54799-1759939200-1759957200@864foodtrucks.com
SUMMARY:Local Pie Pizza Co @ Wofford University
DESCRIPTION:
URL:https://864foodtrucks.com/event/local-pie-pizza-co-wofford-university-2/
LOCATION:Wofford College\, 429 N Church St\, Spartanburg\, SC\, United States
CATEGORIES:Food Truck Schedules,Spartanburg
ATTACH;FMTTYPE=image/jpeg:https://864foodtrucks.com/wp-content/uploads/2021/12/Local-Pie-Pizza-3.jpg
ORGANIZER;CN="Local Pie Pizza Company":MAILTO:cory@localpiepizzacompany.com
END:VEVENT
BEGIN:VEVENT
DTSTART;TZID=America/New_York:20251008T173000
DTEND;TZID=America/New_York:20251008T193000
DTSTAMP:20260425T223922
CREATED:20240204T234742Z
LAST-MODIFIED:20260406T220559Z
UID:54852-1759944600-1759951800@864foodtrucks.com
SUMMARY:One Eyed Donkey @ Community Tap
DESCRIPTION:#followthedonkey … ji-roz presents the one eyed donkey! fun take on some greek classics ~ on wheels!!! same quality\, same service\, same vibe as our brick and mortar just brought directly to you. Call or email us today to schedule our donkey.
URL:https://864foodtrucks.com/event/one-eyed-donkey-community-tap-4/2025-10-08/
LOCATION:The Community Tap\, 217 Wade Hampton Blvd\, Greenville\, South Carolina
CATEGORIES:Food Truck Schedules,Greenville
ATTACH;FMTTYPE=image/jpeg:https://864foodtrucks.com/wp-content/uploads/2021/05/One-Eyed-Donkey-Food-Truck.jpg
GEO:34.8625763;-82.3857613
X-APPLE-STRUCTURED-LOCATION;VALUE=URI;X-ADDRESS=The Community Tap 217 Wade Hampton Blvd Greenville South Carolina;X-APPLE-RADIUS=500;X-TITLE=217 Wade Hampton Blvd:geo:-82.3857613,34.8625763
END:VEVENT
BEGIN:VEVENT
DTSTART;TZID=America/New_York:20251008T173000
DTEND;TZID=America/New_York:20251008T200000
DTSTAMP:20260425T223922
CREATED:20250616T235910Z
LAST-MODIFIED:20260223T193854Z
UID:55037-1759944600-1759953600@864foodtrucks.com
SUMMARY:The Salted Fry @ Community Tap
DESCRIPTION:100% Gluten Free Food Trailer! Crispy Belgian style pommes frites loaded with your choice of savory toppings. Choose from multiple house made sauces and unique ketchup flavors!
URL:https://864foodtrucks.com/event/the-salted-fry-community-tap/2025-10-08/
LOCATION:The Community Tap\, 217 Wade Hampton Blvd\, Greenville\, South Carolina
CATEGORIES:Food Truck Schedules,Greenville
ATTACH;FMTTYPE=image/jpeg:https://864foodtrucks.com/wp-content/uploads/2025/05/The-Salted-Fry-1.jpg
ORGANIZER;CN="The Salted Fry":MAILTO:thesaltedfry@gmail.com
GEO:34.8625763;-82.3857613
X-APPLE-STRUCTURED-LOCATION;VALUE=URI;X-ADDRESS=The Community Tap 217 Wade Hampton Blvd Greenville South Carolina;X-APPLE-RADIUS=500;X-TITLE=217 Wade Hampton Blvd:geo:-82.3857613,34.8625763
END:VEVENT
BEGIN:VEVENT
DTSTART;TZID=America/New_York:20251009T093000
DTEND;TZID=America/New_York:20251009T133000
DTSTAMP:20260425T223922
CREATED:20250512T205510Z
LAST-MODIFIED:20251019T193307Z
UID:54827-1760002200-1760016600@864foodtrucks.com
SUMMARY:Cinnabon @ North Grove Medical
DESCRIPTION:Cinnabon Food Truck Greenville
URL:https://864foodtrucks.com/event/cinnabon-north-grove-medical/2025-10-09/
LOCATION:North Grove Medical\, 1330 Boiling Springs Rd\, Spartanburg\, South Carolina
CATEGORIES:Food Truck Schedules,Spartanburg
ATTACH;FMTTYPE=image/jpeg:https://864foodtrucks.com/wp-content/uploads/2024/12/326870080_1829549937401559_2632445834433428235_n-2.jpg
ORGANIZER;CN="Cinnabon Greenville":MAILTO:info@hotbonssc.com
GEO:34.9895441;-81.9444456
X-APPLE-STRUCTURED-LOCATION;VALUE=URI;X-ADDRESS=North Grove Medical 1330 Boiling Springs Rd Spartanburg South Carolina;X-APPLE-RADIUS=500;X-TITLE=1330 Boiling Springs Rd:geo:-81.9444456,34.9895441
END:VEVENT
BEGIN:VEVENT
DTSTART;TZID=America/New_York:20251009T110000
DTEND;TZID=America/New_York:20251009T130000
DTSTAMP:20260425T223922
CREATED:20250222T185440Z
LAST-MODIFIED:20260105T004543Z
UID:54811-1760007600-1760014800@864foodtrucks.com
SUMMARY:Simpell Sammies @ BASF
DESCRIPTION:Simpell Sammies is open for business and ready to serve you flavorful and delicious sandwiches and hoagies.
URL:https://864foodtrucks.com/event/simpell-sammies-basf-2/2025-10-09/
LOCATION:BASF Catalysts LLC\, 554 Engelhard Drive\, Seneca\, South Carolina
CATEGORIES:Food Truck Schedules,Seneca
ATTACH;FMTTYPE=image/jpeg:https://864foodtrucks.com/wp-content/uploads/2023/06/Simpell-Sammies-Trailer.jpg
ORGANIZER;CN="Simpell Sammies":MAILTO:info@simpelltreats.com
GEO:34.6518557;-82.955869
X-APPLE-STRUCTURED-LOCATION;VALUE=URI;X-ADDRESS=BASF Catalysts LLC 554 Engelhard Drive Seneca South Carolina;X-APPLE-RADIUS=500;X-TITLE=554 Engelhard Drive:geo:-82.955869,34.6518557
END:VEVENT
BEGIN:VEVENT
DTSTART;TZID=America/New_York:20251009T110000
DTEND;TZID=America/New_York:20251009T150000
DTSTAMP:20260425T223922
CREATED:20250330T213710Z
LAST-MODIFIED:20250330T213710Z
UID:54821-1760007600-1760022000@864foodtrucks.com
SUMMARY:Spinx Cluk Truk @ Bausch & Lomb
DESCRIPTION:Your favorite southern fried chicken is hitting the road—and it’s going to be legendary. Our community comes first\, and we want to share that tender love by bringing our homegrown menu to you. The Cluk Truk is coming Fall 2020 to the Upstate!
URL:https://864foodtrucks.com/event/spinx-cluk-truk-bausch-lomb-2/2025-10-09/
LOCATION:Bausch & Lomb\, 8507 Pelham Rd\, Greenville\, South Carolina
CATEGORIES:Food Truck Schedules,Greenville
ATTACH;FMTTYPE=image/jpeg:https://864foodtrucks.com/wp-content/uploads/2021/05/Spinx-Cluk-Truk-Truck.jpg
ORGANIZER;CN="Spinx Cluk Truk":MAILTO:cluktruk@spinxco.com
GEO:34.854705;-82.2347303
X-APPLE-STRUCTURED-LOCATION;VALUE=URI;X-ADDRESS=Bausch & Lomb 8507 Pelham Rd Greenville South Carolina;X-APPLE-RADIUS=500;X-TITLE=8507 Pelham Rd:geo:-82.2347303,34.854705
END:VEVENT
BEGIN:VEVENT
DTSTART;TZID=America/New_York:20251009T170000
DTEND;TZID=America/New_York:20251009T200000
DTSTAMP:20260425T223922
CREATED:20251006T124434Z
LAST-MODIFIED:20251006T124434Z
UID:54803-1760029200-1760040000@864foodtrucks.com
SUMMARY:Local Pie Pizza Co @ Travelers Rest Market
DESCRIPTION:
URL:https://864foodtrucks.com/event/local-pie-pizza-co-travelers-rest-market/
LOCATION:Trailblazer Park\, 235 Trailblazer Dr\, Travelers Rest\, SC\, 29690\, United States
CATEGORIES:Food Truck Schedules,Travelers Rest
ATTACH;FMTTYPE=image/jpeg:https://864foodtrucks.com/wp-content/uploads/2021/12/Local-Pie-Pizza-3.jpg
ORGANIZER;CN="Local Pie Pizza Company":MAILTO:cory@localpiepizzacompany.com
GEO:34.95593;-82.4419747
X-APPLE-STRUCTURED-LOCATION;VALUE=URI;X-ADDRESS=Trailblazer Park 235 Trailblazer Dr Travelers Rest SC 29690 United States;X-APPLE-RADIUS=500;X-TITLE=235 Trailblazer Dr:geo:-82.4419747,34.95593
END:VEVENT
BEGIN:VEVENT
DTSTART;TZID=America/New_York:20251009T170000
DTEND;TZID=America/New_York:20251009T200000
DTSTAMP:20260425T223922
CREATED:20251008T202014Z
LAST-MODIFIED:20251008T202014Z
UID:54914-1760029200-1760040000@864foodtrucks.com
SUMMARY:Dos Bros @ South Orchard Farms
DESCRIPTION:
URL:https://864foodtrucks.com/event/dos-bros-south-orchard-farms/
LOCATION:South Orchard Farms\, 400 S Orchard Farms Ave\, Simpsonville\, South Carolina
CATEGORIES:Food Truck Schedules,Simpsonville
ATTACH;FMTTYPE=image/jpeg:https://864foodtrucks.com/wp-content/uploads/2021/10/Dos-Bros-Tacos-Truck.jpg
ORGANIZER;CN="Dos Bros Tacos 864":MAILTO:jesusi86@yahoo.com
GEO:34.8245784;-82.2274281
X-APPLE-STRUCTURED-LOCATION;VALUE=URI;X-ADDRESS=South Orchard Farms 400 S Orchard Farms Ave Simpsonville South Carolina;X-APPLE-RADIUS=500;X-TITLE=400 S Orchard Farms Ave:geo:-82.2274281,34.8245784
END:VEVENT
BEGIN:VEVENT
DTSTART;TZID=America/New_York:20251009T173000
DTEND;TZID=America/New_York:20251009T200000
DTSTAMP:20260425T223922
CREATED:20250105T225028Z
LAST-MODIFIED:20260420T123425Z
UID:54839-1760031000-1760040000@864foodtrucks.com
SUMMARY:The Noodle Lady @ Grateful Brew
DESCRIPTION:Authentic Chinese dishes for catering and events. Artisan Noodles and 100% Natural. Check out here our events calendar in Greenville\, South Carolina. #TheNoodleLady
URL:https://864foodtrucks.com/event/the-noodle-lady-grateful-brew-2/2025-10-09/
LOCATION:Grateful Brew\, 501 S Pleasantburg Dr\, Greenville\, SC\, 29607\, United States
CATEGORIES:Food Truck Schedules,Greenville
ATTACH;FMTTYPE=image/jpeg:https://864foodtrucks.com/wp-content/uploads/2023/07/Noodle-lady.jpg
ORGANIZER;CN="The Noodle Lady":MAILTO:thenoodlelady@yahoo.com
GEO:34.8292844;-82.36962
X-APPLE-STRUCTURED-LOCATION;VALUE=URI;X-ADDRESS=Grateful Brew 501 S Pleasantburg Dr Greenville SC 29607 United States;X-APPLE-RADIUS=500;X-TITLE=501 S Pleasantburg Dr:geo:-82.36962,34.8292844
END:VEVENT
BEGIN:VEVENT
DTSTART;TZID=America/New_York:20251010T070000
DTEND;TZID=America/New_York:20251010T120000
DTSTAMP:20260425T223922
CREATED:20250721T233654Z
LAST-MODIFIED:20260413T233443Z
UID:54861-1760079600-1760097600@864foodtrucks.com
SUMMARY:The Rolling Dough @ Big House Outpost
DESCRIPTION:
URL:https://864foodtrucks.com/event/the-rolling-dough-big-house-outpost/2025-10-10/
LOCATION:Big House Outpost\, 100 Greenville St #4\,\, Abbeville\, South Carolina
CATEGORIES:Abbeville,Food Truck Schedules
ATTACH;FMTTYPE=image/jpeg:https://864foodtrucks.com/wp-content/uploads/2021/05/The-Rolling-Dough-Company-Truck.jpg
ORGANIZER;CN="The Rolling Dough Company":MAILTO:therollingdoughco@yahoo.com
GEO:34.1808277;-82.3812485
X-APPLE-STRUCTURED-LOCATION;VALUE=URI;X-ADDRESS=Big House Outpost 100 Greenville St #4 Abbeville South Carolina;X-APPLE-RADIUS=500;X-TITLE=100 Greenville St #4\,:geo:-82.3812485,34.1808277
END:VEVENT
BEGIN:VEVENT
DTSTART;TZID=America/New_York:20251010T100000
DTEND;TZID=America/New_York:20251010T140000
DTSTAMP:20260425T223922
CREATED:20251008T201653Z
LAST-MODIFIED:20251008T201653Z
UID:54911-1760090400-1760104800@864foodtrucks.com
SUMMARY:La Katrina Mia @ Greenville Middle School
DESCRIPTION:Latin Cuisine\, book us for your next event we Cater or bring our Food Truck out the choice is yours.
URL:https://864foodtrucks.com/event/la-katrina-mia-greenville-middle-school/
LOCATION:Greenville Middle School\, 339 Lowndes Ave\, Greenville\, South Carolina
CATEGORIES:Food Truck Schedules,Greenville
ATTACH;FMTTYPE=image/jpeg:https://864foodtrucks.com/wp-content/uploads/2022/06/La-Katrina-Mia-Truck.jpg
ORGANIZER;CN="La Katrina Mia":MAILTO:lakatrinamia@gmail.com
GEO:34.8581622;-82.369545
X-APPLE-STRUCTURED-LOCATION;VALUE=URI;X-ADDRESS=Greenville Middle School 339 Lowndes Ave Greenville South Carolina;X-APPLE-RADIUS=500;X-TITLE=339 Lowndes Ave:geo:-82.369545,34.8581622
END:VEVENT
BEGIN:VEVENT
DTSTART;TZID=America/New_York:20251010T120000
DTEND;TZID=America/New_York:20251010T220000
DTSTAMP:20260425T223922
CREATED:20251006T175849Z
LAST-MODIFIED:20251006T175849Z
UID:54823-1760097600-1760133600@864foodtrucks.com
SUMMARY:Spinx Cluk Truk @ Fall for Greenville
DESCRIPTION:Your favorite southern fried chicken is hitting the road—and it’s going to be legendary. Our community comes first\, and we want to share that tender love by bringing our homegrown menu to you. The Cluk Truk is coming Fall 2020 to the Upstate!
URL:https://864foodtrucks.com/event/spinx-cluk-truk-fall-for-greenville-2/2025-10-10/
LOCATION:Downtown Greenville\, Greenville\, South Carolina
CATEGORIES:Food Truck Schedules,Greenville
ATTACH;FMTTYPE=image/jpeg:https://864foodtrucks.com/wp-content/uploads/2021/05/Spinx-Cluk-Truk-Truck.jpg
ORGANIZER;CN="Spinx Cluk Truk":MAILTO:cluktruk@spinxco.com
GEO:34.8526176;-82.3940104
END:VEVENT
BEGIN:VEVENT
DTSTART;TZID=America/New_York:20251010T120000
DTEND;TZID=America/New_York:20251010T220000
DTSTAMP:20260425T223922
CREATED:20251007T173104Z
LAST-MODIFIED:20251007T173104Z
UID:54877-1760097600-1760133600@864foodtrucks.com
SUMMARY:Churro Masters @ Fall for Greenville
DESCRIPTION:Delicious CHURROS made fresh!
URL:https://864foodtrucks.com/event/churro-masters-fall-for-greenville/2025-10-10/
LOCATION:Downtown Greenville\, Greenville\, South Carolina
CATEGORIES:Food Truck Schedules,Greenville
ATTACH;FMTTYPE=image/jpeg:https://864foodtrucks.com/wp-content/uploads/2025/03/Churro-Masters.jpg
ORGANIZER;CN="Churro Masters":MAILTO:Churromastersemail@gmail.com
GEO:34.8526176;-82.3940104
END:VEVENT
BEGIN:VEVENT
DTSTART;TZID=America/New_York:20251010T170000
DTEND;TZID=America/New_York:20251010T203000
DTSTAMP:20260425T223922
CREATED:20250217T183428Z
LAST-MODIFIED:20260412T192435Z
UID:54806-1760115600-1760128200@864foodtrucks.com
SUMMARY:Local Pie Pizza Co @ Grateful Brew
DESCRIPTION:
URL:https://864foodtrucks.com/event/local-pie-pizza-co-grateful-brew-6/2025-10-10/
LOCATION:Grateful Brew\, 501 S Pleasantburg Dr\, Greenville\, SC\, 29607\, United States
CATEGORIES:Food Truck Schedules,Greenville
ORGANIZER;CN="Local Pie Pizza Company":MAILTO:cory@localpiepizzacompany.com
GEO:34.8292844;-82.36962
X-APPLE-STRUCTURED-LOCATION;VALUE=URI;X-ADDRESS=Grateful Brew 501 S Pleasantburg Dr Greenville SC 29607 United States;X-APPLE-RADIUS=500;X-TITLE=501 S Pleasantburg Dr:geo:-82.36962,34.8292844
END:VEVENT
BEGIN:VEVENT
DTSTART;TZID=America/New_York:20251010T173000
DTEND;TZID=America/New_York:20251010T173000
DTSTAMP:20260425T223922
CREATED:20251007T180750Z
LAST-MODIFIED:20251022T125804Z
UID:54880-1760117400-1760117400@864foodtrucks.com
SUMMARY:Fuel Foods @ Honea Path Fall Festival
DESCRIPTION:Fuel Foods – Food Truck & Catering\nClean\, Unique & Delicious!\nLocated in Clemson & Upstate\, SC 📍\nBook Us for Events! Contact for More Info!
URL:https://864foodtrucks.com/event/fuel-foods-honea-path-fall-festival/2025-10-10/
LOCATION:Main Street Honea Path\, Main Street\, Honea Path\, South Carolina
CATEGORIES:Food Truck Schedules,Honea Path
ATTACH;FMTTYPE=image/png:https://864foodtrucks.com/wp-content/uploads/2025/03/Fuel-Foods-.png
ORGANIZER;CN="Fuel Foods Food Truck":MAILTO:fuelfoods.truck@gmail.com
GEO:34.4513689;-82.4000313
X-APPLE-STRUCTURED-LOCATION;VALUE=URI;X-ADDRESS=Main Street Honea Path Main Street Honea Path South Carolina;X-APPLE-RADIUS=500;X-TITLE=Main Street:geo:-82.4000313,34.4513689
END:VEVENT
BEGIN:VEVENT
DTSTART;TZID=America/New_York:20251010T173000
DTEND;TZID=America/New_York:20251010T193000
DTSTAMP:20260425T223922
CREATED:20251008T202149Z
LAST-MODIFIED:20251008T202149Z
UID:54917-1760117400-1760124600@864foodtrucks.com
SUMMARY:Dos Bros @ Riverside High School
DESCRIPTION:
URL:https://864foodtrucks.com/event/dos-bros-riverside-high-school/
LOCATION:Riverside Highschool\, 794 Hammett Bridge Rd\, Greer\, South Carolina
CATEGORIES:Food Truck Schedules,Greer
ATTACH;FMTTYPE=image/jpeg:https://864foodtrucks.com/wp-content/uploads/2021/10/Dos-Bros-Tacos-Truck.jpg
ORGANIZER;CN="Dos Bros Tacos 864":MAILTO:jesusi86@yahoo.com
GEO:34.9030045;-82.2557834
X-APPLE-STRUCTURED-LOCATION;VALUE=URI;X-ADDRESS=Riverside Highschool 794 Hammett Bridge Rd Greer South Carolina;X-APPLE-RADIUS=500;X-TITLE=794 Hammett Bridge Rd:geo:-82.2557834,34.9030045
END:VEVENT
BEGIN:VEVENT
DTSTART;TZID=America/New_York:20251010T173000
DTEND;TZID=America/New_York:20251010T200000
DTSTAMP:20260425T223922
CREATED:20250421T183536Z
LAST-MODIFIED:20260413T172409Z
UID:54847-1760117400-1760126400@864foodtrucks.com
SUMMARY:Lai Sushi Express @ Community Tap
DESCRIPTION:Roll into flavor at our food truck! Serving fresh\, hand-crafted sushi and bold Asian (Lai) fusion!
URL:https://864foodtrucks.com/event/lai-sushi-express-community-tap/2025-10-10/
LOCATION:The Community tap\, 217 Wade Hampton Blvd\, Greenville\, SC\, 29609\, United States
CATEGORIES:Food Truck Schedules,Greenville
ATTACH;FMTTYPE=image/jpeg:https://864foodtrucks.com/wp-content/uploads/2025/04/Lai-Sushi-Express.jpg
ORGANIZER;CN="Lai Sushi Express":MAILTO:Laisushiexpress@gmail.com
GEO:34.8623218;-82.3858037
X-APPLE-STRUCTURED-LOCATION;VALUE=URI;X-ADDRESS=The Community tap 217 Wade Hampton Blvd Greenville SC 29609 United States;X-APPLE-RADIUS=500;X-TITLE=217 Wade Hampton Blvd:geo:-82.3858037,34.8623218
END:VEVENT
BEGIN:VEVENT
DTSTART;TZID=America/New_York:20251011T083000
DTEND;TZID=America/New_York:20251011T083000
DTSTAMP:20260425T223922
CREATED:20250217T222338Z
LAST-MODIFIED:20260420T151353Z
UID:54835-1760171400-1760171400@864foodtrucks.com
SUMMARY:Scout's Doughnuts @ Grateful Brew
DESCRIPTION:Handcrafted 100 Layer Doughnuts\nMade in Greenville\, SC #SweeterTogether
URL:https://864foodtrucks.com/event/scouts-doughnuts-grateful-brew-2/2025-10-11/
LOCATION:Grateful Brew\, 501 S Pleasantburg Dr\, Greenville\, SC\, 29607\, United States
CATEGORIES:Food Truck Schedules,Greenville
ATTACH;FMTTYPE=image/jpeg:https://864foodtrucks.com/wp-content/uploads/2022/08/Scouts-Doughnuts-1.jpg
ORGANIZER;CN="Scouts Doughnuts":MAILTO:hello@scoutsdoughnuts.com
GEO:34.8292844;-82.36962
X-APPLE-STRUCTURED-LOCATION;VALUE=URI;X-ADDRESS=Grateful Brew 501 S Pleasantburg Dr Greenville SC 29607 United States;X-APPLE-RADIUS=500;X-TITLE=501 S Pleasantburg Dr:geo:-82.36962,34.8292844
END:VEVENT
BEGIN:VEVENT
DTSTART;TZID=America/New_York:20251011T090000
DTEND;TZID=America/New_York:20251011T140000
DTSTAMP:20260425T223922
CREATED:20250210T235244Z
LAST-MODIFIED:20250210T235244Z
UID:54865-1760173200-1760191200@864foodtrucks.com
SUMMARY:Rolling Dough @ Greenwood Hobby Lobby
DESCRIPTION:
URL:https://864foodtrucks.com/event/rolling-dough-greenwood-hobby-lobby/2025-10-11/
LOCATION:Hobby Lobby Greenwood\, 315 By-Pass 72 NW\, Greenwood\, 29649
CATEGORIES:Food Truck Schedules,Greenwood
ATTACH;FMTTYPE=image/jpeg:https://864foodtrucks.com/wp-content/uploads/2021/05/The-Rolling-Dough-Company-Truck.jpg
ORGANIZER;CN="The Rolling Dough Company":MAILTO:therollingdoughco@yahoo.com
GEO:34.2096048;-82.1777896
X-APPLE-STRUCTURED-LOCATION;VALUE=URI;X-ADDRESS=Hobby Lobby Greenwood 315 By-Pass 72 NW Greenwood 29649;X-APPLE-RADIUS=500;X-TITLE=315 By-Pass 72 NW:geo:-82.1777896,34.2096048
END:VEVENT
BEGIN:VEVENT
DTSTART;TZID=America/New_York:20251011T110000
DTEND;TZID=America/New_York:20251011T110000
DTSTAMP:20260425T223922
CREATED:20251007T180750Z
LAST-MODIFIED:20251022T125804Z
UID:54882-1760180400-1760180400@864foodtrucks.com
SUMMARY:Fuel Foods @ Honea Path Fall Festival
DESCRIPTION:Fuel Foods – Food Truck & Catering\nClean\, Unique & Delicious!\nLocated in Clemson & Upstate\, SC 📍\nBook Us for Events! Contact for More Info!
URL:https://864foodtrucks.com/event/fuel-foods-honea-path-fall-festival/2025-10-11/
LOCATION:Main Street Honea Path\, Main Street\, Honea Path\, South Carolina
CATEGORIES:Food Truck Schedules,Honea Path
ATTACH;FMTTYPE=image/png:https://864foodtrucks.com/wp-content/uploads/2025/03/Fuel-Foods-.png
ORGANIZER;CN="Fuel Foods Food Truck":MAILTO:fuelfoods.truck@gmail.com
GEO:34.4513689;-82.4000313
X-APPLE-STRUCTURED-LOCATION;VALUE=URI;X-ADDRESS=Main Street Honea Path Main Street Honea Path South Carolina;X-APPLE-RADIUS=500;X-TITLE=Main Street:geo:-82.4000313,34.4513689
END:VEVENT
BEGIN:VEVENT
DTSTART;TZID=America/New_York:20251011T110000
DTEND;TZID=America/New_York:20251011T150000
DTSTAMP:20260425T223922
CREATED:20250602T142903Z
LAST-MODIFIED:20260217T005315Z
UID:54800-1760180400-1760194800@864foodtrucks.com
SUMMARY:Local Pie Pizza Co @ Community Tap
DESCRIPTION:
URL:https://864foodtrucks.com/event/local-pie-pizza-co-community-tap-4/2025-10-11/
LOCATION:The Community Tap\, 217 Wade Hampton Blvd\, Greenville\, South Carolina
CATEGORIES:Food Truck Schedules,Greenville
ATTACH;FMTTYPE=image/jpeg:https://864foodtrucks.com/wp-content/uploads/2021/12/Local-Pie-Pizza-3.jpg
ORGANIZER;CN="Local Pie Pizza Company":MAILTO:cory@localpiepizzacompany.com
GEO:34.8625763;-82.3857613
X-APPLE-STRUCTURED-LOCATION;VALUE=URI;X-ADDRESS=The Community Tap 217 Wade Hampton Blvd Greenville South Carolina;X-APPLE-RADIUS=500;X-TITLE=217 Wade Hampton Blvd:geo:-82.3857613,34.8625763
END:VEVENT
BEGIN:VEVENT
DTSTART;TZID=America/New_York:20251011T110000
DTEND;TZID=America/New_York:20251011T210000
DTSTAMP:20260425T223922
CREATED:20251006T175849Z
LAST-MODIFIED:20251006T175849Z
UID:54824-1760180400-1760216400@864foodtrucks.com
SUMMARY:Spinx Cluk Truk @ Fall for Greenville
DESCRIPTION:Your favorite southern fried chicken is hitting the road—and it’s going to be legendary. Our community comes first\, and we want to share that tender love by bringing our homegrown menu to you. The Cluk Truk is coming Fall 2020 to the Upstate!
URL:https://864foodtrucks.com/event/spinx-cluk-truk-fall-for-greenville-2/2025-10-11/
LOCATION:Downtown Greenville\, Greenville\, South Carolina
CATEGORIES:Food Truck Schedules,Greenville
ATTACH;FMTTYPE=image/jpeg:https://864foodtrucks.com/wp-content/uploads/2021/05/Spinx-Cluk-Truk-Truck.jpg
ORGANIZER;CN="Spinx Cluk Truk":MAILTO:cluktruk@spinxco.com
GEO:34.8526176;-82.3940104
END:VEVENT
BEGIN:VEVENT
DTSTART;TZID=America/New_York:20251011T173000
DTEND;TZID=America/New_York:20251011T193000
DTSTAMP:20260425T223922
CREATED:20240715T141255Z
LAST-MODIFIED:20251117T000645Z
UID:54854-1760203800-1760211000@864foodtrucks.com
SUMMARY:The Noodle Lady @ The Community Tap
DESCRIPTION:Authentic Chinese dishes for catering and events. Artisan Noodles and 100% Natural. Check out here our events calendar in Greenville\, South Carolina. #TheNoodleLady
URL:https://864foodtrucks.com/event/the-noodle-lady-the-community-tap-4/2025-10-11/
LOCATION:The Community Tap\, 217 Wade Hampton Blvd\, Greenville\, South Carolina
CATEGORIES:Food Truck Schedules,Greenville
ATTACH;FMTTYPE=image/jpeg:https://864foodtrucks.com/wp-content/uploads/2023/07/Noodle-lady.jpg
ORGANIZER;CN="The Noodle Lady":MAILTO:thenoodlelady@yahoo.com
GEO:34.8625763;-82.3857613
X-APPLE-STRUCTURED-LOCATION;VALUE=URI;X-ADDRESS=The Community Tap 217 Wade Hampton Blvd Greenville South Carolina;X-APPLE-RADIUS=500;X-TITLE=217 Wade Hampton Blvd:geo:-82.3857613,34.8625763
END:VEVENT
BEGIN:VEVENT
DTSTART;TZID=America/New_York:20251011T173000
DTEND;TZID=America/New_York:20251011T200000
DTSTAMP:20260425T223922
CREATED:20250922T173736Z
LAST-MODIFIED:20260331T002810Z
UID:54833-1760203800-1760212800@864foodtrucks.com
SUMMARY:Lai Sushi Express @ Grateful Brew
DESCRIPTION:Roll into flavor at our food truck! Serving fresh\, hand-crafted sushi and bold Asian (Lai) fusion!
URL:https://864foodtrucks.com/event/lai-sushi-express-grateful-brew-3/2025-10-11/
LOCATION:Grateful Brew\, 501 S Pleasantburg Dr\, Greenville\, SC\, 29607\, United States
CATEGORIES:Food Truck Schedules,Greenville
ATTACH;FMTTYPE=image/jpeg:https://864foodtrucks.com/wp-content/uploads/2025/04/Lai-Sushi-Express.jpg
ORGANIZER;CN="Lai Sushi Express":MAILTO:Laisushiexpress@gmail.com
GEO:34.8292844;-82.36962
X-APPLE-STRUCTURED-LOCATION;VALUE=URI;X-ADDRESS=Grateful Brew 501 S Pleasantburg Dr Greenville SC 29607 United States;X-APPLE-RADIUS=500;X-TITLE=501 S Pleasantburg Dr:geo:-82.36962,34.8292844
END:VEVENT
END:VCALENDAR