BEGIN:VCALENDAR
VERSION:2.0
PRODID:-//864 Food Trucks - ECPv6.15.20//NONSGML v1.0//EN
CALSCALE:GREGORIAN
METHOD:PUBLISH
X-WR-CALNAME:864 Food Trucks
X-ORIGINAL-URL:https://864foodtrucks.com
X-WR-CALDESC:Events for 864 Food Trucks
REFRESH-INTERVAL;VALUE=DURATION:PT1H
X-Robots-Tag:noindex
X-PUBLISHED-TTL:PT1H
BEGIN:VTIMEZONE
TZID:America/New_York
BEGIN:DAYLIGHT
TZOFFSETFROM:-0500
TZOFFSETTO:-0400
TZNAME:EDT
DTSTART:20240310T070000
END:DAYLIGHT
BEGIN:STANDARD
TZOFFSETFROM:-0400
TZOFFSETTO:-0500
TZNAME:EST
DTSTART:20241103T060000
END:STANDARD
BEGIN:DAYLIGHT
TZOFFSETFROM:-0500
TZOFFSETTO:-0400
TZNAME:EDT
DTSTART:20250309T070000
END:DAYLIGHT
BEGIN:STANDARD
TZOFFSETFROM:-0400
TZOFFSETTO:-0500
TZNAME:EST
DTSTART:20251102T060000
END:STANDARD
BEGIN:DAYLIGHT
TZOFFSETFROM:-0500
TZOFFSETTO:-0400
TZNAME:EDT
DTSTART:20260308T070000
END:DAYLIGHT
BEGIN:STANDARD
TZOFFSETFROM:-0400
TZOFFSETTO:-0500
TZNAME:EST
DTSTART:20261101T060000
END:STANDARD
END:VTIMEZONE
BEGIN:VEVENT
DTSTART;TZID=America/New_York:20251202T103000
DTEND;TZID=America/New_York:20251202T133000
DTSTAMP:20260425T092806
CREATED:20251116T235758Z
LAST-MODIFIED:20260419T195247Z
UID:56942-1764671400-1764682200@864foodtrucks.com
SUMMARY:Simpell Sammies @ Borgwarner
DESCRIPTION:Simpell Sammies is open for business and ready to serve you flavorful and delicious sandwiches and hoagies.
URL:https://864foodtrucks.com/event/simpell-sammies-borgwarner-4/2025-12-02/
LOCATION:BorgWarner\, 15545 Wells Hwy\, Seneca
CATEGORIES:Food Truck Schedules,Seneca
ATTACH;FMTTYPE=image/jpeg:https://864foodtrucks.com/wp-content/uploads/2023/06/Simpell-Sammies-Trailer.jpg
ORGANIZER;CN="Simpell Sammies":MAILTO:info@simpelltreats.com
END:VEVENT
BEGIN:VEVENT
DTSTART;TZID=America/New_York:20251202T110000
DTEND;TZID=America/New_York:20251202T140000
DTSTAMP:20260425T092806
CREATED:20240806T134047Z
LAST-MODIFIED:20240806T134047Z
UID:57056-1764673200-1764684000@864foodtrucks.com
SUMMARY:Kodesh BBQ Bowls @ OP Mobility
DESCRIPTION:Kodesh BBQ Bowls is a mobile food trailer that provides a heap amount of Levitical clean\, flavorful\, pit smoked BBQ. We’ve also come up with a link between enjoying our delicious BBQ and providing healthier options\, our cultural inspired bowls!
URL:https://864foodtrucks.com/event/kodesh-bbq-bowls-op-mobility/2025-12-02/
LOCATION:OP Mobility\, Victor Hill Road\, Greer\, South Carolina\, 29651\, United States
CATEGORIES:Food Truck Schedules,Greer
ATTACH;FMTTYPE=image/jpeg:https://864foodtrucks.com/wp-content/uploads/2023/07/Kodesh-BBQ.jpg
ORGANIZER;CN="Kodesh BBQ & Bowls":MAILTO:kodeshbbq@gmail.com
GEO:34.9078603;-82.1748874
X-APPLE-STRUCTURED-LOCATION;VALUE=URI;X-ADDRESS=OP Mobility Victor Hill Road Greer South Carolina 29651 United States;X-APPLE-RADIUS=500;X-TITLE=Victor Hill Road:geo:-82.1748874,34.9078603
END:VEVENT
BEGIN:VEVENT
DTSTART;TZID=America/New_York:20251202T170000
DTEND;TZID=America/New_York:20251202T200000
DTSTAMP:20260425T092807
CREATED:20250602T142903Z
LAST-MODIFIED:20260217T005317Z
UID:56988-1764694800-1764705600@864foodtrucks.com
SUMMARY:Local Pie Pizza Co @ Community Tap
DESCRIPTION:
URL:https://864foodtrucks.com/event/local-pie-pizza-co-community-tap-4/2025-12-02/
LOCATION:The Community Tap\, 217 Wade Hampton Blvd\, Greenville\, South Carolina
CATEGORIES:Food Truck Schedules,Greenville
ATTACH;FMTTYPE=image/jpeg:https://864foodtrucks.com/wp-content/uploads/2021/12/Local-Pie-Pizza-3.jpg
ORGANIZER;CN="Local Pie Pizza Company":MAILTO:cory@localpiepizzacompany.com
GEO:34.8625763;-82.3857613
X-APPLE-STRUCTURED-LOCATION;VALUE=URI;X-ADDRESS=The Community Tap 217 Wade Hampton Blvd Greenville South Carolina;X-APPLE-RADIUS=500;X-TITLE=217 Wade Hampton Blvd:geo:-82.3857613,34.8625763
END:VEVENT
BEGIN:VEVENT
DTSTART;TZID=America/New_York:20251202T173000
DTEND;TZID=America/New_York:20251202T200000
DTSTAMP:20260425T092807
CREATED:20250217T193719Z
LAST-MODIFIED:20260420T151026Z
UID:56978-1764696600-1764705600@864foodtrucks.com
SUMMARY:Electric Food Truck @ Grateful Brew
DESCRIPTION:We are the world’s first all electric food truck\, serving Greenville\, SC.
URL:https://864foodtrucks.com/event/grateful-brew-electric-food-truck/2025-12-02/
LOCATION:Grateful Brew\, 501 S Pleasantburg Dr\, Greenville\, SC\, 29607\, United States
CATEGORIES:Food Truck Schedules,Greenville
ATTACH;FMTTYPE=image/jpeg:https://864foodtrucks.com/wp-content/uploads/2023/03/Electric-Food-Truck.jpg
ORGANIZER;CN="The Electric Food Truck":MAILTO:team@theelectricfoodtruck.com
GEO:34.8292844;-82.36962
X-APPLE-STRUCTURED-LOCATION;VALUE=URI;X-ADDRESS=Grateful Brew 501 S Pleasantburg Dr Greenville SC 29607 United States;X-APPLE-RADIUS=500;X-TITLE=501 S Pleasantburg Dr:geo:-82.36962,34.8292844
END:VEVENT
BEGIN:VEVENT
DTSTART;TZID=America/New_York:20251203T070000
DTEND;TZID=America/New_York:20251203T130000
DTSTAMP:20260425T092807
CREATED:20251021T124207Z
LAST-MODIFIED:20260421T172833Z
UID:57016-1764745200-1764766800@864foodtrucks.com
SUMMARY:The Rolling Dough @ Greenwood Hobby Lobby
DESCRIPTION:
URL:https://864foodtrucks.com/event/the-rolling-dough-greenwood-hobby-lobby/2025-12-03/
LOCATION:Hobby Lobby Greenwood\, 315 By-Pass 72 NW\, Greenwood\, 29649
CATEGORIES:Food Truck Schedules,Greenwood
ATTACH;FMTTYPE=image/jpeg:https://864foodtrucks.com/wp-content/uploads/2021/05/The-Rolling-Dough-Company-Truck.jpg
ORGANIZER;CN="The Rolling Dough Company":MAILTO:therollingdoughco@yahoo.com
GEO:34.2096048;-82.1777896
X-APPLE-STRUCTURED-LOCATION;VALUE=URI;X-ADDRESS=Hobby Lobby Greenwood 315 By-Pass 72 NW Greenwood 29649;X-APPLE-RADIUS=500;X-TITLE=315 By-Pass 72 NW:geo:-82.1777896,34.2096048
END:VEVENT
BEGIN:VEVENT
DTSTART;TZID=America/New_York:20251203T110000
DTEND;TZID=America/New_York:20251203T160000
DTSTAMP:20260425T092807
CREATED:20250331T003544Z
LAST-MODIFIED:20260323T195544Z
UID:56934-1764759600-1764777600@864foodtrucks.com
SUMMARY:Cinnabon @ Spartanburg Reginal Medical Center
DESCRIPTION:Cinnabon Food Truck Greenville
URL:https://864foodtrucks.com/event/cinnabon-spartanburg-reginal-healthcare/2025-12-03/
LOCATION:Spartanburg Regional Healthcare\, 101 E Wood St\, Spartanburg\, South Carolina
CATEGORIES:Food Truck Schedules,Spartanburg
ATTACH;FMTTYPE=image/jpeg:https://864foodtrucks.com/wp-content/uploads/2024/12/326870080_1829549937401559_2632445834433428235_n-2.jpg
ORGANIZER;CN="Cinnabon Greenville":MAILTO:info@hotbonssc.com
GEO:34.966283;-81.9393976
X-APPLE-STRUCTURED-LOCATION;VALUE=URI;X-ADDRESS=Spartanburg Regional Healthcare 101 E Wood St Spartanburg South Carolina;X-APPLE-RADIUS=500;X-TITLE=101 E Wood St:geo:-81.9393976,34.966283
END:VEVENT
BEGIN:VEVENT
DTSTART;TZID=America/New_York:20251203T160000
DTEND;TZID=America/New_York:20251203T190000
DTSTAMP:20260425T092807
CREATED:20250128T002944Z
LAST-MODIFIED:20260113T182721Z
UID:57049-1764777600-1764788400@864foodtrucks.com
SUMMARY:Fifi's Hibachi @ Former Walgreens
DESCRIPTION:
URL:https://864foodtrucks.com/event/fifis-hibachi-former-walgreens/2025-12-03/
LOCATION:Main Street Woodruff\, South Main Street\, Woodruff\, South Carolina\, 29388\, United States
CATEGORIES:Food Truck Schedules,Woodruff
ATTACH;FMTTYPE=image/jpeg:https://864foodtrucks.com/wp-content/uploads/2023/11/Fifis-Hibachi.jpg
GEO:34.7344511;-82.0337043
X-APPLE-STRUCTURED-LOCATION;VALUE=URI;X-ADDRESS=Main Street Woodruff South Main Street Woodruff South Carolina 29388 United States;X-APPLE-RADIUS=500;X-TITLE=South Main Street:geo:-82.0337043,34.7344511
END:VEVENT
BEGIN:VEVENT
DTSTART;TZID=America/New_York:20251203T170000
DTEND;TZID=America/New_York:20251203T200000
DTSTAMP:20260425T092807
CREATED:20250629T195621Z
LAST-MODIFIED:20260105T140119Z
UID:56986-1764781200-1764792000@864foodtrucks.com
SUMMARY:Local Pie Pizza Co @ Piney Mountain Bike Lounge
DESCRIPTION:
URL:https://864foodtrucks.com/event/local-pie-pizza-co-piney-mountain-bike-lounge-5/2025-12-03/
LOCATION:Piney Mountain Bike Lounge\, 20 Piney Mountain Rd\, Greenville\, South Carolina
CATEGORIES:Food Truck Schedules,Greenville
ATTACH;FMTTYPE=image/jpeg:https://864foodtrucks.com/wp-content/uploads/2021/12/Local-Pie-Pizza-3.jpg
ORGANIZER;CN="Local Pie Pizza Company":MAILTO:cory@localpiepizzacompany.com
GEO:34.8913881;-82.373773
X-APPLE-STRUCTURED-LOCATION;VALUE=URI;X-ADDRESS=Piney Mountain Bike Lounge 20 Piney Mountain Rd Greenville South Carolina;X-APPLE-RADIUS=500;X-TITLE=20 Piney Mountain Rd:geo:-82.373773,34.8913881
END:VEVENT
BEGIN:VEVENT
DTSTART;TZID=America/New_York:20251203T173000
DTEND;TZID=America/New_York:20251203T193000
DTSTAMP:20260425T092807
CREATED:20240204T234742Z
LAST-MODIFIED:20260406T220600Z
UID:57006-1764783000-1764790200@864foodtrucks.com
SUMMARY:One Eyed Donkey @ Community Tap
DESCRIPTION:#followthedonkey … ji-roz presents the one eyed donkey! fun take on some greek classics ~ on wheels!!! same quality\, same service\, same vibe as our brick and mortar just brought directly to you. Call or email us today to schedule our donkey.
URL:https://864foodtrucks.com/event/one-eyed-donkey-community-tap-4/2025-12-03/
LOCATION:The Community Tap\, 217 Wade Hampton Blvd\, Greenville\, South Carolina
CATEGORIES:Food Truck Schedules,Greenville
ATTACH;FMTTYPE=image/jpeg:https://864foodtrucks.com/wp-content/uploads/2021/05/One-Eyed-Donkey-Food-Truck.jpg
GEO:34.8625763;-82.3857613
X-APPLE-STRUCTURED-LOCATION;VALUE=URI;X-ADDRESS=The Community Tap 217 Wade Hampton Blvd Greenville South Carolina;X-APPLE-RADIUS=500;X-TITLE=217 Wade Hampton Blvd:geo:-82.3857613,34.8625763
END:VEVENT
BEGIN:VEVENT
DTSTART;TZID=America/New_York:20251203T173000
DTEND;TZID=America/New_York:20251203T200000
DTSTAMP:20260425T092807
CREATED:20250922T174243Z
LAST-MODIFIED:20260420T150936Z
UID:56980-1764783000-1764792000@864foodtrucks.com
SUMMARY:We Got the Beets @ Grateful Brew
DESCRIPTION:FOOD FOR ALL!\nPowered by love…and plants 🌱🌈\n📍 Greenville\, SC
URL:https://864foodtrucks.com/event/we-got-the-beets-grateful-brew-2/2025-12-03/
LOCATION:Grateful Brew\, 501 S Pleasantburg Dr\, Greenville\, SC\, 29607\, United States
CATEGORIES:Food Truck Schedules,Greenville
ATTACH;FMTTYPE=image/jpeg:https://864foodtrucks.com/wp-content/uploads/2023/10/We-Got-the-Beets.jpg
GEO:34.8292844;-82.36962
X-APPLE-STRUCTURED-LOCATION;VALUE=URI;X-ADDRESS=Grateful Brew 501 S Pleasantburg Dr Greenville SC 29607 United States;X-APPLE-RADIUS=500;X-TITLE=501 S Pleasantburg Dr:geo:-82.36962,34.8292844
END:VEVENT
BEGIN:VEVENT
DTSTART;TZID=America/New_York:20251204T090000
DTEND;TZID=America/New_York:20251204T120000
DTSTAMP:20260425T092807
CREATED:20250519T171848Z
LAST-MODIFIED:20260323T195514Z
UID:56935-1764838800-1764849600@864foodtrucks.com
SUMMARY:Cinnabon @ Spectrum
DESCRIPTION:Cinnabon Food Truck Greenville
URL:https://864foodtrucks.com/event/cinnabon-spectrum/2025-12-04/
LOCATION:Spectrum\, 2 Digital Place\, Simpsonville\, SC\, United States
CATEGORIES:Food Truck Schedules,Simpsonville
ATTACH;FMTTYPE=image/jpeg:https://864foodtrucks.com/wp-content/uploads/2024/12/326870080_1829549937401559_2632445834433428235_n-2.jpg
ORGANIZER;CN="Cinnabon Greenville":MAILTO:info@hotbonssc.com
GEO:34.7953548;-82.2788291
X-APPLE-STRUCTURED-LOCATION;VALUE=URI;X-ADDRESS=Spectrum 2 Digital Place Simpsonville SC United States;X-APPLE-RADIUS=500;X-TITLE=2 Digital Place:geo:-82.2788291,34.7953548
END:VEVENT
BEGIN:VEVENT
DTSTART;TZID=America/New_York:20251204T160000
DTEND;TZID=America/New_York:20251204T190000
DTSTAMP:20260425T092807
CREATED:20250217T183301Z
LAST-MODIFIED:20251208T134755Z
UID:56990-1764864000-1764874800@864foodtrucks.com
SUMMARY:Local Pie Pizza Co @ Swamp Rabbit Cafe
DESCRIPTION:
URL:https://864foodtrucks.com/event/local-pie-pizza-co-swamp-rabbit-cafe-2/2025-12-04/
LOCATION:Swamp Rabbit Cafe\, 205 Cedar Lane Road\, Greenville\, South Carolina
CATEGORIES:Food Truck Schedules,Greenville
ATTACH;FMTTYPE=image/jpeg:https://864foodtrucks.com/wp-content/uploads/2021/12/Local-Pie-Pizza-3.jpg
ORGANIZER;CN="Local Pie Pizza Company":MAILTO:cory@localpiepizzacompany.com
GEO:34.8694785;-82.4214201
X-APPLE-STRUCTURED-LOCATION;VALUE=URI;X-ADDRESS=Swamp Rabbit Cafe 205 Cedar Lane Road Greenville South Carolina;X-APPLE-RADIUS=500;X-TITLE=205 Cedar Lane Road:geo:-82.4214201,34.8694785
END:VEVENT
BEGIN:VEVENT
DTSTART;TZID=America/New_York:20251204T170000
DTEND;TZID=America/New_York:20251204T200000
DTSTAMP:20260425T092807
CREATED:20251202T005517Z
LAST-MODIFIED:20251202T005517Z
UID:56992-1764867600-1764878400@864foodtrucks.com
SUMMARY:The Noodle Lady @ A Merry Mauldin Christmas
DESCRIPTION:Authentic Chinese dishes for catering and events. Artisan Noodles and 100% Natural. Check out here our events calendar in Greenville\, South Carolina. #TheNoodleLady
URL:https://864foodtrucks.com/event/the-noodle-lady-a-merry-mauldin-christmas/
LOCATION:Mauldin Cultural Center\, 101 E Butler Road\, Mauldin\, South Carolina
CATEGORIES:Food Truck Schedules,Mauldin
ATTACH;FMTTYPE=image/jpeg:https://864foodtrucks.com/wp-content/uploads/2023/07/Noodle-lady.jpg
ORGANIZER;CN="The Noodle Lady":MAILTO:thenoodlelady@yahoo.com
GEO:34.7796468;-82.3063956
X-APPLE-STRUCTURED-LOCATION;VALUE=URI;X-ADDRESS=Mauldin Cultural Center 101 E Butler Road Mauldin South Carolina;X-APPLE-RADIUS=500;X-TITLE=101 E Butler Road:geo:-82.3063956,34.7796468
END:VEVENT
BEGIN:VEVENT
DTSTART;TZID=America/New_York:20251204T173000
DTEND;TZID=America/New_York:20251204T200000
DTSTAMP:20260425T092807
CREATED:20250421T175652Z
LAST-MODIFIED:20260413T172300Z
UID:57008-1764869400-1764878400@864foodtrucks.com
SUMMARY:Island Sun @ The Community Tap
DESCRIPTION:Mobile Kitchen serving Caribbean Cuisine to the upstate\, SC\nCaterings\, pop ups\, and private dinners\nDm for more info
URL:https://864foodtrucks.com/event/island-sun-the-community-tap-2/2025-12-04/
LOCATION:The Community Tap\, 217 Wade Hampton Blvd\, Greenville\, South Carolina
CATEGORIES:Food Truck Schedules,Greenville
ATTACH;FMTTYPE=image/jpeg:https://864foodtrucks.com/wp-content/uploads/2023/07/IslandSun864.jpg
GEO:34.8625763;-82.3857613
X-APPLE-STRUCTURED-LOCATION;VALUE=URI;X-ADDRESS=The Community Tap 217 Wade Hampton Blvd Greenville South Carolina;X-APPLE-RADIUS=500;X-TITLE=217 Wade Hampton Blvd:geo:-82.3857613,34.8625763
END:VEVENT
BEGIN:VEVENT
DTSTART;TZID=America/New_York:20251204T173000
DTEND;TZID=America/New_York:20251204T200000
DTSTAMP:20260425T092807
CREATED:20250922T173736Z
LAST-MODIFIED:20260331T002812Z
UID:56982-1764869400-1764878400@864foodtrucks.com
SUMMARY:Lai Sushi Express @ Grateful Brew
DESCRIPTION:Roll into flavor at our food truck! Serving fresh\, hand-crafted sushi and bold Asian (Lai) fusion!
URL:https://864foodtrucks.com/event/lai-sushi-express-grateful-brew-3/2025-12-04/
LOCATION:Grateful Brew\, 501 S Pleasantburg Dr\, Greenville\, SC\, 29607\, United States
CATEGORIES:Food Truck Schedules,Greenville
ATTACH;FMTTYPE=image/jpeg:https://864foodtrucks.com/wp-content/uploads/2025/04/Lai-Sushi-Express.jpg
ORGANIZER;CN="Lai Sushi Express":MAILTO:Laisushiexpress@gmail.com
GEO:34.8292844;-82.36962
X-APPLE-STRUCTURED-LOCATION;VALUE=URI;X-ADDRESS=Grateful Brew 501 S Pleasantburg Dr Greenville SC 29607 United States;X-APPLE-RADIUS=500;X-TITLE=501 S Pleasantburg Dr:geo:-82.36962,34.8292844
END:VEVENT
BEGIN:VEVENT
DTSTART;TZID=America/New_York:20251205T070000
DTEND;TZID=America/New_York:20251205T120000
DTSTAMP:20260425T092807
CREATED:20250721T233654Z
LAST-MODIFIED:20260413T233443Z
UID:57019-1764918000-1764936000@864foodtrucks.com
SUMMARY:The Rolling Dough @ Big House Outpost
DESCRIPTION:
URL:https://864foodtrucks.com/event/the-rolling-dough-big-house-outpost/2025-12-05/
LOCATION:Big House Outpost\, 100 Greenville St #4\,\, Abbeville\, South Carolina
CATEGORIES:Abbeville,Food Truck Schedules
ATTACH;FMTTYPE=image/jpeg:https://864foodtrucks.com/wp-content/uploads/2021/05/The-Rolling-Dough-Company-Truck.jpg
ORGANIZER;CN="The Rolling Dough Company":MAILTO:therollingdoughco@yahoo.com
GEO:34.1808277;-82.3812485
X-APPLE-STRUCTURED-LOCATION;VALUE=URI;X-ADDRESS=Big House Outpost 100 Greenville St #4 Abbeville South Carolina;X-APPLE-RADIUS=500;X-TITLE=100 Greenville St #4\,:geo:-82.3812485,34.1808277
END:VEVENT
BEGIN:VEVENT
DTSTART;TZID=America/New_York:20251205T100000
DTEND;TZID=America/New_York:20251205T130000
DTSTAMP:20260425T092807
CREATED:20250929T005458Z
LAST-MODIFIED:20260412T194452Z
UID:56943-1764928800-1764939600@864foodtrucks.com
SUMMARY:Simpell Sammies @ Mt Lebanon Elementary Teacher Lunch
DESCRIPTION:Simpell Sammies is open for business and ready to serve you flavorful and delicious sandwiches and hoagies.
URL:https://864foodtrucks.com/event/simpell-sammies-mt-lebanon-elementary-teacher-lunch/2025-12-05/
LOCATION:Mt Lebanon Elemetary\, 2850 Lebanon Rd\, Pendleton\, South Carolina
CATEGORIES:Food Truck Schedules,Pendleton
ATTACH;FMTTYPE=image/jpeg:https://864foodtrucks.com/wp-content/uploads/2023/06/Simpell-Sammies-Trailer.jpg
ORGANIZER;CN="Simpell Sammies":MAILTO:info@simpelltreats.com
GEO:34.6033673;-82.698965
X-APPLE-STRUCTURED-LOCATION;VALUE=URI;X-ADDRESS=Mt Lebanon Elemetary 2850 Lebanon Rd Pendleton South Carolina;X-APPLE-RADIUS=500;X-TITLE=2850 Lebanon Rd:geo:-82.698965,34.6033673
END:VEVENT
BEGIN:VEVENT
DTSTART;TZID=America/New_York:20251205T110000
DTEND;TZID=America/New_York:20251205T130000
DTSTAMP:20260425T092807
CREATED:20241106T003046Z
LAST-MODIFIED:20241106T003046Z
UID:57058-1764932400-1764939600@864foodtrucks.com
SUMMARY:Kodesh BBQ Bowls @ BorgWarner
DESCRIPTION:Kodesh BBQ Bowls is a mobile food trailer that provides a heap amount of Levitical clean\, flavorful\, pit smoked BBQ. We’ve also come up with a link between enjoying our delicious BBQ and providing healthier options\, our cultural inspired bowls!
URL:https://864foodtrucks.com/event/kodesh-bbq-bowls-borgwarner-2/2025-12-05/
LOCATION:BorgWarner\, 15545 Wells Hwy\, Seneca
CATEGORIES:Food Truck Schedules,Seneca
ATTACH;FMTTYPE=image/jpeg:https://864foodtrucks.com/wp-content/uploads/2023/07/Kodesh-BBQ.jpg
ORGANIZER;CN="Kodesh BBQ & Bowls":MAILTO:kodeshbbq@gmail.com
END:VEVENT
BEGIN:VEVENT
DTSTART;TZID=America/New_York:20251205T160000
DTEND;TZID=America/New_York:20251205T200000
DTSTAMP:20260425T092807
CREATED:20251130T202017Z
LAST-MODIFIED:20251130T202017Z
UID:56936-1764950400-1764964800@864foodtrucks.com
SUMMARY:Cinnabon @ Bob Jones University Christmas Celebration
DESCRIPTION:Cinnabon Food Truck Greenville
URL:https://864foodtrucks.com/event/cinnabon-bob-jones-university-christmas-celebration/
LOCATION:Bob Jones University\, Wade Hampton Blvd\, Greenville\, South Carolina
CATEGORIES:Food Truck Schedules,Greenville
ATTACH;FMTTYPE=image/jpeg:https://864foodtrucks.com/wp-content/uploads/2024/12/326870080_1829549937401559_2632445834433428235_n-2.jpg
ORGANIZER;CN="Cinnabon Greenville":MAILTO:info@hotbonssc.com
GEO:34.8752958;-82.3661448
X-APPLE-STRUCTURED-LOCATION;VALUE=URI;X-ADDRESS=Bob Jones University Wade Hampton Blvd Greenville South Carolina;X-APPLE-RADIUS=500;X-TITLE=Wade Hampton Blvd:geo:-82.3661448,34.8752958
END:VEVENT
BEGIN:VEVENT
DTSTART;TZID=America/New_York:20251205T170000
DTEND;TZID=America/New_York:20251205T200000
DTSTAMP:20260425T092807
CREATED:20251202T005736Z
LAST-MODIFIED:20251202T005736Z
UID:57014-1764954000-1764964800@864foodtrucks.com
SUMMARY:The Salted Fry @ City of Greer Tree Lighting Ceremony
DESCRIPTION:100% Gluten Free Food Trailer! Crispy Belgian style pommes frites loaded with your choice of savory toppings. Choose from multiple house made sauces and unique ketchup flavors!
URL:https://864foodtrucks.com/event/the-salted-fry-city-of-greer-tree-lighting-ceremony/
LOCATION:Greer City Park\, 301 E Poinsett St\, Greer\, South Carolina
CATEGORIES:Food Truck Schedules,Greer
ATTACH;FMTTYPE=image/jpeg:https://864foodtrucks.com/wp-content/uploads/2025/05/The-Salted-Fry.jpg
ORGANIZER;CN="The Salted Fry":MAILTO:thesaltedfry@gmail.com
GEO:34.9377066;-82.2230614
X-APPLE-STRUCTURED-LOCATION;VALUE=URI;X-ADDRESS=Greer City Park 301 E Poinsett St Greer South Carolina;X-APPLE-RADIUS=500;X-TITLE=301 E Poinsett St:geo:-82.2230614,34.9377066
END:VEVENT
BEGIN:VEVENT
DTSTART;TZID=America/New_York:20251205T173000
DTEND;TZID=America/New_York:20251205T193000
DTSTAMP:20260425T092807
CREATED:20241028T001540Z
LAST-MODIFIED:20260420T123436Z
UID:57011-1764955800-1764963000@864foodtrucks.com
SUMMARY:The Noodle Lady @ Piney Mountain Bike Lounge
DESCRIPTION:Authentic Chinese dishes for catering and events. Artisan Noodles and 100% Natural. Check out here our events calendar in Greenville\, South Carolina. #TheNoodleLady
URL:https://864foodtrucks.com/event/the-noodle-lady-piney-mountain-bike-lounge-2/2025-12-05/
LOCATION:Piney Mountain Bike Lounge\, 20 Piney Mountain Rd\, Greenville\, South Carolina
CATEGORIES:Food Truck Schedules,Greenville
ATTACH;FMTTYPE=image/jpeg:https://864foodtrucks.com/wp-content/uploads/2023/07/Noodle-lady.jpg
ORGANIZER;CN="The Noodle Lady":MAILTO:thenoodlelady@yahoo.com
GEO:34.8913881;-82.373773
X-APPLE-STRUCTURED-LOCATION;VALUE=URI;X-ADDRESS=Piney Mountain Bike Lounge 20 Piney Mountain Rd Greenville South Carolina;X-APPLE-RADIUS=500;X-TITLE=20 Piney Mountain Rd:geo:-82.373773,34.8913881
END:VEVENT
BEGIN:VEVENT
DTSTART;TZID=America/New_York:20251206T073000
DTEND;TZID=America/New_York:20251206T123000
DTSTAMP:20260425T092807
CREATED:20250308T183142Z
LAST-MODIFIED:20250308T183142Z
UID:56940-1765006200-1765024200@864foodtrucks.com
SUMMARY:Cinnabon @ Acrosmith Gymnastics
DESCRIPTION:Cinnabon Food Truck Greenville
URL:https://864foodtrucks.com/event/cinnabon-acrosmith-gymnastics/2025-12-06/
LOCATION:Acrosmith\, 3130 N Industrial Dr\, Simpsonville\, SC\, United States
CATEGORIES:Food Truck Schedules,Simpsonville
ATTACH;FMTTYPE=image/jpeg:https://864foodtrucks.com/wp-content/uploads/2024/12/326870080_1829549937401559_2632445834433428235_n-2.jpg
ORGANIZER;CN="Cinnabon Greenville":MAILTO:info@hotbonssc.com
END:VEVENT
BEGIN:VEVENT
DTSTART;TZID=America/New_York:20251206T083000
DTEND;TZID=America/New_York:20251206T083000
DTSTAMP:20260425T092807
CREATED:20250217T222338Z
LAST-MODIFIED:20260420T151354Z
UID:56984-1765009800-1765009800@864foodtrucks.com
SUMMARY:Scout's Doughnuts @ Grateful Brew
DESCRIPTION:Handcrafted 100 Layer Doughnuts\nMade in Greenville\, SC #SweeterTogether
URL:https://864foodtrucks.com/event/scouts-doughnuts-grateful-brew-2/2025-12-06/
LOCATION:Grateful Brew\, 501 S Pleasantburg Dr\, Greenville\, SC\, 29607\, United States
CATEGORIES:Food Truck Schedules,Greenville
ATTACH;FMTTYPE=image/jpeg:https://864foodtrucks.com/wp-content/uploads/2022/08/Scouts-Doughnuts-1.jpg
ORGANIZER;CN="Scouts Doughnuts":MAILTO:hello@scoutsdoughnuts.com
GEO:34.8292844;-82.36962
X-APPLE-STRUCTURED-LOCATION;VALUE=URI;X-ADDRESS=Grateful Brew 501 S Pleasantburg Dr Greenville SC 29607 United States;X-APPLE-RADIUS=500;X-TITLE=501 S Pleasantburg Dr:geo:-82.36962,34.8292844
END:VEVENT
BEGIN:VEVENT
DTSTART;TZID=America/New_York:20251206T090000
DTEND;TZID=America/New_York:20251206T140000
DTSTAMP:20260425T092807
CREATED:20251021T124207Z
LAST-MODIFIED:20260421T172833Z
UID:57017-1765011600-1765029600@864foodtrucks.com
SUMMARY:The Rolling Dough @ Greenwood Hobby Lobby
DESCRIPTION:
URL:https://864foodtrucks.com/event/the-rolling-dough-greenwood-hobby-lobby/2025-12-06/
LOCATION:Hobby Lobby Greenwood\, 315 By-Pass 72 NW\, Greenwood\, 29649
CATEGORIES:Food Truck Schedules,Greenwood
ATTACH;FMTTYPE=image/jpeg:https://864foodtrucks.com/wp-content/uploads/2021/05/The-Rolling-Dough-Company-Truck.jpg
ORGANIZER;CN="The Rolling Dough Company":MAILTO:therollingdoughco@yahoo.com
GEO:34.2096048;-82.1777896
X-APPLE-STRUCTURED-LOCATION;VALUE=URI;X-ADDRESS=Hobby Lobby Greenwood 315 By-Pass 72 NW Greenwood 29649;X-APPLE-RADIUS=500;X-TITLE=315 By-Pass 72 NW:geo:-82.1777896,34.2096048
END:VEVENT
BEGIN:VEVENT
DTSTART;TZID=America/New_York:20251206T110000
DTEND;TZID=America/New_York:20251206T143000
DTSTAMP:20260425T092807
CREATED:20240423T145501Z
LAST-MODIFIED:20260202T230713Z
UID:57061-1765018800-1765031400@864foodtrucks.com
SUMMARY:We Got the Beets @ Swamp Rabbit Cafe
DESCRIPTION:YUMMY EATS WITHOUT THE MEATS!\nPowered by love…and plants 🌱🌈\n📍 Greenville\, SC
URL:https://864foodtrucks.com/event/we-got-the-beets-swamp-rabbit-cafe-4/2025-12-06/
LOCATION:Swamp Rabbit Cafe\, 205 Cedar Lane Road\, Greenville\, South Carolina
CATEGORIES:Food Truck Schedules,Greenville
ATTACH;FMTTYPE=image/jpeg:https://864foodtrucks.com/wp-content/uploads/2023/10/We-Got-the-Beets.jpg
GEO:34.8694785;-82.4214201
X-APPLE-STRUCTURED-LOCATION;VALUE=URI;X-ADDRESS=Swamp Rabbit Cafe 205 Cedar Lane Road Greenville South Carolina;X-APPLE-RADIUS=500;X-TITLE=205 Cedar Lane Road:geo:-82.4214201,34.8694785
END:VEVENT
BEGIN:VEVENT
DTSTART;TZID=America/New_York:20251206T120000
DTEND;TZID=America/New_York:20251206T200000
DTSTAMP:20260425T092807
CREATED:20231203T152041Z
LAST-MODIFIED:20231203T152041Z
UID:56944-1765022400-1765051200@864foodtrucks.com
SUMMARY:Simpell Sammies @ Jocassee Valley Brewing Company
DESCRIPTION:Simpell Sammies is open for business and ready to serve you flavorful and delicious sandwiches and hoagies.
URL:https://864foodtrucks.com/event/simpell-sammies-jocassee-valley-brewing-company-2/2025-12-06/
LOCATION:Jocassee Valley Brewing\, 13412 Sc-11\, Salem\, South Carolina
CATEGORIES:Food Truck Schedules,Salem
ATTACH;FMTTYPE=image/jpeg:https://864foodtrucks.com/wp-content/uploads/2023/06/Simpell-Sammies-Trailer.jpg
ORGANIZER;CN="Simpell Sammies":MAILTO:info@simpelltreats.com
GEO:34.907363;-82.9715987
X-APPLE-STRUCTURED-LOCATION;VALUE=URI;X-ADDRESS=Jocassee Valley Brewing 13412 Sc-11 Salem South Carolina;X-APPLE-RADIUS=500;X-TITLE=13412 Sc-11:geo:-82.9715987,34.907363
END:VEVENT
BEGIN:VEVENT
DTSTART;TZID=America/New_York:20251206T170000
DTEND;TZID=America/New_York:20251206T210000
DTSTAMP:20260425T092807
CREATED:20251202T135154Z
LAST-MODIFIED:20251202T135154Z
UID:57051-1765040400-1765054800@864foodtrucks.com
SUMMARY:Churro Masters @ Inman Christmas Parade
DESCRIPTION:Delicious CHURROS made fresh!
URL:https://864foodtrucks.com/event/churro-masters-inman-christmas-parade-2/
LOCATION:Downtown Inman\, Inman\, South Carolina
CATEGORIES:Food Truck Schedules,Inman
ATTACH;FMTTYPE=image/jpeg:https://864foodtrucks.com/wp-content/uploads/2025/03/Churro-Masters.jpg
ORGANIZER;CN="Churro Masters":MAILTO:Churromastersemail@gmail.com
GEO:35.0470617;-82.0901088
END:VEVENT
BEGIN:VEVENT
DTSTART;TZID=America/New_York:20251206T173000
DTEND;TZID=America/New_York:20251206T200000
DTSTAMP:20260425T092807
CREATED:20251019T192400Z
LAST-MODIFIED:20260111T202419Z
UID:57010-1765042200-1765051200@864foodtrucks.com
SUMMARY:The Noodle Lady @ The Community Tap
DESCRIPTION:Authentic Chinese dishes for catering and events. Artisan Noodles and 100% Natural. Check out here our events calendar in Greenville\, South Carolina. #TheNoodleLady
URL:https://864foodtrucks.com/event/the-noodle-lady-the-community-tap-5/2025-12-06/
LOCATION:The Community Tap\, 217 Wade Hampton Blvd\, Greenville\, South Carolina
CATEGORIES:Food Truck Schedules,Greenville
ATTACH;FMTTYPE=image/jpeg:https://864foodtrucks.com/wp-content/uploads/2023/07/Noodle-lady.jpg
ORGANIZER;CN="The Noodle Lady":MAILTO:thenoodlelady@yahoo.com
GEO:34.8625763;-82.3857613
X-APPLE-STRUCTURED-LOCATION;VALUE=URI;X-ADDRESS=The Community Tap 217 Wade Hampton Blvd Greenville South Carolina;X-APPLE-RADIUS=500;X-TITLE=217 Wade Hampton Blvd:geo:-82.3857613,34.8625763
END:VEVENT
BEGIN:VEVENT
DTSTART;TZID=America/New_York:20251207T143000
DTEND;TZID=America/New_York:20251207T180000
DTSTAMP:20260425T092807
CREATED:20251202T135341Z
LAST-MODIFIED:20251202T135341Z
UID:57053-1765117800-1765130400@864foodtrucks.com
SUMMARY:Churro Masters @ Greer Christmas Parade
DESCRIPTION:Delicious CHURROS made fresh!
URL:https://864foodtrucks.com/event/churro-masters-greer-christmas-parade-2/
LOCATION:Main Street Greer\, 602 N Main Street\, Greer\, SC\, 29650\, United States
CATEGORIES:Food Truck Schedules,Greer
ATTACH;FMTTYPE=image/jpeg:https://864foodtrucks.com/wp-content/uploads/2025/03/Churro-Masters.jpg
ORGANIZER;CN="Churro Masters":MAILTO:Churromastersemail@gmail.com
GEO:34.9467316;-82.2241377
X-APPLE-STRUCTURED-LOCATION;VALUE=URI;X-ADDRESS=Main Street Greer 602 N Main Street Greer SC 29650 United States;X-APPLE-RADIUS=500;X-TITLE=602 N Main Street:geo:-82.2241377,34.9467316
END:VEVENT
BEGIN:VEVENT
DTSTART;TZID=America/New_York:20251209T170000
DTEND;TZID=America/New_York:20251209T200000
DTSTAMP:20260425T092807
CREATED:20250602T142903Z
LAST-MODIFIED:20260217T005317Z
UID:57267-1765299600-1765310400@864foodtrucks.com
SUMMARY:Local Pie Pizza Co @ Community Tap
DESCRIPTION:
URL:https://864foodtrucks.com/event/local-pie-pizza-co-community-tap-4/2025-12-09/
LOCATION:The Community Tap\, 217 Wade Hampton Blvd\, Greenville\, South Carolina
CATEGORIES:Food Truck Schedules,Greenville
ATTACH;FMTTYPE=image/jpeg:https://864foodtrucks.com/wp-content/uploads/2021/12/Local-Pie-Pizza-3.jpg
ORGANIZER;CN="Local Pie Pizza Company":MAILTO:cory@localpiepizzacompany.com
GEO:34.8625763;-82.3857613
X-APPLE-STRUCTURED-LOCATION;VALUE=URI;X-ADDRESS=The Community Tap 217 Wade Hampton Blvd Greenville South Carolina;X-APPLE-RADIUS=500;X-TITLE=217 Wade Hampton Blvd:geo:-82.3857613,34.8625763
END:VEVENT
END:VCALENDAR