BEGIN:VCALENDAR
VERSION:2.0
PRODID:-//864 Food Trucks - ECPv6.15.20//NONSGML v1.0//EN
CALSCALE:GREGORIAN
METHOD:PUBLISH
X-WR-CALNAME:864 Food Trucks
X-ORIGINAL-URL:https://864foodtrucks.com
X-WR-CALDESC:Events for 864 Food Trucks
REFRESH-INTERVAL;VALUE=DURATION:PT1H
X-Robots-Tag:noindex
X-PUBLISHED-TTL:PT1H
BEGIN:VTIMEZONE
TZID:America/New_York
BEGIN:DAYLIGHT
TZOFFSETFROM:-0500
TZOFFSETTO:-0400
TZNAME:EDT
DTSTART:20250309T070000
END:DAYLIGHT
BEGIN:STANDARD
TZOFFSETFROM:-0400
TZOFFSETTO:-0500
TZNAME:EST
DTSTART:20251102T060000
END:STANDARD
BEGIN:DAYLIGHT
TZOFFSETFROM:-0500
TZOFFSETTO:-0400
TZNAME:EDT
DTSTART:20260308T070000
END:DAYLIGHT
BEGIN:STANDARD
TZOFFSETFROM:-0400
TZOFFSETTO:-0500
TZNAME:EST
DTSTART:20261101T060000
END:STANDARD
BEGIN:DAYLIGHT
TZOFFSETFROM:-0500
TZOFFSETTO:-0400
TZNAME:EDT
DTSTART:20270314T070000
END:DAYLIGHT
BEGIN:STANDARD
TZOFFSETFROM:-0400
TZOFFSETTO:-0500
TZNAME:EST
DTSTART:20271107T060000
END:STANDARD
END:VTIMEZONE
BEGIN:VEVENT
DTSTART;TZID=America/New_York:20260112T170000
DTEND;TZID=America/New_York:20260112T210000
DTSTAMP:20260425T223926
CREATED:20260112T195311Z
LAST-MODIFIED:20260222T204813Z
UID:58740-1768237200-1768251600@864foodtrucks.com
SUMMARY:Local Pie Pizza Co @ 129 Cleveland St
DESCRIPTION:
URL:https://864foodtrucks.com/event/local-pie-pizza-co-129-cleveland-st/2026-01-12/
LOCATION:129 Cleveland St\, 129 Cleveland St\, Greenville\, South Carolina
CATEGORIES:Food Truck Schedules,Greenville
ATTACH;FMTTYPE=image/jpeg:https://864foodtrucks.com/wp-content/uploads/2021/12/Local-Pie-Pizza-3.jpg
ORGANIZER;CN="Local Pie Pizza Company":MAILTO:cory@localpiepizzacompany.com
GEO:34.8385691;-82.3963296
X-APPLE-STRUCTURED-LOCATION;VALUE=URI;X-ADDRESS=129 Cleveland St 129 Cleveland St Greenville South Carolina;X-APPLE-RADIUS=500;X-TITLE=129 Cleveland St:geo:-82.3963296,34.8385691
END:VEVENT
BEGIN:VEVENT
DTSTART;TZID=America/New_York:20260113T110000
DTEND;TZID=America/New_York:20260113T130000
DTSTAMP:20260425T223926
CREATED:20250921T193551Z
LAST-MODIFIED:20250921T193551Z
UID:58706-1768302000-1768309200@864foodtrucks.com
SUMMARY:Simpell Sammies @ Borgwarner
DESCRIPTION:Simpell Sammies is open for business and ready to serve you flavorful and delicious sandwiches and hoagies.
URL:https://864foodtrucks.com/event/simpell-sammies-borgwarner-3/2026-01-13/
LOCATION:BorgWarner\, 15545 Wells Hwy\, Seneca
CATEGORIES:Food Truck Schedules,Seneca
ATTACH;FMTTYPE=image/jpeg:https://864foodtrucks.com/wp-content/uploads/2023/06/Simpell-Sammies-Trailer.jpg
ORGANIZER;CN="Simpell Sammies":MAILTO:info@simpelltreats.com
END:VEVENT
BEGIN:VEVENT
DTSTART;TZID=America/New_York:20260113T170000
DTEND;TZID=America/New_York:20260113T210000
DTSTAMP:20260425T223926
CREATED:20260112T195311Z
LAST-MODIFIED:20260222T204814Z
UID:58742-1768323600-1768338000@864foodtrucks.com
SUMMARY:Local Pie Pizza Co @ 129 Cleveland St
DESCRIPTION:
URL:https://864foodtrucks.com/event/local-pie-pizza-co-129-cleveland-st/2026-01-13/
LOCATION:129 Cleveland St\, 129 Cleveland St\, Greenville\, South Carolina
CATEGORIES:Food Truck Schedules,Greenville
ATTACH;FMTTYPE=image/jpeg:https://864foodtrucks.com/wp-content/uploads/2021/12/Local-Pie-Pizza-3.jpg
ORGANIZER;CN="Local Pie Pizza Company":MAILTO:cory@localpiepizzacompany.com
GEO:34.8385691;-82.3963296
X-APPLE-STRUCTURED-LOCATION;VALUE=URI;X-ADDRESS=129 Cleveland St 129 Cleveland St Greenville South Carolina;X-APPLE-RADIUS=500;X-TITLE=129 Cleveland St:geo:-82.3963296,34.8385691
END:VEVENT
BEGIN:VEVENT
DTSTART;TZID=America/New_York:20260114T000000
DTEND;TZID=America/New_York:20260114T000000
DTSTAMP:20260425T223926
CREATED:20260111T203409Z
LAST-MODIFIED:20260111T203409Z
UID:58699-1768348800-1768348800@864foodtrucks.com
SUMMARY:Uncle Luke's @ Trailside Verdae
DESCRIPTION:Uncle Lukes LLC\nNamed after my Father\nBook for Job worksite’s Corporate lunches\, Churches\, Festivals\, Apartments buildings.
URL:https://864foodtrucks.com/event/uncle-lukes-trailside-verdae/
LOCATION:Trailside Verdae Apartments\, 180 Woodruff Rd\, Greenville\, South Carolina
CATEGORIES:Food Truck Schedules,Greenville
ATTACH;FMTTYPE=image/jpeg:https://864foodtrucks.com/wp-content/uploads/2025/12/Uncle-Lukes-1.jpg
ORGANIZER;CN="Uncle Luke's":MAILTO:j.diggs864@gmail.com
GEO:34.8305244;-82.344078
X-APPLE-STRUCTURED-LOCATION;VALUE=URI;X-ADDRESS=Trailside Verdae Apartments 180 Woodruff Rd Greenville South Carolina;X-APPLE-RADIUS=500;X-TITLE=180 Woodruff Rd:geo:-82.344078,34.8305244
END:VEVENT
BEGIN:VEVENT
DTSTART;TZID=America/New_York:20260114T070000
DTEND;TZID=America/New_York:20260114T130000
DTSTAMP:20260425T223926
CREATED:20251021T124207Z
LAST-MODIFIED:20260421T172835Z
UID:58819-1768374000-1768395600@864foodtrucks.com
SUMMARY:The Rolling Dough @ Greenwood Hobby Lobby
DESCRIPTION:
URL:https://864foodtrucks.com/event/the-rolling-dough-greenwood-hobby-lobby/2026-01-14/
LOCATION:Hobby Lobby Greenwood\, 315 By-Pass 72 NW\, Greenwood\, 29649
CATEGORIES:Food Truck Schedules,Greenwood
ATTACH;FMTTYPE=image/jpeg:https://864foodtrucks.com/wp-content/uploads/2021/05/The-Rolling-Dough-Company-Truck.jpg
ORGANIZER;CN="The Rolling Dough Company":MAILTO:therollingdoughco@yahoo.com
GEO:34.2096048;-82.1777896
X-APPLE-STRUCTURED-LOCATION;VALUE=URI;X-ADDRESS=Hobby Lobby Greenwood 315 By-Pass 72 NW Greenwood 29649;X-APPLE-RADIUS=500;X-TITLE=315 By-Pass 72 NW:geo:-82.1777896,34.2096048
END:VEVENT
BEGIN:VEVENT
DTSTART;TZID=America/New_York:20260114T110000
DTEND;TZID=America/New_York:20260114T153000
DTSTAMP:20260425T223926
CREATED:20260112T203619Z
LAST-MODIFIED:20260112T203619Z
UID:58770-1768388400-1768404600@864foodtrucks.com
SUMMARY:Cinnabon @ Spartanburg Medical Center #2
DESCRIPTION:Cinnabon Food Truck Greenville
URL:https://864foodtrucks.com/event/cinnabon-spartanburg-medical-center-2/
LOCATION:Spartanburg Medical Center #2\, 210 Catawba Street\, Spartanburg\, South Carolina
CATEGORIES:Chesnee,Food Truck Schedules
ATTACH;FMTTYPE=image/jpeg:https://864foodtrucks.com/wp-content/uploads/2024/12/326870080_1829549937401559_2632445834433428235_n-2.jpg
ORGANIZER;CN="Cinnabon Greenville":MAILTO:info@hotbonssc.com
GEO:34.9654991;-81.9394326
X-APPLE-STRUCTURED-LOCATION;VALUE=URI;X-ADDRESS=Spartanburg Medical Center #2 210 Catawba Street Spartanburg South Carolina;X-APPLE-RADIUS=500;X-TITLE=210 Catawba Street:geo:-81.9394326,34.9654991
END:VEVENT
BEGIN:VEVENT
DTSTART;TZID=America/New_York:20260114T160000
DTEND;TZID=America/New_York:20260114T190000
DTSTAMP:20260425T223926
CREATED:20250128T002944Z
LAST-MODIFIED:20250128T002944Z
UID:58827-1768406400-1768417200@864foodtrucks.com
SUMMARY:Fifi's Hibachi @ Former Walgreens
DESCRIPTION:
URL:https://864foodtrucks.com/event/fifis-hibachi-former-walgreens/2026-01-14/
LOCATION:Main Street Woodruff\, South Main Street\, Woodruff\, South Carolina\, 29388\, United States
CATEGORIES:Food Truck Schedules,Woodruff
ATTACH;FMTTYPE=image/jpeg:https://864foodtrucks.com/wp-content/uploads/2023/11/Fifis-Hibachi.jpg
GEO:34.7344511;-82.0337043
X-APPLE-STRUCTURED-LOCATION;VALUE=URI;X-ADDRESS=Main Street Woodruff South Main Street Woodruff South Carolina 29388 United States;X-APPLE-RADIUS=500;X-TITLE=South Main Street:geo:-82.0337043,34.7344511
END:VEVENT
BEGIN:VEVENT
DTSTART;TZID=America/New_York:20260114T170000
DTEND;TZID=America/New_York:20260114T200000
DTSTAMP:20260425T223926
CREATED:20241118T223530Z
LAST-MODIFIED:20260413T233802Z
UID:58747-1768410000-1768420800@864foodtrucks.com
SUMMARY:Island Sun @ Trailside Reedy Point
DESCRIPTION:Mobile Kitchen serving Caribbean Cuisine to the upstate\, SC\nCaterings\, pop ups\, and private dinners\nDm for more info
URL:https://864foodtrucks.com/event/island-sun-trailside-reedy-point/2026-01-14/
LOCATION:Trailside at Reedy Point\, 200 South Academy St\, Greenville\, SC\, 29601\, United States
CATEGORIES:Food Truck Schedules,Greenville
ATTACH;FMTTYPE=image/jpeg:https://864foodtrucks.com/wp-content/uploads/2023/07/IslandSun864.jpg
GEO:34.8472093;-82.4065614
X-APPLE-STRUCTURED-LOCATION;VALUE=URI;X-ADDRESS=Trailside at Reedy Point 200 South Academy St Greenville SC 29601 United States;X-APPLE-RADIUS=500;X-TITLE=200 South Academy St:geo:-82.4065614,34.8472093
END:VEVENT
BEGIN:VEVENT
DTSTART;TZID=America/New_York:20260114T170000
DTEND;TZID=America/New_York:20260114T210000
DTSTAMP:20260425T223926
CREATED:20260112T195311Z
LAST-MODIFIED:20260222T204814Z
UID:58743-1768410000-1768424400@864foodtrucks.com
SUMMARY:Local Pie Pizza Co @ 129 Cleveland St
DESCRIPTION:
URL:https://864foodtrucks.com/event/local-pie-pizza-co-129-cleveland-st/2026-01-14/
LOCATION:129 Cleveland St\, 129 Cleveland St\, Greenville\, South Carolina
CATEGORIES:Food Truck Schedules,Greenville
ATTACH;FMTTYPE=image/jpeg:https://864foodtrucks.com/wp-content/uploads/2021/12/Local-Pie-Pizza-3.jpg
ORGANIZER;CN="Local Pie Pizza Company":MAILTO:cory@localpiepizzacompany.com
GEO:34.8385691;-82.3963296
X-APPLE-STRUCTURED-LOCATION;VALUE=URI;X-ADDRESS=129 Cleveland St 129 Cleveland St Greenville South Carolina;X-APPLE-RADIUS=500;X-TITLE=129 Cleveland St:geo:-82.3963296,34.8385691
END:VEVENT
BEGIN:VEVENT
DTSTART;TZID=America/New_York:20260114T173000
DTEND;TZID=America/New_York:20260114T193000
DTSTAMP:20260425T223926
CREATED:20240204T234742Z
LAST-MODIFIED:20260406T220600Z
UID:58756-1768411800-1768419000@864foodtrucks.com
SUMMARY:One Eyed Donkey @ Community Tap
DESCRIPTION:#followthedonkey … ji-roz presents the one eyed donkey! fun take on some greek classics ~ on wheels!!! same quality\, same service\, same vibe as our brick and mortar just brought directly to you. Call or email us today to schedule our donkey.
URL:https://864foodtrucks.com/event/one-eyed-donkey-community-tap-4/2026-01-14/
LOCATION:The Community Tap\, 217 Wade Hampton Blvd\, Greenville\, South Carolina
CATEGORIES:Food Truck Schedules,Greenville
ATTACH;FMTTYPE=image/jpeg:https://864foodtrucks.com/wp-content/uploads/2021/05/One-Eyed-Donkey-Food-Truck.jpg
GEO:34.8625763;-82.3857613
X-APPLE-STRUCTURED-LOCATION;VALUE=URI;X-ADDRESS=The Community Tap 217 Wade Hampton Blvd Greenville South Carolina;X-APPLE-RADIUS=500;X-TITLE=217 Wade Hampton Blvd:geo:-82.3857613,34.8625763
END:VEVENT
BEGIN:VEVENT
DTSTART;TZID=America/New_York:20260114T173000
DTEND;TZID=America/New_York:20260114T200000
DTSTAMP:20260425T223926
CREATED:20250512T210126Z
LAST-MODIFIED:20260406T201127Z
UID:58822-1768411800-1768420800@864foodtrucks.com
SUMMARY:Lai Sushi Express @ Piney Mountain Bike Lounge
DESCRIPTION:Roll into flavor at our food truck! Serving fresh\, hand-crafted sushi and bold Asian (Lai) fusion!
URL:https://864foodtrucks.com/event/lai-sushi-express-piney-mountain-bike-lounge/2026-01-14/
LOCATION:Piney Mountain Bike Lounge\, 20 Piney Mountain Rd\, Greenville\, South Carolina
CATEGORIES:Food Truck Schedules,Greenville
ATTACH;FMTTYPE=image/jpeg:https://864foodtrucks.com/wp-content/uploads/2025/04/Lai-Sushi-Express.jpg
ORGANIZER;CN="Lai Sushi Express":MAILTO:Laisushiexpress@gmail.com
GEO:34.8913881;-82.373773
X-APPLE-STRUCTURED-LOCATION;VALUE=URI;X-ADDRESS=Piney Mountain Bike Lounge 20 Piney Mountain Rd Greenville South Carolina;X-APPLE-RADIUS=500;X-TITLE=20 Piney Mountain Rd:geo:-82.373773,34.8913881
END:VEVENT
BEGIN:VEVENT
DTSTART;TZID=America/New_York:20260115T110000
DTEND;TZID=America/New_York:20260115T130000
DTSTAMP:20260425T223926
CREATED:20250921T193810Z
LAST-MODIFIED:20260419T195302Z
UID:58708-1768474800-1768482000@864foodtrucks.com
SUMMARY:Simpell Sammies @ BASF
DESCRIPTION:Simpell Sammies is open for business and ready to serve you flavorful and delicious sandwiches and hoagies.
URL:https://864foodtrucks.com/event/simpell-sammies-basf-3/2026-01-15/
LOCATION:BASF Catalysts LLC\, 554 Engelhard Drive\, Seneca\, South Carolina
CATEGORIES:Food Truck Schedules,Seneca
ATTACH;FMTTYPE=image/jpeg:https://864foodtrucks.com/wp-content/uploads/2023/06/Simpell-Sammies-Trailer.jpg
ORGANIZER;CN="Simpell Sammies":MAILTO:info@simpelltreats.com
GEO:34.6518557;-82.955869
X-APPLE-STRUCTURED-LOCATION;VALUE=URI;X-ADDRESS=BASF Catalysts LLC 554 Engelhard Drive Seneca South Carolina;X-APPLE-RADIUS=500;X-TITLE=554 Engelhard Drive:geo:-82.955869,34.6518557
END:VEVENT
BEGIN:VEVENT
DTSTART;TZID=America/New_York:20260115T110000
DTEND;TZID=America/New_York:20260115T140000
DTSTAMP:20260425T223926
CREATED:20250326T002131Z
LAST-MODIFIED:20250326T002131Z
UID:58767-1768474800-1768485600@864foodtrucks.com
SUMMARY:Kodesh BBQ Bowls @ International Vitamin Corporation
DESCRIPTION:Kodesh BBQ Bowls is a mobile food trailer that provides a heap amount of Levitical clean\, flavorful\, pit smoked BBQ. We’ve also come up with a link between enjoying our delicious BBQ and providing healthier options\, our cultural inspired bowls!
URL:https://864foodtrucks.com/event/kodesh-bbq-bowls-international-vitamin-corporation/2026-01-15/
LOCATION:International Vitamin Corporation\, 1050 Woodruff Rd\, Greenville\, South Carolina
CATEGORIES:Anderson,Food Truck Schedules
ATTACH;FMTTYPE=image/jpeg:https://864foodtrucks.com/wp-content/uploads/2023/07/Kodesh-BBQ.jpg
ORGANIZER;CN="Kodesh BBQ & Bowls":MAILTO:kodeshbbq@gmail.com
GEO:34.8324015;-82.3104075
X-APPLE-STRUCTURED-LOCATION;VALUE=URI;X-ADDRESS=International Vitamin Corporation 1050 Woodruff Rd Greenville South Carolina;X-APPLE-RADIUS=500;X-TITLE=1050 Woodruff Rd:geo:-82.3104075,34.8324015
END:VEVENT
BEGIN:VEVENT
DTSTART;TZID=America/New_York:20260115T143000
DTEND;TZID=America/New_York:20260115T190000
DTSTAMP:20260425T223926
CREATED:20250915T131112Z
LAST-MODIFIED:20260420T125154Z
UID:58768-1768487400-1768503600@864foodtrucks.com
SUMMARY:Cinnabon @ Chesnee Food Lion
DESCRIPTION:Cinnabon Food Truck Greenville
URL:https://864foodtrucks.com/event/cinnabon-chesnee-food-lion/2026-01-15/
LOCATION:Food Lion Chesnee\, 712 S Alabama Ave\, Chesnee\, South Carolina\, 29323
CATEGORIES:Chesnee,Food Truck Schedules
ATTACH;FMTTYPE=image/jpeg:https://864foodtrucks.com/wp-content/uploads/2024/12/326870080_1829549937401559_2632445834433428235_n-2.jpg
ORGANIZER;CN="Cinnabon Greenville":MAILTO:info@hotbonssc.com
GEO:35.1367556;-81.8630291
X-APPLE-STRUCTURED-LOCATION;VALUE=URI;X-ADDRESS=Food Lion Chesnee 712 S Alabama Ave Chesnee South Carolina 29323;X-APPLE-RADIUS=500;X-TITLE=712 S Alabama Ave:geo:-81.8630291,35.1367556
END:VEVENT
BEGIN:VEVENT
DTSTART;TZID=America/New_York:20260115T170000
DTEND;TZID=America/New_York:20260115T200000
DTSTAMP:20260425T223926
CREATED:20250113T214946Z
LAST-MODIFIED:20260413T171738Z
UID:58831-1768496400-1768507200@864foodtrucks.com
SUMMARY:Las Cazuelas @ WineXpress
DESCRIPTION:
URL:https://864foodtrucks.com/event/las-cazuelas-winexpress/2026-01-15/
LOCATION:WineXpress\, 202 Scuffletown Rd\, Simpsonville\, South Carolina
CATEGORIES:Food Truck Schedules,Simpsonville
ATTACH;FMTTYPE=image/png:https://864foodtrucks.com/wp-content/uploads/2024/12/Las-Cazuelas.png
ORGANIZER;CN="Las Cazuelas":MAILTO:lascazuelascatering.llc@gmail.com
GEO:34.8046736;-82.2292537
X-APPLE-STRUCTURED-LOCATION;VALUE=URI;X-ADDRESS=WineXpress 202 Scuffletown Rd Simpsonville South Carolina;X-APPLE-RADIUS=500;X-TITLE=202 Scuffletown Rd:geo:-82.2292537,34.8046736
END:VEVENT
BEGIN:VEVENT
DTSTART;TZID=America/New_York:20260115T170000
DTEND;TZID=America/New_York:20260115T210000
DTSTAMP:20260425T223926
CREATED:20260112T195311Z
LAST-MODIFIED:20260222T204814Z
UID:58744-1768496400-1768510800@864foodtrucks.com
SUMMARY:Local Pie Pizza Co @ 129 Cleveland St
DESCRIPTION:
URL:https://864foodtrucks.com/event/local-pie-pizza-co-129-cleveland-st/2026-01-15/
LOCATION:129 Cleveland St\, 129 Cleveland St\, Greenville\, South Carolina
CATEGORIES:Food Truck Schedules,Greenville
ATTACH;FMTTYPE=image/jpeg:https://864foodtrucks.com/wp-content/uploads/2021/12/Local-Pie-Pizza-3.jpg
ORGANIZER;CN="Local Pie Pizza Company":MAILTO:cory@localpiepizzacompany.com
GEO:34.8385691;-82.3963296
X-APPLE-STRUCTURED-LOCATION;VALUE=URI;X-ADDRESS=129 Cleveland St 129 Cleveland St Greenville South Carolina;X-APPLE-RADIUS=500;X-TITLE=129 Cleveland St:geo:-82.3963296,34.8385691
END:VEVENT
BEGIN:VEVENT
DTSTART;TZID=America/New_York:20260115T173000
DTEND;TZID=America/New_York:20260115T173000
DTSTAMP:20260425T223926
CREATED:20250616T235910Z
LAST-MODIFIED:20260223T193854Z
UID:58758-1768498200-1768498200@864foodtrucks.com
SUMMARY:The Salted Fry @ Community Tap
DESCRIPTION:100% Gluten Free Food Trailer! Crispy Belgian style pommes frites loaded with your choice of savory toppings. Choose from multiple house made sauces and unique ketchup flavors!
URL:https://864foodtrucks.com/event/the-salted-fry-community-tap/2026-01-15/
LOCATION:The Community Tap\, 217 Wade Hampton Blvd\, Greenville\, South Carolina
CATEGORIES:Food Truck Schedules,Greenville
ATTACH;FMTTYPE=image/jpeg:https://864foodtrucks.com/wp-content/uploads/2025/05/The-Salted-Fry-1.jpg
ORGANIZER;CN="The Salted Fry":MAILTO:thesaltedfry@gmail.com
GEO:34.8625763;-82.3857613
X-APPLE-STRUCTURED-LOCATION;VALUE=URI;X-ADDRESS=The Community Tap 217 Wade Hampton Blvd Greenville South Carolina;X-APPLE-RADIUS=500;X-TITLE=217 Wade Hampton Blvd:geo:-82.3857613,34.8625763
END:VEVENT
BEGIN:VEVENT
DTSTART;TZID=America/New_York:20260115T173000
DTEND;TZID=America/New_York:20260115T200000
DTSTAMP:20260425T223926
CREATED:20250105T225028Z
LAST-MODIFIED:20260420T123429Z
UID:58695-1768498200-1768507200@864foodtrucks.com
SUMMARY:The Noodle Lady @ Grateful Brew
DESCRIPTION:Authentic Chinese dishes for catering and events. Artisan Noodles and 100% Natural. Check out here our events calendar in Greenville\, South Carolina. #TheNoodleLady
URL:https://864foodtrucks.com/event/the-noodle-lady-grateful-brew-2/2026-01-15/
LOCATION:Grateful Brew\, 501 S Pleasantburg Dr\, Greenville\, SC\, 29607\, United States
CATEGORIES:Food Truck Schedules,Greenville
ATTACH;FMTTYPE=image/jpeg:https://864foodtrucks.com/wp-content/uploads/2023/07/Noodle-lady.jpg
ORGANIZER;CN="The Noodle Lady":MAILTO:thenoodlelady@yahoo.com
GEO:34.8292844;-82.36962
X-APPLE-STRUCTURED-LOCATION;VALUE=URI;X-ADDRESS=Grateful Brew 501 S Pleasantburg Dr Greenville SC 29607 United States;X-APPLE-RADIUS=500;X-TITLE=501 S Pleasantburg Dr:geo:-82.36962,34.8292844
END:VEVENT
BEGIN:VEVENT
DTSTART;TZID=America/New_York:20260115T173000
DTEND;TZID=America/New_York:20260115T200000
DTSTAMP:20260425T223926
CREATED:20250922T173736Z
LAST-MODIFIED:20260331T002818Z
UID:58760-1768498200-1768507200@864foodtrucks.com
SUMMARY:Lai Sushi Express @ Grateful Brew
DESCRIPTION:Roll into flavor at our food truck! Serving fresh\, hand-crafted sushi and bold Asian (Lai) fusion!
URL:https://864foodtrucks.com/event/lai-sushi-express-grateful-brew-3/2026-01-15/
LOCATION:Grateful Brew\, 501 S Pleasantburg Dr\, Greenville\, SC\, 29607\, United States
CATEGORIES:Food Truck Schedules,Greenville
ATTACH;FMTTYPE=image/jpeg:https://864foodtrucks.com/wp-content/uploads/2025/04/Lai-Sushi-Express.jpg
ORGANIZER;CN="Lai Sushi Express":MAILTO:Laisushiexpress@gmail.com
GEO:34.8292844;-82.36962
X-APPLE-STRUCTURED-LOCATION;VALUE=URI;X-ADDRESS=Grateful Brew 501 S Pleasantburg Dr Greenville SC 29607 United States;X-APPLE-RADIUS=500;X-TITLE=501 S Pleasantburg Dr:geo:-82.36962,34.8292844
END:VEVENT
BEGIN:VEVENT
DTSTART;TZID=America/New_York:20260116T090000
DTEND;TZID=America/New_York:20260116T140000
DTSTAMP:20260425T223926
CREATED:20251021T124207Z
LAST-MODIFIED:20260421T172835Z
UID:58820-1768554000-1768572000@864foodtrucks.com
SUMMARY:The Rolling Dough @ Greenwood Hobby Lobby
DESCRIPTION:
URL:https://864foodtrucks.com/event/the-rolling-dough-greenwood-hobby-lobby/2026-01-16/
LOCATION:Hobby Lobby Greenwood\, 315 By-Pass 72 NW\, Greenwood\, 29649
CATEGORIES:Food Truck Schedules,Greenwood
ATTACH;FMTTYPE=image/jpeg:https://864foodtrucks.com/wp-content/uploads/2021/05/The-Rolling-Dough-Company-Truck.jpg
ORGANIZER;CN="The Rolling Dough Company":MAILTO:therollingdoughco@yahoo.com
GEO:34.2096048;-82.1777896
X-APPLE-STRUCTURED-LOCATION;VALUE=URI;X-ADDRESS=Hobby Lobby Greenwood 315 By-Pass 72 NW Greenwood 29649;X-APPLE-RADIUS=500;X-TITLE=315 By-Pass 72 NW:geo:-82.1777896,34.2096048
END:VEVENT
BEGIN:VEVENT
DTSTART;TZID=America/New_York:20260116T113000
DTEND;TZID=America/New_York:20260116T140000
DTSTAMP:20260425T223926
CREATED:20260112T203755Z
LAST-MODIFIED:20260208T205344Z
UID:58773-1768563000-1768572000@864foodtrucks.com
SUMMARY:Cinnabon @ Greenville High School
DESCRIPTION:Cinnabon Food Truck Greenville
URL:https://864foodtrucks.com/event/cinnabon-greenville-high-school-2/2026-01-16/
LOCATION:Greenville High School\, 1 Vardry St\, Greenville\, SC\, 29601\, United States
CATEGORIES:Food Truck Schedules,Greenville
ATTACH;FMTTYPE=image/jpeg:https://864foodtrucks.com/wp-content/uploads/2024/12/326870080_1829549937401559_2632445834433428235_n-2.jpg
ORGANIZER;CN="Cinnabon Greenville":MAILTO:info@hotbonssc.com
GEO:34.8396843;-82.4082603
X-APPLE-STRUCTURED-LOCATION;VALUE=URI;X-ADDRESS=Greenville High School 1 Vardry St Greenville SC 29601 United States;X-APPLE-RADIUS=500;X-TITLE=1 Vardry St:geo:-82.4082603,34.8396843
END:VEVENT
BEGIN:VEVENT
DTSTART;TZID=America/New_York:20260116T120000
DTEND;TZID=America/New_York:20260116T160000
DTSTAMP:20260425T223926
CREATED:20250324T131233Z
LAST-MODIFIED:20260316T232446Z
UID:58829-1768564800-1768579200@864foodtrucks.com
SUMMARY:Las Cazuelas @ Swamp Rabbit Brewery
DESCRIPTION:
URL:https://864foodtrucks.com/event/las-cazuelas-swamp-rabbit-brewery/2026-01-16/
LOCATION:Swamp Rabbit Brewery\, 26 S Main St\, Travelers Rest\, South Carolina
CATEGORIES:Food Truck Schedules,Travelers Rest
ATTACH;FMTTYPE=image/png:https://864foodtrucks.com/wp-content/uploads/2024/12/Las-Cazuelas.png
ORGANIZER;CN="Las Cazuelas":MAILTO:lascazuelascatering.llc@gmail.com
GEO:34.9670847;-82.4425017
X-APPLE-STRUCTURED-LOCATION;VALUE=URI;X-ADDRESS=Swamp Rabbit Brewery 26 S Main St Travelers Rest South Carolina;X-APPLE-RADIUS=500;X-TITLE=26 S Main St:geo:-82.4425017,34.9670847
END:VEVENT
BEGIN:VEVENT
DTSTART;TZID=America/New_York:20260116T130000
DTEND;TZID=America/New_York:20260116T180000
DTSTAMP:20260425T223926
CREATED:20251215T234210Z
LAST-MODIFIED:20260308T194523Z
UID:58698-1768568400-1768586400@864foodtrucks.com
SUMMARY:Uncle Luke's @ Bottles Greenville
DESCRIPTION:Uncle Lukes LLC\nNamed after my Father\nBook for Job worksite’s Corporate lunches\, Churches\, Festivals\, Apartments buildings.
URL:https://864foodtrucks.com/event/uncle-lukes-bottles-greenville/2026-01-16/
LOCATION:Bottles Beverage Superstore\, 7 Milestone Plz\, Greenville\, South Carolina\, 29615
CATEGORIES:Food Truck Schedules,Greenville
ATTACH;FMTTYPE=image/jpeg:https://864foodtrucks.com/wp-content/uploads/2025/12/Uncle-Lukes.jpg
ORGANIZER;CN="Uncle Luke's":MAILTO:j.diggs864@gmail.com
GEO:34.8623675;-82.2700255
X-APPLE-STRUCTURED-LOCATION;VALUE=URI;X-ADDRESS=Bottles Beverage Superstore 7 Milestone Plz Greenville South Carolina 29615;X-APPLE-RADIUS=500;X-TITLE=7 Milestone Plz:geo:-82.2700255,34.8623675
END:VEVENT
BEGIN:VEVENT
DTSTART;TZID=America/New_York:20260116T160000
DTEND;TZID=America/New_York:20260116T190000
DTSTAMP:20260425T223926
CREATED:20260113T182646Z
LAST-MODIFIED:20260113T182646Z
UID:58824-1768579200-1768590000@864foodtrucks.com
SUMMARY:Lai Sushi Express @ Sunset Slush of TR
DESCRIPTION:Roll into flavor at our food truck! Serving fresh\, hand-crafted sushi and bold Asian (Lai) fusion!
URL:https://864foodtrucks.com/event/lai-sushi-express-sunset-slush-of-tr/
LOCATION:Sunset Slush of TR\, 223B N Poinsett Hwy\,\, Travelers Rest\, South Carolina
CATEGORIES:Food Truck Schedules,Travelers Rest
ATTACH;FMTTYPE=image/jpeg:https://864foodtrucks.com/wp-content/uploads/2025/04/Lai-Sushi-Express.jpg
ORGANIZER;CN="Lai Sushi Express":MAILTO:Laisushiexpress@gmail.com
GEO:34.9729982;-82.4337836
X-APPLE-STRUCTURED-LOCATION;VALUE=URI;X-ADDRESS=Sunset Slush of TR 223B N Poinsett Hwy Travelers Rest South Carolina;X-APPLE-RADIUS=500;X-TITLE=223B N Poinsett Hwy\,:geo:-82.4337836,34.9729982
END:VEVENT
BEGIN:VEVENT
DTSTART;TZID=America/New_York:20260116T170000
DTEND;TZID=America/New_York:20260116T200000
DTSTAMP:20260425T223926
CREATED:20250421T175652Z
LAST-MODIFIED:20260413T172300Z
UID:58749-1768582800-1768593600@864foodtrucks.com
SUMMARY:Island Sun @ The Community Tap
DESCRIPTION:Mobile Kitchen serving Caribbean Cuisine to the upstate\, SC\nCaterings\, pop ups\, and private dinners\nDm for more info
URL:https://864foodtrucks.com/event/island-sun-the-community-tap-2/2026-01-16/
LOCATION:The Community Tap\, 217 Wade Hampton Blvd\, Greenville\, South Carolina
CATEGORIES:Food Truck Schedules,Greenville
ATTACH;FMTTYPE=image/jpeg:https://864foodtrucks.com/wp-content/uploads/2023/07/IslandSun864.jpg
GEO:34.8625763;-82.3857613
X-APPLE-STRUCTURED-LOCATION;VALUE=URI;X-ADDRESS=The Community Tap 217 Wade Hampton Blvd Greenville South Carolina;X-APPLE-RADIUS=500;X-TITLE=217 Wade Hampton Blvd:geo:-82.3857613,34.8625763
END:VEVENT
BEGIN:VEVENT
DTSTART;TZID=America/New_York:20260116T170000
DTEND;TZID=America/New_York:20260116T203000
DTSTAMP:20260425T223926
CREATED:20250217T183428Z
LAST-MODIFIED:20260412T192445Z
UID:58762-1768582800-1768595400@864foodtrucks.com
SUMMARY:Local Pie Pizza Co @ Grateful Brew
DESCRIPTION:
URL:https://864foodtrucks.com/event/local-pie-pizza-co-grateful-brew-6/2026-01-16/
LOCATION:Grateful Brew\, 501 S Pleasantburg Dr\, Greenville\, SC\, 29607\, United States
CATEGORIES:Food Truck Schedules,Greenville
ORGANIZER;CN="Local Pie Pizza Company":MAILTO:cory@localpiepizzacompany.com
GEO:34.8292844;-82.36962
X-APPLE-STRUCTURED-LOCATION;VALUE=URI;X-ADDRESS=Grateful Brew 501 S Pleasantburg Dr Greenville SC 29607 United States;X-APPLE-RADIUS=500;X-TITLE=501 S Pleasantburg Dr:geo:-82.36962,34.8292844
END:VEVENT
BEGIN:VEVENT
DTSTART;TZID=America/New_York:20260116T173000
DTEND;TZID=America/New_York:20260116T200000
DTSTAMP:20260425T223926
CREATED:20251019T192400Z
LAST-MODIFIED:20251019T192400Z
UID:58692-1768584600-1768593600@864foodtrucks.com
SUMMARY:The Noodle Lady @ The Community Tap
DESCRIPTION:Authentic Chinese dishes for catering and events. Artisan Noodles and 100% Natural. Check out here our events calendar in Greenville\, South Carolina. #TheNoodleLady
URL:https://864foodtrucks.com/event/the-noodle-lady-the-community-tap-5/2026-01-16/
LOCATION:The Community Tap\, 217 Wade Hampton Blvd\, Greenville\, South Carolina
CATEGORIES:Food Truck Schedules,Greenville
ATTACH;FMTTYPE=image/jpeg:https://864foodtrucks.com/wp-content/uploads/2023/07/Noodle-lady.jpg
ORGANIZER;CN="The Noodle Lady":MAILTO:thenoodlelady@yahoo.com
GEO:34.8625763;-82.3857613
X-APPLE-STRUCTURED-LOCATION;VALUE=URI;X-ADDRESS=The Community Tap 217 Wade Hampton Blvd Greenville South Carolina;X-APPLE-RADIUS=500;X-TITLE=217 Wade Hampton Blvd:geo:-82.3857613,34.8625763
END:VEVENT
BEGIN:VEVENT
DTSTART;TZID=America/New_York:20260117T080000
DTEND;TZID=America/New_York:20260117T080000
DTSTAMP:20260425T223926
CREATED:20250217T222338Z
LAST-MODIFIED:20260420T151359Z
UID:58764-1768636800-1768636800@864foodtrucks.com
SUMMARY:Scout's Doughnuts @ Grateful Brew
DESCRIPTION:Handcrafted 100 Layer Doughnuts\nMade in Greenville\, SC #SweeterTogether
URL:https://864foodtrucks.com/event/scouts-doughnuts-grateful-brew-2/2026-01-17/
LOCATION:Grateful Brew\, 501 S Pleasantburg Dr\, Greenville\, SC\, 29607\, United States
CATEGORIES:Food Truck Schedules,Greenville
ATTACH;FMTTYPE=image/jpeg:https://864foodtrucks.com/wp-content/uploads/2022/08/Scouts-Doughnuts-1.jpg
ORGANIZER;CN="Scouts Doughnuts":MAILTO:hello@scoutsdoughnuts.com
GEO:34.8292844;-82.36962
X-APPLE-STRUCTURED-LOCATION;VALUE=URI;X-ADDRESS=Grateful Brew 501 S Pleasantburg Dr Greenville SC 29607 United States;X-APPLE-RADIUS=500;X-TITLE=501 S Pleasantburg Dr:geo:-82.36962,34.8292844
END:VEVENT
BEGIN:VEVENT
DTSTART;TZID=America/New_York:20260117T113000
DTEND;TZID=America/New_York:20260117T170000
DTSTAMP:20260425T223926
CREATED:20260112T195805Z
LAST-MODIFIED:20260112T195805Z
UID:58750-1768649400-1768669200@864foodtrucks.com
SUMMARY:Island Sun @ Sonic Sound Expo
DESCRIPTION:Mobile Kitchen serving Caribbean Cuisine to the upstate\, SC\nCaterings\, pop ups\, and private dinners\nDm for more info
URL:https://864foodtrucks.com/event/island-sun-sonic-sound-expo/2026-01-17/
LOCATION:Hejaz Event Center\, 119 Beverly Rd\, Greenville\, South Carolina
CATEGORIES:Food Truck Schedules,Greenville
ATTACH;FMTTYPE=image/jpeg:https://864foodtrucks.com/wp-content/uploads/2023/07/IslandSun864.jpg
GEO:34.8955011;-82.372719
X-APPLE-STRUCTURED-LOCATION;VALUE=URI;X-ADDRESS=Hejaz Event Center 119 Beverly Rd Greenville South Carolina;X-APPLE-RADIUS=500;X-TITLE=119 Beverly Rd:geo:-82.372719,34.8955011
END:VEVENT
BEGIN:VEVENT
DTSTART;TZID=America/New_York:20260117T170000
DTEND;TZID=America/New_York:20260117T200000
DTSTAMP:20260425T223926
CREATED:20260111T203525Z
LAST-MODIFIED:20260222T204426Z
UID:58701-1768669200-1768680000@864foodtrucks.com
SUMMARY:Uncle Luke's @ WineXpress
DESCRIPTION:Uncle Lukes LLC\nNamed after my Father\nBook for Job worksite’s Corporate lunches\, Churches\, Festivals\, Apartments buildings.
URL:https://864foodtrucks.com/event/uncle-lukes-winexpress/2026-01-17/
LOCATION:WineXpress\, 202 Scuffletown Rd\, Simpsonville\, South Carolina
CATEGORIES:Food Truck Schedules,Simpsonville
ATTACH;FMTTYPE=image/jpeg:https://864foodtrucks.com/wp-content/uploads/2025/12/Uncle-Lukes-1.jpg
ORGANIZER;CN="Uncle Luke's":MAILTO:j.diggs864@gmail.com
GEO:34.8046736;-82.2292537
X-APPLE-STRUCTURED-LOCATION;VALUE=URI;X-ADDRESS=WineXpress 202 Scuffletown Rd Simpsonville South Carolina;X-APPLE-RADIUS=500;X-TITLE=202 Scuffletown Rd:geo:-82.2292537,34.8046736
END:VEVENT
END:VCALENDAR