BEGIN:VCALENDAR
VERSION:2.0
PRODID:-//864 Food Trucks - ECPv6.15.20//NONSGML v1.0//EN
CALSCALE:GREGORIAN
METHOD:PUBLISH
X-WR-CALNAME:864 Food Trucks
X-ORIGINAL-URL:https://864foodtrucks.com
X-WR-CALDESC:Events for 864 Food Trucks
REFRESH-INTERVAL;VALUE=DURATION:PT1H
X-Robots-Tag:noindex
X-PUBLISHED-TTL:PT1H
BEGIN:VTIMEZONE
TZID:America/New_York
BEGIN:DAYLIGHT
TZOFFSETFROM:-0500
TZOFFSETTO:-0400
TZNAME:EDT
DTSTART:20210314T070000
END:DAYLIGHT
BEGIN:STANDARD
TZOFFSETFROM:-0400
TZOFFSETTO:-0500
TZNAME:EST
DTSTART:20211107T060000
END:STANDARD
BEGIN:DAYLIGHT
TZOFFSETFROM:-0500
TZOFFSETTO:-0400
TZNAME:EDT
DTSTART:20220313T070000
END:DAYLIGHT
BEGIN:STANDARD
TZOFFSETFROM:-0400
TZOFFSETTO:-0500
TZNAME:EST
DTSTART:20221106T060000
END:STANDARD
BEGIN:DAYLIGHT
TZOFFSETFROM:-0500
TZOFFSETTO:-0400
TZNAME:EDT
DTSTART:20230312T070000
END:DAYLIGHT
BEGIN:STANDARD
TZOFFSETFROM:-0400
TZOFFSETTO:-0500
TZNAME:EST
DTSTART:20231105T060000
END:STANDARD
BEGIN:DAYLIGHT
TZOFFSETFROM:-0500
TZOFFSETTO:-0400
TZNAME:EDT
DTSTART:20240310T070000
END:DAYLIGHT
BEGIN:STANDARD
TZOFFSETFROM:-0400
TZOFFSETTO:-0500
TZNAME:EST
DTSTART:20241103T060000
END:STANDARD
END:VTIMEZONE
BEGIN:VEVENT
DTSTART;TZID=America/New_York:20231028T130000
DTEND;TZID=America/New_York:20231028T163000
DTSTAMP:20260425T130829
CREATED:20231025T185833Z
LAST-MODIFIED:20231025T185833Z
UID:23815-1698498000-1698510600@864foodtrucks.com
SUMMARY:Big Fuss Fresh Foods @ Barefoot Acres Fall Festival
DESCRIPTION:We are a mobile food truck that specializes in fresh food with amazing flavor.
URL:https://864foodtrucks.com/event/big-fuss-fresh-foods-barefoot-acres-fall-festival/
LOCATION:Barefoot Acres\, 181 Barefoot Acres Way\, Fountain Inn\, South Carolina
CATEGORIES:Food Truck Schedules,Fountain Inn
ATTACH;FMTTYPE=image/jpeg:https://864foodtrucks.com/wp-content/uploads/2023/07/Big-Fuss-Fresh-Food.jpg
GEO:34.5844389;-82.2157934
X-APPLE-STRUCTURED-LOCATION;VALUE=URI;X-ADDRESS=Barefoot Acres 181 Barefoot Acres Way Fountain Inn South Carolina;X-APPLE-RADIUS=500;X-TITLE=181 Barefoot Acres Way:geo:-82.2157934,34.5844389
END:VEVENT
BEGIN:VEVENT
DTSTART;TZID=America/New_York:20230630T180000
DTEND;TZID=America/New_York:20230630T210000
DTSTAMP:20260425T130829
CREATED:20230628T181100Z
LAST-MODIFIED:20230628T181100Z
UID:20357-1688148000-1688158800@864foodtrucks.com
SUMMARY:Sunset Slush @ Downtown Fountain Inn
DESCRIPTION:We serve our delicious Classic Italian Ice at events around the Upstate and surrounding areas.
URL:https://864foodtrucks.com/event/sunset-slush-downtown-fountain-inn/
LOCATION:Downtown Fountain Inn\, Fountain Inn\, SC\, United States
CATEGORIES:Food Truck Schedules,Fountain Inn
ATTACH;FMTTYPE=image/jpeg:https://864foodtrucks.com/wp-content/uploads/2020/04/Sunset-Slush.jpg
END:VEVENT
BEGIN:VEVENT
DTSTART;TZID=America/New_York:20230401T100000
DTEND;TZID=America/New_York:20230401T140000
DTSTAMP:20260425T130829
CREATED:20230327T123250Z
LAST-MODIFIED:20230327T123250Z
UID:17809-1680343200-1680357600@864foodtrucks.com
SUMMARY:Spinx Cluk Truk @ Fountain Inn Recreation
DESCRIPTION:Your favorite southern fried chicken is hitting the road—and it’s going to be legendary. Our community comes first\, and we want to share that tender love by bringing our homegrown menu to you. The Cluk Truk is coming Fall 2020 to the Upstate!
URL:https://864foodtrucks.com/event/spinx-cluk-truk-fountain-inn-recreation/
LOCATION:Fountain Inn Recreation\, 610 Fairview St\, Fountain Inn\, SC\, United States
CATEGORIES:Food Truck Schedules,Fountain Inn
ATTACH;FMTTYPE=image/jpeg:https://864foodtrucks.com/wp-content/uploads/2021/05/Spinx-Cluk-Truk-Truck.jpg
ORGANIZER;CN="Spinx Cluk Truk":MAILTO:cluktruk@spinxco.com
END:VEVENT
BEGIN:VEVENT
DTSTART;TZID=America/New_York:20230214T110000
DTEND;TZID=America/New_York:20230214T140000
DTSTAMP:20260425T130829
CREATED:20230212T205513Z
LAST-MODIFIED:20230212T205513Z
UID:16740-1676372400-1676383200@864foodtrucks.com
SUMMARY:Spinx Cluk Truk @ City of Fountain Inn
DESCRIPTION:Your favorite southern fried chicken is hitting the road—and it’s going to be legendary. Our community comes first\, and we want to share that tender love by bringing our homegrown menu to you. The Cluk Truk is coming Fall 2020 to the Upstate!
URL:https://864foodtrucks.com/event/spinx-cluk-truk-city-of-fountain-inn/
LOCATION:Main Street Fountain Inn\, 200 N. Main St.\, Fountain Inn\, South Carolina
CATEGORIES:Food Truck Schedules,Fountain Inn
ATTACH;FMTTYPE=image/jpeg:https://864foodtrucks.com/wp-content/uploads/2021/05/Spinx-Cluk-Truk-Truck.jpg
ORGANIZER;CN="Spinx Cluk Truk":MAILTO:cluktruk@spinxco.com
GEO:34.6950604;-82.200548
X-APPLE-STRUCTURED-LOCATION;VALUE=URI;X-ADDRESS=Main Street Fountain Inn 200 N. Main St. Fountain Inn South Carolina;X-APPLE-RADIUS=500;X-TITLE=200 N. Main St.:geo:-82.200548,34.6950604
END:VEVENT
BEGIN:VEVENT
DTSTART;TZID=America/New_York:20221203T110000
DTEND;TZID=America/New_York:20221203T143000
DTSTAMP:20260425T130829
CREATED:20221127T211158Z
LAST-MODIFIED:20221127T211158Z
UID:14995-1670065200-1670077800@864foodtrucks.com
SUMMARY:Spinx Cluk Truk @ Fairview Trade Days
DESCRIPTION:Your favorite southern fried chicken is hitting the road—and it’s going to be legendary. Our community comes first\, and we want to share that tender love by bringing our homegrown menu to you. The Cluk Truk is coming Fall 2020 to the Upstate!
URL:https://864foodtrucks.com/event/spinx-cluk-truk-fairview-trade-days/
LOCATION:Capstone Church\, 601 Fairview St\, Fountain Inn\, SC\, United States
CATEGORIES:Food Truck Schedules,Fountain Inn
ATTACH;FMTTYPE=image/jpeg:https://864foodtrucks.com/wp-content/uploads/2021/05/Spinx-Cluk-Truk-Truck.jpg
END:VEVENT
BEGIN:VEVENT
DTSTART;TZID=America/New_York:20221110T100000
DTEND;TZID=America/New_York:20221110T130000
DTSTAMP:20260425T130829
CREATED:20221107T170326Z
LAST-MODIFIED:20221107T170326Z
UID:14388-1668074400-1668085200@864foodtrucks.com
SUMMARY:Local Pie Pizza Co @ Yengfeng
DESCRIPTION:
URL:https://864foodtrucks.com/event/local-pie-pizza-co-yengfeng/
LOCATION:Yengfeng\, 101 International Blvd\, Fountain Inn\, SC\, United States
CATEGORIES:Food Truck Schedules,Fountain Inn
ATTACH;FMTTYPE=image/jpeg:https://864foodtrucks.com/wp-content/uploads/2021/12/Local-Pie-Pizza-3.jpg
ORGANIZER;CN="Local Pie Pizza Company":MAILTO:cory@localpiepizzacompany.com
END:VEVENT
END:VCALENDAR