BEGIN:VCALENDAR
VERSION:2.0
PRODID:-//864 Food Trucks - ECPv6.15.20//NONSGML v1.0//EN
CALSCALE:GREGORIAN
METHOD:PUBLISH
X-WR-CALNAME:864 Food Trucks
X-ORIGINAL-URL:https://864foodtrucks.com
X-WR-CALDESC:Events for 864 Food Trucks
REFRESH-INTERVAL;VALUE=DURATION:PT1H
X-Robots-Tag:noindex
X-PUBLISHED-TTL:PT1H
BEGIN:VTIMEZONE
TZID:America/New_York
BEGIN:DAYLIGHT
TZOFFSETFROM:-0500
TZOFFSETTO:-0400
TZNAME:EDT
DTSTART:20250309T070000
END:DAYLIGHT
BEGIN:STANDARD
TZOFFSETFROM:-0400
TZOFFSETTO:-0500
TZNAME:EST
DTSTART:20251102T060000
END:STANDARD
BEGIN:DAYLIGHT
TZOFFSETFROM:-0500
TZOFFSETTO:-0400
TZNAME:EDT
DTSTART:20260308T070000
END:DAYLIGHT
BEGIN:STANDARD
TZOFFSETFROM:-0400
TZOFFSETTO:-0500
TZNAME:EST
DTSTART:20261101T060000
END:STANDARD
BEGIN:DAYLIGHT
TZOFFSETFROM:-0500
TZOFFSETTO:-0400
TZNAME:EDT
DTSTART:20270314T070000
END:DAYLIGHT
BEGIN:STANDARD
TZOFFSETFROM:-0400
TZOFFSETTO:-0500
TZNAME:EST
DTSTART:20271107T060000
END:STANDARD
END:VTIMEZONE
BEGIN:VEVENT
DTSTART;TZID=America/New_York:20260403T120000
DTEND;TZID=America/New_York:20260403T150000
DTSTAMP:20260423T235606
CREATED:20260310T183441Z
LAST-MODIFIED:20260310T183441Z
UID:61328-1775217600-1775228400@864foodtrucks.com
SUMMARY:Dos Bros @ 701 Brookfield Parkway
DESCRIPTION:
URL:https://864foodtrucks.com/event/dos-bros-brookfield-parkway/2026-04-03/
LOCATION:201 Brookfield Pwy\, Brookfield Parkway 201\, Greenville\, South Carolina\, 29607\, United States
CATEGORIES:Food Truck Schedules,Greenville
ATTACH;FMTTYPE=image/jpeg:https://864foodtrucks.com/wp-content/uploads/2021/10/Dos-Bros-Tacos-Truck.jpg
ORGANIZER;CN="Dos Bros Tacos 864":MAILTO:jesusi86@yahoo.com
GEO:34.8095457;-82.2833655
X-APPLE-STRUCTURED-LOCATION;VALUE=URI;X-ADDRESS=201 Brookfield Pwy Brookfield Parkway 201 Greenville South Carolina 29607 United States;X-APPLE-RADIUS=500;X-TITLE=Brookfield Parkway 201:geo:-82.2833655,34.8095457
END:VEVENT
BEGIN:VEVENT
DTSTART;TZID=America/New_York:20260403T160000
DTEND;TZID=America/New_York:20260403T200000
DTSTAMP:20260423T235606
CREATED:20250414T003015Z
LAST-MODIFIED:20250414T003015Z
UID:61227-1775232000-1775246400@864foodtrucks.com
SUMMARY:Local Pie Pizza Co @ Rabbit Crest Farms
DESCRIPTION:
URL:https://864foodtrucks.com/event/local-pie-pizza-co-rabbit-crest-farms/2026-04-03/
LOCATION:Rabbit Crest Farms\, Greenville\, South Carolina\, United States
CATEGORIES:Food Truck Schedules,Greenville
ATTACH;FMTTYPE=image/jpeg:https://864foodtrucks.com/wp-content/uploads/2021/12/Local-Pie-Pizza-3.jpg
ORGANIZER;CN="Local Pie Pizza Company":MAILTO:cory@localpiepizzacompany.com
GEO:34.8526176;-82.3940104
END:VEVENT
BEGIN:VEVENT
DTSTART;TZID=America/New_York:20260403T170000
DTEND;TZID=America/New_York:20260403T200000
DTSTAMP:20260423T235606
CREATED:20260331T002109Z
LAST-MODIFIED:20260331T002109Z
UID:61253-1775235600-1775246400@864foodtrucks.com
SUMMARY:We Got the Beets @ Art Center Greenville
DESCRIPTION:FOOD FOR ALL!\nPowered by love…and plants 🌱🌈\n📍 Greenville\, SC
URL:https://864foodtrucks.com/event/we-got-the-beets-art-center-greenville/
LOCATION:Art Center Greenville\, 101 Abney St\, Greenville\, South Carolina
CATEGORIES:Food Truck Schedules,Greenville
ATTACH;FMTTYPE=image/jpeg:https://864foodtrucks.com/wp-content/uploads/2023/10/We-Got-the-Beets.jpg
GEO:34.8454439;-82.4331473
X-APPLE-STRUCTURED-LOCATION;VALUE=URI;X-ADDRESS=Art Center Greenville 101 Abney St Greenville South Carolina;X-APPLE-RADIUS=500;X-TITLE=101 Abney St:geo:-82.4331473,34.8454439
END:VEVENT
BEGIN:VEVENT
DTSTART;TZID=America/New_York:20260403T170000
DTEND;TZID=America/New_York:20260403T210000
DTSTAMP:20260423T235606
CREATED:20260329T231330Z
LAST-MODIFIED:20260329T231330Z
UID:61183-1775235600-1775250000@864foodtrucks.com
SUMMARY:Uncle Luke's @ Wild Yarrow Brewing
DESCRIPTION:Uncle Lukes LLC\nNamed after my Father\nBook for Job worksite’s Corporate lunches\, Churches\, Festivals\, Apartments buildings.
URL:https://864foodtrucks.com/event/uncle-lukes-wild-yarrow-brewing/
LOCATION:Wild Yarrow Brewery\, 603 E Stone Ave Ste 4\, Greenville\, South Carolina
CATEGORIES:Food Truck Schedules,Greenville
ATTACH;FMTTYPE=image/jpeg:https://864foodtrucks.com/wp-content/uploads/2025/12/Uncle-Lukes-1.jpg
ORGANIZER;CN="Uncle Luke's":MAILTO:j.diggs864@gmail.com
GEO:34.8585597;-82.3848471
X-APPLE-STRUCTURED-LOCATION;VALUE=URI;X-ADDRESS=Wild Yarrow Brewery 603 E Stone Ave Ste 4 Greenville South Carolina;X-APPLE-RADIUS=500;X-TITLE=603 E Stone Ave Ste 4:geo:-82.3848471,34.8585597
END:VEVENT
END:VCALENDAR