BEGIN:VCALENDAR
VERSION:2.0
PRODID:-//864 Food Trucks - ECPv6.15.20//NONSGML v1.0//EN
CALSCALE:GREGORIAN
METHOD:PUBLISH
X-ORIGINAL-URL:https://864foodtrucks.com
X-WR-CALDESC:Events for 864 Food Trucks
REFRESH-INTERVAL;VALUE=DURATION:PT1H
X-Robots-Tag:noindex
X-PUBLISHED-TTL:PT1H
BEGIN:VTIMEZONE
TZID:America/New_York
BEGIN:DAYLIGHT
TZOFFSETFROM:-0500
TZOFFSETTO:-0400
TZNAME:EDT
DTSTART:20250309T070000
END:DAYLIGHT
BEGIN:STANDARD
TZOFFSETFROM:-0400
TZOFFSETTO:-0500
TZNAME:EST
DTSTART:20251102T060000
END:STANDARD
BEGIN:DAYLIGHT
TZOFFSETFROM:-0500
TZOFFSETTO:-0400
TZNAME:EDT
DTSTART:20260308T070000
END:DAYLIGHT
BEGIN:STANDARD
TZOFFSETFROM:-0400
TZOFFSETTO:-0500
TZNAME:EST
DTSTART:20261101T060000
END:STANDARD
BEGIN:DAYLIGHT
TZOFFSETFROM:-0500
TZOFFSETTO:-0400
TZNAME:EDT
DTSTART:20270314T070000
END:DAYLIGHT
BEGIN:STANDARD
TZOFFSETFROM:-0400
TZOFFSETTO:-0500
TZNAME:EST
DTSTART:20271107T060000
END:STANDARD
END:VTIMEZONE
BEGIN:VEVENT
DTSTART;TZID=America/New_York:20260422T173000
DTEND;TZID=America/New_York:20260422T200000
DTSTAMP:20260423T193539
CREATED:20250922T174243Z
LAST-MODIFIED:20250922T174243Z
UID:62071-1776879000-1776888000@864foodtrucks.com
SUMMARY:We Got the Beets @ Grateful Brew
DESCRIPTION:FOOD FOR ALL!\nPowered by love…and plants 🌱🌈\n📍 Greenville\, SC
URL:https://864foodtrucks.com/event/we-got-the-beets-grateful-brew-2/2026-04-22/
LOCATION:Grateful Brew\, 501 S Pleasantburg Dr\, Greenville\, SC\, 29607\, United States
CATEGORIES:Food Truck Schedules,Greenville
ATTACH;FMTTYPE=image/jpeg:https://864foodtrucks.com/wp-content/uploads/2023/10/We-Got-the-Beets.jpg
GEO:34.8292844;-82.36962
X-APPLE-STRUCTURED-LOCATION;VALUE=URI;X-ADDRESS=Grateful Brew 501 S Pleasantburg Dr Greenville SC 29607 United States;X-APPLE-RADIUS=500;X-TITLE=501 S Pleasantburg Dr:geo:-82.36962,34.8292844
END:VEVENT
BEGIN:VEVENT
DTSTART;TZID=America/New_York:20260421T170000
DTEND;TZID=America/New_York:20260421T210000
DTSTAMP:20260423T193539
CREATED:20251215T233217Z
LAST-MODIFIED:20251215T233217Z
UID:62105-1776790800-1776805200@864foodtrucks.com
SUMMARY:Uncle Luke's @ Community Tap
DESCRIPTION:Uncle Lukes LLC\nNamed after my Father\nBook for Job worksite’s Corporate lunches\, Churches\, Festivals\, Apartments buildings.
URL:https://864foodtrucks.com/event/uncle-lukes-community-tap/2026-04-21/
LOCATION:The Community Tap\, 217 Wade Hampton Blvd\, Greenville\, South Carolina
CATEGORIES:Food Truck Schedules,Greenville
ATTACH;FMTTYPE=image/jpeg:https://864foodtrucks.com/wp-content/uploads/2025/12/Uncle-Lukes.jpg
ORGANIZER;CN="Uncle Luke's":MAILTO:j.diggs864@gmail.com
GEO:34.8625763;-82.3857613
X-APPLE-STRUCTURED-LOCATION;VALUE=URI;X-ADDRESS=The Community Tap 217 Wade Hampton Blvd Greenville South Carolina;X-APPLE-RADIUS=500;X-TITLE=217 Wade Hampton Blvd:geo:-82.3857613,34.8625763
END:VEVENT
BEGIN:VEVENT
DTSTART;TZID=America/New_York:20260421T160000
DTEND;TZID=America/New_York:20260421T190000
DTSTAMP:20260423T193539
CREATED:20260420T124057Z
LAST-MODIFIED:20260420T124057Z
UID:62045-1776787200-1776798000@864foodtrucks.com
SUMMARY:Local Pie Pizza Co @ Maple Brook Terrace
DESCRIPTION:
URL:https://864foodtrucks.com/event/local-pie-pizza-co-maple-brook-terrace/
LOCATION:Maple Brook\, Greenville\, South Carolina
CATEGORIES:Food Truck Schedules,Greenville
ATTACH;FMTTYPE=image/png:https://864foodtrucks.com/wp-content/uploads/2023/07/Local-Pie-Pizza-Co.png
ORGANIZER;CN="Local Pie Pizza Company":MAILTO:cory@localpiepizzacompany.com
GEO:34.8526176;-82.3940104
END:VEVENT
BEGIN:VEVENT
DTSTART;TZID=America/New_York:20260419T110000
DTEND;TZID=America/New_York:20260419T140000
DTSTAMP:20260423T193539
CREATED:20260210T183042Z
LAST-MODIFIED:20260210T183042Z
UID:59644-1776596400-1776607200@864foodtrucks.com
SUMMARY:We Got the Beets @ Swamp Rabbit Cafe
DESCRIPTION:FOOD FOR ALL!\nPowered by love…and plants 🌱🌈\n📍 Greenville\, SC
URL:https://864foodtrucks.com/event/we-got-the-beets-swamp-rabbit-cafe/2026-04-19/
LOCATION:Swamp Rabbit Cafe\, 205 Cedar Lane Road\, Greenville\, South Carolina
CATEGORIES:Food Truck Schedules,Greenville
ATTACH;FMTTYPE=image/jpeg:https://864foodtrucks.com/wp-content/uploads/2023/10/We-Got-the-Beets.jpg
GEO:34.8694785;-82.4214201
X-APPLE-STRUCTURED-LOCATION;VALUE=URI;X-ADDRESS=Swamp Rabbit Cafe 205 Cedar Lane Road Greenville South Carolina;X-APPLE-RADIUS=500;X-TITLE=205 Cedar Lane Road:geo:-82.4214201,34.8694785
END:VEVENT
BEGIN:VEVENT
DTSTART;TZID=America/New_York:20260418T173000
DTEND;TZID=America/New_York:20260418T200000
DTSTAMP:20260423T193539
CREATED:20250421T183536Z
LAST-MODIFIED:20250421T183536Z
UID:61829-1776533400-1776542400@864foodtrucks.com
SUMMARY:Lai Sushi Express @ Community Tap
DESCRIPTION:Roll into flavor at our food truck! Serving fresh\, hand-crafted sushi and bold Asian (Lai) fusion!
URL:https://864foodtrucks.com/event/lai-sushi-express-community-tap/2026-04-18/
LOCATION:The Community tap\, 217 Wade Hampton Blvd\, Greenville\, SC\, 29609\, United States
CATEGORIES:Food Truck Schedules,Greenville
ATTACH;FMTTYPE=image/jpeg:https://864foodtrucks.com/wp-content/uploads/2025/04/Lai-Sushi-Express.jpg
ORGANIZER;CN="Lai Sushi Express":MAILTO:Laisushiexpress@gmail.com
GEO:34.8623218;-82.3858037
X-APPLE-STRUCTURED-LOCATION;VALUE=URI;X-ADDRESS=The Community tap 217 Wade Hampton Blvd Greenville SC 29609 United States;X-APPLE-RADIUS=500;X-TITLE=217 Wade Hampton Blvd:geo:-82.3858037,34.8623218
END:VEVENT
BEGIN:VEVENT
DTSTART;TZID=America/New_York:20260418T083000
DTEND;TZID=America/New_York:20260418T083000
DTSTAMP:20260423T193539
CREATED:20250217T222338Z
LAST-MODIFIED:20260420T151402Z
UID:61818-1776501000-1776501000@864foodtrucks.com
SUMMARY:Scout's Doughnuts @ Grateful Brew
DESCRIPTION:Handcrafted 100 Layer Doughnuts\nMade in Greenville\, SC #SweeterTogether
URL:https://864foodtrucks.com/event/scouts-doughnuts-grateful-brew-2/2026-04-18/
LOCATION:Grateful Brew\, 501 S Pleasantburg Dr\, Greenville\, SC\, 29607\, United States
CATEGORIES:Food Truck Schedules,Greenville
ATTACH;FMTTYPE=image/jpeg:https://864foodtrucks.com/wp-content/uploads/2022/08/Scouts-Doughnuts-1.jpg
ORGANIZER;CN="Scouts Doughnuts":MAILTO:hello@scoutsdoughnuts.com
GEO:34.8292844;-82.36962
X-APPLE-STRUCTURED-LOCATION;VALUE=URI;X-ADDRESS=Grateful Brew 501 S Pleasantburg Dr Greenville SC 29607 United States;X-APPLE-RADIUS=500;X-TITLE=501 S Pleasantburg Dr:geo:-82.36962,34.8292844
END:VEVENT
BEGIN:VEVENT
DTSTART;TZID=America/New_York:20260417T180000
DTEND;TZID=America/New_York:20260417T200000
DTSTAMP:20260423T193539
CREATED:20260412T192759Z
LAST-MODIFIED:20260412T192759Z
UID:61779-1776448800-1776456000@864foodtrucks.com
SUMMARY:Local Pie Pizza Co @ Reedy Laurel Elementary
DESCRIPTION:
URL:https://864foodtrucks.com/event/local-pie-pizza-co-reedy-laurel-elementary/
LOCATION:Reedy Laurel Elementary\, 61 Isbell Ln\, Greenville\, South Carolina
CATEGORIES:Food Truck Schedules,Greenville
ATTACH;FMTTYPE=image/jpeg:https://864foodtrucks.com/wp-content/uploads/2021/12/Local-Pie-Pizza-3.jpg
ORGANIZER;CN="Local Pie Pizza Company":MAILTO:cory@localpiepizzacompany.com
GEO:34.811954;-82.34592
X-APPLE-STRUCTURED-LOCATION;VALUE=URI;X-ADDRESS=Reedy Laurel Elementary 61 Isbell Ln Greenville South Carolina;X-APPLE-RADIUS=500;X-TITLE=61 Isbell Ln:geo:-82.34592,34.811954
END:VEVENT
BEGIN:VEVENT
DTSTART;TZID=America/New_York:20260417T173000
DTEND;TZID=America/New_York:20260417T213000
DTSTAMP:20260423T193539
CREATED:20250818T185134Z
LAST-MODIFIED:20250818T185134Z
UID:61796-1776447000-1776461400@864foodtrucks.com
SUMMARY:The Salted Fry @ Main Street Fridays
DESCRIPTION:100% Gluten Free Food Trailer! Crispy Belgian style pommes frites loaded with your choice of savory toppings. Choose from multiple house made sauces and unique ketchup flavors!
URL:https://864foodtrucks.com/event/the-salted-fry-main-street-fridays/2026-04-17/
LOCATION:NOMA Square\, 220 N Main St\, Greenville\, South Carolina
CATEGORIES:Food Truck Schedules,Greenville
ATTACH;FMTTYPE=image/jpeg:https://864foodtrucks.com/wp-content/uploads/2025/05/The-Salted-Fry-1.jpg
ORGANIZER;CN="The Salted Fry":MAILTO:thesaltedfry@gmail.com
GEO:34.8529645;-82.3968802
X-APPLE-STRUCTURED-LOCATION;VALUE=URI;X-ADDRESS=NOMA Square 220 N Main St Greenville South Carolina;X-APPLE-RADIUS=500;X-TITLE=220 N Main St:geo:-82.3968802,34.8529645
END:VEVENT
BEGIN:VEVENT
DTSTART;TZID=America/New_York:20260417T173000
DTEND;TZID=America/New_York:20260417T200000
DTSTAMP:20260423T193539
CREATED:20251110T202549Z
LAST-MODIFIED:20251110T202549Z
UID:61823-1776447000-1776456000@864foodtrucks.com
SUMMARY:The Noodle Lady @ The Community Tap
DESCRIPTION:Authentic Chinese dishes for catering and events. Artisan Noodles and 100% Natural. Check out here our events calendar in Greenville\, South Carolina. #TheNoodleLady
URL:https://864foodtrucks.com/event/the-noodle-lady-the-community-tap-6/2026-04-17/
LOCATION:The Community Tap\, 217 Wade Hampton Blvd\, Greenville\, South Carolina
CATEGORIES:Food Truck Schedules,Greenville
ATTACH;FMTTYPE=image/jpeg:https://864foodtrucks.com/wp-content/uploads/2023/07/Noodle-lady.jpg
ORGANIZER;CN="The Noodle Lady":MAILTO:thenoodlelady@yahoo.com
GEO:34.8625763;-82.3857613
X-APPLE-STRUCTURED-LOCATION;VALUE=URI;X-ADDRESS=The Community Tap 217 Wade Hampton Blvd Greenville South Carolina;X-APPLE-RADIUS=500;X-TITLE=217 Wade Hampton Blvd:geo:-82.3857613,34.8625763
END:VEVENT
BEGIN:VEVENT
DTSTART;TZID=America/New_York:20260417T173000
DTEND;TZID=America/New_York:20260417T200000
DTSTAMP:20260423T193539
CREATED:20250922T174243Z
LAST-MODIFIED:20260420T150941Z
UID:61816-1776447000-1776456000@864foodtrucks.com
SUMMARY:We Got the Beets @ Grateful Brew
DESCRIPTION:FOOD FOR ALL!\nPowered by love…and plants 🌱🌈\n📍 Greenville\, SC
URL:https://864foodtrucks.com/event/we-got-the-beets-grateful-brew-2/2026-04-17/
LOCATION:Grateful Brew\, 501 S Pleasantburg Dr\, Greenville\, SC\, 29607\, United States
CATEGORIES:Food Truck Schedules,Greenville
ATTACH;FMTTYPE=image/jpeg:https://864foodtrucks.com/wp-content/uploads/2023/10/We-Got-the-Beets.jpg
GEO:34.8292844;-82.36962
X-APPLE-STRUCTURED-LOCATION;VALUE=URI;X-ADDRESS=Grateful Brew 501 S Pleasantburg Dr Greenville SC 29607 United States;X-APPLE-RADIUS=500;X-TITLE=501 S Pleasantburg Dr:geo:-82.36962,34.8292844
END:VEVENT
BEGIN:VEVENT
DTSTART;TZID=America/New_York:20260417T170000
DTEND;TZID=America/New_York:20260417T200000
DTSTAMP:20260423T193539
CREATED:20250505T163458Z
LAST-MODIFIED:20250505T163458Z
UID:61853-1776445200-1776456000@864foodtrucks.com
SUMMARY:Island Sun @ Wild Yarrow Brewing
DESCRIPTION:Mobile Kitchen serving Caribbean Cuisine to the upstate\, SC\nCaterings\, pop ups\, and private dinners\nDm for more info
URL:https://864foodtrucks.com/event/island-sun-wild-yarrow-brewing-2/2026-04-17/
LOCATION:Wild Yarrow Brewery\, 603 E Stone Ave Ste 4\, Greenville\, South Carolina
CATEGORIES:Food Truck Schedules,Greenville
ATTACH;FMTTYPE=image/jpeg:https://864foodtrucks.com/wp-content/uploads/2023/07/IslandSun864.jpg
GEO:34.8585597;-82.3848471
X-APPLE-STRUCTURED-LOCATION;VALUE=URI;X-ADDRESS=Wild Yarrow Brewery 603 E Stone Ave Ste 4 Greenville South Carolina;X-APPLE-RADIUS=500;X-TITLE=603 E Stone Ave Ste 4:geo:-82.3848471,34.8585597
END:VEVENT
BEGIN:VEVENT
DTSTART;TZID=America/New_York:20260417T140000
DTEND;TZID=America/New_York:20260417T190000
DTSTAMP:20260423T193539
CREATED:20260105T004949Z
LAST-MODIFIED:20260105T004949Z
UID:61835-1776434400-1776452400@864foodtrucks.com
SUMMARY:Uncle Luke's @ GVL Wine and Spirits
DESCRIPTION:Uncle Lukes LLC\nNamed after my Father\nBook for Job worksite’s Corporate lunches\, Churches\, Festivals\, Apartments buildings.
URL:https://864foodtrucks.com/event/uncle-lukes-gvl-wine-and-spirits/2026-04-17/
LOCATION:GVL Wine & Spirits\, 4025 Kennett Pike\, Greenville\, South Carolina
CATEGORIES:Food Truck Schedules,Greenville
ATTACH;FMTTYPE=image/jpeg:https://864foodtrucks.com/wp-content/uploads/2025/12/Uncle-Lukes.jpg
ORGANIZER;CN="Uncle Luke's":MAILTO:j.diggs864@gmail.com
GEO:34.8484984;-82.4000158
X-APPLE-STRUCTURED-LOCATION;VALUE=URI;X-ADDRESS=GVL Wine & Spirits 4025 Kennett Pike Greenville South Carolina;X-APPLE-RADIUS=500;X-TITLE=4025 Kennett Pike:geo:-82.4000158,34.8484984
END:VEVENT
BEGIN:VEVENT
DTSTART;TZID=America/New_York:20260416T173000
DTEND;TZID=America/New_York:20260416T200000
DTSTAMP:20260423T193539
CREATED:20250519T153557Z
LAST-MODIFIED:20250519T153557Z
UID:61814-1776360600-1776369600@864foodtrucks.com
SUMMARY:Boyos Burgers @ Grateful Brew
DESCRIPTION:Asian fusion street food
URL:https://864foodtrucks.com/event/boyos-burgers-grateful-brew/2026-04-16/
LOCATION:Grateful Brew\, 501 S Pleasantburg Dr\, Greenville\, SC\, 29607\, United States
CATEGORIES:Food Truck Schedules,Greenville
ATTACH;FMTTYPE=image/jpeg:https://864foodtrucks.com/wp-content/uploads/2024/12/Boyos-Burgers.jpg
ORGANIZER;CN="Boyos Burgers":MAILTO:boyosburgersandchips@gmail.com
GEO:34.8292844;-82.36962
X-APPLE-STRUCTURED-LOCATION;VALUE=URI;X-ADDRESS=Grateful Brew 501 S Pleasantburg Dr Greenville SC 29607 United States;X-APPLE-RADIUS=500;X-TITLE=501 S Pleasantburg Dr:geo:-82.36962,34.8292844
END:VEVENT
BEGIN:VEVENT
DTSTART;TZID=America/New_York:20260416T170000
DTEND;TZID=America/New_York:20260416T200000
DTSTAMP:20260423T193539
CREATED:20241118T223530Z
LAST-MODIFIED:20241118T223530Z
UID:61854-1776358800-1776369600@864foodtrucks.com
SUMMARY:Island Sun @ Trailside Reedy Point
DESCRIPTION:Mobile Kitchen serving Caribbean Cuisine to the upstate\, SC\nCaterings\, pop ups\, and private dinners\nDm for more info
URL:https://864foodtrucks.com/event/island-sun-trailside-reedy-point/2026-04-16/
LOCATION:Trailside at Reedy Point\, 200 South Academy St\, Greenville\, SC\, 29601\, United States
CATEGORIES:Food Truck Schedules,Greenville
ATTACH;FMTTYPE=image/jpeg:https://864foodtrucks.com/wp-content/uploads/2023/07/IslandSun864.jpg
GEO:34.8472093;-82.4065614
X-APPLE-STRUCTURED-LOCATION;VALUE=URI;X-ADDRESS=Trailside at Reedy Point 200 South Academy St Greenville SC 29601 United States;X-APPLE-RADIUS=500;X-TITLE=200 South Academy St:geo:-82.4065614,34.8472093
END:VEVENT
BEGIN:VEVENT
DTSTART;TZID=America/New_York:20260415T173000
DTEND;TZID=America/New_York:20260415T200000
DTSTAMP:20260423T193539
CREATED:20250421T175652Z
LAST-MODIFIED:20250421T175652Z
UID:61827-1776274200-1776283200@864foodtrucks.com
SUMMARY:Island Sun @ The Community Tap
DESCRIPTION:Mobile Kitchen serving Caribbean Cuisine to the upstate\, SC\nCaterings\, pop ups\, and private dinners\nDm for more info
URL:https://864foodtrucks.com/event/island-sun-the-community-tap-2/2026-04-15/
LOCATION:The Community Tap\, 217 Wade Hampton Blvd\, Greenville\, South Carolina
CATEGORIES:Food Truck Schedules,Greenville
ATTACH;FMTTYPE=image/jpeg:https://864foodtrucks.com/wp-content/uploads/2023/07/IslandSun864.jpg
GEO:34.8625763;-82.3857613
X-APPLE-STRUCTURED-LOCATION;VALUE=URI;X-ADDRESS=The Community Tap 217 Wade Hampton Blvd Greenville South Carolina;X-APPLE-RADIUS=500;X-TITLE=217 Wade Hampton Blvd:geo:-82.3857613,34.8625763
END:VEVENT
BEGIN:VEVENT
DTSTART;TZID=America/New_York:20260415T173000
DTEND;TZID=America/New_York:20260415T193000
DTSTAMP:20260423T193539
CREATED:20241028T001540Z
LAST-MODIFIED:20260420T123441Z
UID:61785-1776274200-1776281400@864foodtrucks.com
SUMMARY:The Noodle Lady @ Piney Mountain Bike Lounge
DESCRIPTION:Authentic Chinese dishes for catering and events. Artisan Noodles and 100% Natural. Check out here our events calendar in Greenville\, South Carolina. #TheNoodleLady
URL:https://864foodtrucks.com/event/the-noodle-lady-piney-mountain-bike-lounge-2/2026-04-15/
LOCATION:Piney Mountain Bike Lounge\, 20 Piney Mountain Rd\, Greenville\, South Carolina
CATEGORIES:Food Truck Schedules,Greenville
ATTACH;FMTTYPE=image/jpeg:https://864foodtrucks.com/wp-content/uploads/2023/07/Noodle-lady.jpg
ORGANIZER;CN="The Noodle Lady":MAILTO:thenoodlelady@yahoo.com
GEO:34.8913881;-82.373773
X-APPLE-STRUCTURED-LOCATION;VALUE=URI;X-ADDRESS=Piney Mountain Bike Lounge 20 Piney Mountain Rd Greenville South Carolina;X-APPLE-RADIUS=500;X-TITLE=20 Piney Mountain Rd:geo:-82.373773,34.8913881
END:VEVENT
BEGIN:VEVENT
DTSTART;TZID=America/New_York:20260415T170000
DTEND;TZID=America/New_York:20260415T203000
DTSTAMP:20260423T193539
CREATED:20250217T183428Z
LAST-MODIFIED:20250217T183428Z
UID:61775-1776272400-1776285000@864foodtrucks.com
SUMMARY:Local Pie Pizza Co @ Grateful Brew
DESCRIPTION:
URL:https://864foodtrucks.com/event/local-pie-pizza-co-grateful-brew-6/2026-04-15/
LOCATION:Grateful Brew\, 501 S Pleasantburg Dr\, Greenville\, SC\, 29607\, United States
CATEGORIES:Food Truck Schedules,Greenville
ORGANIZER;CN="Local Pie Pizza Company":MAILTO:cory@localpiepizzacompany.com
GEO:34.8292844;-82.36962
X-APPLE-STRUCTURED-LOCATION;VALUE=URI;X-ADDRESS=Grateful Brew 501 S Pleasantburg Dr Greenville SC 29607 United States;X-APPLE-RADIUS=500;X-TITLE=501 S Pleasantburg Dr:geo:-82.36962,34.8292844
END:VEVENT
BEGIN:VEVENT
DTSTART;TZID=America/New_York:20260414T170000
DTEND;TZID=America/New_York:20260414T210000
DTSTAMP:20260423T193539
CREATED:20251215T233217Z
LAST-MODIFIED:20260421T002841Z
UID:61825-1776186000-1776200400@864foodtrucks.com
SUMMARY:Uncle Luke's @ Community Tap
DESCRIPTION:Uncle Lukes LLC\nNamed after my Father\nBook for Job worksite’s Corporate lunches\, Churches\, Festivals\, Apartments buildings.
URL:https://864foodtrucks.com/event/uncle-lukes-community-tap/2026-04-14/
LOCATION:The Community Tap\, 217 Wade Hampton Blvd\, Greenville\, South Carolina
CATEGORIES:Food Truck Schedules,Greenville
ATTACH;FMTTYPE=image/jpeg:https://864foodtrucks.com/wp-content/uploads/2025/12/Uncle-Lukes.jpg
ORGANIZER;CN="Uncle Luke's":MAILTO:j.diggs864@gmail.com
GEO:34.8625763;-82.3857613
X-APPLE-STRUCTURED-LOCATION;VALUE=URI;X-ADDRESS=The Community Tap 217 Wade Hampton Blvd Greenville South Carolina;X-APPLE-RADIUS=500;X-TITLE=217 Wade Hampton Blvd:geo:-82.3857613,34.8625763
END:VEVENT
BEGIN:VEVENT
DTSTART;TZID=America/New_York:20260412T110000
DTEND;TZID=America/New_York:20260412T140000
DTSTAMP:20260423T193539
CREATED:20260210T183042Z
LAST-MODIFIED:20260210T183042Z
UID:59643-1775991600-1776002400@864foodtrucks.com
SUMMARY:We Got the Beets @ Swamp Rabbit Cafe
DESCRIPTION:FOOD FOR ALL!\nPowered by love…and plants 🌱🌈\n📍 Greenville\, SC
URL:https://864foodtrucks.com/event/we-got-the-beets-swamp-rabbit-cafe/2026-04-12/
LOCATION:Swamp Rabbit Cafe\, 205 Cedar Lane Road\, Greenville\, South Carolina
CATEGORIES:Food Truck Schedules,Greenville
ATTACH;FMTTYPE=image/jpeg:https://864foodtrucks.com/wp-content/uploads/2023/10/We-Got-the-Beets.jpg
GEO:34.8694785;-82.4214201
X-APPLE-STRUCTURED-LOCATION;VALUE=URI;X-ADDRESS=Swamp Rabbit Cafe 205 Cedar Lane Road Greenville South Carolina;X-APPLE-RADIUS=500;X-TITLE=205 Cedar Lane Road:geo:-82.4214201,34.8694785
END:VEVENT
BEGIN:VEVENT
DTSTART;TZID=America/New_York:20260411T173000
DTEND;TZID=America/New_York:20260411T200000
DTSTAMP:20260423T193539
CREATED:20251110T202549Z
LAST-MODIFIED:20260413T172135Z
UID:61437-1775928600-1775937600@864foodtrucks.com
SUMMARY:The Noodle Lady @ The Community Tap
DESCRIPTION:Authentic Chinese dishes for catering and events. Artisan Noodles and 100% Natural. Check out here our events calendar in Greenville\, South Carolina. #TheNoodleLady
URL:https://864foodtrucks.com/event/the-noodle-lady-the-community-tap-6/2026-04-11/
LOCATION:The Community Tap\, 217 Wade Hampton Blvd\, Greenville\, South Carolina
CATEGORIES:Food Truck Schedules,Greenville
ATTACH;FMTTYPE=image/jpeg:https://864foodtrucks.com/wp-content/uploads/2023/07/Noodle-lady.jpg
ORGANIZER;CN="The Noodle Lady":MAILTO:thenoodlelady@yahoo.com
GEO:34.8625763;-82.3857613
X-APPLE-STRUCTURED-LOCATION;VALUE=URI;X-ADDRESS=The Community Tap 217 Wade Hampton Blvd Greenville South Carolina;X-APPLE-RADIUS=500;X-TITLE=217 Wade Hampton Blvd:geo:-82.3857613,34.8625763
END:VEVENT
BEGIN:VEVENT
DTSTART;TZID=America/New_York:20260411T150000
DTEND;TZID=America/New_York:20260411T203000
DTSTAMP:20260423T193539
CREATED:20260406T201338Z
LAST-MODIFIED:20260406T201338Z
UID:61506-1775919600-1775939400@864foodtrucks.com
SUMMARY:Lai Sushi @ Ville to Ville
DESCRIPTION:Roll into flavor at our food truck! Serving fresh\, hand-crafted sushi and bold Asian (Lai) fusion!
URL:https://864foodtrucks.com/event/lai-sushi-ville-to-ville/
LOCATION:Hampton Station\, 1320 Hampton Ave\, Greenville\, South Carolina
CATEGORIES:Food Truck Schedules,Greenville
ATTACH;FMTTYPE=image/jpeg:https://864foodtrucks.com/wp-content/uploads/2025/04/Lai-Sushi-Express.jpg
ORGANIZER;CN="Lai Sushi Express":MAILTO:Laisushiexpress@gmail.com
GEO:34.8657932;-82.4159572
X-APPLE-STRUCTURED-LOCATION;VALUE=URI;X-ADDRESS=Hampton Station 1320 Hampton Ave Greenville South Carolina;X-APPLE-RADIUS=500;X-TITLE=1320 Hampton Ave:geo:-82.4159572,34.8657932
END:VEVENT
BEGIN:VEVENT
DTSTART;TZID=America/New_York:20260411T150000
DTEND;TZID=America/New_York:20260411T200000
DTSTAMP:20260423T193539
CREATED:20260405T235818Z
LAST-MODIFIED:20260405T235818Z
UID:61448-1775919600-1775937600@864foodtrucks.com
SUMMARY:Uncle Luke's @ Vile to Ville Finish Line
DESCRIPTION:Uncle Lukes LLC\nNamed after my Father\nBook for Job worksite’s Corporate lunches\, Churches\, Festivals\, Apartments buildings.
URL:https://864foodtrucks.com/event/uncle-lukes-vile-to-ville-finish-line/
LOCATION:Hampton Station\, 1320 Hampton Ave\, Greenville\, South Carolina
CATEGORIES:Food Truck Schedules,Greenville
ATTACH;FMTTYPE=image/jpeg:https://864foodtrucks.com/wp-content/uploads/2025/12/Uncle-Lukes-1.jpg
ORGANIZER;CN="Uncle Luke's":MAILTO:j.diggs864@gmail.com
GEO:34.8657932;-82.4159572
X-APPLE-STRUCTURED-LOCATION;VALUE=URI;X-ADDRESS=Hampton Station 1320 Hampton Ave Greenville South Carolina;X-APPLE-RADIUS=500;X-TITLE=1320 Hampton Ave:geo:-82.4159572,34.8657932
END:VEVENT
BEGIN:VEVENT
DTSTART;TZID=America/New_York:20260411T100000
DTEND;TZID=America/New_York:20260411T100000
DTSTAMP:20260423T193539
CREATED:20260406T002535Z
LAST-MODIFIED:20260406T002535Z
UID:61462-1775901600-1775901600@864foodtrucks.com
SUMMARY:The Salted Fry @ Mill Village Block Party
DESCRIPTION:100% Gluten Free Food Trailer! Crispy Belgian style pommes frites loaded with your choice of savory toppings. Choose from multiple house made sauces and unique ketchup flavors!
URL:https://864foodtrucks.com/event/the-salted-fry-mill-village-block-party/
LOCATION:Mill Village Ministries\, 1186 Pendleton St\, Greenville\, South Carolina
CATEGORIES:Food Truck Schedules,Greenville
ATTACH;FMTTYPE=image/jpeg:https://864foodtrucks.com/wp-content/uploads/2025/05/The-Salted-Fry-1.jpg
ORGANIZER;CN="The Salted Fry":MAILTO:thesaltedfry@gmail.com
GEO:34.8466911;-82.4260764
X-APPLE-STRUCTURED-LOCATION;VALUE=URI;X-ADDRESS=Mill Village Ministries 1186 Pendleton St Greenville South Carolina;X-APPLE-RADIUS=500;X-TITLE=1186 Pendleton St:geo:-82.4260764,34.8466911
END:VEVENT
BEGIN:VEVENT
DTSTART;TZID=America/New_York:20260411T080000
DTEND;TZID=America/New_York:20260411T080000
DTSTAMP:20260423T193539
CREATED:20250217T222338Z
LAST-MODIFIED:20260420T151400Z
UID:61493-1775894400-1775894400@864foodtrucks.com
SUMMARY:Scout's Doughnuts @ Grateful Brew
DESCRIPTION:Handcrafted 100 Layer Doughnuts\nMade in Greenville\, SC #SweeterTogether
URL:https://864foodtrucks.com/event/scouts-doughnuts-grateful-brew-2/2026-04-11/
LOCATION:Grateful Brew\, 501 S Pleasantburg Dr\, Greenville\, SC\, 29607\, United States
CATEGORIES:Food Truck Schedules,Greenville
ATTACH;FMTTYPE=image/jpeg:https://864foodtrucks.com/wp-content/uploads/2022/08/Scouts-Doughnuts-1.jpg
ORGANIZER;CN="Scouts Doughnuts":MAILTO:hello@scoutsdoughnuts.com
GEO:34.8292844;-82.36962
X-APPLE-STRUCTURED-LOCATION;VALUE=URI;X-ADDRESS=Grateful Brew 501 S Pleasantburg Dr Greenville SC 29607 United States;X-APPLE-RADIUS=500;X-TITLE=501 S Pleasantburg Dr:geo:-82.36962,34.8292844
END:VEVENT
BEGIN:VEVENT
DTSTART;TZID=America/New_York:20260410T173000
DTEND;TZID=America/New_York:20260410T200000
DTSTAMP:20260423T193539
CREATED:20250908T202003Z
LAST-MODIFIED:20250908T202003Z
UID:61501-1775842200-1775851200@864foodtrucks.com
SUMMARY:Lai Sushi Express @ Wild Yarrow Brewing
DESCRIPTION:Roll into flavor at our food truck! Serving fresh\, hand-crafted sushi and bold Asian (Lai) fusion!
URL:https://864foodtrucks.com/event/lai-sushi-express-wild-yarrow-brewing/2026-04-10/
LOCATION:Wild Yarrow Brewery\, 603 E Stone Ave Ste 4\, Greenville\, South Carolina
CATEGORIES:Food Truck Schedules,Greenville
ATTACH;FMTTYPE=image/jpeg:https://864foodtrucks.com/wp-content/uploads/2025/04/Lai-Sushi-Express.jpg
ORGANIZER;CN="Lai Sushi Express":MAILTO:Laisushiexpress@gmail.com
GEO:34.8585597;-82.3848471
X-APPLE-STRUCTURED-LOCATION;VALUE=URI;X-ADDRESS=Wild Yarrow Brewery 603 E Stone Ave Ste 4 Greenville South Carolina;X-APPLE-RADIUS=500;X-TITLE=603 E Stone Ave Ste 4:geo:-82.3848471,34.8585597
END:VEVENT
BEGIN:VEVENT
DTSTART;TZID=America/New_York:20260410T163000
DTEND;TZID=America/New_York:20260410T190000
DTSTAMP:20260423T193539
CREATED:20260405T234521Z
LAST-MODIFIED:20260405T234521Z
UID:61440-1775838600-1775847600@864foodtrucks.com
SUMMARY:The Noodle Lady @ Sterling School Arts Festival
DESCRIPTION:Authentic Chinese dishes for catering and events. Artisan Noodles and 100% Natural. Check out here our events calendar in Greenville\, South Carolina. #TheNoodleLady
URL:https://864foodtrucks.com/event/the-noodle-lady-sterling-school-arts-festival/
LOCATION:Sterling School\, 99 John McCarroll Way\, Greenville\, South Carolina
CATEGORIES:Food Truck Schedules,Greenville
ATTACH;FMTTYPE=image/jpeg:https://864foodtrucks.com/wp-content/uploads/2023/07/Noodle-lady.jpg
ORGANIZER;CN="The Noodle Lady":MAILTO:thenoodlelady@yahoo.com
GEO:34.8352742;-82.3702268
X-APPLE-STRUCTURED-LOCATION;VALUE=URI;X-ADDRESS=Sterling School 99 John McCarroll Way Greenville South Carolina;X-APPLE-RADIUS=500;X-TITLE=99 John McCarroll Way:geo:-82.3702268,34.8352742
END:VEVENT
BEGIN:VEVENT
DTSTART;TZID=America/New_York:20260410T160000
DTEND;TZID=America/New_York:20260410T200000
DTSTAMP:20260423T193539
CREATED:20250429T150330Z
LAST-MODIFIED:20250429T150330Z
UID:61574-1775836800-1775851200@864foodtrucks.com
SUMMARY:Island Sun @ Rabbit Crest Farms
DESCRIPTION:Mobile Kitchen serving Caribbean Cuisine to the upstate\, SC\nCaterings\, pop ups\, and private dinners\nDm for more info
URL:https://864foodtrucks.com/event/island-sun-rabbit-crest-farms-2/2026-04-10/
LOCATION:Rabbit Crest Farms\, Greenville\, South Carolina\, United States
CATEGORIES:Food Truck Schedules,Greenville
ATTACH;FMTTYPE=image/jpeg:https://864foodtrucks.com/wp-content/uploads/2023/07/IslandSun864.jpg
GEO:34.8526176;-82.3940104
END:VEVENT
BEGIN:VEVENT
DTSTART;TZID=America/New_York:20260410T160000
DTEND;TZID=America/New_York:20260410T200000
DTSTAMP:20260423T193539
CREATED:20241224T150028Z
LAST-MODIFIED:20260421T002917Z
UID:61521-1775836800-1775851200@864foodtrucks.com
SUMMARY:Boyos Burgers @ The Community Tap
DESCRIPTION:Specialty handmade burgers with homemade chips served by a family of food lovers.
URL:https://864foodtrucks.com/event/boyos-burgers-the-community-tap/2026-04-10/
LOCATION:The Community Tap\, 217 Wade Hampton Blvd\, Greenville\, South Carolina
CATEGORIES:Food Truck Schedules,Greenville
ATTACH;FMTTYPE=image/jpeg:https://864foodtrucks.com/wp-content/uploads/2024/12/Boyos-Burgers.jpg
ORGANIZER;CN="Boyos Burgers":MAILTO:boyosburgersandchips@gmail.com
GEO:34.8625763;-82.3857613
X-APPLE-STRUCTURED-LOCATION;VALUE=URI;X-ADDRESS=The Community Tap 217 Wade Hampton Blvd Greenville South Carolina;X-APPLE-RADIUS=500;X-TITLE=217 Wade Hampton Blvd:geo:-82.3857613,34.8625763
END:VEVENT
BEGIN:VEVENT
DTSTART;TZID=America/New_York:20260410T160000
DTEND;TZID=America/New_York:20260410T190000
DTSTAMP:20260423T193539
CREATED:20260406T195450Z
LAST-MODIFIED:20260406T195450Z
UID:61488-1775836800-1775847600@864foodtrucks.com
SUMMARY:Local Pie Pizza Co @ AJ Whitenburg Elementary
DESCRIPTION:Artisan Pizza Food Truck
URL:https://864foodtrucks.com/event/local-pie-pizza-co-aj-whitenburg-elementary/
LOCATION:AJ Whitenburg Elementary\, 420 Westfield St\, Greenville\, South Carolina
CATEGORIES:Food Truck Schedules,Greenville
ATTACH;FMTTYPE=image/jpeg:https://864foodtrucks.com/wp-content/uploads/2021/12/Local-Pie-Pizza-3.jpg
ORGANIZER;CN="Local Pie Pizza Company":MAILTO:cory@localpiepizzacompany.com
GEO:34.8481008;-82.4095853
X-APPLE-STRUCTURED-LOCATION;VALUE=URI;X-ADDRESS=AJ Whitenburg Elementary 420 Westfield St Greenville South Carolina;X-APPLE-RADIUS=500;X-TITLE=420 Westfield St:geo:-82.4095853,34.8481008
END:VEVENT
BEGIN:VEVENT
DTSTART;TZID=America/New_York:20260409T173000
DTEND;TZID=America/New_York:20260409T200000
DTSTAMP:20260423T193539
CREATED:20250512T210126Z
LAST-MODIFIED:20250512T210126Z
UID:61503-1775755800-1775764800@864foodtrucks.com
SUMMARY:Lai Sushi Express @ Piney Mountain Bike Lounge
DESCRIPTION:Roll into flavor at our food truck! Serving fresh\, hand-crafted sushi and bold Asian (Lai) fusion!
URL:https://864foodtrucks.com/event/lai-sushi-express-piney-mountain-bike-lounge/2026-04-09/
LOCATION:Piney Mountain Bike Lounge\, 20 Piney Mountain Rd\, Greenville\, South Carolina
CATEGORIES:Food Truck Schedules,Greenville
ATTACH;FMTTYPE=image/jpeg:https://864foodtrucks.com/wp-content/uploads/2025/04/Lai-Sushi-Express.jpg
ORGANIZER;CN="Lai Sushi Express":MAILTO:Laisushiexpress@gmail.com
GEO:34.8913881;-82.373773
X-APPLE-STRUCTURED-LOCATION;VALUE=URI;X-ADDRESS=Piney Mountain Bike Lounge 20 Piney Mountain Rd Greenville South Carolina;X-APPLE-RADIUS=500;X-TITLE=20 Piney Mountain Rd:geo:-82.373773,34.8913881
END:VEVENT
END:VCALENDAR