BEGIN:VCALENDAR
VERSION:2.0
PRODID:-//864 Food Trucks - ECPv6.15.20//NONSGML v1.0//EN
CALSCALE:GREGORIAN
METHOD:PUBLISH
X-ORIGINAL-URL:https://864foodtrucks.com
X-WR-CALDESC:Events for 864 Food Trucks
REFRESH-INTERVAL;VALUE=DURATION:PT1H
X-Robots-Tag:noindex
X-PUBLISHED-TTL:PT1H
BEGIN:VTIMEZONE
TZID:America/New_York
BEGIN:DAYLIGHT
TZOFFSETFROM:-0500
TZOFFSETTO:-0400
TZNAME:EDT
DTSTART:20210314T070000
END:DAYLIGHT
BEGIN:STANDARD
TZOFFSETFROM:-0400
TZOFFSETTO:-0500
TZNAME:EST
DTSTART:20211107T060000
END:STANDARD
BEGIN:DAYLIGHT
TZOFFSETFROM:-0500
TZOFFSETTO:-0400
TZNAME:EDT
DTSTART:20220313T070000
END:DAYLIGHT
BEGIN:STANDARD
TZOFFSETFROM:-0400
TZOFFSETTO:-0500
TZNAME:EST
DTSTART:20221106T060000
END:STANDARD
BEGIN:DAYLIGHT
TZOFFSETFROM:-0500
TZOFFSETTO:-0400
TZNAME:EDT
DTSTART:20230312T070000
END:DAYLIGHT
BEGIN:STANDARD
TZOFFSETFROM:-0400
TZOFFSETTO:-0500
TZNAME:EST
DTSTART:20231105T060000
END:STANDARD
END:VTIMEZONE
BEGIN:VEVENT
DTSTART;TZID=America/New_York:20221103T170000
DTEND;TZID=America/New_York:20221103T200000
DTSTAMP:20260423T191203
CREATED:20221031T175707Z
LAST-MODIFIED:20221121T192728Z
UID:13970-1667494800-1667505600@864foodtrucks.com
SUMMARY:Local Pie Pizza Co @ Grateful Brew
DESCRIPTION:
URL:https://864foodtrucks.com/event/local-pie-pizza-co-grateful-brew/2022-11-03/
LOCATION:Grateful Brew\, 501 S Pleasantburg Dr\, Greenville\, SC\, 29607\, United States
CATEGORIES:Food Truck Schedules,Greenville
ATTACH;FMTTYPE=image/jpeg:https://864foodtrucks.com/wp-content/uploads/2021/12/Local-Pie-Pizza-3.jpg
ORGANIZER;CN="Local Pie Pizza Company":MAILTO:cory@localpiepizzacompany.com
GEO:34.8292844;-82.36962
X-APPLE-STRUCTURED-LOCATION;VALUE=URI;X-ADDRESS=Grateful Brew 501 S Pleasantburg Dr Greenville SC 29607 United States;X-APPLE-RADIUS=500;X-TITLE=501 S Pleasantburg Dr:geo:-82.36962,34.8292844
END:VEVENT
BEGIN:VEVENT
DTSTART;TZID=America/New_York:20221103T173000
DTEND;TZID=America/New_York:20221103T203000
DTSTAMP:20260423T191203
CREATED:20221031T180551Z
LAST-MODIFIED:20230508T144517Z
UID:13975-1667496600-1667507400@864foodtrucks.com
SUMMARY:GRod's Latin Fusion @ Traveler's Taproom
DESCRIPTION:We are enjoying serving you and trying to satisfy your wishes for Latin Food
URL:https://864foodtrucks.com/event/grods-latin-fusion/2022-11-03/
LOCATION:Travelers Taproom\, 2624 Poinsett Hwy\, Greenville\, South Carolina
CATEGORIES:Food Truck Schedules,Greenville
ATTACH;FMTTYPE=image/jpeg:https://864foodtrucks.com/wp-content/uploads/2022/07/GRods-Latin-Fusion.jpg
ORGANIZER;CN="GRod's Latin Fusion Food Truck":MAILTO:grod_latinfusionft@outlook.com
GEO:34.9015748;-82.4159581
X-APPLE-STRUCTURED-LOCATION;VALUE=URI;X-ADDRESS=Travelers Taproom 2624 Poinsett Hwy Greenville South Carolina;X-APPLE-RADIUS=500;X-TITLE=2624 Poinsett Hwy:geo:-82.4159581,34.9015748
END:VEVENT
BEGIN:VEVENT
DTSTART;TZID=America/New_York:20221104T103000
DTEND;TZID=America/New_York:20221104T130000
DTSTAMP:20260423T191203
CREATED:20221031T194545Z
LAST-MODIFIED:20250323T000923Z
UID:14136-1667557800-1667566800@864foodtrucks.com
SUMMARY:Simpell Sammies @ North Pointe Elementary School
DESCRIPTION:Simpell Sammies is open for business and ready to serve you flavorful and delicious sandwiches and hoagies.
URL:https://864foodtrucks.com/event/simpell-sammies-north-pointe-elementary-school/2022-11-04/
LOCATION:North Point Elementary\, 3325 N Hwy 81\, Anderson\, South Carolina
CATEGORIES:Food Truck Schedules,Greenville
ATTACH;FMTTYPE=image/jpeg:https://864foodtrucks.com/wp-content/uploads/2021/12/Simpell-Sammies-Trailer.jpg
ORGANIZER;CN="Simpell Sammies":MAILTO:info@simpelltreats.com
GEO:34.5817232;-82.6237796
X-APPLE-STRUCTURED-LOCATION;VALUE=URI;X-ADDRESS=North Point Elementary 3325 N Hwy 81 Anderson South Carolina;X-APPLE-RADIUS=500;X-TITLE=3325 N Hwy 81:geo:-82.6237796,34.5817232
END:VEVENT
BEGIN:VEVENT
DTSTART;TZID=America/New_York:20221107T110000
DTEND;TZID=America/New_York:20221107T200000
DTSTAMP:20260423T191203
CREATED:20221107T170553Z
LAST-MODIFIED:20221205T211805Z
UID:14391-1667818800-1667851200@864foodtrucks.com
SUMMARY:La Flaca Taqueria @ Bryson Drive
DESCRIPTION:
URL:https://864foodtrucks.com/event/la-flaca-taqueria-bryson-drive/2022-11-07/
LOCATION:100 Bryson Drive\, 100 Bryson Drive\, Greenville\, South Carolina
CATEGORIES:Food Truck Schedules,Greenville
ATTACH;FMTTYPE=image/jpeg:https://864foodtrucks.com/wp-content/uploads/2021/06/La-Flaca.jpg
GEO:34.7061896;-82.2283993
X-APPLE-STRUCTURED-LOCATION;VALUE=URI;X-ADDRESS=100 Bryson Drive 100 Bryson Drive Greenville South Carolina;X-APPLE-RADIUS=500;X-TITLE=100 Bryson Drive:geo:-82.2283993,34.7061896
END:VEVENT
BEGIN:VEVENT
DTSTART;TZID=America/New_York:20221108T173000
DTEND;TZID=America/New_York:20221108T200000
DTSTAMP:20260423T191203
CREATED:20221108T014859Z
LAST-MODIFIED:20221212T193519Z
UID:14481-1667928600-1667937600@864foodtrucks.com
SUMMARY:Yum Bai @ Grateful Brew
DESCRIPTION:Asian fusion street food
URL:https://864foodtrucks.com/event/yum-bai-grateful-brew/2022-11-08/
LOCATION:Grateful Brew\, 501 S Pleasantburg Dr\, Greenville\, SC\, 29607\, United States
CATEGORIES:Food Truck Schedules,Greenville
ATTACH;FMTTYPE=image/jpeg:https://864foodtrucks.com/wp-content/uploads/2021/05/Yum-Bai.jpg
ORGANIZER;CN="Yum Bai":MAILTO:yumbaisc@gmail.com
GEO:34.8292844;-82.36962
X-APPLE-STRUCTURED-LOCATION;VALUE=URI;X-ADDRESS=Grateful Brew 501 S Pleasantburg Dr Greenville SC 29607 United States;X-APPLE-RADIUS=500;X-TITLE=501 S Pleasantburg Dr:geo:-82.36962,34.8292844
END:VEVENT
BEGIN:VEVENT
DTSTART;TZID=America/New_York:20221108T180000
DTEND;TZID=America/New_York:20221108T200000
DTSTAMP:20260423T191203
CREATED:20221108T005827Z
LAST-MODIFIED:20221128T195208Z
UID:14475-1667930400-1667937600@864foodtrucks.com
SUMMARY:Too Sauc'd Up @ Piney Mountain Bike Lounge
DESCRIPTION:
URL:https://864foodtrucks.com/event/too-saucd-up-piney-mountain-bike-lounge/2022-11-08/
LOCATION:Piney Mountain Bike Lounge\, 20 Piney Mountain Rd\, Greenville\, South Carolina
CATEGORIES:Food Truck Schedules,Greenville
ATTACH;FMTTYPE=image/jpeg:https://864foodtrucks.com/wp-content/uploads/2022/07/Too-Saucd-Up.jpg
ORGANIZER;CN="Too Sauc'D Up":MAILTO:toosauc.dup@gmail.com
GEO:34.8913881;-82.373773
X-APPLE-STRUCTURED-LOCATION;VALUE=URI;X-ADDRESS=Piney Mountain Bike Lounge 20 Piney Mountain Rd Greenville South Carolina;X-APPLE-RADIUS=500;X-TITLE=20 Piney Mountain Rd:geo:-82.373773,34.8913881
END:VEVENT
BEGIN:VEVENT
DTSTART;TZID=America/New_York:20221109T000000
DTEND;TZID=America/New_York:20221109T000000
DTSTAMP:20260423T191203
CREATED:20221108T020017Z
LAST-MODIFIED:20221108T020017Z
UID:14494-1667952000-1667952000@864foodtrucks.com
SUMMARY:DoggyStyle @ The Unleashed Dog Bar
DESCRIPTION:
URL:https://864foodtrucks.com/event/doggystyle-the-unleashed-dog-bar/
LOCATION:Unleashed Dog Bar\, 69 Rocky Slope Rd\, Greenville\, SC\, United States
CATEGORIES:Food Truck Schedules,Greenville
ATTACH;FMTTYPE=image/jpeg:https://864foodtrucks.com/wp-content/uploads/2022/11/DoggyStye.jpg
END:VEVENT
BEGIN:VEVENT
DTSTART;TZID=America/New_York:20221109T113000
DTEND;TZID=America/New_York:20221109T133000
DTSTAMP:20260423T191203
CREATED:20221107T171407Z
LAST-MODIFIED:20221107T171407Z
UID:14424-1667993400-1668000600@864foodtrucks.com
SUMMARY:One Eyed Donkey @ Patewood
DESCRIPTION:#followthedonkey … ji-roz presents the one eyed donkey! fun take on some greek classics ~ on wheels!!! same quality\, same service\, same vibe as our brick and mortar just brought directly to you. Call or email us today to schedule our donkey.
URL:https://864foodtrucks.com/event/one-eyed-donkey-patewood/
LOCATION:Patewood Office Park\, 30 Patewood Drive\, Greenville\, South Carolina
CATEGORIES:Food Truck Schedules,Greenville
ATTACH;FMTTYPE=image/jpeg:https://864foodtrucks.com/wp-content/uploads/2021/05/One-Eyed-Donkey-Food-Truck.jpg
GEO:34.8494568;-82.3233995
X-APPLE-STRUCTURED-LOCATION;VALUE=URI;X-ADDRESS=Patewood Office Park 30 Patewood Drive Greenville South Carolina;X-APPLE-RADIUS=500;X-TITLE=30 Patewood Drive:geo:-82.3233995,34.8494568
END:VEVENT
BEGIN:VEVENT
DTSTART;TZID=America/New_York:20221109T170000
DTEND;TZID=America/New_York:20221109T193000
DTSTAMP:20260423T191203
CREATED:20221107T165753Z
LAST-MODIFIED:20230116T173358Z
UID:14384-1668013200-1668022200@864foodtrucks.com
SUMMARY:Local Pie Pizza Co @ Velo Apartments
DESCRIPTION:
URL:https://864foodtrucks.com/event/local-pie-pizza-co-velo-apartments/2022-11-09/
LOCATION:Velo Verdae\, 205 Verdae Blvd\, Greenville\, South Carolina
CATEGORIES:Food Truck Schedules,Greenville
ATTACH;FMTTYPE=image/jpeg:https://864foodtrucks.com/wp-content/uploads/2021/12/Local-Pie-Pizza-3.jpg
ORGANIZER;CN="Local Pie Pizza Company":MAILTO:cory@localpiepizzacompany.com
GEO:34.8215368;-82.336616
X-APPLE-STRUCTURED-LOCATION;VALUE=URI;X-ADDRESS=Velo Verdae 205 Verdae Blvd Greenville South Carolina;X-APPLE-RADIUS=500;X-TITLE=205 Verdae Blvd:geo:-82.336616,34.8215368
END:VEVENT
BEGIN:VEVENT
DTSTART;TZID=America/New_York:20221109T173000
DTEND;TZID=America/New_York:20221109T193000
DTSTAMP:20260423T191203
CREATED:20221107T171729Z
LAST-MODIFIED:20230820T232317Z
UID:14443-1668015000-1668022200@864foodtrucks.com
SUMMARY:One Eyed Donkey @ Community Tap
DESCRIPTION:#followthedonkey … ji-roz presents the one eyed donkey! fun take on some greek classics ~ on wheels!!! same quality\, same service\, same vibe as our brick and mortar just brought directly to you. Call or email us today to schedule our donkey.
URL:https://864foodtrucks.com/event/one-eyed-donkey-community-tap-2/2022-11-09/
LOCATION:The Community Tap\, 217 Wade Hampton Blvd\, Greenville\, South Carolina
CATEGORIES:Food Truck Schedules,Greenville
ATTACH;FMTTYPE=image/jpeg:https://864foodtrucks.com/wp-content/uploads/2021/05/One-Eyed-Donkey-Food-Truck.jpg
GEO:34.8625763;-82.3857613
X-APPLE-STRUCTURED-LOCATION;VALUE=URI;X-ADDRESS=The Community Tap 217 Wade Hampton Blvd Greenville South Carolina;X-APPLE-RADIUS=500;X-TITLE=217 Wade Hampton Blvd:geo:-82.3857613,34.8625763
END:VEVENT
BEGIN:VEVENT
DTSTART;TZID=America/New_York:20221109T173000
DTEND;TZID=America/New_York:20221109T200000
DTSTAMP:20260423T191203
CREATED:20221108T015023Z
LAST-MODIFIED:20250721T232645Z
UID:14483-1668015000-1668024000@864foodtrucks.com
SUMMARY:Yum Bai @ Piney Mountain Bike Lounge
DESCRIPTION:Asian fusion street food
URL:https://864foodtrucks.com/event/yum-bai-piney-mountain-bike-lounge/2022-11-09/
LOCATION:Piney Mountain Bike Lounge\, 20 Piney Mountain Rd\, Greenville\, South Carolina
CATEGORIES:Food Truck Schedules,Greenville
ATTACH;FMTTYPE=image/jpeg:https://864foodtrucks.com/wp-content/uploads/2021/05/Yum-Bai.jpg
ORGANIZER;CN="Yum Bai":MAILTO:yumbaisc@gmail.com
GEO:34.8913881;-82.373773
X-APPLE-STRUCTURED-LOCATION;VALUE=URI;X-ADDRESS=Piney Mountain Bike Lounge 20 Piney Mountain Rd Greenville South Carolina;X-APPLE-RADIUS=500;X-TITLE=20 Piney Mountain Rd:geo:-82.373773,34.8913881
END:VEVENT
BEGIN:VEVENT
DTSTART;TZID=America/New_York:20221109T173000
DTEND;TZID=America/New_York:20221109T200000
DTSTAMP:20260423T191203
CREATED:20221107T172650Z
LAST-MODIFIED:20230123T200751Z
UID:14449-1668015000-1668024000@864foodtrucks.com
SUMMARY:We Got the Beets @ Grateful Brew
DESCRIPTION:Upstate South Carolina’http://box2461.temp.domains/~palmeun4/864foodtrucks/event/we-got-the-beets-grateful-brew/2022-11-09/s first exclusively plant-based food truck! Our passion is food and our mission is simple – we want everyone to know how delicious plant-based foods can be! Serving classic street fare since 2017.
URL:https://864foodtrucks.com/event/we-got-the-beets-grateful-brew/2022-11-09/
LOCATION:Grateful Brew\, 501 S Pleasantburg Dr\, Greenville\, SC\, 29607\, United States
CATEGORIES:Food Truck Schedules,Greenville
ATTACH;FMTTYPE=image/jpeg:https://864foodtrucks.com/wp-content/uploads/2021/05/We-Got-The-Beets-Food-Truck.jpg
GEO:34.8292844;-82.36962
X-APPLE-STRUCTURED-LOCATION;VALUE=URI;X-ADDRESS=Grateful Brew 501 S Pleasantburg Dr Greenville SC 29607 United States;X-APPLE-RADIUS=500;X-TITLE=501 S Pleasantburg Dr:geo:-82.36962,34.8292844
END:VEVENT
BEGIN:VEVENT
DTSTART;TZID=America/New_York:20221110T173000
DTEND;TZID=America/New_York:20221110T173000
DTSTAMP:20260423T191203
CREATED:20221108T183836Z
LAST-MODIFIED:20221213T130748Z
UID:14536-1668101400-1668101400@864foodtrucks.com
SUMMARY:Willowtree BBQ @ Community Tap
DESCRIPTION:All our BBQ is cooked the way BBQ should be. We use offset cookers and real wood from our own backyards. There is nothing like carefully tending to your fire all night while preparing food you know will make people happy! It’s BBQ worth losing sleep over!
URL:https://864foodtrucks.com/event/willowtree-bbq-community-tap/2022-11-10/
LOCATION:The Community Tap\, 217 Wade Hampton Blvd\, Greenville\, South Carolina
CATEGORIES:Food Truck Schedules,Greenville
ATTACH;FMTTYPE=image/jpeg:https://864foodtrucks.com/wp-content/uploads/2022/11/willowtree-bbq.jpg
GEO:34.8625763;-82.3857613
X-APPLE-STRUCTURED-LOCATION;VALUE=URI;X-ADDRESS=The Community Tap 217 Wade Hampton Blvd Greenville South Carolina;X-APPLE-RADIUS=500;X-TITLE=217 Wade Hampton Blvd:geo:-82.3857613,34.8625763
END:VEVENT
BEGIN:VEVENT
DTSTART;TZID=America/New_York:20221110T180000
DTEND;TZID=America/New_York:20221110T200000
DTSTAMP:20260423T191203
CREATED:20221108T015139Z
LAST-MODIFIED:20221108T015139Z
UID:14485-1668103200-1668110400@864foodtrucks.com
SUMMARY:Yum Bai @ Tetrad
DESCRIPTION:Asian fusion street food
URL:https://864foodtrucks.com/event/yum-bai-tetrad-2/
LOCATION:Tetrad Brewing\, 603 E Stone Ave\, Greenville\, SC\, 29601\, United States
CATEGORIES:Food Truck Schedules,Greenville
ATTACH;FMTTYPE=image/jpeg:https://864foodtrucks.com/wp-content/uploads/2021/05/Yum-Bai.jpg
ORGANIZER;CN="Yum Bai":MAILTO:yumbaisc@gmail.com
GEO:34.8585948;-82.3848082
X-APPLE-STRUCTURED-LOCATION;VALUE=URI;X-ADDRESS=Tetrad Brewing 603 E Stone Ave Greenville SC 29601 United States;X-APPLE-RADIUS=500;X-TITLE=603 E Stone Ave:geo:-82.3848082,34.8585948
END:VEVENT
BEGIN:VEVENT
DTSTART;TZID=America/New_York:20221110T180000
DTEND;TZID=America/New_York:20221110T200000
DTSTAMP:20260423T191203
CREATED:20221107T172853Z
LAST-MODIFIED:20221107T172853Z
UID:14452-1668103200-1668110400@864foodtrucks.com
SUMMARY:We Got the Beets @ Modal
DESCRIPTION:Upstate South Carolina’s first exclusively plant-based food truck! Our passion is food and our mission is simple – we want everyone to know how delicious plant-based foods can be! Serving classic street fare since 2017.
URL:https://864foodtrucks.com/event/we-got-the-beets-modal-2/
LOCATION:Modal\, 813 Augusta St\, Greenville\, South Carolina
CATEGORIES:Food Truck Schedules,Greenville
ATTACH;FMTTYPE=image/jpeg:https://864foodtrucks.com/wp-content/uploads/2021/05/We-Got-The-Beets-Food-Truck.jpg
GEO:34.8344189;-82.4050329
X-APPLE-STRUCTURED-LOCATION;VALUE=URI;X-ADDRESS=Modal 813 Augusta St Greenville South Carolina;X-APPLE-RADIUS=500;X-TITLE=813 Augusta St:geo:-82.4050329,34.8344189
END:VEVENT
BEGIN:VEVENT
DTSTART;TZID=America/New_York:20221112T113000
DTEND;TZID=America/New_York:20221112T143000
DTSTAMP:20260423T191203
CREATED:20221107T173041Z
LAST-MODIFIED:20221107T173041Z
UID:14454-1668252600-1668263400@864foodtrucks.com
SUMMARY:We Got the Beets @ Queer Wellness Center
DESCRIPTION:Upstate South Carolina’s first exclusively plant-based food truck! Our passion is food and our mission is simple – we want everyone to know how delicious plant-based foods can be! Serving classic street fare since 2017.
URL:https://864foodtrucks.com/event/we-got-the-beets-queer-wellness-center/
LOCATION:Queer Wellness Center Greenville\, 30 Pointe Cir\, Greenville\, South Carolina
CATEGORIES:Food Truck Schedules,Greenville
ATTACH;FMTTYPE=image/jpeg:https://864foodtrucks.com/wp-content/uploads/2021/05/We-Got-The-Beets-Food-Truck.jpg
GEO:34.8585129;-82.3398906
X-APPLE-STRUCTURED-LOCATION;VALUE=URI;X-ADDRESS=Queer Wellness Center Greenville 30 Pointe Cir Greenville South Carolina;X-APPLE-RADIUS=500;X-TITLE=30 Pointe Cir:geo:-82.3398906,34.8585129
END:VEVENT
BEGIN:VEVENT
DTSTART;TZID=America/New_York:20221113T000000
DTEND;TZID=America/New_York:20221113T000000
DTSTAMP:20260423T191203
CREATED:20221108T015807Z
LAST-MODIFIED:20221108T015807Z
UID:14492-1668297600-1668297600@864foodtrucks.com
SUMMARY:Doggy Style @ Holiday Pop-up Market
DESCRIPTION:
URL:https://864foodtrucks.com/event/doggy-style-holiday-pop-up-market/
LOCATION:Travelers Taproom\, 2624 Poinsett Hwy\, Greenville\, South Carolina
CATEGORIES:Food Truck Schedules,Greenville
ATTACH;FMTTYPE=image/jpeg:https://864foodtrucks.com/wp-content/uploads/2022/11/DoggyStye.jpg
GEO:34.9015748;-82.4159581
X-APPLE-STRUCTURED-LOCATION;VALUE=URI;X-ADDRESS=Travelers Taproom 2624 Poinsett Hwy Greenville South Carolina;X-APPLE-RADIUS=500;X-TITLE=2624 Poinsett Hwy:geo:-82.4159581,34.9015748
END:VEVENT
BEGIN:VEVENT
DTSTART;TZID=America/New_York:20221114T170000
DTEND;TZID=America/New_York:20221114T200000
DTSTAMP:20260423T191203
CREATED:20221114T174842Z
LAST-MODIFIED:20230327T115758Z
UID:14639-1668445200-1668456000@864foodtrucks.com
SUMMARY:Local Pie Pizza Co @ Abberly Market
DESCRIPTION:
URL:https://864foodtrucks.com/event/local-pie-pizza-co-abberly-market/2022-11-14/
LOCATION:Abberly Market\, 30 Market Point Dr\, Greenville\, South Carolina
CATEGORIES:Food Truck Schedules,Greenville
ATTACH;FMTTYPE=image/jpeg:https://864foodtrucks.com/wp-content/uploads/2021/12/Local-Pie-Pizza-3.jpg
ORGANIZER;CN="Local Pie Pizza Company":MAILTO:cory@localpiepizzacompany.com
GEO:34.8233055;-82.3030452
X-APPLE-STRUCTURED-LOCATION;VALUE=URI;X-ADDRESS=Abberly Market 30 Market Point Dr Greenville South Carolina;X-APPLE-RADIUS=500;X-TITLE=30 Market Point Dr:geo:-82.3030452,34.8233055
END:VEVENT
BEGIN:VEVENT
DTSTART;TZID=America/New_York:20221115T160000
DTEND;TZID=America/New_York:20221115T190000
DTSTAMP:20260423T191203
CREATED:20221114T175006Z
LAST-MODIFIED:20221114T175006Z
UID:14641-1668528000-1668538800@864foodtrucks.com
SUMMARY:Local Pie Pizza Co @ Think Tank
DESCRIPTION:
URL:https://864foodtrucks.com/event/local-pie-pizza-co-think-tank/
LOCATION:Think Tank Brew Lab\, 101 Airport Rd\, Greenville\, South Carolina
CATEGORIES:Food Truck Schedules,Greenville
ATTACH;FMTTYPE=image/jpeg:https://864foodtrucks.com/wp-content/uploads/2021/12/Local-Pie-Pizza-3.jpg
ORGANIZER;CN="Local Pie Pizza Company":MAILTO:cory@localpiepizzacompany.com
GEO:34.8437462;-82.3586879
X-APPLE-STRUCTURED-LOCATION;VALUE=URI;X-ADDRESS=Think Tank Brew Lab 101 Airport Rd Greenville South Carolina;X-APPLE-RADIUS=500;X-TITLE=101 Airport Rd:geo:-82.3586879,34.8437462
END:VEVENT
BEGIN:VEVENT
DTSTART;TZID=America/New_York:20221116T160000
DTEND;TZID=America/New_York:20221116T180000
DTSTAMP:20260423T191203
CREATED:20221114T185455Z
LAST-MODIFIED:20221205T212607Z
UID:14650-1668614400-1668621600@864foodtrucks.com
SUMMARY:Castillo Mobile Cigar @ Thomas Creek Brewery
DESCRIPTION:Elevate your gathering with our unique mobile cigar lounge. We’ll bring the party to you and create a customized experience for an unforgettable event.
URL:https://864foodtrucks.com/event/castillo-mobile-cigar-thomas-creek-brewery/2022-11-16/
LOCATION:Thomas Creek\, 2054 Piedmont Hwy\, Greenville\, South Carolina
CATEGORIES:Food Truck Schedules,Greenville
ATTACH;FMTTYPE=image/jpeg:https://864foodtrucks.com/wp-content/uploads/2021/05/Castillo-Mobile-Cigar-Lounge-Trailer.jpg
ORGANIZER;CN="Castillo Mobile Cigar":MAILTO:castillomobilecigar@gmail.com
GEO:34.7966066;-82.4234311
X-APPLE-STRUCTURED-LOCATION;VALUE=URI;X-ADDRESS=Thomas Creek 2054 Piedmont Hwy Greenville South Carolina;X-APPLE-RADIUS=500;X-TITLE=2054 Piedmont Hwy:geo:-82.4234311,34.7966066
END:VEVENT
BEGIN:VEVENT
DTSTART;TZID=America/New_York:20221116T173000
DTEND;TZID=America/New_York:20221116T193000
DTSTAMP:20260423T191203
CREATED:20221115T010105Z
LAST-MODIFIED:20221115T010105Z
UID:14661-1668619800-1668627000@864foodtrucks.com
SUMMARY:We Got the Beets @ Piney Mountain Bike Lounge
DESCRIPTION:Upstate South Carolina’s first exclusively plant-based food truck! Our passion is food and our mission is simple – we want everyone to know how delicious plant-based foods can be! Serving classic street fare since 2017.
URL:https://864foodtrucks.com/event/we-got-the-beets-piney-mountain-bike-lounge-2/
LOCATION:Piney Mountain Bike Lounge\, 20 Piney Mountain Rd\, Greenville\, South Carolina
CATEGORIES:Food Truck Schedules,Greenville
ATTACH;FMTTYPE=image/jpeg:https://864foodtrucks.com/wp-content/uploads/2021/05/We-Got-The-Beets-Food-Truck.jpg
GEO:34.8913881;-82.373773
X-APPLE-STRUCTURED-LOCATION;VALUE=URI;X-ADDRESS=Piney Mountain Bike Lounge 20 Piney Mountain Rd Greenville South Carolina;X-APPLE-RADIUS=500;X-TITLE=20 Piney Mountain Rd:geo:-82.373773,34.8913881
END:VEVENT
BEGIN:VEVENT
DTSTART;TZID=America/New_York:20221116T173000
DTEND;TZID=America/New_York:20221116T200000
DTSTAMP:20260423T191203
CREATED:20221115T221919Z
LAST-MODIFIED:20230102T215914Z
UID:14689-1668619800-1668628800@864foodtrucks.com
SUMMARY:The Black Thai @ Grateful Brew
DESCRIPTION:The Black Thai serves up a funky fusion of American-Thai food in Greenville\, SC\, offering a fun and creative\, ever-changing menu that blends traditional Thai dishes with modern American street food.
URL:https://864foodtrucks.com/event/the-black-thai-grateful-brew/2022-11-16/
LOCATION:Grateful Brew\, 501 S Pleasantburg Dr\, Greenville\, SC\, 29607\, United States
CATEGORIES:Food Truck Schedules,Greenville
ATTACH;FMTTYPE=image/jpeg:https://864foodtrucks.com/wp-content/uploads/2021/05/Black-Thai-Truck.jpg
GEO:34.8292844;-82.36962
X-APPLE-STRUCTURED-LOCATION;VALUE=URI;X-ADDRESS=Grateful Brew 501 S Pleasantburg Dr Greenville SC 29607 United States;X-APPLE-RADIUS=500;X-TITLE=501 S Pleasantburg Dr:geo:-82.36962,34.8292844
END:VEVENT
BEGIN:VEVENT
DTSTART;TZID=America/New_York:20221117T170000
DTEND;TZID=America/New_York:20221117T190000
DTSTAMP:20260423T191203
CREATED:20221115T010302Z
LAST-MODIFIED:20240709T143718Z
UID:14663-1668704400-1668711600@864foodtrucks.com
SUMMARY:We Got the Beets @ Swamp Rabbit Cafe
DESCRIPTION:
URL:https://864foodtrucks.com/event/we-got-the-beets-swamp-rabbit-cafe-2/2022-11-17/
LOCATION:Swamp Rabbit Cafe\, 205 Cedar Lane Road\, Greenville\, South Carolina
CATEGORIES:Food Truck Schedules,Greenville
ATTACH;FMTTYPE=image/jpeg:https://864foodtrucks.com/wp-content/uploads/2023/10/We-Got-the-Beets.jpg
GEO:34.8694785;-82.4214201
X-APPLE-STRUCTURED-LOCATION;VALUE=URI;X-ADDRESS=Swamp Rabbit Cafe 205 Cedar Lane Road Greenville South Carolina;X-APPLE-RADIUS=500;X-TITLE=205 Cedar Lane Road:geo:-82.4214201,34.8694785
END:VEVENT
BEGIN:VEVENT
DTSTART;TZID=America/New_York:20221117T173000
DTEND;TZID=America/New_York:20221117T173000
DTSTAMP:20260423T191203
CREATED:20221116T212850Z
LAST-MODIFIED:20230309T221904Z
UID:14713-1668706200-1668706200@864foodtrucks.com
SUMMARY:G-Rod Latin Fusion @ Piney Mountain Bike Lounge
DESCRIPTION:
URL:https://864foodtrucks.com/event/g-rod-latin-fusion-piney-mountain-bike-lounge/2022-11-17/
LOCATION:Piney Mountain Bike Lounge\, 20 Piney Mountain Rd\, Greenville\, South Carolina
CATEGORIES:Food Truck Schedules,Greenville
ATTACH;FMTTYPE=image/jpeg:https://864foodtrucks.com/wp-content/uploads/2022/07/GRods-Latin-Fusion.jpg
ORGANIZER;CN="GRod's Latin Fusion Food Truck":MAILTO:grod_latinfusionft@outlook.com
GEO:34.8913881;-82.373773
X-APPLE-STRUCTURED-LOCATION;VALUE=URI;X-ADDRESS=Piney Mountain Bike Lounge 20 Piney Mountain Rd Greenville South Carolina;X-APPLE-RADIUS=500;X-TITLE=20 Piney Mountain Rd:geo:-82.373773,34.8913881
END:VEVENT
BEGIN:VEVENT
DTSTART;TZID=America/New_York:20221117T173000
DTEND;TZID=America/New_York:20221117T193000
DTSTAMP:20260423T191203
CREATED:20221115T222300Z
LAST-MODIFIED:20221213T172600Z
UID:14691-1668706200-1668713400@864foodtrucks.com
SUMMARY:Groovy Dawg @ Grateful Brew
DESCRIPTION:
URL:https://864foodtrucks.com/event/groovy-dawg-grateful-brew/2022-11-17/
LOCATION:Grateful Brew\, 501 S Pleasantburg Dr\, Greenville\, SC\, 29607\, United States
CATEGORIES:Food Truck Schedules,Greenville
ATTACH;FMTTYPE=image/jpeg:https://864foodtrucks.com/wp-content/uploads/2021/05/Groovy-Granny.jpg
ORGANIZER;CN="The Groovy Dawg":MAILTO:contact@thegroovydawg.com
GEO:34.8292844;-82.36962
X-APPLE-STRUCTURED-LOCATION;VALUE=URI;X-ADDRESS=Grateful Brew 501 S Pleasantburg Dr Greenville SC 29607 United States;X-APPLE-RADIUS=500;X-TITLE=501 S Pleasantburg Dr:geo:-82.36962,34.8292844
END:VEVENT
BEGIN:VEVENT
DTSTART;TZID=America/New_York:20221118T173000
DTEND;TZID=America/New_York:20221118T173000
DTSTAMP:20260423T191203
CREATED:20221116T213037Z
LAST-MODIFIED:20250514T163339Z
UID:14715-1668792600-1668792600@864foodtrucks.com
SUMMARY:Just a Smile Caribbean @ Piney Mountain Bike Lounge
DESCRIPTION:
URL:https://864foodtrucks.com/event/just-a-smile-caribbean-piney-mountain-bike-lounge/2022-11-18/
LOCATION:Piney Mountain Bike Lounge\, 20 Piney Mountain Rd\, Greenville\, South Carolina
CATEGORIES:Food Truck Schedules,Greenville
ATTACH;FMTTYPE=image/jpeg:https://864foodtrucks.com/wp-content/uploads/2021/05/Just-A-Smile.jpg
GEO:34.8913881;-82.373773
X-APPLE-STRUCTURED-LOCATION;VALUE=URI;X-ADDRESS=Piney Mountain Bike Lounge 20 Piney Mountain Rd Greenville South Carolina;X-APPLE-RADIUS=500;X-TITLE=20 Piney Mountain Rd:geo:-82.373773,34.8913881
END:VEVENT
BEGIN:VEVENT
DTSTART;TZID=America/New_York:20221118T173000
DTEND;TZID=America/New_York:20221118T200000
DTSTAMP:20260423T191203
CREATED:20221115T010419Z
LAST-MODIFIED:20230130T194123Z
UID:14665-1668792600-1668801600@864foodtrucks.com
SUMMARY:We Got the Beets @ Community Tap
DESCRIPTION:Upstate South Carolina’s first exclusively plant-based food truck! Our passion is food and our mission is simple – we want everyone to know how delicious plant-based foods can be! Serving classic street fare since 2017.
URL:https://864foodtrucks.com/event/we-got-the-beets-community-tap-2/2022-11-18/
LOCATION:The Community Tap\, 217 Wade Hampton Blvd\, Greenville\, South Carolina
CATEGORIES:Food Truck Schedules,Greenville
ATTACH;FMTTYPE=image/jpeg:https://864foodtrucks.com/wp-content/uploads/2021/05/We-Got-The-Beets-Food-Truck.jpg
GEO:34.8625763;-82.3857613
X-APPLE-STRUCTURED-LOCATION;VALUE=URI;X-ADDRESS=The Community Tap 217 Wade Hampton Blvd Greenville South Carolina;X-APPLE-RADIUS=500;X-TITLE=217 Wade Hampton Blvd:geo:-82.3857613,34.8625763
END:VEVENT
BEGIN:VEVENT
DTSTART;TZID=America/New_York:20221119T100000
DTEND;TZID=America/New_York:20221119T130000
DTSTAMP:20260423T191203
CREATED:20221115T010525Z
LAST-MODIFIED:20221115T010525Z
UID:14667-1668852000-1668862800@864foodtrucks.com
SUMMARY:We Got the Beets @ Furman University
DESCRIPTION:Upstate South Carolina’s first exclusively plant-based food truck! Our passion is food and our mission is simple – we want everyone to know how delicious plant-based foods can be! Serving classic street fare since 2017.
URL:https://864foodtrucks.com/event/we-got-the-beets-furman-university/
LOCATION:Furman University\, 3300 Poinsett Hwy\, Greenville\, South Carolina
CATEGORIES:Food Truck Schedules,Greenville
ATTACH;FMTTYPE=image/jpeg:https://864foodtrucks.com/wp-content/uploads/2021/05/We-Got-The-Beets-Food-Truck.jpg
GEO:34.9279032;-82.4314732
X-APPLE-STRUCTURED-LOCATION;VALUE=URI;X-ADDRESS=Furman University 3300 Poinsett Hwy Greenville South Carolina;X-APPLE-RADIUS=500;X-TITLE=3300 Poinsett Hwy:geo:-82.4314732,34.9279032
END:VEVENT
BEGIN:VEVENT
DTSTART;TZID=America/New_York:20221119T100000
DTEND;TZID=America/New_York:20221119T140000
DTSTAMP:20260423T191203
CREATED:20221114T172519Z
LAST-MODIFIED:20221114T172519Z
UID:14608-1668852000-1668866400@864foodtrucks.com
SUMMARY:Lobster Dogs @ Holiday Market & Craft Fair
DESCRIPTION:Great food on the go. Fill your cup and go. We are the best Mediterranean food trailer in Greenville \, Sc
URL:https://864foodtrucks.com/event/lobster-dogs-holiday-market-craft-fair/
LOCATION:Holiday Market & Craft Fair\, 1330 Fork Shoals Rd\, Greenville\, SC\, United States
CATEGORIES:Food Truck Schedules,Greenville
ATTACH;FMTTYPE=image/jpeg:https://864foodtrucks.com/wp-content/uploads/2021/05/lobster-dogs-Food-Truck.jpg
ORGANIZER;CN="Lobster Dogs":MAILTO:lobsterdogs3@gmail.com
END:VEVENT
BEGIN:VEVENT
DTSTART;TZID=America/New_York:20221121T170000
DTEND;TZID=America/New_York:20221121T193000
DTSTAMP:20260423T191203
CREATED:20221121T192948Z
LAST-MODIFIED:20230123T190741Z
UID:14856-1669050000-1669059000@864foodtrucks.com
SUMMARY:Local Pie Pizza Co @ Trailside at Reedy Point
DESCRIPTION:Artisan Pizza Food Truck
URL:https://864foodtrucks.com/event/local-pie-pizza-co-trailside-at-reedy-point/2022-11-21/
LOCATION:Trailside at Reedy Point\, 200 South Academy St\, Greenville\, SC\, 29601\, United States
CATEGORIES:Food Truck Schedules,Greenville
ATTACH;FMTTYPE=image/jpeg:https://864foodtrucks.com/wp-content/uploads/2021/12/Local-Pie-Pizza-3.jpg
ORGANIZER;CN="Local Pie Pizza Company":MAILTO:cory@localpiepizzacompany.com
GEO:34.8472093;-82.4065614
X-APPLE-STRUCTURED-LOCATION;VALUE=URI;X-ADDRESS=Trailside at Reedy Point 200 South Academy St Greenville SC 29601 United States;X-APPLE-RADIUS=500;X-TITLE=200 South Academy St:geo:-82.4065614,34.8472093
END:VEVENT
END:VCALENDAR