BEGIN:VCALENDAR
VERSION:2.0
PRODID:-//864 Food Trucks - ECPv6.15.20//NONSGML v1.0//EN
CALSCALE:GREGORIAN
METHOD:PUBLISH
X-ORIGINAL-URL:https://864foodtrucks.com
X-WR-CALDESC:Events for 864 Food Trucks
REFRESH-INTERVAL;VALUE=DURATION:PT1H
X-Robots-Tag:noindex
X-PUBLISHED-TTL:PT1H
BEGIN:VTIMEZONE
TZID:America/New_York
BEGIN:DAYLIGHT
TZOFFSETFROM:-0500
TZOFFSETTO:-0400
TZNAME:EDT
DTSTART:20210314T070000
END:DAYLIGHT
BEGIN:STANDARD
TZOFFSETFROM:-0400
TZOFFSETTO:-0500
TZNAME:EST
DTSTART:20211107T060000
END:STANDARD
BEGIN:DAYLIGHT
TZOFFSETFROM:-0500
TZOFFSETTO:-0400
TZNAME:EDT
DTSTART:20220313T070000
END:DAYLIGHT
BEGIN:STANDARD
TZOFFSETFROM:-0400
TZOFFSETTO:-0500
TZNAME:EST
DTSTART:20221106T060000
END:STANDARD
BEGIN:DAYLIGHT
TZOFFSETFROM:-0500
TZOFFSETTO:-0400
TZNAME:EDT
DTSTART:20230312T070000
END:DAYLIGHT
BEGIN:STANDARD
TZOFFSETFROM:-0400
TZOFFSETTO:-0500
TZNAME:EST
DTSTART:20231105T060000
END:STANDARD
END:VTIMEZONE
BEGIN:VEVENT
DTSTART;TZID=America/New_York:20221201T100000
DTEND;TZID=America/New_York:20221201T200000
DTSTAMP:20260424T183906
CREATED:20221129T015834Z
LAST-MODIFIED:20221129T015834Z
UID:15080-1669888800-1669924800@864foodtrucks.com
SUMMARY:Chocolate Artworks @ Holiday Fair
DESCRIPTION:Sweet birthday parties\, chocolate workshops and local upstate farmer’s markets. Love chocolate? Come experience it in a whole new way.
URL:https://864foodtrucks.com/event/chocolate-artworks-holiday-fair/2022-12-01/
LOCATION:Greenville Convention Center\, 1 Exposition Dr\, Greenville\, SC\, United States
CATEGORIES:Food Truck Schedules,Greenville
ATTACH;FMTTYPE=image/jpeg:https://864foodtrucks.com/wp-content/uploads/2021/05/Chocolate-Artworks-Truck.jpg
GEO:34.8526839;-82.3541742
X-APPLE-STRUCTURED-LOCATION;VALUE=URI;X-ADDRESS=Greenville Convention Center 1 Exposition Dr Greenville SC United States;X-APPLE-RADIUS=500;X-TITLE=1 Exposition Dr:geo:-82.3541742,34.8526839
END:VEVENT
BEGIN:VEVENT
DTSTART;TZID=America/New_York:20221201T170000
DTEND;TZID=America/New_York:20221201T200000
DTSTAMP:20260424T183906
CREATED:20221130T174830Z
LAST-MODIFIED:20230313T225636Z
UID:15131-1669914000-1669924800@864foodtrucks.com
SUMMARY:Local Pie Pizza Co @ Grateful Brew
DESCRIPTION:Artisan Pizza Food Truck
URL:https://864foodtrucks.com/event/local-pie-pizza-co-grateful-brew-2/2022-12-01/
LOCATION:Grateful Brew\, 501 S Pleasantburg Dr\, Greenville\, SC\, 29607\, United States
CATEGORIES:Food Truck Schedules,Greenville
ATTACH;FMTTYPE=image/jpeg:https://864foodtrucks.com/wp-content/uploads/2021/12/Local-Pie-Pizza-3.jpg
ORGANIZER;CN="Local Pie Pizza Company":MAILTO:cory@localpiepizzacompany.com
GEO:34.8292844;-82.36962
X-APPLE-STRUCTURED-LOCATION;VALUE=URI;X-ADDRESS=Grateful Brew 501 S Pleasantburg Dr Greenville SC 29607 United States;X-APPLE-RADIUS=500;X-TITLE=501 S Pleasantburg Dr:geo:-82.36962,34.8292844
END:VEVENT
BEGIN:VEVENT
DTSTART;TZID=America/New_York:20221201T173000
DTEND;TZID=America/New_York:20221201T193000
DTSTAMP:20260424T183906
CREATED:20221128T200009Z
LAST-MODIFIED:20221128T200009Z
UID:15052-1669915800-1669923000@864foodtrucks.com
SUMMARY:Too Sauc'd Up @ Modal
DESCRIPTION:
URL:https://864foodtrucks.com/event/too-saucd-up-modal/
LOCATION:Modal\, 813 Augusta St\, Greenville\, South Carolina
CATEGORIES:Food Truck Schedules,Greenville
ATTACH;FMTTYPE=image/jpeg:https://864foodtrucks.com/wp-content/uploads/2022/07/Too-Saucd-Up.jpg
ORGANIZER;CN="Too Sauc'D Up":MAILTO:toosauc.dup@gmail.com
GEO:34.8344189;-82.4050329
X-APPLE-STRUCTURED-LOCATION;VALUE=URI;X-ADDRESS=Modal 813 Augusta St Greenville South Carolina;X-APPLE-RADIUS=500;X-TITLE=813 Augusta St:geo:-82.4050329,34.8344189
END:VEVENT
BEGIN:VEVENT
DTSTART;TZID=America/New_York:20221201T180000
DTEND;TZID=America/New_York:20221201T200000
DTSTAMP:20260424T183906
CREATED:20221128T211911Z
LAST-MODIFIED:20241202T145228Z
UID:15073-1669917600-1669924800@864foodtrucks.com
SUMMARY:The Noodle Lady @ Piney Mountain Bike Lounge
DESCRIPTION:Authentic Chinese dishes for catering and events. Artisan Noodles and 100% Natural. Check out here our events calendar in Greenville\, South Carolina. #TheNoodleLady
URL:https://864foodtrucks.com/event/the-noodle-lady-piney-mountain-bike-lounge/2022-12-01/
LOCATION:Piney Mountain Bike Lounge\, 20 Piney Mountain Rd\, Greenville\, South Carolina
CATEGORIES:Food Truck Schedules,Greenville
ATTACH;FMTTYPE=image/jpeg:https://864foodtrucks.com/wp-content/uploads/2021/05/The-Noodle-Lady-Truck.jpg
ORGANIZER;CN="The Noodle Lady":MAILTO:thenoodlelady@yahoo.com
GEO:34.8913881;-82.373773
X-APPLE-STRUCTURED-LOCATION;VALUE=URI;X-ADDRESS=Piney Mountain Bike Lounge 20 Piney Mountain Rd Greenville South Carolina;X-APPLE-RADIUS=500;X-TITLE=20 Piney Mountain Rd:geo:-82.373773,34.8913881
END:VEVENT
BEGIN:VEVENT
DTSTART;TZID=America/New_York:20221201T180000
DTEND;TZID=America/New_York:20221201T210000
DTSTAMP:20260424T183906
CREATED:20221128T185825Z
LAST-MODIFIED:20241210T135518Z
UID:15020-1669917600-1669928400@864foodtrucks.com
SUMMARY:Yum Bai @ Traveler's Taproom
DESCRIPTION:Asian fusion street food
URL:https://864foodtrucks.com/event/yum-bai-travelers-taproom/2022-12-01/
LOCATION:Travelers Taproom\, 2624 Poinsett Hwy\, Greenville\, South Carolina
CATEGORIES:Food Truck Schedules,Greenville
ATTACH;FMTTYPE=image/jpeg:https://864foodtrucks.com/wp-content/uploads/2021/05/Yum-Bai.jpg
ORGANIZER;CN="Yum Bai":MAILTO:yumbaisc@gmail.com
GEO:34.9015748;-82.4159581
X-APPLE-STRUCTURED-LOCATION;VALUE=URI;X-ADDRESS=Travelers Taproom 2624 Poinsett Hwy Greenville South Carolina;X-APPLE-RADIUS=500;X-TITLE=2624 Poinsett Hwy:geo:-82.4159581,34.9015748
END:VEVENT
BEGIN:VEVENT
DTSTART;TZID=America/New_York:20221202T160000
DTEND;TZID=America/New_York:20221202T210000
DTSTAMP:20260424T183906
CREATED:20221128T201325Z
LAST-MODIFIED:20221128T201325Z
UID:15059-1669996800-1670014800@864foodtrucks.com
SUMMARY:One Eyed Donkey @ Bob Jones Christmas Lighting
DESCRIPTION:#followthedonkey … ji-roz presents the one eyed donkey! fun take on some greek classics ~ on wheels!!! same quality\, same service\, same vibe as our brick and mortar just brought directly to you. Call or email us today to schedule our donkey.
URL:https://864foodtrucks.com/event/one-eyed-donkey-bob-jones-christmas-lighting/
LOCATION:Bob Jones University\, Wade Hampton Blvd\, Greenville\, South Carolina
CATEGORIES:Food Truck Schedules,Greenville
ATTACH;FMTTYPE=image/jpeg:https://864foodtrucks.com/wp-content/uploads/2021/05/One-Eyed-Donkey-Food-Truck.jpg
GEO:34.8752958;-82.3661448
X-APPLE-STRUCTURED-LOCATION;VALUE=URI;X-ADDRESS=Bob Jones University Wade Hampton Blvd Greenville South Carolina;X-APPLE-RADIUS=500;X-TITLE=Wade Hampton Blvd:geo:-82.3661448,34.8752958
END:VEVENT
BEGIN:VEVENT
DTSTART;TZID=America/New_York:20221202T160000
DTEND;TZID=America/New_York:20221202T210000
DTSTAMP:20260424T183906
CREATED:20221119T015036Z
LAST-MODIFIED:20221119T015036Z
UID:14784-1669996800-1670014800@864foodtrucks.com
SUMMARY:Simpell Sammies @ Bob Jones University
DESCRIPTION:Simpell Sammies is open for business and ready to serve you flavorful and delicious sandwiches and hoagies.
URL:https://864foodtrucks.com/event/simpell-sammies-bob-jones-university/
LOCATION:Bob Jones University\, Wade Hampton Blvd\, Greenville\, South Carolina
CATEGORIES:Food Truck Schedules,Greenville
ATTACH;FMTTYPE=image/jpeg:https://864foodtrucks.com/wp-content/uploads/2021/12/Simpell-Sammies-Trailer.jpg
ORGANIZER;CN="Simpell Sammies":MAILTO:info@simpelltreats.com
GEO:34.8752958;-82.3661448
X-APPLE-STRUCTURED-LOCATION;VALUE=URI;X-ADDRESS=Bob Jones University Wade Hampton Blvd Greenville South Carolina;X-APPLE-RADIUS=500;X-TITLE=Wade Hampton Blvd:geo:-82.3661448,34.8752958
END:VEVENT
BEGIN:VEVENT
DTSTART;TZID=America/New_York:20221202T180000
DTEND;TZID=America/New_York:20221202T200000
DTSTAMP:20260424T183906
CREATED:20221128T212225Z
LAST-MODIFIED:20221128T212225Z
UID:15075-1670004000-1670011200@864foodtrucks.com
SUMMARY:The Noodle Lady @ The Community Tap
DESCRIPTION:Authentic Chinese dishes for catering and events. Artisan Noodles and 100% Natural. Check out here our events calendar in Greenville\, South Carolina. #TheNoodleLady
URL:https://864foodtrucks.com/event/the-noodle-lady-the-community-tap/
LOCATION:The Community Tap\, 217 Wade Hampton Blvd\, Greenville\, South Carolina
CATEGORIES:Food Truck Schedules,Greenville
ATTACH;FMTTYPE=image/jpeg:https://864foodtrucks.com/wp-content/uploads/2021/05/The-Noodle-Lady-Truck.jpg
ORGANIZER;CN="The Noodle Lady":MAILTO:thenoodlelady@yahoo.com
GEO:34.8625763;-82.3857613
X-APPLE-STRUCTURED-LOCATION;VALUE=URI;X-ADDRESS=The Community Tap 217 Wade Hampton Blvd Greenville South Carolina;X-APPLE-RADIUS=500;X-TITLE=217 Wade Hampton Blvd:geo:-82.3857613,34.8625763
END:VEVENT
BEGIN:VEVENT
DTSTART;TZID=America/New_York:20221202T180000
DTEND;TZID=America/New_York:20221202T200000
DTSTAMP:20260424T183906
CREATED:20221128T200350Z
LAST-MODIFIED:20241202T204451Z
UID:15054-1670004000-1670011200@864foodtrucks.com
SUMMARY:Too Sauc'd Up @ Grateful Brew
DESCRIPTION:
URL:https://864foodtrucks.com/event/too-saucd-up-grateful-brew/2022-12-02/
LOCATION:Grateful Brew\, 501 S Pleasantburg Dr\, Greenville\, SC\, 29607\, United States
CATEGORIES:Food Truck Schedules,Greenville
ATTACH;FMTTYPE=image/jpeg:https://864foodtrucks.com/wp-content/uploads/2022/07/Too-Saucd-Up.jpg
ORGANIZER;CN="Too Sauc'D Up":MAILTO:toosauc.dup@gmail.com
GEO:34.8292844;-82.36962
X-APPLE-STRUCTURED-LOCATION;VALUE=URI;X-ADDRESS=Grateful Brew 501 S Pleasantburg Dr Greenville SC 29607 United States;X-APPLE-RADIUS=500;X-TITLE=501 S Pleasantburg Dr:geo:-82.36962,34.8292844
END:VEVENT
BEGIN:VEVENT
DTSTART;TZID=America/New_York:20221202T180000
DTEND;TZID=America/New_York:20221202T210000
DTSTAMP:20260424T183906
CREATED:20221128T190820Z
LAST-MODIFIED:20221212T185657Z
UID:15024-1670004000-1670014800@864foodtrucks.com
SUMMARY:Bronzeville Bites @ Traveler's Taproom
DESCRIPTION:Chicago Style Food
URL:https://864foodtrucks.com/event/bronzeville-bites-travelers-tap/2022-12-02/
LOCATION:Travelers Taproom\, 2624 Poinsett Hwy\, Greenville\, South Carolina
CATEGORIES:Food Truck Schedules,Greenville
ATTACH;FMTTYPE=image/jpeg:https://864foodtrucks.com/wp-content/uploads/2022/11/Bronzeville-Bites.jpg
ORGANIZER;CN="Bronzeville Bites":MAILTO:bronzevillebites@gmail.com
GEO:34.9015748;-82.4159581
X-APPLE-STRUCTURED-LOCATION;VALUE=URI;X-ADDRESS=Travelers Taproom 2624 Poinsett Hwy Greenville South Carolina;X-APPLE-RADIUS=500;X-TITLE=2624 Poinsett Hwy:geo:-82.4159581,34.9015748
END:VEVENT
BEGIN:VEVENT
DTSTART;TZID=America/New_York:20221203T180000
DTEND;TZID=America/New_York:20221203T200000
DTSTAMP:20260424T183906
CREATED:20221128T212358Z
LAST-MODIFIED:20221128T212358Z
UID:15077-1670090400-1670097600@864foodtrucks.com
SUMMARY:The Noodle Lady @ Thomas Creek Brewery
DESCRIPTION:Authentic Chinese dishes for catering and events. Artisan Noodles and 100% Natural. Check out here our events calendar in Greenville\, South Carolina. #TheNoodleLady
URL:https://864foodtrucks.com/event/the-noodle-lady-thomas-creek-brewery/
LOCATION:Thomas Creek\, 2054 Piedmont Hwy\, Greenville\, South Carolina
CATEGORIES:Food Truck Schedules,Greenville
ATTACH;FMTTYPE=image/jpeg:https://864foodtrucks.com/wp-content/uploads/2021/05/The-Noodle-Lady-Truck.jpg
ORGANIZER;CN="The Noodle Lady":MAILTO:thenoodlelady@yahoo.com
GEO:34.7966066;-82.4234311
X-APPLE-STRUCTURED-LOCATION;VALUE=URI;X-ADDRESS=Thomas Creek 2054 Piedmont Hwy Greenville South Carolina;X-APPLE-RADIUS=500;X-TITLE=2054 Piedmont Hwy:geo:-82.4234311,34.7966066
END:VEVENT
BEGIN:VEVENT
DTSTART;TZID=America/New_York:20221207T173000
DTEND;TZID=America/New_York:20221207T203000
DTSTAMP:20260424T183906
CREATED:20221205T190559Z
LAST-MODIFIED:20230626T183958Z
UID:15417-1670434200-1670445000@864foodtrucks.com
SUMMARY:La Katrina Mia @ Traveler's Taproom
DESCRIPTION:Latin Cuisine\, book us for your next event we Cater or bring our Food Truck out the choice is yours.
URL:https://864foodtrucks.com/event/la-katrina-mia-travelers-taproom/2022-12-07/
LOCATION:Travelers Taproom\, 2624 Poinsett Hwy\, Greenville\, South Carolina
CATEGORIES:Food Truck Schedules,Greenville
ATTACH;FMTTYPE=image/jpeg:https://864foodtrucks.com/wp-content/uploads/2022/06/La-Katrina-Mia-Truck.jpg
ORGANIZER;CN="La Katrina Mia":MAILTO:lakatrinamia@gmail.com
GEO:34.9015748;-82.4159581
X-APPLE-STRUCTURED-LOCATION;VALUE=URI;X-ADDRESS=Travelers Taproom 2624 Poinsett Hwy Greenville South Carolina;X-APPLE-RADIUS=500;X-TITLE=2624 Poinsett Hwy:geo:-82.4159581,34.9015748
END:VEVENT
BEGIN:VEVENT
DTSTART;TZID=America/New_York:20221207T180000
DTEND;TZID=America/New_York:20221207T200000
DTSTAMP:20260424T183906
CREATED:20221206T140258Z
LAST-MODIFIED:20221206T140258Z
UID:15505-1670436000-1670443200@864foodtrucks.com
SUMMARY:Too Sauc'd Up @ Overture
DESCRIPTION:
URL:https://864foodtrucks.com/event/too-saucd-up-overture/
LOCATION:Overture\, 52 Market Point Drive\, Greenville\, South Carolina\, 29607
CATEGORIES:Food Truck Schedules,Greenville
ATTACH;FMTTYPE=image/jpeg:https://864foodtrucks.com/wp-content/uploads/2022/07/Too-Saucd-Up.jpg
ORGANIZER;CN="Too Sauc'D Up":MAILTO:toosauc.dup@gmail.com
GEO:34.8213908;-82.3059713
X-APPLE-STRUCTURED-LOCATION;VALUE=URI;X-ADDRESS=Overture 52 Market Point Drive Greenville South Carolina 29607;X-APPLE-RADIUS=500;X-TITLE=52 Market Point Drive:geo:-82.3059713,34.8213908
END:VEVENT
BEGIN:VEVENT
DTSTART;TZID=America/New_York:20221208T170000
DTEND;TZID=America/New_York:20221208T200000
DTSTAMP:20260424T183906
CREATED:20221204T233519Z
LAST-MODIFIED:20230101T214939Z
UID:15403-1670518800-1670529600@864foodtrucks.com
SUMMARY:Lobster Dogs @ Thomas Creek Brewing
DESCRIPTION:Food truck serving the Best Lobster Rolls & Stuffed Avocados in the Carolinas
URL:https://864foodtrucks.com/event/lobster-dogs-thomas-creek-brewing/2022-12-08/
LOCATION:Thomas Creek\, 2054 Piedmont Hwy\, Greenville\, South Carolina
CATEGORIES:Food Truck Schedules,Greenville
ATTACH;FMTTYPE=image/jpeg:https://864foodtrucks.com/wp-content/uploads/2021/05/lobster-dogs-Food-Truck.jpg
ORGANIZER;CN="Lobster Dogs":MAILTO:lobsterdogs3@gmail.com
GEO:34.7966066;-82.4234311
X-APPLE-STRUCTURED-LOCATION;VALUE=URI;X-ADDRESS=Thomas Creek 2054 Piedmont Hwy Greenville South Carolina;X-APPLE-RADIUS=500;X-TITLE=2054 Piedmont Hwy:geo:-82.4234311,34.7966066
END:VEVENT
BEGIN:VEVENT
DTSTART;TZID=America/New_York:20221208T173000
DTEND;TZID=America/New_York:20221208T203000
DTSTAMP:20260424T183906
CREATED:20221205T190958Z
LAST-MODIFIED:20221205T190958Z
UID:15420-1670520600-1670531400@864foodtrucks.com
SUMMARY:Street Pizza @ Traveler's Taproom
DESCRIPTION:
URL:https://864foodtrucks.com/event/street-pizza-travelers-taproom/
LOCATION:Travelers Taproom\, 2624 Poinsett Hwy\, Greenville\, South Carolina
CATEGORIES:Food Truck Schedules,Greenville
ATTACH;FMTTYPE=image/jpeg:https://864foodtrucks.com/wp-content/uploads/2022/09/Street-Pizza-Truck-e1663960601749.jpg
ORGANIZER;CN="Street Pizza":MAILTO:Streetpizzausa@gmail.com
GEO:34.9015748;-82.4159581
X-APPLE-STRUCTURED-LOCATION;VALUE=URI;X-ADDRESS=Travelers Taproom 2624 Poinsett Hwy Greenville South Carolina;X-APPLE-RADIUS=500;X-TITLE=2624 Poinsett Hwy:geo:-82.4159581,34.9015748
END:VEVENT
BEGIN:VEVENT
DTSTART;TZID=America/New_York:20221209T073000
DTEND;TZID=America/New_York:20221209T113000
DTSTAMP:20260424T183906
CREATED:20221205T204837Z
LAST-MODIFIED:20230124T013240Z
UID:15437-1670571000-1670585400@864foodtrucks.com
SUMMARY:Roaming Ritual @ Eva Hurley State Farm
DESCRIPTION:A mobile coffee trailer serving parts of Greenville County\, SC !
URL:https://864foodtrucks.com/event/roaming-ritual-eva-hurley-state-farm/2022-12-09/
LOCATION:Eva Hurley State Farm\, 3906 S Highway 14\, Greenville\, South Carolina
CATEGORIES:Food Truck Schedules,Greenville
ATTACH;FMTTYPE=image/jpeg:https://864foodtrucks.com/wp-content/uploads/2022/10/Roaming-Ritual-Trailer-e1666182278753.jpg
ORGANIZER;CN="Roaming Ritual":MAILTO:Roamingritualcoffee@gmail.com
GEO:34.8221327;-82.2569293
X-APPLE-STRUCTURED-LOCATION;VALUE=URI;X-ADDRESS=Eva Hurley State Farm 3906 S Highway 14 Greenville South Carolina;X-APPLE-RADIUS=500;X-TITLE=3906 S Highway 14:geo:-82.2569293,34.8221327
END:VEVENT
BEGIN:VEVENT
DTSTART;TZID=America/New_York:20221209T170000
DTEND;TZID=America/New_York:20221209T210000
DTSTAMP:20260424T183906
CREATED:20221205T202624Z
LAST-MODIFIED:20221205T212628Z
UID:15429-1670605200-1670619600@864foodtrucks.com
SUMMARY:La Katrina Mia @ Thomas Creek Brewery
DESCRIPTION:Latin Cuisine\, book us for your next event we Cater or bring our Food Truck out the choice is yours.
URL:https://864foodtrucks.com/event/la-katrina-mia-thomas-creek-beer/
LOCATION:Thomas Creek\, 2054 Piedmont Hwy\, Greenville\, South Carolina
CATEGORIES:Food Truck Schedules,Greenville
ATTACH;FMTTYPE=image/jpeg:https://864foodtrucks.com/wp-content/uploads/2022/06/La-Katrina-Mia-Truck.jpg
ORGANIZER;CN="La Katrina Mia":MAILTO:lakatrinamia@gmail.com
GEO:34.7966066;-82.4234311
X-APPLE-STRUCTURED-LOCATION;VALUE=URI;X-ADDRESS=Thomas Creek 2054 Piedmont Hwy Greenville South Carolina;X-APPLE-RADIUS=500;X-TITLE=2054 Piedmont Hwy:geo:-82.4234311,34.7966066
END:VEVENT
BEGIN:VEVENT
DTSTART;TZID=America/New_York:20221210T173000
DTEND;TZID=America/New_York:20221210T200000
DTSTAMP:20260424T183906
CREATED:20221205T191157Z
LAST-MODIFIED:20221205T191157Z
UID:15422-1670693400-1670702400@864foodtrucks.com
SUMMARY:Chili the Kid @ Travelers Taproom
DESCRIPTION:Chili the Kid is Dangerously Good. When you think of Chili\, you should think of Chili the Kid. We offer 6 flavors of chili every day\, and every week we have a special unique flavor. You can order your favorite chili any way you want it.
URL:https://864foodtrucks.com/event/chili-the-kid-travelers-taproom/
LOCATION:Travelers Taproom\, 2624 Poinsett Hwy\, Greenville\, South Carolina
CATEGORIES:Food Truck Schedules,Greenville
ATTACH;FMTTYPE=image/jpeg:https://864foodtrucks.com/wp-content/uploads/2022/03/Chili-the-Kid-Truck.jpg
GEO:34.9015748;-82.4159581
X-APPLE-STRUCTURED-LOCATION;VALUE=URI;X-ADDRESS=Travelers Taproom 2624 Poinsett Hwy Greenville South Carolina;X-APPLE-RADIUS=500;X-TITLE=2624 Poinsett Hwy:geo:-82.4159581,34.9015748
END:VEVENT
BEGIN:VEVENT
DTSTART;TZID=America/New_York:20221213T093000
DTEND;TZID=America/New_York:20221213T133000
DTSTAMP:20260424T183906
CREATED:20221212T190342Z
LAST-MODIFIED:20221212T190342Z
UID:15599-1670923800-1670938200@864foodtrucks.com
SUMMARY:Local Pie Pizza Co @ Proterra
DESCRIPTION:Artisan Pizza Food Truck
URL:https://864foodtrucks.com/event/local-pie-pizza-co-proterra/
LOCATION:Proterra\, 1 Whitlee Ct\, Greenville\, South Carolina
CATEGORIES:Food Truck Schedules,Greenville
ATTACH;FMTTYPE=image/jpeg:https://864foodtrucks.com/wp-content/uploads/2021/12/Local-Pie-Pizza-3.jpg
ORGANIZER;CN="Local Pie Pizza Company":MAILTO:cory@localpiepizzacompany.com
GEO:34.803605;-82.347947
X-APPLE-STRUCTURED-LOCATION;VALUE=URI;X-ADDRESS=Proterra 1 Whitlee Ct Greenville South Carolina;X-APPLE-RADIUS=500;X-TITLE=1 Whitlee Ct:geo:-82.347947,34.803605
END:VEVENT
BEGIN:VEVENT
DTSTART;TZID=America/New_York:20221213T110000
DTEND;TZID=America/New_York:20221213T200000
DTSTAMP:20260424T183906
CREATED:20221212T191152Z
LAST-MODIFIED:20221212T191152Z
UID:15603-1670929200-1670961600@864foodtrucks.com
SUMMARY:La Flaca Taqueria @ Bryson Drive
DESCRIPTION:
URL:https://864foodtrucks.com/event/la-flaca-taqueria-bryson-drive-3/2022-12-13/
LOCATION:100 Bryson Drive\, 100 Bryson Drive\, Greenville\, South Carolina
CATEGORIES:Food Truck Schedules,Greenville
ATTACH;FMTTYPE=image/jpeg:https://864foodtrucks.com/wp-content/uploads/2021/06/La-Flaca.jpg
GEO:34.7061896;-82.2283993
X-APPLE-STRUCTURED-LOCATION;VALUE=URI;X-ADDRESS=100 Bryson Drive 100 Bryson Drive Greenville South Carolina;X-APPLE-RADIUS=500;X-TITLE=100 Bryson Drive:geo:-82.2283993,34.7061896
END:VEVENT
BEGIN:VEVENT
DTSTART;TZID=America/New_York:20221213T173000
DTEND;TZID=America/New_York:20221213T200000
DTSTAMP:20260424T183906
CREATED:20221212T201134Z
LAST-MODIFIED:20230220T233429Z
UID:15632-1670952600-1670961600@864foodtrucks.com
SUMMARY:The Black Thai @ Piney Mountain Bike Lounge
DESCRIPTION:The Black Thai serves up a funky fusion of American-Thai food in Greenville\, SC\, offering a fun and creative\, ever-changing menu that blends traditional Thai dishes with modern American street food.
URL:https://864foodtrucks.com/event/the-black-thai-piney-mountain-bike-lounge/2022-12-13/
LOCATION:Piney Mountain Bike Lounge\, 20 Piney Mountain Rd\, Greenville\, South Carolina
CATEGORIES:Food Truck Schedules,Greenville
ATTACH;FMTTYPE=image/jpeg:https://864foodtrucks.com/wp-content/uploads/2021/05/Black-Thai-Truck.jpg
GEO:34.8913881;-82.373773
X-APPLE-STRUCTURED-LOCATION;VALUE=URI;X-ADDRESS=Piney Mountain Bike Lounge 20 Piney Mountain Rd Greenville South Carolina;X-APPLE-RADIUS=500;X-TITLE=20 Piney Mountain Rd:geo:-82.373773,34.8913881
END:VEVENT
BEGIN:VEVENT
DTSTART;TZID=America/New_York:20221214T113000
DTEND;TZID=America/New_York:20221214T133000
DTSTAMP:20260424T183906
CREATED:20221212T201837Z
LAST-MODIFIED:20230220T233416Z
UID:15636-1671017400-1671024600@864foodtrucks.com
SUMMARY:The Black Thai @ E Broad St
DESCRIPTION:The Black Thai serves up a funky fusion of American-Thai food in Greenville\, SC\, offering a fun and creative\, ever-changing menu that blends traditional Thai dishes with modern American street food.
URL:https://864foodtrucks.com/event/the-black-thai-e-broad-st/2022-12-14/
LOCATION:200 E Broad St\, 200 E Broad St\, Greenville\, South Carolina
CATEGORIES:Food Truck Schedules,Greenville
ATTACH;FMTTYPE=image/jpeg:https://864foodtrucks.com/wp-content/uploads/2021/05/Black-Thai-Truck.jpg
GEO:34.8455859;-82.3950801
X-APPLE-STRUCTURED-LOCATION;VALUE=URI;X-ADDRESS=200 E Broad St 200 E Broad St Greenville South Carolina;X-APPLE-RADIUS=500;X-TITLE=200 E Broad St:geo:-82.3950801,34.8455859
END:VEVENT
BEGIN:VEVENT
DTSTART;TZID=America/New_York:20221215T180000
DTEND;TZID=America/New_York:20221215T203000
DTSTAMP:20260424T183906
CREATED:20221212T194209Z
LAST-MODIFIED:20221212T194209Z
UID:15625-1671127200-1671136200@864foodtrucks.com
SUMMARY:Yum Bai @ Tetrad
DESCRIPTION:Asian fusion street food
URL:https://864foodtrucks.com/event/yum-bai-tetrad-3/
LOCATION:Tetrad Brewing\, 603 E Stone Ave\, Greenville\, SC\, 29601\, United States
CATEGORIES:Food Truck Schedules,Greenville
ATTACH;FMTTYPE=image/jpeg:https://864foodtrucks.com/wp-content/uploads/2021/05/Yum-Bai.jpg
ORGANIZER;CN="Yum Bai":MAILTO:yumbaisc@gmail.com
GEO:34.8585948;-82.3848082
X-APPLE-STRUCTURED-LOCATION;VALUE=URI;X-ADDRESS=Tetrad Brewing 603 E Stone Ave Greenville SC 29601 United States;X-APPLE-RADIUS=500;X-TITLE=603 E Stone Ave:geo:-82.3848082,34.8585948
END:VEVENT
BEGIN:VEVENT
DTSTART;TZID=America/New_York:20221216T170000
DTEND;TZID=America/New_York:20221216T190000
DTSTAMP:20260424T183906
CREATED:20221212T190704Z
LAST-MODIFIED:20230703T181443Z
UID:15601-1671210000-1671217200@864foodtrucks.com
SUMMARY:Local Pie Pizza Co @ Piney Mountain Bike Lounge
DESCRIPTION:Artisan Pizza Food Truck
URL:https://864foodtrucks.com/event/local-pie-pizza-co-piney-mountain-bike-lounge-2/2022-12-16/
LOCATION:Piney Mountain Bike Lounge\, 20 Piney Mountain Rd\, Greenville\, South Carolina
CATEGORIES:Food Truck Schedules,Greenville
ATTACH;FMTTYPE=image/jpeg:https://864foodtrucks.com/wp-content/uploads/2021/12/Local-Pie-Pizza-3.jpg
ORGANIZER;CN="Local Pie Pizza Company":MAILTO:cory@localpiepizzacompany.com
GEO:34.8913881;-82.373773
X-APPLE-STRUCTURED-LOCATION;VALUE=URI;X-ADDRESS=Piney Mountain Bike Lounge 20 Piney Mountain Rd Greenville South Carolina;X-APPLE-RADIUS=500;X-TITLE=20 Piney Mountain Rd:geo:-82.373773,34.8913881
END:VEVENT
BEGIN:VEVENT
DTSTART;TZID=America/New_York:20221216T180000
DTEND;TZID=America/New_York:20221216T200000
DTSTAMP:20260424T183906
CREATED:20221212T193207Z
LAST-MODIFIED:20230130T195117Z
UID:15619-1671213600-1671220800@864foodtrucks.com
SUMMARY:The Noodle Lady @ Community Tap
DESCRIPTION:Authentic Chinese dishes for catering and events. Artisan Noodles and 100% Natural. Check out here our events calendar in Greenville\, South Carolina. #TheNoodleLady
URL:https://864foodtrucks.com/event/the-noodle-lady-community-tap-2/2022-12-16/
LOCATION:The Community Tap\, 217 Wade Hampton Blvd\, Greenville\, South Carolina
CATEGORIES:Food Truck Schedules,Greenville
ATTACH;FMTTYPE=image/jpeg:https://864foodtrucks.com/wp-content/uploads/2021/05/The-Noodle-Lady-Truck.jpg
ORGANIZER;CN="The Noodle Lady":MAILTO:thenoodlelady@yahoo.com
GEO:34.8625763;-82.3857613
X-APPLE-STRUCTURED-LOCATION;VALUE=URI;X-ADDRESS=The Community Tap 217 Wade Hampton Blvd Greenville South Carolina;X-APPLE-RADIUS=500;X-TITLE=217 Wade Hampton Blvd:geo:-82.3857613,34.8625763
END:VEVENT
BEGIN:VEVENT
DTSTART;TZID=America/New_York:20221218T100000
DTEND;TZID=America/New_York:20221218T123000
DTSTAMP:20260424T183906
CREATED:20221212T200622Z
LAST-MODIFIED:20221212T200622Z
UID:15627-1671357600-1671366600@864foodtrucks.com
SUMMARY:Yum Bai @ GVL World Cup Watch Party Growler Haus
DESCRIPTION:Asian fusion street food
URL:https://864foodtrucks.com/event/yum-bai-gvl-world-cup-watch-party-growler-haus/
LOCATION:Growler Haus\, 313 N Main St\, Anderson\, South Carolina
CATEGORIES:Food Truck Schedules,Greenville
ATTACH;FMTTYPE=image/jpeg:https://864foodtrucks.com/wp-content/uploads/2021/05/Yum-Bai.jpg
ORGANIZER;CN="Yum Bai":MAILTO:yumbaisc@gmail.com
GEO:34.5058551;-82.650947
X-APPLE-STRUCTURED-LOCATION;VALUE=URI;X-ADDRESS=Growler Haus 313 N Main St Anderson South Carolina;X-APPLE-RADIUS=500;X-TITLE=313 N Main St:geo:-82.650947,34.5058551
END:VEVENT
BEGIN:VEVENT
DTSTART;TZID=America/New_York:20221219T110000
DTEND;TZID=America/New_York:20221219T200000
DTSTAMP:20260424T183906
CREATED:20221219T223437Z
LAST-MODIFIED:20230109T193241Z
UID:15747-1671447600-1671480000@864foodtrucks.com
SUMMARY:La Flaca Taqueria @ Bryson Drive
DESCRIPTION:
URL:https://864foodtrucks.com/event/la-flaca-taqueria-bryson-drive-4/2022-12-19/
LOCATION:100 Bryson Drive\, 100 Bryson Drive\, Greenville\, South Carolina
CATEGORIES:Food Truck Schedules,Greenville
ATTACH;FMTTYPE=image/jpeg:https://864foodtrucks.com/wp-content/uploads/2021/05/La-Flaca-Taqueria-Food-Truck.jpg
GEO:34.7061896;-82.2283993
X-APPLE-STRUCTURED-LOCATION;VALUE=URI;X-ADDRESS=100 Bryson Drive 100 Bryson Drive Greenville South Carolina;X-APPLE-RADIUS=500;X-TITLE=100 Bryson Drive:geo:-82.2283993,34.7061896
END:VEVENT
BEGIN:VEVENT
DTSTART;TZID=America/New_York:20221220T070000
DTEND;TZID=America/New_York:20221220T140000
DTSTAMP:20260424T183906
CREATED:20221219T203549Z
LAST-MODIFIED:20221219T203549Z
UID:15707-1671519600-1671544800@864foodtrucks.com
SUMMARY:Chaos Cafe GVL
DESCRIPTION:
URL:https://864foodtrucks.com/event/chaos-cafe-gvl/2022-12-20/
LOCATION:Haas Family Golf\, 8000 Pelham Rd\, Greenville\, SC\, United States
CATEGORIES:Food Truck Schedules,Greenville
ATTACH;FMTTYPE=image/jpeg:https://864foodtrucks.com/wp-content/uploads/2022/12/Chaos-Cafe-GVL.jpg
ORGANIZER;CN="Chaos Cafe GVL":MAILTO:clay@chaoscafegvl.com
END:VEVENT
BEGIN:VEVENT
DTSTART;TZID=America/New_York:20221222T173000
DTEND;TZID=America/New_York:20221222T200000
DTSTAMP:20260424T183906
CREATED:20221219T003814Z
LAST-MODIFIED:20221219T003814Z
UID:15700-1671730200-1671739200@864foodtrucks.com
SUMMARY:Chili the Kids @ Traveler's Taproom
DESCRIPTION:Chili the Kid is Dangerously Good. When you think of Chili\, you should think of Chili the Kid. We offer 6 flavors of chili every day\, and every week we have a special unique flavor. You can order your favorite chili any way you want it.
URL:https://864foodtrucks.com/event/chili-the-kids-travelers-taproom/
LOCATION:Travelers Taproom\, 2624 Poinsett Hwy\, Greenville\, South Carolina
CATEGORIES:Food Truck Schedules,Greenville
ATTACH;FMTTYPE=image/jpeg:https://864foodtrucks.com/wp-content/uploads/2022/03/Chili-the-Kid-Truck.jpg
GEO:34.9015748;-82.4159581
X-APPLE-STRUCTURED-LOCATION;VALUE=URI;X-ADDRESS=Travelers Taproom 2624 Poinsett Hwy Greenville South Carolina;X-APPLE-RADIUS=500;X-TITLE=2624 Poinsett Hwy:geo:-82.4159581,34.9015748
END:VEVENT
BEGIN:VEVENT
DTSTART;TZID=America/New_York:20221228T180000
DTEND;TZID=America/New_York:20221228T203000
DTSTAMP:20260424T183906
CREATED:20221227T000723Z
LAST-MODIFIED:20250630T165236Z
UID:15829-1672250400-1672259400@864foodtrucks.com
SUMMARY:J&S Wings @ Traveler's Taproom
DESCRIPTION:
URL:https://864foodtrucks.com/event/js-wings-travelers-taproom/2022-12-28/
LOCATION:Travelers Taproom\, 2624 Poinsett Hwy\, Greenville\, South Carolina
CATEGORIES:Food Truck Schedules,Greenville
ATTACH;FMTTYPE=image/jpeg:https://864foodtrucks.com/wp-content/uploads/2022/03/J-and-S-Wings-2-Go-Food.jpg
ORGANIZER;CN="J and S Wings 2 Go":MAILTO:jandswings2go@gmail.com
GEO:34.9015748;-82.4159581
X-APPLE-STRUCTURED-LOCATION;VALUE=URI;X-ADDRESS=Travelers Taproom 2624 Poinsett Hwy Greenville South Carolina;X-APPLE-RADIUS=500;X-TITLE=2624 Poinsett Hwy:geo:-82.4159581,34.9015748
END:VEVENT
END:VCALENDAR