BEGIN:VCALENDAR
VERSION:2.0
PRODID:-//864 Food Trucks - ECPv6.15.20//NONSGML v1.0//EN
CALSCALE:GREGORIAN
METHOD:PUBLISH
X-WR-CALNAME:864 Food Trucks
X-ORIGINAL-URL:https://864foodtrucks.com
X-WR-CALDESC:Events for 864 Food Trucks
REFRESH-INTERVAL;VALUE=DURATION:PT1H
X-Robots-Tag:noindex
X-PUBLISHED-TTL:PT1H
BEGIN:VTIMEZONE
TZID:America/New_York
BEGIN:DAYLIGHT
TZOFFSETFROM:-0500
TZOFFSETTO:-0400
TZNAME:EDT
DTSTART:20250309T070000
END:DAYLIGHT
BEGIN:STANDARD
TZOFFSETFROM:-0400
TZOFFSETTO:-0500
TZNAME:EST
DTSTART:20251102T060000
END:STANDARD
BEGIN:DAYLIGHT
TZOFFSETFROM:-0500
TZOFFSETTO:-0400
TZNAME:EDT
DTSTART:20260308T070000
END:DAYLIGHT
BEGIN:STANDARD
TZOFFSETFROM:-0400
TZOFFSETTO:-0500
TZNAME:EST
DTSTART:20261101T060000
END:STANDARD
BEGIN:DAYLIGHT
TZOFFSETFROM:-0500
TZOFFSETTO:-0400
TZNAME:EDT
DTSTART:20270314T070000
END:DAYLIGHT
BEGIN:STANDARD
TZOFFSETFROM:-0400
TZOFFSETTO:-0500
TZNAME:EST
DTSTART:20271107T060000
END:STANDARD
END:VTIMEZONE
BEGIN:VEVENT
DTSTART;TZID=America/New_York:20260423T170000
DTEND;TZID=America/New_York:20260423T200000
DTSTAMP:20260423T155131
CREATED:20260421T171707Z
LAST-MODIFIED:20260421T171707Z
UID:62139-1776963600-1776974400@864foodtrucks.com
SUMMARY:One Love Fusion Foods @ Piney Mountain Bike Lounge
DESCRIPTION:Global Flavors. Local Favorites.\nUS Foods’ Silver Spoon Champion 2017 & 2018\n1st Place at Fall for Greenville 2017 & 2018\nVoted Top 5 Best Food Trucks in the Upstate 2018\, 2019\, & 2020\nAvailable in Public & Private events.
URL:https://864foodtrucks.com/event/one-love-fusion-foods-piney-mountain-bike-lounge/
LOCATION:Piney Mountain Bike Lounge\, 20 Piney Mountain Rd\, Greenville\, South Carolina
CATEGORIES:Food Truck Schedules,Greenville
ATTACH;FMTTYPE=image/jpeg:https://864foodtrucks.com/wp-content/uploads/2019/10/One-Love-Truck.jpg
ORGANIZER;CN="One Love Fusion Foods":MAILTO:OneLoveFusionFoods@gmail.com
GEO:34.8913881;-82.373773
X-APPLE-STRUCTURED-LOCATION;VALUE=URI;X-ADDRESS=Piney Mountain Bike Lounge 20 Piney Mountain Rd Greenville South Carolina;X-APPLE-RADIUS=500;X-TITLE=20 Piney Mountain Rd:geo:-82.373773,34.8913881
END:VEVENT
BEGIN:VEVENT
DTSTART;TZID=America/New_York:20260423T173000
DTEND;TZID=America/New_York:20260423T200000
DTSTAMP:20260423T155131
CREATED:20250105T225028Z
LAST-MODIFIED:20250105T225028Z
UID:62037-1776965400-1776974400@864foodtrucks.com
SUMMARY:The Noodle Lady @ Grateful Brew
DESCRIPTION:Authentic Chinese dishes for catering and events. Artisan Noodles and 100% Natural. Check out here our events calendar in Greenville\, South Carolina. #TheNoodleLady
URL:https://864foodtrucks.com/event/the-noodle-lady-grateful-brew-2/2026-04-23/
LOCATION:Grateful Brew\, 501 S Pleasantburg Dr\, Greenville\, SC\, 29607\, United States
CATEGORIES:Food Truck Schedules,Greenville
ATTACH;FMTTYPE=image/jpeg:https://864foodtrucks.com/wp-content/uploads/2023/07/Noodle-lady.jpg
ORGANIZER;CN="The Noodle Lady":MAILTO:thenoodlelady@yahoo.com
GEO:34.8292844;-82.36962
X-APPLE-STRUCTURED-LOCATION;VALUE=URI;X-ADDRESS=Grateful Brew 501 S Pleasantburg Dr Greenville SC 29607 United States;X-APPLE-RADIUS=500;X-TITLE=501 S Pleasantburg Dr:geo:-82.36962,34.8292844
END:VEVENT
BEGIN:VEVENT
DTSTART;TZID=America/New_York:20260424T120000
DTEND;TZID=America/New_York:20260424T140000
DTSTAMP:20260423T155131
CREATED:20250406T205248Z
LAST-MODIFIED:20250406T205248Z
UID:62060-1777032000-1777039200@864foodtrucks.com
SUMMARY:Cinnabon @ Greenville High School
DESCRIPTION:Cinnabon Food Truck Greenville
URL:https://864foodtrucks.com/event/cinnabon-greenville-high-school/2026-04-24/
LOCATION:Greenville High School\, 1 Vardry St\, Greenville\, SC\, 29601\, United States
CATEGORIES:Food Truck Schedules,Greenville
ATTACH;FMTTYPE=image/jpeg:https://864foodtrucks.com/wp-content/uploads/2024/12/326870080_1829549937401559_2632445834433428235_n-2.jpg
ORGANIZER;CN="Cinnabon Greenville":MAILTO:info@hotbonssc.com
GEO:34.8396843;-82.4082603
X-APPLE-STRUCTURED-LOCATION;VALUE=URI;X-ADDRESS=Greenville High School 1 Vardry St Greenville SC 29601 United States;X-APPLE-RADIUS=500;X-TITLE=1 Vardry St:geo:-82.4082603,34.8396843
END:VEVENT
BEGIN:VEVENT
DTSTART;TZID=America/New_York:20260424T160000
DTEND;TZID=America/New_York:20260424T200000
DTSTAMP:20260423T155131
CREATED:20241224T150028Z
LAST-MODIFIED:20241224T150028Z
UID:62107-1777046400-1777060800@864foodtrucks.com
SUMMARY:Boyos Burgers @ The Community Tap
DESCRIPTION:Specialty handmade burgers with homemade chips served by a family of food lovers.
URL:https://864foodtrucks.com/event/boyos-burgers-the-community-tap/2026-04-24/
LOCATION:The Community Tap\, 217 Wade Hampton Blvd\, Greenville\, South Carolina
CATEGORIES:Food Truck Schedules,Greenville
ATTACH;FMTTYPE=image/jpeg:https://864foodtrucks.com/wp-content/uploads/2024/12/Boyos-Burgers.jpg
ORGANIZER;CN="Boyos Burgers":MAILTO:boyosburgersandchips@gmail.com
GEO:34.8625763;-82.3857613
X-APPLE-STRUCTURED-LOCATION;VALUE=URI;X-ADDRESS=The Community Tap 217 Wade Hampton Blvd Greenville South Carolina;X-APPLE-RADIUS=500;X-TITLE=217 Wade Hampton Blvd:geo:-82.3857613,34.8625763
END:VEVENT
BEGIN:VEVENT
DTSTART;TZID=America/New_York:20260424T173000
DTEND;TZID=America/New_York:20260424T193000
DTSTAMP:20260423T155131
CREATED:20241028T001540Z
LAST-MODIFIED:20241028T001540Z
UID:62038-1777051800-1777059000@864foodtrucks.com
SUMMARY:The Noodle Lady @ Piney Mountain Bike Lounge
DESCRIPTION:Authentic Chinese dishes for catering and events. Artisan Noodles and 100% Natural. Check out here our events calendar in Greenville\, South Carolina. #TheNoodleLady
URL:https://864foodtrucks.com/event/the-noodle-lady-piney-mountain-bike-lounge-2/2026-04-24/
LOCATION:Piney Mountain Bike Lounge\, 20 Piney Mountain Rd\, Greenville\, South Carolina
CATEGORIES:Food Truck Schedules,Greenville
ATTACH;FMTTYPE=image/jpeg:https://864foodtrucks.com/wp-content/uploads/2023/07/Noodle-lady.jpg
ORGANIZER;CN="The Noodle Lady":MAILTO:thenoodlelady@yahoo.com
GEO:34.8913881;-82.373773
X-APPLE-STRUCTURED-LOCATION;VALUE=URI;X-ADDRESS=Piney Mountain Bike Lounge 20 Piney Mountain Rd Greenville South Carolina;X-APPLE-RADIUS=500;X-TITLE=20 Piney Mountain Rd:geo:-82.373773,34.8913881
END:VEVENT
BEGIN:VEVENT
DTSTART;TZID=America/New_York:20260424T173000
DTEND;TZID=America/New_York:20260424T200000
DTSTAMP:20260423T155131
CREATED:20250217T193719Z
LAST-MODIFIED:20250217T193719Z
UID:62073-1777051800-1777060800@864foodtrucks.com
SUMMARY:Electric Food Truck @ Grateful Brew
DESCRIPTION:We are the world’s first all electric food truck\, serving Greenville\, SC.
URL:https://864foodtrucks.com/event/grateful-brew-electric-food-truck/2026-04-24/
LOCATION:Grateful Brew\, 501 S Pleasantburg Dr\, Greenville\, SC\, 29607\, United States
CATEGORIES:Food Truck Schedules,Greenville
ATTACH;FMTTYPE=image/jpeg:https://864foodtrucks.com/wp-content/uploads/2023/03/Electric-Food-Truck.jpg
ORGANIZER;CN="The Electric Food Truck":MAILTO:team@theelectricfoodtruck.com
GEO:34.8292844;-82.36962
X-APPLE-STRUCTURED-LOCATION;VALUE=URI;X-ADDRESS=Grateful Brew 501 S Pleasantburg Dr Greenville SC 29607 United States;X-APPLE-RADIUS=500;X-TITLE=501 S Pleasantburg Dr:geo:-82.36962,34.8292844
END:VEVENT
BEGIN:VEVENT
DTSTART;TZID=America/New_York:20260424T180000
DTEND;TZID=America/New_York:20260424T220000
DTSTAMP:20260423T155132
CREATED:20230703T181551Z
LAST-MODIFIED:20230703T181551Z
UID:62044-1777053600-1777068000@864foodtrucks.com
SUMMARY:Local Pie Pizza Co @ Unity Park
DESCRIPTION:Artisan Pizza Food Truck
URL:https://864foodtrucks.com/event/local-pie-pizza-co-unity-park/2026-04-24/
LOCATION:Unity Park\, 320 S Hudson St\, Greenville\, South Carolina
CATEGORIES:Food Truck Schedules,Greenville
ATTACH;FMTTYPE=image/png:https://864foodtrucks.com/wp-content/uploads/2023/07/Local-Pie-Pizza-Co.png
ORGANIZER;CN="Local Pie Pizza Company":MAILTO:cory@localpiepizzacompany.com
GEO:34.850656;-82.41013
X-APPLE-STRUCTURED-LOCATION;VALUE=URI;X-ADDRESS=Unity Park 320 S Hudson St Greenville South Carolina;X-APPLE-RADIUS=500;X-TITLE=320 S Hudson St:geo:-82.41013,34.850656
END:VEVENT
BEGIN:VEVENT
DTSTART;TZID=America/New_York:20260425T083000
DTEND;TZID=America/New_York:20260425T083000
DTSTAMP:20260423T155132
CREATED:20250217T222338Z
LAST-MODIFIED:20250217T222338Z
UID:62075-1777105800-1777105800@864foodtrucks.com
SUMMARY:Scout's Doughnuts @ Grateful Brew
DESCRIPTION:Handcrafted 100 Layer Doughnuts\nMade in Greenville\, SC #SweeterTogether
URL:https://864foodtrucks.com/event/scouts-doughnuts-grateful-brew-2/2026-04-25/
LOCATION:Grateful Brew\, 501 S Pleasantburg Dr\, Greenville\, SC\, 29607\, United States
CATEGORIES:Food Truck Schedules,Greenville
ATTACH;FMTTYPE=image/jpeg:https://864foodtrucks.com/wp-content/uploads/2022/08/Scouts-Doughnuts-1.jpg
ORGANIZER;CN="Scouts Doughnuts":MAILTO:hello@scoutsdoughnuts.com
GEO:34.8292844;-82.36962
X-APPLE-STRUCTURED-LOCATION;VALUE=URI;X-ADDRESS=Grateful Brew 501 S Pleasantburg Dr Greenville SC 29607 United States;X-APPLE-RADIUS=500;X-TITLE=501 S Pleasantburg Dr:geo:-82.36962,34.8292844
END:VEVENT
BEGIN:VEVENT
DTSTART;TZID=America/New_York:20260425T100000
DTEND;TZID=America/New_York:20260425T130000
DTSTAMP:20260423T155132
CREATED:20260421T172652Z
LAST-MODIFIED:20260421T172652Z
UID:62144-1777111200-1777122000@864foodtrucks.com
SUMMARY:One Love Fusion Foods @ Benefit Car Show
DESCRIPTION:Global Flavors. Local Favorites.\nUS Foods’ Silver Spoon Champion 2017 & 2018\n1st Place at Fall for Greenville 2017 & 2018\nVoted Top 5 Best Food Trucks in the Upstate 2018\, 2019\, & 2020\nAvailable in Public & Private events.
URL:https://864foodtrucks.com/event/one-love-fusion-foods-benefit-car-show/
LOCATION:Front Porch on Cleveland\, 1433 Cleveland St\, Greevnille\, South Carolina
CATEGORIES:Food Truck Schedules,Greenville
ATTACH;FMTTYPE=image/jpeg:https://864foodtrucks.com/wp-content/uploads/2019/10/One-Love-Truck.jpg
ORGANIZER;CN="One Love Fusion Foods":MAILTO:OneLoveFusionFoods@gmail.com
GEO:34.8228362;-82.3737934
X-APPLE-STRUCTURED-LOCATION;VALUE=URI;X-ADDRESS=Front Porch on Cleveland 1433 Cleveland St Greevnille South Carolina;X-APPLE-RADIUS=500;X-TITLE=1433 Cleveland St:geo:-82.3737934,34.8228362
END:VEVENT
BEGIN:VEVENT
DTSTART;TZID=America/New_York:20260426T110000
DTEND;TZID=America/New_York:20260426T140000
DTSTAMP:20260423T155132
CREATED:20260210T183042Z
LAST-MODIFIED:20260210T183042Z
UID:59645-1777201200-1777212000@864foodtrucks.com
SUMMARY:We Got the Beets @ Swamp Rabbit Cafe
DESCRIPTION:FOOD FOR ALL!\nPowered by love…and plants 🌱🌈\n📍 Greenville\, SC
URL:https://864foodtrucks.com/event/we-got-the-beets-swamp-rabbit-cafe/2026-04-26/
LOCATION:Swamp Rabbit Cafe\, 205 Cedar Lane Road\, Greenville\, South Carolina
CATEGORIES:Food Truck Schedules,Greenville
ATTACH;FMTTYPE=image/jpeg:https://864foodtrucks.com/wp-content/uploads/2023/10/We-Got-the-Beets.jpg
GEO:34.8694785;-82.4214201
X-APPLE-STRUCTURED-LOCATION;VALUE=URI;X-ADDRESS=Swamp Rabbit Cafe 205 Cedar Lane Road Greenville South Carolina;X-APPLE-RADIUS=500;X-TITLE=205 Cedar Lane Road:geo:-82.4214201,34.8694785
END:VEVENT
END:VCALENDAR