BEGIN:VCALENDAR
VERSION:2.0
PRODID:-//864 Food Trucks - ECPv6.15.20//NONSGML v1.0//EN
CALSCALE:GREGORIAN
METHOD:PUBLISH
X-ORIGINAL-URL:https://864foodtrucks.com
X-WR-CALDESC:Events for 864 Food Trucks
REFRESH-INTERVAL;VALUE=DURATION:PT1H
X-Robots-Tag:noindex
X-PUBLISHED-TTL:PT1H
BEGIN:VTIMEZONE
TZID:America/New_York
BEGIN:DAYLIGHT
TZOFFSETFROM:-0500
TZOFFSETTO:-0400
TZNAME:EDT
DTSTART:20230312T070000
END:DAYLIGHT
BEGIN:STANDARD
TZOFFSETFROM:-0400
TZOFFSETTO:-0500
TZNAME:EST
DTSTART:20231105T060000
END:STANDARD
BEGIN:DAYLIGHT
TZOFFSETFROM:-0500
TZOFFSETTO:-0400
TZNAME:EDT
DTSTART:20240310T070000
END:DAYLIGHT
BEGIN:STANDARD
TZOFFSETFROM:-0400
TZOFFSETTO:-0500
TZNAME:EST
DTSTART:20241103T060000
END:STANDARD
BEGIN:DAYLIGHT
TZOFFSETFROM:-0500
TZOFFSETTO:-0400
TZNAME:EDT
DTSTART:20250309T070000
END:DAYLIGHT
BEGIN:STANDARD
TZOFFSETFROM:-0400
TZOFFSETTO:-0500
TZNAME:EST
DTSTART:20251102T060000
END:STANDARD
BEGIN:DAYLIGHT
TZOFFSETFROM:-0500
TZOFFSETTO:-0400
TZNAME:EDT
DTSTART:20260308T070000
END:DAYLIGHT
BEGIN:STANDARD
TZOFFSETFROM:-0400
TZOFFSETTO:-0500
TZNAME:EST
DTSTART:20261101T060000
END:STANDARD
END:VTIMEZONE
BEGIN:VEVENT
DTSTART;TZID=America/New_York:20251115T090000
DTEND;TZID=America/New_York:20251115T140000
DTSTAMP:20260425T201739
CREATED:20251021T124207Z
LAST-MODIFIED:20260421T172827Z
UID:56179-1763197200-1763215200@864foodtrucks.com
SUMMARY:The Rolling Dough @ Greenwood Hobby Lobby
DESCRIPTION:
URL:https://864foodtrucks.com/event/the-rolling-dough-greenwood-hobby-lobby/2025-11-15/
LOCATION:Hobby Lobby Greenwood\, 315 By-Pass 72 NW\, Greenwood\, 29649
CATEGORIES:Food Truck Schedules,Greenwood
ATTACH;FMTTYPE=image/jpeg:https://864foodtrucks.com/wp-content/uploads/2021/05/The-Rolling-Dough-Company-Truck.jpg
ORGANIZER;CN="The Rolling Dough Company":MAILTO:therollingdoughco@yahoo.com
GEO:34.2096048;-82.1777896
X-APPLE-STRUCTURED-LOCATION;VALUE=URI;X-ADDRESS=Hobby Lobby Greenwood 315 By-Pass 72 NW Greenwood 29649;X-APPLE-RADIUS=500;X-TITLE=315 By-Pass 72 NW:geo:-82.1777896,34.2096048
END:VEVENT
BEGIN:VEVENT
DTSTART;TZID=America/New_York:20251112T070000
DTEND;TZID=America/New_York:20251112T130000
DTSTAMP:20260425T201739
CREATED:20251021T124207Z
LAST-MODIFIED:20260421T172827Z
UID:56178-1762930800-1762952400@864foodtrucks.com
SUMMARY:The Rolling Dough @ Greenwood Hobby Lobby
DESCRIPTION:
URL:https://864foodtrucks.com/event/the-rolling-dough-greenwood-hobby-lobby/2025-11-12/
LOCATION:Hobby Lobby Greenwood\, 315 By-Pass 72 NW\, Greenwood\, 29649
CATEGORIES:Food Truck Schedules,Greenwood
ATTACH;FMTTYPE=image/jpeg:https://864foodtrucks.com/wp-content/uploads/2021/05/The-Rolling-Dough-Company-Truck.jpg
ORGANIZER;CN="The Rolling Dough Company":MAILTO:therollingdoughco@yahoo.com
GEO:34.2096048;-82.1777896
X-APPLE-STRUCTURED-LOCATION;VALUE=URI;X-ADDRESS=Hobby Lobby Greenwood 315 By-Pass 72 NW Greenwood 29649;X-APPLE-RADIUS=500;X-TITLE=315 By-Pass 72 NW:geo:-82.1777896,34.2096048
END:VEVENT
BEGIN:VEVENT
DTSTART;TZID=America/New_York:20251105T070000
DTEND;TZID=America/New_York:20251105T130000
DTSTAMP:20260425T201739
CREATED:20251021T124207Z
LAST-MODIFIED:20260421T172827Z
UID:55954-1762326000-1762347600@864foodtrucks.com
SUMMARY:The Rolling Dough @ Greenwood Hobby Lobby
DESCRIPTION:
URL:https://864foodtrucks.com/event/the-rolling-dough-greenwood-hobby-lobby/2025-11-05/
LOCATION:Hobby Lobby Greenwood\, 315 By-Pass 72 NW\, Greenwood\, 29649
CATEGORIES:Food Truck Schedules,Greenwood
ATTACH;FMTTYPE=image/jpeg:https://864foodtrucks.com/wp-content/uploads/2021/05/The-Rolling-Dough-Company-Truck.jpg
ORGANIZER;CN="The Rolling Dough Company":MAILTO:therollingdoughco@yahoo.com
GEO:34.2096048;-82.1777896
X-APPLE-STRUCTURED-LOCATION;VALUE=URI;X-ADDRESS=Hobby Lobby Greenwood 315 By-Pass 72 NW Greenwood 29649;X-APPLE-RADIUS=500;X-TITLE=315 By-Pass 72 NW:geo:-82.1777896,34.2096048
END:VEVENT
BEGIN:VEVENT
DTSTART;TZID=America/New_York:20251101T090000
DTEND;TZID=America/New_York:20251101T140000
DTSTAMP:20260425T201739
CREATED:20251021T124207Z
LAST-MODIFIED:20260421T172826Z
UID:55722-1761987600-1762005600@864foodtrucks.com
SUMMARY:The Rolling Dough @ Greenwood Hobby Lobby
DESCRIPTION:
URL:https://864foodtrucks.com/event/the-rolling-dough-greenwood-hobby-lobby/2025-11-01/
LOCATION:Hobby Lobby Greenwood\, 315 By-Pass 72 NW\, Greenwood\, 29649
CATEGORIES:Food Truck Schedules,Greenwood
ATTACH;FMTTYPE=image/jpeg:https://864foodtrucks.com/wp-content/uploads/2021/05/The-Rolling-Dough-Company-Truck.jpg
ORGANIZER;CN="The Rolling Dough Company":MAILTO:therollingdoughco@yahoo.com
GEO:34.2096048;-82.1777896
X-APPLE-STRUCTURED-LOCATION;VALUE=URI;X-ADDRESS=Hobby Lobby Greenwood 315 By-Pass 72 NW Greenwood 29649;X-APPLE-RADIUS=500;X-TITLE=315 By-Pass 72 NW:geo:-82.1777896,34.2096048
END:VEVENT
BEGIN:VEVENT
DTSTART;TZID=America/New_York:20251029T070000
DTEND;TZID=America/New_York:20251029T130000
DTSTAMP:20260425T201739
CREATED:20251021T124207Z
LAST-MODIFIED:20260421T172826Z
UID:55628-1761721200-1761742800@864foodtrucks.com
SUMMARY:The Rolling Dough @ Greenwood Hobby Lobby
DESCRIPTION:
URL:https://864foodtrucks.com/event/the-rolling-dough-greenwood-hobby-lobby/2025-10-29/
LOCATION:Hobby Lobby Greenwood\, 315 By-Pass 72 NW\, Greenwood\, 29649
CATEGORIES:Food Truck Schedules,Greenwood
ATTACH;FMTTYPE=image/jpeg:https://864foodtrucks.com/wp-content/uploads/2021/05/The-Rolling-Dough-Company-Truck.jpg
ORGANIZER;CN="The Rolling Dough Company":MAILTO:therollingdoughco@yahoo.com
GEO:34.2096048;-82.1777896
X-APPLE-STRUCTURED-LOCATION;VALUE=URI;X-ADDRESS=Hobby Lobby Greenwood 315 By-Pass 72 NW Greenwood 29649;X-APPLE-RADIUS=500;X-TITLE=315 By-Pass 72 NW:geo:-82.1777896,34.2096048
END:VEVENT
BEGIN:VEVENT
DTSTART;TZID=America/New_York:20251025T090000
DTEND;TZID=America/New_York:20251025T140000
DTSTAMP:20260425T201739
CREATED:20251021T124207Z
LAST-MODIFIED:20260421T172826Z
UID:55378-1761382800-1761400800@864foodtrucks.com
SUMMARY:The Rolling Dough @ Greenwood Hobby Lobby
DESCRIPTION:
URL:https://864foodtrucks.com/event/the-rolling-dough-greenwood-hobby-lobby/2025-10-25/
LOCATION:Hobby Lobby Greenwood\, 315 By-Pass 72 NW\, Greenwood\, 29649
CATEGORIES:Food Truck Schedules,Greenwood
ATTACH;FMTTYPE=image/jpeg:https://864foodtrucks.com/wp-content/uploads/2021/05/The-Rolling-Dough-Company-Truck.jpg
ORGANIZER;CN="The Rolling Dough Company":MAILTO:therollingdoughco@yahoo.com
GEO:34.2096048;-82.1777896
X-APPLE-STRUCTURED-LOCATION;VALUE=URI;X-ADDRESS=Hobby Lobby Greenwood 315 By-Pass 72 NW Greenwood 29649;X-APPLE-RADIUS=500;X-TITLE=315 By-Pass 72 NW:geo:-82.1777896,34.2096048
END:VEVENT
BEGIN:VEVENT
DTSTART;TZID=America/New_York:20251022T070000
DTEND;TZID=America/New_York:20251022T130000
DTSTAMP:20260425T201739
CREATED:20251021T124207Z
LAST-MODIFIED:20260421T172824Z
UID:55377-1761116400-1761138000@864foodtrucks.com
SUMMARY:The Rolling Dough @ Greenwood Hobby Lobby
DESCRIPTION:
URL:https://864foodtrucks.com/event/the-rolling-dough-greenwood-hobby-lobby/2025-10-22/
LOCATION:Hobby Lobby Greenwood\, 315 By-Pass 72 NW\, Greenwood\, 29649
CATEGORIES:Food Truck Schedules,Greenwood
ATTACH;FMTTYPE=image/jpeg:https://864foodtrucks.com/wp-content/uploads/2021/05/The-Rolling-Dough-Company-Truck.jpg
ORGANIZER;CN="The Rolling Dough Company":MAILTO:therollingdoughco@yahoo.com
GEO:34.2096048;-82.1777896
X-APPLE-STRUCTURED-LOCATION;VALUE=URI;X-ADDRESS=Hobby Lobby Greenwood 315 By-Pass 72 NW Greenwood 29649;X-APPLE-RADIUS=500;X-TITLE=315 By-Pass 72 NW:geo:-82.1777896,34.2096048
END:VEVENT
BEGIN:VEVENT
DTSTART;TZID=America/New_York:20251011T090000
DTEND;TZID=America/New_York:20251011T140000
DTSTAMP:20260425T201739
CREATED:20250210T235244Z
LAST-MODIFIED:20250210T235244Z
UID:54865-1760173200-1760191200@864foodtrucks.com
SUMMARY:Rolling Dough @ Greenwood Hobby Lobby
DESCRIPTION:
URL:https://864foodtrucks.com/event/rolling-dough-greenwood-hobby-lobby/2025-10-11/
LOCATION:Hobby Lobby Greenwood\, 315 By-Pass 72 NW\, Greenwood\, 29649
CATEGORIES:Food Truck Schedules,Greenwood
ATTACH;FMTTYPE=image/jpeg:https://864foodtrucks.com/wp-content/uploads/2021/05/The-Rolling-Dough-Company-Truck.jpg
ORGANIZER;CN="The Rolling Dough Company":MAILTO:therollingdoughco@yahoo.com
GEO:34.2096048;-82.1777896
X-APPLE-STRUCTURED-LOCATION;VALUE=URI;X-ADDRESS=Hobby Lobby Greenwood 315 By-Pass 72 NW Greenwood 29649;X-APPLE-RADIUS=500;X-TITLE=315 By-Pass 72 NW:geo:-82.1777896,34.2096048
END:VEVENT
BEGIN:VEVENT
DTSTART;TZID=America/New_York:20251008T070000
DTEND;TZID=America/New_York:20251008T130000
DTSTAMP:20260425T201739
CREATED:20250210T235244Z
LAST-MODIFIED:20250210T235244Z
UID:54864-1759906800-1759928400@864foodtrucks.com
SUMMARY:Rolling Dough @ Greenwood Hobby Lobby
DESCRIPTION:
URL:https://864foodtrucks.com/event/rolling-dough-greenwood-hobby-lobby/2025-10-08/
LOCATION:Hobby Lobby Greenwood\, 315 By-Pass 72 NW\, Greenwood\, 29649
CATEGORIES:Food Truck Schedules,Greenwood
ATTACH;FMTTYPE=image/jpeg:https://864foodtrucks.com/wp-content/uploads/2021/05/The-Rolling-Dough-Company-Truck.jpg
ORGANIZER;CN="The Rolling Dough Company":MAILTO:therollingdoughco@yahoo.com
GEO:34.2096048;-82.1777896
X-APPLE-STRUCTURED-LOCATION;VALUE=URI;X-ADDRESS=Hobby Lobby Greenwood 315 By-Pass 72 NW Greenwood 29649;X-APPLE-RADIUS=500;X-TITLE=315 By-Pass 72 NW:geo:-82.1777896,34.2096048
END:VEVENT
BEGIN:VEVENT
DTSTART;TZID=America/New_York:20251001T070000
DTEND;TZID=America/New_York:20251001T130000
DTSTAMP:20260425T201739
CREATED:20250210T235244Z
LAST-MODIFIED:20250210T235244Z
UID:54863-1759302000-1759323600@864foodtrucks.com
SUMMARY:Rolling Dough @ Greenwood Hobby Lobby
DESCRIPTION:
URL:https://864foodtrucks.com/event/rolling-dough-greenwood-hobby-lobby/2025-10-01/
LOCATION:Hobby Lobby Greenwood\, 315 By-Pass 72 NW\, Greenwood\, 29649
CATEGORIES:Food Truck Schedules,Greenwood
ATTACH;FMTTYPE=image/jpeg:https://864foodtrucks.com/wp-content/uploads/2021/05/The-Rolling-Dough-Company-Truck.jpg
ORGANIZER;CN="The Rolling Dough Company":MAILTO:therollingdoughco@yahoo.com
GEO:34.2096048;-82.1777896
X-APPLE-STRUCTURED-LOCATION;VALUE=URI;X-ADDRESS=Hobby Lobby Greenwood 315 By-Pass 72 NW Greenwood 29649;X-APPLE-RADIUS=500;X-TITLE=315 By-Pass 72 NW:geo:-82.1777896,34.2096048
END:VEVENT
BEGIN:VEVENT
DTSTART;TZID=America/New_York:20250920T090000
DTEND;TZID=America/New_York:20250920T140000
DTSTAMP:20260425T201739
CREATED:20250210T235244Z
LAST-MODIFIED:20251007T001943Z
UID:54173-1758358800-1758376800@864foodtrucks.com
SUMMARY:Rolling Dough @ Greenwood Hobby Lobby
DESCRIPTION:
URL:https://864foodtrucks.com/event/rolling-dough-greenwood-hobby-lobby/2025-09-20/
LOCATION:Hobby Lobby Greenwood\, 315 By-Pass 72 NW\, Greenwood\, 29649
CATEGORIES:Food Truck Schedules,Greenwood
ATTACH;FMTTYPE=image/jpeg:https://864foodtrucks.com/wp-content/uploads/2021/05/The-Rolling-Dough-Company-Truck.jpg
ORGANIZER;CN="The Rolling Dough Company":MAILTO:therollingdoughco@yahoo.com
GEO:34.2096048;-82.1777896
X-APPLE-STRUCTURED-LOCATION;VALUE=URI;X-ADDRESS=Hobby Lobby Greenwood 315 By-Pass 72 NW Greenwood 29649;X-APPLE-RADIUS=500;X-TITLE=315 By-Pass 72 NW:geo:-82.1777896,34.2096048
END:VEVENT
BEGIN:VEVENT
DTSTART;TZID=America/New_York:20250917T070000
DTEND;TZID=America/New_York:20250917T130000
DTSTAMP:20260425T201739
CREATED:20250210T235244Z
LAST-MODIFIED:20251007T001942Z
UID:54172-1758092400-1758114000@864foodtrucks.com
SUMMARY:Rolling Dough @ Greenwood Hobby Lobby
DESCRIPTION:
URL:https://864foodtrucks.com/event/rolling-dough-greenwood-hobby-lobby/2025-09-17/
LOCATION:Hobby Lobby Greenwood\, 315 By-Pass 72 NW\, Greenwood\, 29649
CATEGORIES:Food Truck Schedules,Greenwood
ATTACH;FMTTYPE=image/jpeg:https://864foodtrucks.com/wp-content/uploads/2021/05/The-Rolling-Dough-Company-Truck.jpg
ORGANIZER;CN="The Rolling Dough Company":MAILTO:therollingdoughco@yahoo.com
GEO:34.2096048;-82.1777896
X-APPLE-STRUCTURED-LOCATION;VALUE=URI;X-ADDRESS=Hobby Lobby Greenwood 315 By-Pass 72 NW Greenwood 29649;X-APPLE-RADIUS=500;X-TITLE=315 By-Pass 72 NW:geo:-82.1777896,34.2096048
END:VEVENT
BEGIN:VEVENT
DTSTART;TZID=America/New_York:20250906T090000
DTEND;TZID=America/New_York:20250906T140000
DTSTAMP:20260425T201739
CREATED:20250210T235244Z
LAST-MODIFIED:20251007T001942Z
UID:53042-1757149200-1757167200@864foodtrucks.com
SUMMARY:Rolling Dough @ Greenwood Hobby Lobby
DESCRIPTION:
URL:https://864foodtrucks.com/event/rolling-dough-greenwood-hobby-lobby/2025-09-06/
LOCATION:Hobby Lobby Greenwood\, 315 By-Pass 72 NW\, Greenwood\, 29649
CATEGORIES:Food Truck Schedules,Greenwood
ATTACH;FMTTYPE=image/jpeg:https://864foodtrucks.com/wp-content/uploads/2021/05/The-Rolling-Dough-Company-Truck.jpg
ORGANIZER;CN="The Rolling Dough Company":MAILTO:therollingdoughco@yahoo.com
GEO:34.2096048;-82.1777896
X-APPLE-STRUCTURED-LOCATION;VALUE=URI;X-ADDRESS=Hobby Lobby Greenwood 315 By-Pass 72 NW Greenwood 29649;X-APPLE-RADIUS=500;X-TITLE=315 By-Pass 72 NW:geo:-82.1777896,34.2096048
END:VEVENT
BEGIN:VEVENT
DTSTART;TZID=America/New_York:20250903T070000
DTEND;TZID=America/New_York:20250903T130000
DTSTAMP:20260425T201739
CREATED:20250210T235244Z
LAST-MODIFIED:20251007T001942Z
UID:53041-1756882800-1756904400@864foodtrucks.com
SUMMARY:Rolling Dough @ Greenwood Hobby Lobby
DESCRIPTION:
URL:https://864foodtrucks.com/event/rolling-dough-greenwood-hobby-lobby/2025-09-03/
LOCATION:Hobby Lobby Greenwood\, 315 By-Pass 72 NW\, Greenwood\, 29649
CATEGORIES:Food Truck Schedules,Greenwood
ATTACH;FMTTYPE=image/jpeg:https://864foodtrucks.com/wp-content/uploads/2021/05/The-Rolling-Dough-Company-Truck.jpg
ORGANIZER;CN="The Rolling Dough Company":MAILTO:therollingdoughco@yahoo.com
GEO:34.2096048;-82.1777896
X-APPLE-STRUCTURED-LOCATION;VALUE=URI;X-ADDRESS=Hobby Lobby Greenwood 315 By-Pass 72 NW Greenwood 29649;X-APPLE-RADIUS=500;X-TITLE=315 By-Pass 72 NW:geo:-82.1777896,34.2096048
END:VEVENT
BEGIN:VEVENT
DTSTART;TZID=America/New_York:20250830T090000
DTEND;TZID=America/New_York:20250830T140000
DTSTAMP:20260425T201739
CREATED:20250210T235244Z
LAST-MODIFIED:20251007T001942Z
UID:52831-1756544400-1756562400@864foodtrucks.com
SUMMARY:Rolling Dough @ Greenwood Hobby Lobby
DESCRIPTION:
URL:https://864foodtrucks.com/event/rolling-dough-greenwood-hobby-lobby/2025-08-30/
LOCATION:Hobby Lobby Greenwood\, 315 By-Pass 72 NW\, Greenwood\, 29649
CATEGORIES:Food Truck Schedules,Greenwood
ATTACH;FMTTYPE=image/jpeg:https://864foodtrucks.com/wp-content/uploads/2021/05/The-Rolling-Dough-Company-Truck.jpg
ORGANIZER;CN="The Rolling Dough Company":MAILTO:therollingdoughco@yahoo.com
GEO:34.2096048;-82.1777896
X-APPLE-STRUCTURED-LOCATION;VALUE=URI;X-ADDRESS=Hobby Lobby Greenwood 315 By-Pass 72 NW Greenwood 29649;X-APPLE-RADIUS=500;X-TITLE=315 By-Pass 72 NW:geo:-82.1777896,34.2096048
END:VEVENT
BEGIN:VEVENT
DTSTART;TZID=America/New_York:20250827T070000
DTEND;TZID=America/New_York:20250827T130000
DTSTAMP:20260425T201739
CREATED:20250210T235244Z
LAST-MODIFIED:20251007T001942Z
UID:52830-1756278000-1756299600@864foodtrucks.com
SUMMARY:Rolling Dough @ Greenwood Hobby Lobby
DESCRIPTION:
URL:https://864foodtrucks.com/event/rolling-dough-greenwood-hobby-lobby/2025-08-27/
LOCATION:Hobby Lobby Greenwood\, 315 By-Pass 72 NW\, Greenwood\, 29649
CATEGORIES:Food Truck Schedules,Greenwood
ATTACH;FMTTYPE=image/jpeg:https://864foodtrucks.com/wp-content/uploads/2021/05/The-Rolling-Dough-Company-Truck.jpg
ORGANIZER;CN="The Rolling Dough Company":MAILTO:therollingdoughco@yahoo.com
GEO:34.2096048;-82.1777896
X-APPLE-STRUCTURED-LOCATION;VALUE=URI;X-ADDRESS=Hobby Lobby Greenwood 315 By-Pass 72 NW Greenwood 29649;X-APPLE-RADIUS=500;X-TITLE=315 By-Pass 72 NW:geo:-82.1777896,34.2096048
END:VEVENT
BEGIN:VEVENT
DTSTART;TZID=America/New_York:20250723T110000
DTEND;TZID=America/New_York:20250723T130000
DTSTAMP:20260425T201739
CREATED:20250721T161913Z
LAST-MODIFIED:20250721T161913Z
UID:50673-1753268400-1753275600@864foodtrucks.com
SUMMARY:Spinx Cluk Truk @ Wesley Commons
DESCRIPTION:Your favorite southern fried chicken is hitting the road—and it’s going to be legendary. Our community comes first\, and we want to share that tender love by bringing our homegrown menu to you. The Cluk Truk is coming Fall 2020 to the Upstate!
URL:https://864foodtrucks.com/event/spinx-cluk-truk-wesley-commons/
LOCATION:Wesley Commons\, 1110 Marshall Rd\, Greenwood\, South Carolina
CATEGORIES:Food Truck Schedules,Greenwood
ATTACH;FMTTYPE=image/jpeg:https://864foodtrucks.com/wp-content/uploads/2021/05/Spinx-Cluk-Truk-Truck.jpg
ORGANIZER;CN="Spinx Cluk Truk":MAILTO:cluktruk@spinxco.com
GEO:34.1786592;-82.124125
X-APPLE-STRUCTURED-LOCATION;VALUE=URI;X-ADDRESS=Wesley Commons 1110 Marshall Rd Greenwood South Carolina;X-APPLE-RADIUS=500;X-TITLE=1110 Marshall Rd:geo:-82.124125,34.1786592
END:VEVENT
BEGIN:VEVENT
DTSTART;TZID=America/New_York:20250626T173000
DTEND;TZID=America/New_York:20250626T200000
DTSTAMP:20260425T201739
CREATED:20250625T001435Z
LAST-MODIFIED:20250625T001435Z
UID:49067-1750959000-1750968000@864foodtrucks.com
SUMMARY:Yum Bai @ Piney Mountain Bike Lounge
DESCRIPTION:Asian fusion street food
URL:https://864foodtrucks.com/event/yum-bai-piney-mountain-bike-lounge-2/
LOCATION:Piney Mountain Bike Lounge\, 20 Piney Mountain Rd\, Greenville\, South Carolina
CATEGORIES:Food Truck Schedules,Greenwood
ATTACH;FMTTYPE=image/jpeg:https://864foodtrucks.com/wp-content/uploads/2021/05/Yum-Bai.jpg
ORGANIZER;CN="Yum Bai":MAILTO:yumbaisc@gmail.com
GEO:34.8913881;-82.373773
X-APPLE-STRUCTURED-LOCATION;VALUE=URI;X-ADDRESS=Piney Mountain Bike Lounge 20 Piney Mountain Rd Greenville South Carolina;X-APPLE-RADIUS=500;X-TITLE=20 Piney Mountain Rd:geo:-82.373773,34.8913881
END:VEVENT
BEGIN:VEVENT
DTSTART;TZID=America/New_York:20250621T110000
DTEND;TZID=America/New_York:20250621T200000
DTSTAMP:20260425T201739
CREATED:20250616T214045Z
LAST-MODIFIED:20250616T214045Z
UID:48247-1750503600-1750536000@864foodtrucks.com
SUMMARY:Lai Sushi Express @ International Food Truck Fest
DESCRIPTION:Roll into flavor at our food truck! Serving fresh\, hand-crafted sushi and bold Asian (Lai) fusion!
URL:https://864foodtrucks.com/event/lai-sushi-express-international-food-truck-fest/
LOCATION:Oregon Ave Greenwood\, Oregon Ave\, Greenwood\, South Carolina
CATEGORIES:Food Truck Schedules,Greenwood
ATTACH;FMTTYPE=image/jpeg:https://864foodtrucks.com/wp-content/uploads/2025/04/Lai-Sushi-Express.jpg
ORGANIZER;CN="Lai Sushi Express":MAILTO:Laisushiexpress@gmail.com
GEO:34.1913491;-82.1618846
X-APPLE-STRUCTURED-LOCATION;VALUE=URI;X-ADDRESS=Oregon Ave Greenwood Oregon Ave Greenwood South Carolina;X-APPLE-RADIUS=500;X-TITLE=Oregon Ave:geo:-82.1618846,34.1913491
END:VEVENT
BEGIN:VEVENT
DTSTART;TZID=America/New_York:20250517T110000
DTEND;TZID=America/New_York:20250517T150000
DTSTAMP:20260425T201739
CREATED:20250514T162747Z
LAST-MODIFIED:20250514T162747Z
UID:45364-1747479600-1747494000@864foodtrucks.com
SUMMARY:Fuel Foods @ Pickle 4 Paws
DESCRIPTION:Fuel Foods – Food Truck & Catering\nClean\, Unique & Delicious!\nLocated in Clemson & Upstate\, SC 📍\nBook Us for Events! Contact for More Info!
URL:https://864foodtrucks.com/event/fuel-foods-pickle-4-paws/
LOCATION:Pickle 4 Paws\, Greenwood\, South Carolina
CATEGORIES:Food Truck Schedules,Greenwood
ATTACH;FMTTYPE=image/png:https://864foodtrucks.com/wp-content/uploads/2025/03/Fuel-Foods-.png
ORGANIZER;CN="Fuel Foods Food Truck":MAILTO:fuelfoods.truck@gmail.com
GEO:34.1954001;-82.1617883
END:VEVENT
BEGIN:VEVENT
DTSTART;TZID=America/New_York:20250329T110000
DTEND;TZID=America/New_York:20250329T150000
DTSTAMP:20260425T201739
CREATED:20250324T214659Z
LAST-MODIFIED:20250324T214659Z
UID:43302-1743246000-1743260400@864foodtrucks.com
SUMMARY:Fuel Foods @ Greenwood Spring Festival
DESCRIPTION:Fuel Foods – Food Truck & Catering\nClean\, Unique & Delicious!\nLocated in Clemson & Upstate\, SC 📍\nBook Us for Events! Contact for More Info!
URL:https://864foodtrucks.com/event/fuel-foods-greenwood-spring-festival/
LOCATION:Humane Society\, 2820 Airport Rd\, Greenwood\, South Carolina
CATEGORIES:Food Truck Schedules,Greenwood
ATTACH;FMTTYPE=image/png:https://864foodtrucks.com/wp-content/uploads/2025/03/Fuel-Foods-.png
ORGANIZER;CN="Fuel Foods Food Truck":MAILTO:fuelfoods.truck@gmail.com
GEO:34.2528849;-82.1402501
X-APPLE-STRUCTURED-LOCATION;VALUE=URI;X-ADDRESS=Humane Society 2820 Airport Rd Greenwood South Carolina;X-APPLE-RADIUS=500;X-TITLE=2820 Airport Rd:geo:-82.1402501,34.2528849
END:VEVENT
BEGIN:VEVENT
DTSTART;TZID=America/New_York:20250212T070000
DTEND;TZID=America/New_York:20250212T130000
DTSTAMP:20260425T201739
CREATED:20250210T235244Z
LAST-MODIFIED:20251007T001923Z
UID:42321-1739343600-1739365200@864foodtrucks.com
SUMMARY:Rolling Dough @ Greenwood Hobby Lobby
DESCRIPTION:
URL:https://864foodtrucks.com/event/rolling-dough-greenwood-hobby-lobby/2025-02-12/
LOCATION:Hobby Lobby Greenwood\, 315 By-Pass 72 NW\, Greenwood\, 29649
CATEGORIES:Food Truck Schedules,Greenwood
ATTACH;FMTTYPE=image/jpeg:https://864foodtrucks.com/wp-content/uploads/2021/05/The-Rolling-Dough-Company-Truck.jpg
ORGANIZER;CN="The Rolling Dough Company":MAILTO:therollingdoughco@yahoo.com
GEO:34.2096048;-82.1777896
X-APPLE-STRUCTURED-LOCATION;VALUE=URI;X-ADDRESS=Hobby Lobby Greenwood 315 By-Pass 72 NW Greenwood 29649;X-APPLE-RADIUS=500;X-TITLE=315 By-Pass 72 NW:geo:-82.1777896,34.2096048
END:VEVENT
BEGIN:VEVENT
DTSTART;TZID=America/New_York:20250129T070000
DTEND;TZID=America/New_York:20250129T130000
DTSTAMP:20260425T201739
CREATED:20250128T192128Z
LAST-MODIFIED:20250204T141144Z
UID:42042-1738134000-1738155600@864foodtrucks.com
SUMMARY:Rolling Dough @ Hobby Lobby Greenwood
DESCRIPTION:
URL:https://864foodtrucks.com/event/rolling-dough-hobby-lobby-greenwood/2025-01-29/
LOCATION:Hobby Lobby Greenwood\, 315 By-Pass 72 NW\, Greenwood\, 29649
CATEGORIES:Food Truck Schedules,Greenwood
ATTACH;FMTTYPE=image/jpeg:https://864foodtrucks.com/wp-content/uploads/2021/05/The-Rolling-Dough-Company-Truck.jpg
ORGANIZER;CN="The Rolling Dough Company":MAILTO:therollingdoughco@yahoo.com
GEO:34.2096048;-82.1777896
X-APPLE-STRUCTURED-LOCATION;VALUE=URI;X-ADDRESS=Hobby Lobby Greenwood 315 By-Pass 72 NW Greenwood 29649;X-APPLE-RADIUS=500;X-TITLE=315 By-Pass 72 NW:geo:-82.1777896,34.2096048
END:VEVENT
BEGIN:VEVENT
DTSTART;TZID=America/New_York:20241130T120000
DTEND;TZID=America/New_York:20241130T160000
DTSTAMP:20260425T201739
CREATED:20241125T221606Z
LAST-MODIFIED:20241125T221606Z
UID:40052-1732968000-1732982400@864foodtrucks.com
SUMMARY:Lobster Dogs @ North Creek Party Shop
DESCRIPTION:Food truck serving the Best Lobster Rolls & Stuffed Avocados in the Carolinas
URL:https://864foodtrucks.com/event/lobster-dogs-north-creek-party-shop-4/
LOCATION:North Creek Party Shop\, North Creek Boulevard 231\, Greenwood\, South Carolina\, 29649\, United States
CATEGORIES:Food Truck Schedules,Greenwood
ATTACH;FMTTYPE=image/jpeg:https://864foodtrucks.com/wp-content/uploads/2023/05/Churro-Masters-1.jpg
ORGANIZER;CN="Lobster Dogs":MAILTO:lobsterdogs3@gmail.com
GEO:34.2133849;-82.1827947
X-APPLE-STRUCTURED-LOCATION;VALUE=URI;X-ADDRESS=North Creek Party Shop North Creek Boulevard 231 Greenwood South Carolina 29649 United States;X-APPLE-RADIUS=500;X-TITLE=North Creek Boulevard 231:geo:-82.1827947,34.2133849
END:VEVENT
BEGIN:VEVENT
DTSTART;TZID=America/New_York:20241019T100000
DTEND;TZID=America/New_York:20241019T140000
DTSTAMP:20260425T201739
CREATED:20241011T192541Z
LAST-MODIFIED:20241011T192541Z
UID:39205-1729332000-1729346400@864foodtrucks.com
SUMMARY:Spinx Cluk Truk @ Steam Festival
DESCRIPTION:Your favorite southern fried chicken is hitting the road—and it’s going to be legendary. Our community comes first\, and we want to share that tender love by bringing our homegrown menu to you. The Cluk Truk is coming Fall 2020 to the Upstate!
URL:https://864foodtrucks.com/event/spinx-cluk-truk-steam-festival/
LOCATION:Upstate Steam Festival\, 220 Maxwell Ave\, Greenville\, South Carolina
CATEGORIES:Food Truck Schedules,Greenwood
ATTACH;FMTTYPE=image/jpeg:https://864foodtrucks.com/wp-content/uploads/2021/05/Spinx-Cluk-Truk-Truck.jpg
ORGANIZER;CN="Spinx Cluk Truk":MAILTO:cluktruk@spinxco.com
GEO:34.8526176;-82.3940104
X-APPLE-STRUCTURED-LOCATION;VALUE=URI;X-ADDRESS=Upstate Steam Festival 220 Maxwell Ave Greenville South Carolina;X-APPLE-RADIUS=500;X-TITLE=220 Maxwell Ave:geo:-82.3940104,34.8526176
END:VEVENT
BEGIN:VEVENT
DTSTART;TZID=America/New_York:20241012T120000
DTEND;TZID=America/New_York:20241012T170000
DTSTAMP:20260425T201739
CREATED:20241007T123416Z
LAST-MODIFIED:20241007T123416Z
UID:39108-1728734400-1728752400@864foodtrucks.com
SUMMARY:Lobster Dogs @ North Creek Party Shop
DESCRIPTION:Food truck serving the Best Lobster Rolls & Stuffed Avocados in the Carolinas
URL:https://864foodtrucks.com/event/lobster-dogs-north-creek-party-shop-3/
LOCATION:North Creek Party Shop\, North Creek Boulevard 231\, Greenwood\, South Carolina\, 29649\, United States
CATEGORIES:Food Truck Schedules,Greenwood
ATTACH;FMTTYPE=image/jpeg:https://864foodtrucks.com/wp-content/uploads/2021/05/lobster-dogs-Food-Truck.jpg
ORGANIZER;CN="Lobster Dogs":MAILTO:lobsterdogs3@gmail.com
GEO:34.2133849;-82.1827947
X-APPLE-STRUCTURED-LOCATION;VALUE=URI;X-ADDRESS=North Creek Party Shop North Creek Boulevard 231 Greenwood South Carolina 29649 United States;X-APPLE-RADIUS=500;X-TITLE=North Creek Boulevard 231:geo:-82.1827947,34.2133849
END:VEVENT
BEGIN:VEVENT
DTSTART;TZID=America/New_York:20240921T110000
DTEND;TZID=America/New_York:20240921T210000
DTSTAMP:20260425T201739
CREATED:20240915T164119Z
LAST-MODIFIED:20240915T164119Z
UID:38784-1726916400-1726952400@864foodtrucks.com
SUMMARY:Lobster Dogs @ Foodees Fest
DESCRIPTION:Food truck serving the Best Lobster Rolls & Stuffed Avocados in the Carolinas
URL:https://864foodtrucks.com/event/lobster-dogs-foodees-fest/2024-09-21/
LOCATION:Foodees Fest\, South Carolina 34\, Greenwood\, South Carolina\, United States
CATEGORIES:Food Truck Schedules,Greenwood
ATTACH;FMTTYPE=image/jpeg:https://864foodtrucks.com/wp-content/uploads/2021/05/lobster-dogs-Food-Truck.jpg
ORGANIZER;CN="Lobster Dogs":MAILTO:lobsterdogs3@gmail.com
GEO:34.2670443;-80.788048
X-APPLE-STRUCTURED-LOCATION;VALUE=URI;X-ADDRESS=Foodees Fest South Carolina 34 Greenwood South Carolina United States;X-APPLE-RADIUS=500;X-TITLE=South Carolina 34:geo:-80.788048,34.2670443
END:VEVENT
BEGIN:VEVENT
DTSTART;TZID=America/New_York:20240824T120000
DTEND;TZID=America/New_York:20240824T170000
DTSTAMP:20260425T201739
CREATED:20240818T211112Z
LAST-MODIFIED:20240818T211112Z
UID:33569-1724500800-1724518800@864foodtrucks.com
SUMMARY:Lobster Dogs @ North Creek Party Shop
DESCRIPTION:Food truck serving the Best Lobster Rolls & Stuffed Avocados in the Carolinas
URL:https://864foodtrucks.com/event/lobster-dogs-north-creek-party-shop-2/
LOCATION:North Creek Party Shop\, North Creek Boulevard 231\, Greenwood\, South Carolina\, 29649\, United States
CATEGORIES:Food Truck Schedules,Greenwood
ATTACH;FMTTYPE=image/jpeg:https://864foodtrucks.com/wp-content/uploads/2021/05/lobster-dogs-Food-Truck.jpg
ORGANIZER;CN="Lobster Dogs":MAILTO:lobsterdogs3@gmail.com
GEO:34.2133849;-82.1827947
X-APPLE-STRUCTURED-LOCATION;VALUE=URI;X-ADDRESS=North Creek Party Shop North Creek Boulevard 231 Greenwood South Carolina 29649 United States;X-APPLE-RADIUS=500;X-TITLE=North Creek Boulevard 231:geo:-82.1827947,34.2133849
END:VEVENT
BEGIN:VEVENT
DTSTART;TZID=America/New_York:20240713T120000
DTEND;TZID=America/New_York:20240713T170000
DTSTAMP:20260425T201739
CREATED:20240708T153102Z
LAST-MODIFIED:20240708T153102Z
UID:31461-1720872000-1720890000@864foodtrucks.com
SUMMARY:Lobster Dogs @ PetSmart Greenwood
DESCRIPTION:Food truck serving the Best Lobster Rolls & Stuffed Avocados in the Carolinas
URL:https://864foodtrucks.com/event/lobster-dogs-petsmart-greenwood/
LOCATION:PetSmart\, 150 E Blackstock Road\, Spartanburg\, South Carolina
CATEGORIES:Food Truck Schedules,Greenwood
ATTACH;FMTTYPE=image/jpeg:https://864foodtrucks.com/wp-content/uploads/2021/05/lobster-dogs-Food-Truck.jpg
ORGANIZER;CN="Lobster Dogs":MAILTO:lobsterdogs3@gmail.com
GEO:34.9317641;-81.9905511
X-APPLE-STRUCTURED-LOCATION;VALUE=URI;X-ADDRESS=PetSmart 150 E Blackstock Road Spartanburg South Carolina;X-APPLE-RADIUS=500;X-TITLE=150 E Blackstock Road:geo:-81.9905511,34.9317641
END:VEVENT
BEGIN:VEVENT
DTSTART;TZID=America/New_York:20240621T110000
DTEND;TZID=America/New_York:20240621T190000
DTSTAMP:20260425T201739
CREATED:20240616T204312Z
LAST-MODIFIED:20240616T204312Z
UID:28927-1718967600-1718996400@864foodtrucks.com
SUMMARY:Lobster Dogs @ North Creek Party Shop
DESCRIPTION:Food truck serving the Best Lobster Rolls & Stuffed Avocados in the Carolinas
URL:https://864foodtrucks.com/event/lobster-dogs-north-creek-party-shop/
LOCATION:North Creek Party Shop\, North Creek Boulevard 231\, Greenwood\, South Carolina\, 29649\, United States
CATEGORIES:Food Truck Schedules,Greenwood
ATTACH;FMTTYPE=image/jpeg:https://864foodtrucks.com/wp-content/uploads/2021/05/lobster-dogs-Food-Truck.jpg
ORGANIZER;CN="Lobster Dogs":MAILTO:lobsterdogs3@gmail.com
GEO:34.2133849;-82.1827947
X-APPLE-STRUCTURED-LOCATION;VALUE=URI;X-ADDRESS=North Creek Party Shop North Creek Boulevard 231 Greenwood South Carolina 29649 United States;X-APPLE-RADIUS=500;X-TITLE=North Creek Boulevard 231:geo:-82.1827947,34.2133849
END:VEVENT
END:VCALENDAR