BEGIN:VCALENDAR
VERSION:2.0
PRODID:-//864 Food Trucks - ECPv6.15.20//NONSGML v1.0//EN
CALSCALE:GREGORIAN
METHOD:PUBLISH
X-WR-CALNAME:864 Food Trucks
X-ORIGINAL-URL:https://864foodtrucks.com
X-WR-CALDESC:Events for 864 Food Trucks
REFRESH-INTERVAL;VALUE=DURATION:PT1H
X-Robots-Tag:noindex
X-PUBLISHED-TTL:PT1H
BEGIN:VTIMEZONE
TZID:America/New_York
BEGIN:DAYLIGHT
TZOFFSETFROM:-0500
TZOFFSETTO:-0400
TZNAME:EDT
DTSTART:20210314T070000
END:DAYLIGHT
BEGIN:STANDARD
TZOFFSETFROM:-0400
TZOFFSETTO:-0500
TZNAME:EST
DTSTART:20211107T060000
END:STANDARD
BEGIN:DAYLIGHT
TZOFFSETFROM:-0500
TZOFFSETTO:-0400
TZNAME:EDT
DTSTART:20220313T070000
END:DAYLIGHT
BEGIN:STANDARD
TZOFFSETFROM:-0400
TZOFFSETTO:-0500
TZNAME:EST
DTSTART:20221106T060000
END:STANDARD
BEGIN:DAYLIGHT
TZOFFSETFROM:-0500
TZOFFSETTO:-0400
TZNAME:EDT
DTSTART:20230312T070000
END:DAYLIGHT
BEGIN:STANDARD
TZOFFSETFROM:-0400
TZOFFSETTO:-0500
TZNAME:EST
DTSTART:20231105T060000
END:STANDARD
BEGIN:DAYLIGHT
TZOFFSETFROM:-0500
TZOFFSETTO:-0400
TZNAME:EDT
DTSTART:20240310T070000
END:DAYLIGHT
BEGIN:STANDARD
TZOFFSETFROM:-0400
TZOFFSETTO:-0500
TZNAME:EST
DTSTART:20241103T060000
END:STANDARD
BEGIN:DAYLIGHT
TZOFFSETFROM:-0500
TZOFFSETTO:-0400
TZNAME:EDT
DTSTART:20250309T070000
END:DAYLIGHT
BEGIN:STANDARD
TZOFFSETFROM:-0400
TZOFFSETTO:-0500
TZNAME:EST
DTSTART:20251102T060000
END:STANDARD
BEGIN:DAYLIGHT
TZOFFSETFROM:-0500
TZOFFSETTO:-0400
TZNAME:EDT
DTSTART:20260308T070000
END:DAYLIGHT
BEGIN:STANDARD
TZOFFSETFROM:-0400
TZOFFSETTO:-0500
TZNAME:EST
DTSTART:20261101T060000
END:STANDARD
BEGIN:DAYLIGHT
TZOFFSETFROM:-0500
TZOFFSETTO:-0400
TZNAME:EDT
DTSTART:20270314T070000
END:DAYLIGHT
BEGIN:STANDARD
TZOFFSETFROM:-0400
TZOFFSETTO:-0500
TZNAME:EST
DTSTART:20271107T060000
END:STANDARD
END:VTIMEZONE
BEGIN:VEVENT
DTSTART;TZID=America/New_York:20260419T120000
DTEND;TZID=America/New_York:20260419T160000
DTSTAMP:20260425T133105
CREATED:20260412T195036Z
LAST-MODIFIED:20260412T195036Z
UID:61797-1776600000-1776614400@864foodtrucks.com
SUMMARY:The Salted Fry @ Inman's Market on Mill
DESCRIPTION:100% Gluten Free Food Trailer! Crispy Belgian style pommes frites loaded with your choice of savory toppings. Choose from multiple house made sauces and unique ketchup flavors!
URL:https://864foodtrucks.com/event/the-salted-fry-inmans-market-on-mill/
LOCATION:Market on the Mill\, 22 Mill Street\, Inman\, South Carolina
CATEGORIES:Food Truck Schedules,Inman
ATTACH;FMTTYPE=image/jpeg:https://864foodtrucks.com/wp-content/uploads/2025/05/The-Salted-Fry-1.jpg
ORGANIZER;CN="The Salted Fry":MAILTO:thesaltedfry@gmail.com
GEO:35.0473299;-82.0916559
X-APPLE-STRUCTURED-LOCATION;VALUE=URI;X-ADDRESS=Market on the Mill 22 Mill Street Inman South Carolina;X-APPLE-RADIUS=500;X-TITLE=22 Mill Street:geo:-82.0916559,35.0473299
END:VEVENT
BEGIN:VEVENT
DTSTART;TZID=America/New_York:20251206T170000
DTEND;TZID=America/New_York:20251206T210000
DTSTAMP:20260425T133105
CREATED:20251202T135154Z
LAST-MODIFIED:20251202T135154Z
UID:57051-1765040400-1765054800@864foodtrucks.com
SUMMARY:Churro Masters @ Inman Christmas Parade
DESCRIPTION:Delicious CHURROS made fresh!
URL:https://864foodtrucks.com/event/churro-masters-inman-christmas-parade-2/
LOCATION:Downtown Inman\, Inman\, South Carolina
CATEGORIES:Food Truck Schedules,Inman
ATTACH;FMTTYPE=image/jpeg:https://864foodtrucks.com/wp-content/uploads/2025/03/Churro-Masters.jpg
ORGANIZER;CN="Churro Masters":MAILTO:Churromastersemail@gmail.com
GEO:35.0470617;-82.0901088
END:VEVENT
BEGIN:VEVENT
DTSTART;TZID=America/New_York:20241207T170000
DTEND;TZID=America/New_York:20241207T210000
DTSTAMP:20260425T133105
CREATED:20241203T213912Z
LAST-MODIFIED:20241203T213912Z
UID:40995-1733590800-1733605200@864foodtrucks.com
SUMMARY:Churro Masters @ Inman Christmas Parade
DESCRIPTION:Delicious CHURROS made fresh!
URL:https://864foodtrucks.com/event/churro-masters-inman-christmas-parade/
LOCATION:Downtown Inman\, Inman\, South Carolina
CATEGORIES:Food Truck Schedules,Inman
ATTACH;FMTTYPE=image/jpeg:https://864foodtrucks.com/wp-content/uploads/2023/05/Churro-Masters-1.jpg
ORGANIZER;CN="Churro Masters":MAILTO:Churromastersemail@gmail.com
GEO:35.0470617;-82.0901088
END:VEVENT
BEGIN:VEVENT
DTSTART;TZID=America/New_York:20240915T120000
DTEND;TZID=America/New_York:20240915T160000
DTSTAMP:20260425T133105
CREATED:20240909T185958Z
LAST-MODIFIED:20241111T212933Z
UID:33859-1726401600-1726416000@864foodtrucks.com
SUMMARY:Lobster Dogs @ Market on Mill
DESCRIPTION:Food truck serving the Best Lobster Rolls & Stuffed Avocados in the Carolinas
URL:https://864foodtrucks.com/event/lobster-dogs-market-on-mill/2024-09-15/
LOCATION:Market on the Mill\, 22 Mill Street\, Inman\, South Carolina
CATEGORIES:Food Truck Schedules,Inman
ATTACH;FMTTYPE=image/jpeg:https://864foodtrucks.com/wp-content/uploads/2021/05/lobster-dogs-Food-Truck.jpg
ORGANIZER;CN="Lobster Dogs":MAILTO:lobsterdogs3@gmail.com
GEO:35.0473299;-82.0916559
X-APPLE-STRUCTURED-LOCATION;VALUE=URI;X-ADDRESS=Market on the Mill 22 Mill Street Inman South Carolina;X-APPLE-RADIUS=500;X-TITLE=22 Mill Street:geo:-82.0916559,35.0473299
END:VEVENT
BEGIN:VEVENT
DTSTART;TZID=America/New_York:20240915T110000
DTEND;TZID=America/New_York:20240915T150000
DTSTAMP:20260425T133105
CREATED:20240909T191459Z
LAST-MODIFIED:20250513T131525Z
UID:33873-1726398000-1726412400@864foodtrucks.com
SUMMARY:Churro Masters @ Market on Mill
DESCRIPTION:Delicious CHURROS made fresh!
URL:https://864foodtrucks.com/event/churro-masters-market-on-mill/2024-09-15/
LOCATION:Market on the Mill\, 22 Mill Street\, Inman\, South Carolina
CATEGORIES:Food Truck Schedules,Inman
ATTACH;FMTTYPE=image/jpeg:https://864foodtrucks.com/wp-content/uploads/2023/05/Churro-Masters-1.jpg
ORGANIZER;CN="Churro Masters":MAILTO:Churromastersemail@gmail.com
GEO:35.0473299;-82.0916559
X-APPLE-STRUCTURED-LOCATION;VALUE=URI;X-ADDRESS=Market on the Mill 22 Mill Street Inman South Carolina;X-APPLE-RADIUS=500;X-TITLE=22 Mill Street:geo:-82.0916559,35.0473299
END:VEVENT
BEGIN:VEVENT
DTSTART;TZID=America/New_York:20240428T120000
DTEND;TZID=America/New_York:20240428T160000
DTSTAMP:20260425T133105
CREATED:20240423T155921Z
LAST-MODIFIED:20240423T155921Z
UID:27503-1714305600-1714320000@864foodtrucks.com
SUMMARY:Xtreme Cheesecakez @ Market on Mill
DESCRIPTION:
URL:https://864foodtrucks.com/event/xtreme-cheesecakez-market-on-mill/
LOCATION:Market on the Mill\, 22 Mill Street\, Inman\, South Carolina
CATEGORIES:Food Truck Schedules,Inman
ATTACH;FMTTYPE=image/jpeg:https://864foodtrucks.com/wp-content/uploads/2023/07/Xtreme-Cheesecakz.jpg
ORGANIZER;CN="Xtreme Cheesecakez":MAILTO:xtremecheesecakez@gmail.com
GEO:35.0473299;-82.0916559
X-APPLE-STRUCTURED-LOCATION;VALUE=URI;X-ADDRESS=Market on the Mill 22 Mill Street Inman South Carolina;X-APPLE-RADIUS=500;X-TITLE=22 Mill Street:geo:-82.0916559,35.0473299
END:VEVENT
BEGIN:VEVENT
DTSTART;TZID=America/New_York:20231202T170000
DTEND;TZID=America/New_York:20231202T210000
DTSTAMP:20260425T133105
CREATED:20231128T192754Z
LAST-MODIFIED:20231128T192754Z
UID:24411-1701536400-1701550800@864foodtrucks.com
SUMMARY:Big Fuss Fresh Foods @ Light Up Inman
DESCRIPTION:We are a mobile food truck that specializes in fresh food with amazing flavor.
URL:https://864foodtrucks.com/event/big-fuss-fresh-foods-light-up-inman/
LOCATION:Downtown Inman\, Inman\, South Carolina
CATEGORIES:Food Truck Schedules,Inman
ATTACH;FMTTYPE=image/jpeg:https://864foodtrucks.com/wp-content/uploads/2023/07/Big-Fuss-Fresh-Food.jpg
GEO:35.0470617;-82.0901088
END:VEVENT
BEGIN:VEVENT
DTSTART;TZID=America/New_York:20231102T163000
DTEND;TZID=America/New_York:20231102T193000
DTSTAMP:20260425T133105
CREATED:20231101T202341Z
LAST-MODIFIED:20231101T202341Z
UID:23916-1698942600-1698953400@864foodtrucks.com
SUMMARY:Sugar Shack Snoballs @ FALLstar Festival
DESCRIPTION:
URL:https://864foodtrucks.com/event/sugar-shack-snoballs-fallstar-festival/
LOCATION:Oakland Elementary School\, Mud Creek Road 151\, Inman\, South Carolina\, 29349\, United States
CATEGORIES:Food Truck Schedules,Inman
ATTACH;FMTTYPE=image/jpeg:https://864foodtrucks.com/wp-content/uploads/2022/05/The-Sugar-Shack-Snoballs-Trailer.jpg
ORGANIZER;CN="The Sugar Shack Snoballs":MAILTO:thesugarshacksnoballs@gmail.com
GEO:35.0683754;-82.0062299
X-APPLE-STRUCTURED-LOCATION;VALUE=URI;X-ADDRESS=Oakland Elementary School Mud Creek Road 151 Inman South Carolina 29349 United States;X-APPLE-RADIUS=500;X-TITLE=Mud Creek Road 151:geo:-82.0062299,35.0683754
END:VEVENT
BEGIN:VEVENT
DTSTART;TZID=America/New_York:20230616T180000
DTEND;TZID=America/New_York:20230616T210000
DTSTAMP:20260425T133105
CREATED:20230613T003218Z
LAST-MODIFIED:20230621T211634Z
UID:19705-1686938400-1686949200@864foodtrucks.com
SUMMARY:Yum Bai @ Music on Mill
DESCRIPTION:Asian fusion street food
URL:https://864foodtrucks.com/event/yum-bai-music-on-mill/2023-06-16/
LOCATION:22 Mill St\, 22 Mill Street\, Inman\, South Carolina
CATEGORIES:Food Truck Schedules,Inman
ATTACH;FMTTYPE=image/jpeg:https://864foodtrucks.com/wp-content/uploads/2021/05/Yum-Bai.jpg
ORGANIZER;CN="Yum Bai":MAILTO:yumbaisc@gmail.com
GEO:35.0473299;-82.0916559
X-APPLE-STRUCTURED-LOCATION;VALUE=URI;X-ADDRESS=22 Mill St 22 Mill Street Inman South Carolina;X-APPLE-RADIUS=500;X-TITLE=22 Mill Street:geo:-82.0916559,35.0473299
END:VEVENT
BEGIN:VEVENT
DTSTART;TZID=America/New_York:20230521T120000
DTEND;TZID=America/New_York:20230521T160000
DTSTAMP:20260425T133105
CREATED:20230515T153817Z
LAST-MODIFIED:20230515T153817Z
UID:19000-1684670400-1684684800@864foodtrucks.com
SUMMARY:Yum Bai @ Market on Mill
DESCRIPTION:Asian fusion street food
URL:https://864foodtrucks.com/event/yum-bai-market-on-mill/
LOCATION:Market on the Mill\, 22 Mill Street\, Inman\, South Carolina
CATEGORIES:Food Truck Schedules,Inman
ATTACH;FMTTYPE=image/jpeg:https://864foodtrucks.com/wp-content/uploads/2021/05/Yum-Bai.jpg
ORGANIZER;CN="Yum Bai":MAILTO:yumbaisc@gmail.com
GEO:35.0473299;-82.0916559
X-APPLE-STRUCTURED-LOCATION;VALUE=URI;X-ADDRESS=Market on the Mill 22 Mill Street Inman South Carolina;X-APPLE-RADIUS=500;X-TITLE=22 Mill Street:geo:-82.0916559,35.0473299
END:VEVENT
BEGIN:VEVENT
DTSTART;TZID=America/New_York:20230521T120000
DTEND;TZID=America/New_York:20230521T160000
DTSTAMP:20260425T133105
CREATED:20230515T153638Z
LAST-MODIFIED:20230515T153638Z
UID:18998-1684670400-1684684800@864foodtrucks.com
SUMMARY:Roll-In Cuban @ Market on Mill
DESCRIPTION:
URL:https://864foodtrucks.com/event/roll-in-cuban-market-on-mill/
LOCATION:Market on the Mill\, 22 Mill Street\, Inman\, South Carolina
CATEGORIES:Food Truck Schedules,Inman
ATTACH;FMTTYPE=image/jpeg:https://864foodtrucks.com/wp-content/uploads/2021/05/Roll-In-Cuban-Logo.jpg
ORGANIZER;CN="Roll-In Cuban":MAILTO:rollincuban@gmail.com
GEO:35.0473299;-82.0916559
X-APPLE-STRUCTURED-LOCATION;VALUE=URI;X-ADDRESS=Market on the Mill 22 Mill Street Inman South Carolina;X-APPLE-RADIUS=500;X-TITLE=22 Mill Street:geo:-82.0916559,35.0473299
END:VEVENT
BEGIN:VEVENT
DTSTART;TZID=America/New_York:20230521T120000
DTEND;TZID=America/New_York:20230521T160000
DTSTAMP:20260425T133105
CREATED:20230515T152850Z
LAST-MODIFIED:20230515T152850Z
UID:18996-1684670400-1684684800@864foodtrucks.com
SUMMARY:Y'all Hungry @ Market on Mill
DESCRIPTION:
URL:https://864foodtrucks.com/event/yall-hungry-market-on-mill/
LOCATION:Market on the Mill\, 22 Mill Street\, Inman\, South Carolina
CATEGORIES:Food Truck Schedules,Inman
ATTACH;FMTTYPE=image/jpeg:https://864foodtrucks.com/wp-content/uploads/2022/01/Yall-Hungry.jpg
ORGANIZER;CN="Ya'll Hungry?":MAILTO:nwebb070992@gmail.com
GEO:35.0473299;-82.0916559
X-APPLE-STRUCTURED-LOCATION;VALUE=URI;X-ADDRESS=Market on the Mill 22 Mill Street Inman South Carolina;X-APPLE-RADIUS=500;X-TITLE=22 Mill Street:geo:-82.0916559,35.0473299
END:VEVENT
BEGIN:VEVENT
DTSTART;TZID=America/New_York:20230510T180000
DTEND;TZID=America/New_York:20230510T200000
DTSTAMP:20260425T133105
CREATED:20230509T202624Z
LAST-MODIFIED:20230509T202624Z
UID:18873-1683741600-1683748800@864foodtrucks.com
SUMMARY:Toasted Cuban @ Inman Beer Vault
DESCRIPTION:
URL:https://864foodtrucks.com/event/toasted-cuban-inman-beer-vault-2/
LOCATION:Inman Beer Vault\, 2 S Main St\, Inman\, South Carolina
CATEGORIES:Food Truck Schedules,Inman
ATTACH;FMTTYPE=image/jpeg:https://864foodtrucks.com/wp-content/uploads/2021/06/Toasted-Cuban-1.jpg
ORGANIZER;CN="Toasted Cuban":MAILTO:rtaboada66@toastedcuban.com
GEO:35.0477528;-82.0905329
X-APPLE-STRUCTURED-LOCATION;VALUE=URI;X-ADDRESS=Inman Beer Vault 2 S Main St Inman South Carolina;X-APPLE-RADIUS=500;X-TITLE=2 S Main St:geo:-82.0905329,35.0477528
END:VEVENT
BEGIN:VEVENT
DTSTART;TZID=America/New_York:20230104T173000
DTEND;TZID=America/New_York:20230104T200000
DTSTAMP:20260425T133105
CREATED:20230103T141716Z
LAST-MODIFIED:20230829T122319Z
UID:15939-1672853400-1672862400@864foodtrucks.com
SUMMARY:Yum Bai @ Inman Beer Vault
DESCRIPTION:Asian fusion street food
URL:https://864foodtrucks.com/event/yum-bai-inman-beer-vault/2023-01-04/
LOCATION:Inman Beer Vault\, 2 S Main St\, Inman\, South Carolina
CATEGORIES:Food Truck Schedules,Inman
ATTACH;FMTTYPE=image/jpeg:https://864foodtrucks.com/wp-content/uploads/2021/05/Yum-Bai.jpg
ORGANIZER;CN="Yum Bai":MAILTO:yumbaisc@gmail.com
GEO:35.0477528;-82.0905329
X-APPLE-STRUCTURED-LOCATION;VALUE=URI;X-ADDRESS=Inman Beer Vault 2 S Main St Inman South Carolina;X-APPLE-RADIUS=500;X-TITLE=2 S Main St:geo:-82.0905329,35.0477528
END:VEVENT
BEGIN:VEVENT
DTSTART;TZID=America/New_York:20221102T180000
DTEND;TZID=America/New_York:20221102T200000
DTSTAMP:20260425T133105
CREATED:20221031T183839Z
LAST-MODIFIED:20230131T140726Z
UID:14005-1667412000-1667419200@864foodtrucks.com
SUMMARY:The Rock'n Rooster @ Inman Beer Vault
DESCRIPTION:Locally owned food truck serving an eclectic array of street food that will rock your senses!
URL:https://864foodtrucks.com/event/the-rockn-rooster-inman-beer-vault/2022-11-02/
LOCATION:Inman Beer Vault\, 2 S Main St\, Inman\, South Carolina
CATEGORIES:Food Truck Schedules,Inman
ATTACH;FMTTYPE=image/jpeg:https://864foodtrucks.com/wp-content/uploads/2022/07/Rockn-rooster.jpg
ORGANIZER;CN="The Rock'n Rooster Street Eats":MAILTO:therocknroosterstreeteats@gmail.com
GEO:35.0477528;-82.0905329
X-APPLE-STRUCTURED-LOCATION;VALUE=URI;X-ADDRESS=Inman Beer Vault 2 S Main St Inman South Carolina;X-APPLE-RADIUS=500;X-TITLE=2 S Main St:geo:-82.0905329,35.0477528
END:VEVENT
END:VCALENDAR