BEGIN:VCALENDAR
VERSION:2.0
PRODID:-//864 Food Trucks - ECPv6.15.20//NONSGML v1.0//EN
CALSCALE:GREGORIAN
METHOD:PUBLISH
X-ORIGINAL-URL:https://864foodtrucks.com
X-WR-CALDESC:Events for 864 Food Trucks
REFRESH-INTERVAL;VALUE=DURATION:PT1H
X-Robots-Tag:noindex
X-PUBLISHED-TTL:PT1H
BEGIN:VTIMEZONE
TZID:America/New_York
BEGIN:DAYLIGHT
TZOFFSETFROM:-0500
TZOFFSETTO:-0400
TZNAME:EDT
DTSTART:20210314T070000
END:DAYLIGHT
BEGIN:STANDARD
TZOFFSETFROM:-0400
TZOFFSETTO:-0500
TZNAME:EST
DTSTART:20211107T060000
END:STANDARD
BEGIN:DAYLIGHT
TZOFFSETFROM:-0500
TZOFFSETTO:-0400
TZNAME:EDT
DTSTART:20220313T070000
END:DAYLIGHT
BEGIN:STANDARD
TZOFFSETFROM:-0400
TZOFFSETTO:-0500
TZNAME:EST
DTSTART:20221106T060000
END:STANDARD
BEGIN:DAYLIGHT
TZOFFSETFROM:-0500
TZOFFSETTO:-0400
TZNAME:EDT
DTSTART:20230312T070000
END:DAYLIGHT
BEGIN:STANDARD
TZOFFSETFROM:-0400
TZOFFSETTO:-0500
TZNAME:EST
DTSTART:20231105T060000
END:STANDARD
BEGIN:DAYLIGHT
TZOFFSETFROM:-0500
TZOFFSETTO:-0400
TZNAME:EDT
DTSTART:20240310T070000
END:DAYLIGHT
BEGIN:STANDARD
TZOFFSETFROM:-0400
TZOFFSETTO:-0500
TZNAME:EST
DTSTART:20241103T060000
END:STANDARD
END:VTIMEZONE
BEGIN:VEVENT
DTSTART;TZID=America/New_York:20230510T180000
DTEND;TZID=America/New_York:20230510T200000
DTSTAMP:20260425T145450
CREATED:20230509T202624Z
LAST-MODIFIED:20230509T202624Z
UID:18873-1683741600-1683748800@864foodtrucks.com
SUMMARY:Toasted Cuban @ Inman Beer Vault
DESCRIPTION:
URL:https://864foodtrucks.com/event/toasted-cuban-inman-beer-vault-2/
LOCATION:Inman Beer Vault\, 2 S Main St\, Inman\, South Carolina
CATEGORIES:Food Truck Schedules,Inman
ATTACH;FMTTYPE=image/jpeg:https://864foodtrucks.com/wp-content/uploads/2021/06/Toasted-Cuban-1.jpg
ORGANIZER;CN="Toasted Cuban":MAILTO:rtaboada66@toastedcuban.com
GEO:35.0477528;-82.0905329
X-APPLE-STRUCTURED-LOCATION;VALUE=URI;X-ADDRESS=Inman Beer Vault 2 S Main St Inman South Carolina;X-APPLE-RADIUS=500;X-TITLE=2 S Main St:geo:-82.0905329,35.0477528
END:VEVENT
BEGIN:VEVENT
DTSTART;TZID=America/New_York:20230104T173000
DTEND;TZID=America/New_York:20230104T200000
DTSTAMP:20260425T145450
CREATED:20230103T141716Z
LAST-MODIFIED:20230829T122319Z
UID:15939-1672853400-1672862400@864foodtrucks.com
SUMMARY:Yum Bai @ Inman Beer Vault
DESCRIPTION:Asian fusion street food
URL:https://864foodtrucks.com/event/yum-bai-inman-beer-vault/2023-01-04/
LOCATION:Inman Beer Vault\, 2 S Main St\, Inman\, South Carolina
CATEGORIES:Food Truck Schedules,Inman
ATTACH;FMTTYPE=image/jpeg:https://864foodtrucks.com/wp-content/uploads/2021/05/Yum-Bai.jpg
ORGANIZER;CN="Yum Bai":MAILTO:yumbaisc@gmail.com
GEO:35.0477528;-82.0905329
X-APPLE-STRUCTURED-LOCATION;VALUE=URI;X-ADDRESS=Inman Beer Vault 2 S Main St Inman South Carolina;X-APPLE-RADIUS=500;X-TITLE=2 S Main St:geo:-82.0905329,35.0477528
END:VEVENT
BEGIN:VEVENT
DTSTART;TZID=America/New_York:20221102T180000
DTEND;TZID=America/New_York:20221102T200000
DTSTAMP:20260425T145450
CREATED:20221031T183839Z
LAST-MODIFIED:20230131T140726Z
UID:14005-1667412000-1667419200@864foodtrucks.com
SUMMARY:The Rock'n Rooster @ Inman Beer Vault
DESCRIPTION:Locally owned food truck serving an eclectic array of street food that will rock your senses!
URL:https://864foodtrucks.com/event/the-rockn-rooster-inman-beer-vault/2022-11-02/
LOCATION:Inman Beer Vault\, 2 S Main St\, Inman\, South Carolina
CATEGORIES:Food Truck Schedules,Inman
ATTACH;FMTTYPE=image/jpeg:https://864foodtrucks.com/wp-content/uploads/2022/07/Rockn-rooster.jpg
ORGANIZER;CN="The Rock'n Rooster Street Eats":MAILTO:therocknroosterstreeteats@gmail.com
GEO:35.0477528;-82.0905329
X-APPLE-STRUCTURED-LOCATION;VALUE=URI;X-ADDRESS=Inman Beer Vault 2 S Main St Inman South Carolina;X-APPLE-RADIUS=500;X-TITLE=2 S Main St:geo:-82.0905329,35.0477528
END:VEVENT
END:VCALENDAR