BEGIN:VCALENDAR
VERSION:2.0
PRODID:-//864 Food Trucks - ECPv6.15.20//NONSGML v1.0//EN
CALSCALE:GREGORIAN
METHOD:PUBLISH
X-ORIGINAL-URL:https://864foodtrucks.com
X-WR-CALDESC:Events for 864 Food Trucks
REFRESH-INTERVAL;VALUE=DURATION:PT1H
X-Robots-Tag:noindex
X-PUBLISHED-TTL:PT1H
BEGIN:VTIMEZONE
TZID:America/New_York
BEGIN:DAYLIGHT
TZOFFSETFROM:-0500
TZOFFSETTO:-0400
TZNAME:EDT
DTSTART:20210314T070000
END:DAYLIGHT
BEGIN:STANDARD
TZOFFSETFROM:-0400
TZOFFSETTO:-0500
TZNAME:EST
DTSTART:20211107T060000
END:STANDARD
BEGIN:DAYLIGHT
TZOFFSETFROM:-0500
TZOFFSETTO:-0400
TZNAME:EDT
DTSTART:20220313T070000
END:DAYLIGHT
BEGIN:STANDARD
TZOFFSETFROM:-0400
TZOFFSETTO:-0500
TZNAME:EST
DTSTART:20221106T060000
END:STANDARD
BEGIN:DAYLIGHT
TZOFFSETFROM:-0500
TZOFFSETTO:-0400
TZNAME:EDT
DTSTART:20230312T070000
END:DAYLIGHT
BEGIN:STANDARD
TZOFFSETFROM:-0400
TZOFFSETTO:-0500
TZNAME:EST
DTSTART:20231105T060000
END:STANDARD
BEGIN:DAYLIGHT
TZOFFSETFROM:-0500
TZOFFSETTO:-0400
TZNAME:EDT
DTSTART:20240310T070000
END:DAYLIGHT
BEGIN:STANDARD
TZOFFSETFROM:-0400
TZOFFSETTO:-0500
TZNAME:EST
DTSTART:20241103T060000
END:STANDARD
BEGIN:DAYLIGHT
TZOFFSETFROM:-0500
TZOFFSETTO:-0400
TZNAME:EDT
DTSTART:20250309T070000
END:DAYLIGHT
BEGIN:STANDARD
TZOFFSETFROM:-0400
TZOFFSETTO:-0500
TZNAME:EST
DTSTART:20251102T060000
END:STANDARD
BEGIN:DAYLIGHT
TZOFFSETFROM:-0500
TZOFFSETTO:-0400
TZNAME:EDT
DTSTART:20260308T070000
END:DAYLIGHT
BEGIN:STANDARD
TZOFFSETFROM:-0400
TZOFFSETTO:-0500
TZNAME:EST
DTSTART:20261101T060000
END:STANDARD
BEGIN:DAYLIGHT
TZOFFSETFROM:-0500
TZOFFSETTO:-0400
TZNAME:EDT
DTSTART:20270314T070000
END:DAYLIGHT
BEGIN:STANDARD
TZOFFSETFROM:-0400
TZOFFSETTO:-0500
TZNAME:EST
DTSTART:20271107T060000
END:STANDARD
END:VTIMEZONE
BEGIN:VEVENT
DTSTART;TZID=America/New_York:20221118T170000
DTEND;TZID=America/New_York:20221118T200000
DTSTAMP:20260425T120150
CREATED:20221114T172331Z
LAST-MODIFIED:20221114T172331Z
UID:14605-1668790800-1668801600@864foodtrucks.com
SUMMARY:Lobster Dogs @ Hops & Harvest
DESCRIPTION:Great food on the go. Fill your cup and go. We are the best Mediterranean food trailer in Greenville \, Sc
URL:https://864foodtrucks.com/event/lobster-dogs-hops-harvest/
LOCATION:Hops & Harvest\, 16 S Commerce St\, Liberty\, SC\, United States
CATEGORIES:Food Truck Schedules,Liberty
ATTACH;FMTTYPE=image/jpeg:https://864foodtrucks.com/wp-content/uploads/2021/05/lobster-dogs-Food-Truck.jpg
ORGANIZER;CN="Lobster Dogs":MAILTO:lobsterdogs3@gmail.com
END:VEVENT
BEGIN:VEVENT
DTSTART;TZID=America/New_York:20221203T140000
DTEND;TZID=America/New_York:20221203T200000
DTSTAMP:20260425T120150
CREATED:20221130T193935Z
LAST-MODIFIED:20221130T193935Z
UID:15144-1670076000-1670097600@864foodtrucks.com
SUMMARY:Traveling Taps @ Christmas Market
DESCRIPTION:We’ve converted two vintage trucks into beer & wine taps! We have a 1960 Ford F100 named “Ole Blue” and a 1953 Chevy 3100 named “Lucky Lass”. We are available for weddings\, neighborhoods or parties!
URL:https://864foodtrucks.com/event/traveling-taps-christmas-market/
LOCATION:Pickens Performing Arts Center\, 314 W Main St\, Liberty\, SC\, United States
CATEGORIES:Food Truck Schedules,Liberty
ATTACH;FMTTYPE=image/jpeg:https://864foodtrucks.com/wp-content/uploads/2022/10/Traveling-Taps-Truck-e1666466690290.jpg
ORGANIZER;CN="Traveling Taps":MAILTO:cmotter@travelingtapssc.com
END:VEVENT
BEGIN:VEVENT
DTSTART;TZID=America/New_York:20221206T170000
DTEND;TZID=America/New_York:20221206T200000
DTSTAMP:20260425T120151
CREATED:20221206T140606Z
LAST-MODIFIED:20221206T140606Z
UID:15509-1670346000-1670356800@864foodtrucks.com
SUMMARY:Kodesh BBQ Bowls @ Hops & Harvest
DESCRIPTION:Kodesh BBQ Bowls is a mobile food trailer that provides a heap amount of Levitical clean\, flavorful\, pit smoked BBQ. We’ve also come up with a link between enjoying our delicious BBQ and providing healthier options\, our cultural inspired bowls!
URL:https://864foodtrucks.com/event/kodesh-bbq-bowls-hops-harvest/
LOCATION:Hops & Harvest\, 16 S Commerce St\, Liberty\, SC\, United States
CATEGORIES:Food Truck Schedules,Liberty
ATTACH;FMTTYPE=image/jpeg:https://864foodtrucks.com/wp-content/uploads/2022/05/Kodesh-BBQ.jpg
ORGANIZER;CN="Kodesh BBQ & Bowls":MAILTO:kodeshbbq@gmail.com
END:VEVENT
BEGIN:VEVENT
DTSTART;TZID=America/New_York:20221210T170000
DTEND;TZID=America/New_York:20221210T200000
DTSTAMP:20260425T120151
CREATED:20221204T234721Z
LAST-MODIFIED:20230403T195303Z
UID:15411-1670691600-1670702400@864foodtrucks.com
SUMMARY:Lobster Dogs @ Hops & Harvest
DESCRIPTION:Food truck serving the Best Lobster Rolls & Stuffed Avocados in the Carolinas
URL:https://864foodtrucks.com/event/lobster-dogs-hops-harvest-2/2022-12-10/
LOCATION:Hops & Harvest\, 16 S Commerce St\, Liberty\, SC\, United States
CATEGORIES:Food Truck Schedules,Liberty
ATTACH;FMTTYPE=image/jpeg:https://864foodtrucks.com/wp-content/uploads/2021/05/lobster-dogs-Food-Truck.jpg
ORGANIZER;CN="Lobster Dogs":MAILTO:lobsterdogs3@gmail.com
END:VEVENT
BEGIN:VEVENT
DTSTART;TZID=America/New_York:20230225T173000
DTEND;TZID=America/New_York:20230225T203000
DTSTAMP:20260425T120151
CREATED:20230224T201302Z
LAST-MODIFIED:20230224T201302Z
UID:17082-1677346200-1677357000@864foodtrucks.com
SUMMARY:The Rock'n Rooster @ Hops & Harvest
DESCRIPTION:Locally owned food truck serving an eclectic array of street food that will rock your senses!
URL:https://864foodtrucks.com/event/the-rockn-rooster-hops-harvest/
LOCATION:Hops & Harvest\, 16 S Commerce St\, Liberty\, SC\, United States
CATEGORIES:Liberty
ATTACH;FMTTYPE=image/jpeg:https://864foodtrucks.com/wp-content/uploads/2022/07/Rockn-rooster.jpg
END:VEVENT
BEGIN:VEVENT
DTSTART;TZID=America/New_York:20230630T170000
DTEND;TZID=America/New_York:20230630T200000
DTSTAMP:20260425T120151
CREATED:20230627T180711Z
LAST-MODIFIED:20230627T180711Z
UID:20331-1688144400-1688155200@864foodtrucks.com
SUMMARY:Kodesh BBQ Bowls @ Liberty Concert & Commerce
DESCRIPTION:Kodesh BBQ Bowls is a mobile food trailer that provides a heap amount of Levitical clean\, flavorful\, pit smoked BBQ. We’ve also come up with a link between enjoying our delicious BBQ and providing healthier options\, our cultural inspired bowls!
URL:https://864foodtrucks.com/event/kodesh-bbq-bowls-liberty-concert-commerce/
LOCATION:Liberty Concert & Commerce\, 28 S Commerce St\, Liberty\, SC\, United States
CATEGORIES:Food Truck Schedules,Liberty
ATTACH;FMTTYPE=image/jpeg:https://864foodtrucks.com/wp-content/uploads/2022/05/Kodesh-BBQ.jpg
ORGANIZER;CN="Kodesh BBQ & Bowls":MAILTO:kodeshbbq@gmail.com
END:VEVENT
BEGIN:VEVENT
DTSTART;TZID=America/New_York:20230728T170000
DTEND;TZID=America/New_York:20230728T200000
DTSTAMP:20260425T120151
CREATED:20230725T161445Z
LAST-MODIFIED:20230725T161527Z
UID:21137-1690563600-1690574400@864foodtrucks.com
SUMMARY:Kodesh BBQ Bowls @ Downtown Liberty
DESCRIPTION:Kodesh BBQ Bowls is a mobile food trailer that provides a heap amount of Levitical clean\, flavorful\, pit smoked BBQ. We’ve also come up with a link between enjoying our delicious BBQ and providing healthier options\, our cultural inspired bowls!
URL:https://864foodtrucks.com/event/kodesh-bbq-bowls-downtown-liberty/
LOCATION:Downtown Liberty\, 28 S Commerce St\, Liberty
CATEGORIES:Food Truck Schedules,Liberty
ATTACH;FMTTYPE=image/jpeg:https://864foodtrucks.com/wp-content/uploads/2023/07/Kodesh-BBQ.jpg
ORGANIZER;CN="Kodesh BBQ & Bowls":MAILTO:kodeshbbq@gmail.com
END:VEVENT
BEGIN:VEVENT
DTSTART;TZID=America/New_York:20230728T190000
DTEND;TZID=America/New_York:20230728T200000
DTSTAMP:20260425T120151
CREATED:20230726T125907Z
LAST-MODIFIED:20230726T125907Z
UID:21577-1690570800-1690574400@864foodtrucks.com
SUMMARY:Sky Cream Ice Cream @ VBS Living Hope Baptist Church
DESCRIPTION:Greenville’s cutest ice cream truck coming to a neighborhood near you!
URL:https://864foodtrucks.com/event/sky-cream-ice-cream-vbs-living-hope-baptist-church/
LOCATION:Living Hope Baptist Church\, 7615 Liberty Hwy\, Liberty\, SC\, United States
CATEGORIES:Food Truck Schedules,Liberty
ATTACH;FMTTYPE=image/jpeg:https://864foodtrucks.com/wp-content/uploads/2022/05/Sky-Cream-Ice-Cream-Truck-1.jpg
ORGANIZER;CN="Sky Cream Ice Cream Truck":MAILTO:skycreamicecreamtruck@gmail.com
END:VEVENT
BEGIN:VEVENT
DTSTART;TZID=America/New_York:20230804T180000
DTEND;TZID=America/New_York:20230804T220000
DTSTAMP:20260425T120151
CREATED:20230731T184206Z
LAST-MODIFIED:20230731T184206Z
UID:21678-1691172000-1691186400@864foodtrucks.com
SUMMARY:Simpell Sammies @ Liberty Event
DESCRIPTION:Simpell Sammies is open for business and ready to serve you flavorful and delicious sandwiches and hoagies.
URL:https://864foodtrucks.com/event/simpell-sammies-liberty-event/
LOCATION:Main Street Liberty\, West Main Street 318\, Liberty\, SC\, 29657\, United States
CATEGORIES:Food Truck Schedules,Liberty
ATTACH;FMTTYPE=image/jpeg:https://864foodtrucks.com/wp-content/uploads/2023/06/Simpell-Sammies-Trailer.jpg
ORGANIZER;CN="Simpell Sammies":MAILTO:info@simpelltreats.com
GEO:34.7875679;-82.6981477
X-APPLE-STRUCTURED-LOCATION;VALUE=URI;X-ADDRESS=Main Street Liberty West Main Street 318 Liberty SC 29657 United States;X-APPLE-RADIUS=500;X-TITLE=West Main Street 318:geo:-82.6981477,34.7875679
END:VEVENT
BEGIN:VEVENT
DTSTART;TZID=America/New_York:20230811T180000
DTEND;TZID=America/New_York:20230811T210000
DTSTAMP:20260425T120151
CREATED:20230807T155111Z
LAST-MODIFIED:20230807T155111Z
UID:21864-1691776800-1691787600@864foodtrucks.com
SUMMARY:Lobster Dogs @ Artisan & Music Fest
DESCRIPTION:Food truck serving the Best Lobster Rolls & Stuffed Avocados in the Carolinas
URL:https://864foodtrucks.com/event/lobster-dogs-artisan-music-fest/
LOCATION:Downtown Liberty\, 28 S Commerce St\, Liberty
CATEGORIES:Food Truck Schedules,Liberty
ATTACH;FMTTYPE=image/jpeg:https://864foodtrucks.com/wp-content/uploads/2021/05/lobster-dogs-Food-Truck.jpg
ORGANIZER;CN="Lobster Dogs":MAILTO:lobsterdogs3@gmail.com
END:VEVENT
BEGIN:VEVENT
DTSTART;TZID=America/New_York:20230909T180000
DTEND;TZID=America/New_York:20230909T200000
DTSTAMP:20260425T120151
CREATED:20230903T195503Z
LAST-MODIFIED:20230903T195503Z
UID:22540-1694282400-1694289600@864foodtrucks.com
SUMMARY:Simpell Sammies @ Hops and Harvest
DESCRIPTION:Simpell Sammies is open for business and ready to serve you flavorful and delicious sandwiches and hoagies.
URL:https://864foodtrucks.com/event/simpell-sammies-hops-and-harvest/
LOCATION:Hops & Harvest\, 16 S Commerce St\, Liberty\, SC\, United States
CATEGORIES:Food Truck Schedules,Liberty
ATTACH;FMTTYPE=image/jpeg:https://864foodtrucks.com/wp-content/uploads/2023/06/Simpell-Sammies-Trailer.jpg
ORGANIZER;CN="Simpell Sammies":MAILTO:info@simpelltreats.com
END:VEVENT
BEGIN:VEVENT
DTSTART;TZID=America/New_York:20231111T170000
DTEND;TZID=America/New_York:20231111T200000
DTSTAMP:20260425T120151
CREATED:20231106T202447Z
LAST-MODIFIED:20231211T184515Z
UID:23962-1699722000-1699732800@864foodtrucks.com
SUMMARY:Lobster Dogs @ Hops & Harvest
DESCRIPTION:Food truck serving the Best Lobster Rolls & Stuffed Avocados in the Carolinas
URL:https://864foodtrucks.com/event/lobster-dogs-hops-harvest-3/2023-11-11/
LOCATION:Hops & Harvest\, 16 S Commerce St\, Liberty\, SC\, United States
CATEGORIES:Food Truck Schedules,Liberty
ATTACH;FMTTYPE=image/jpeg:https://864foodtrucks.com/wp-content/uploads/2021/05/lobster-dogs-Food-Truck.jpg
ORGANIZER;CN="Lobster Dogs":MAILTO:lobsterdogs3@gmail.com
END:VEVENT
BEGIN:VEVENT
DTSTART;TZID=America/New_York:20240227T110000
DTEND;TZID=America/New_York:20240227T130000
DTSTAMP:20260425T120151
CREATED:20240225T161009Z
LAST-MODIFIED:20240804T211106Z
UID:26277-1709031600-1709038800@864foodtrucks.com
SUMMARY:Simpell Sammies @ Champion Aerospace
DESCRIPTION:Simpell Sammies is open for business and ready to serve you flavorful and delicious sandwiches and hoagies.
URL:https://864foodtrucks.com/event/simpell-sammies-champion-aerospace/2024-02-27/
LOCATION:Champion Aerospace\, 1230 Old Norris Road\, Liberty\, South Carolina
CATEGORIES:Food Truck Schedules,Liberty
ORGANIZER;CN="Simpell Sammies":MAILTO:info@simpelltreats.com
GEO:34.772949;-82.7267903
X-APPLE-STRUCTURED-LOCATION;VALUE=URI;X-ADDRESS=Champion Aerospace 1230 Old Norris Road Liberty South Carolina;X-APPLE-RADIUS=500;X-TITLE=1230 Old Norris Road:geo:-82.7267903,34.772949
END:VEVENT
BEGIN:VEVENT
DTSTART;TZID=America/New_York:20240305T110000
DTEND;TZID=America/New_York:20240305T130000
DTSTAMP:20260425T120151
CREATED:20240304T191821Z
LAST-MODIFIED:20240304T191821Z
UID:26473-1709636400-1709643600@864foodtrucks.com
SUMMARY:Kodesh BBQ Bowls @ Champion Aerospace
DESCRIPTION:Kodesh BBQ Bowls is a mobile food trailer that provides a heap amount of Levitical clean\, flavorful\, pit smoked BBQ. We’ve also come up with a link between enjoying our delicious BBQ and providing healthier options\, our cultural inspired bowls!
URL:https://864foodtrucks.com/event/kodesh-bbq-bowls-champion-aerospace/
LOCATION:Champion Aerospace\, 1230 Old Norris Road\, Liberty\, South Carolina
CATEGORIES:Food Truck Schedules,Liberty
ORGANIZER;CN="Kodesh BBQ & Bowls":MAILTO:kodeshbbq@gmail.com
GEO:34.772949;-82.7267903
X-APPLE-STRUCTURED-LOCATION;VALUE=URI;X-ADDRESS=Champion Aerospace 1230 Old Norris Road Liberty South Carolina;X-APPLE-RADIUS=500;X-TITLE=1230 Old Norris Road:geo:-82.7267903,34.772949
END:VEVENT
BEGIN:VEVENT
DTSTART;TZID=America/New_York:20240508T110000
DTEND;TZID=America/New_York:20240508T130000
DTSTAMP:20260425T120151
CREATED:20240506T010025Z
LAST-MODIFIED:20250525T192830Z
UID:28108-1715166000-1715173200@864foodtrucks.com
SUMMARY:Simpell Sammies @ Champion Aerospace
DESCRIPTION:Simpell Sammies is open for business and ready to serve you flavorful and delicious sandwiches and hoagies.
URL:https://864foodtrucks.com/event/simpell-sammies-champion-aerospace-2/2024-05-08/
LOCATION:Champion Aerospace\, 1230 Old Norris Road\, Liberty\, South Carolina
CATEGORIES:Food Truck Schedules,Liberty
ATTACH;FMTTYPE=image/jpeg:https://864foodtrucks.com/wp-content/uploads/2023/06/Simpell-Sammies-Trailer.jpg
ORGANIZER;CN="Simpell Sammies":MAILTO:info@simpelltreats.com
GEO:34.772949;-82.7267903
X-APPLE-STRUCTURED-LOCATION;VALUE=URI;X-ADDRESS=Champion Aerospace 1230 Old Norris Road Liberty South Carolina;X-APPLE-RADIUS=500;X-TITLE=1230 Old Norris Road:geo:-82.7267903,34.772949
END:VEVENT
BEGIN:VEVENT
DTSTART;TZID=America/New_York:20240928T113000
DTEND;TZID=America/New_York:20240928T140000
DTSTAMP:20260425T120151
CREATED:20240929T004632Z
LAST-MODIFIED:20240929T004632Z
UID:39029-1727523000-1727532000@864foodtrucks.com
SUMMARY:Simpell Sammies @ Liberty High School
DESCRIPTION:Simpell Sammies is open for business and ready to serve you flavorful and delicious sandwiches and hoagies.
URL:https://864foodtrucks.com/event/simpell-sammies-liberty-high-school/
LOCATION:Liberty High School\, Red Devil Drive\, Hailey\, Idaho\, 83333\, United States
CATEGORIES:Food Truck Schedules,Liberty
ATTACH;FMTTYPE=image/jpeg:https://864foodtrucks.com/wp-content/uploads/2023/06/Simpell-Sammies-Trailer.jpg
ORGANIZER;CN="Simpell Sammies":MAILTO:info@simpelltreats.com
GEO:43.5402128;-114.3177428
X-APPLE-STRUCTURED-LOCATION;VALUE=URI;X-ADDRESS=Liberty High School Red Devil Drive Hailey Idaho 83333 United States;X-APPLE-RADIUS=500;X-TITLE=Red Devil Drive:geo:-114.3177428,43.5402128
END:VEVENT
BEGIN:VEVENT
DTSTART;TZID=America/New_York:20241206T130000
DTEND;TZID=America/New_York:20241206T190000
DTSTAMP:20260425T120151
CREATED:20241204T220731Z
LAST-MODIFIED:20241204T220731Z
UID:41015-1733490000-1733511600@864foodtrucks.com
SUMMARY:Fuel Foods @ Foodees Fest
DESCRIPTION:Fuel Foods – Food Truck & Catering\nClean\, Unique & Delicious!\nLocated in Clemson & Upstate\, SC 📍\nBook Us for Events! Contact for More Info!
URL:https://864foodtrucks.com/event/fuel-foods-foodees-fest/2024-12-06/
LOCATION:Anderson Mall\, Anderson\, South Carolina
CATEGORIES:Anderson,Food Truck Schedules,Lake Lure,Landrum,Laurens,Lexington,Liberty,Lyman,Marietta,Mauldin,Mills River,Moore
ATTACH;FMTTYPE=image/jpeg:https://864foodtrucks.com/wp-content/uploads/2024/08/Fuel-Foods-Food-Truck.jpg
ORGANIZER;CN="Fuel Foods Food Truck":MAILTO:fuelfoods.truck@gmail.com
GEO:34.5034394;-82.6501332
END:VEVENT
BEGIN:VEVENT
DTSTART;TZID=America/New_York:20241213T173000
DTEND;TZID=America/New_York:20241213T200000
DTSTAMP:20260425T120151
CREATED:20241209T213246Z
LAST-MODIFIED:20241209T213246Z
UID:41083-1734111000-1734120000@864foodtrucks.com
SUMMARY:Simpell Sammies @ Palmetto Distillery
DESCRIPTION:Simpell Sammies is open for business and ready to serve you flavorful and delicious sandwiches and hoagies.
URL:https://864foodtrucks.com/event/simpell-sammies-palmetto-distillery-3/
LOCATION:Palmetto Brothers Dispensary\, 115 W Public Square\, Laurens\, South Carolina
CATEGORIES:Anderson,Food Truck Schedules,Lake Lure,Landrum,Laurens,Lexington,Liberty,Lyman,Marietta,Mauldin,Mills River,Moore
ATTACH;FMTTYPE=image/jpeg:https://864foodtrucks.com/wp-content/uploads/2023/06/Simpell-Sammies-Trailer.jpg
ORGANIZER;CN="Simpell Sammies":MAILTO:info@simpelltreats.com
GEO:34.4993714;-82.0152748
X-APPLE-STRUCTURED-LOCATION;VALUE=URI;X-ADDRESS=Palmetto Brothers Dispensary 115 W Public Square Laurens South Carolina;X-APPLE-RADIUS=500;X-TITLE=115 W Public Square:geo:-82.0152748,34.4993714
END:VEVENT
BEGIN:VEVENT
DTSTART;TZID=America/New_York:20241214T110000
DTEND;TZID=America/New_York:20241214T130000
DTSTAMP:20260425T120151
CREATED:20241209T213404Z
LAST-MODIFIED:20241209T213404Z
UID:41086-1734174000-1734181200@864foodtrucks.com
SUMMARY:Simpell Sammies @ Tractor Supply Anderson
DESCRIPTION:Simpell Sammies is open for business and ready to serve you flavorful and delicious sandwiches and hoagies.
URL:https://864foodtrucks.com/event/simpell-sammies-tractor-supply-anderson/
LOCATION:Tractor Supply Anderson\, 3719 Clemson Blvd\, Anderson\, SC\, United States
CATEGORIES:Anderson,Food Truck Schedules,Lake Lure,Landrum,Laurens,Lexington,Liberty,Lyman,Marietta,Mauldin,Mills River,Moore
ORGANIZER;CN="Simpell Sammies":MAILTO:info@simpelltreats.com
END:VEVENT
BEGIN:VEVENT
DTSTART;TZID=America/New_York:20250110T103000
DTEND;TZID=America/New_York:20250110T130000
DTSTAMP:20260425T120151
CREATED:20250105T224714Z
LAST-MODIFIED:20250308T181204Z
UID:41575-1736505000-1736514000@864foodtrucks.com
SUMMARY:Simpell Sammies @ VERTIV
DESCRIPTION:Simpell Sammies is open for business and ready to serve you flavorful and delicious sandwiches and hoagies.
URL:https://864foodtrucks.com/event/simpell-sammies-vertiv/2025-01-10/
LOCATION:VERTIV\, 400 Supreme Industrial Dr\, Anderson\, South Carolina
CATEGORIES:Anderson,Food Truck Schedules,Lake Lure,Landrum,Laurens,Lexington,Liberty,Lyman,Marietta,Mauldin,Mills River,Moore
ATTACH;FMTTYPE=image/jpeg:https://864foodtrucks.com/wp-content/uploads/2023/06/Simpell-Sammies-Trailer.jpg
ORGANIZER;CN="Simpell Sammies":MAILTO:info@simpelltreats.com
GEO:34.5933918;-82.6689248
X-APPLE-STRUCTURED-LOCATION;VALUE=URI;X-ADDRESS=VERTIV 400 Supreme Industrial Dr Anderson South Carolina;X-APPLE-RADIUS=500;X-TITLE=400 Supreme Industrial Dr:geo:-82.6689248,34.5933918
END:VEVENT
BEGIN:VEVENT
DTSTART;TZID=America/New_York:20250118T103000
DTEND;TZID=America/New_York:20250118T123000
DTSTAMP:20260425T120151
CREATED:20250112T150145Z
LAST-MODIFIED:20250512T164419Z
UID:41713-1737196200-1737203400@864foodtrucks.com
SUMMARY:Simpell Sammies @ Vertiv 400
DESCRIPTION:Simpell Sammies is open for business and ready to serve you flavorful and delicious sandwiches and hoagies.
URL:https://864foodtrucks.com/event/simpell-sammies-vertiv-400/2025-01-18/
LOCATION:VERTIV\, 400 Supreme Industrial Dr\, Anderson\, South Carolina
CATEGORIES:Anderson,Food Truck Schedules,Lake Lure,Landrum,Laurens,Lexington,Liberty,Lyman,Marietta,Mauldin,Mills River,Moore
ATTACH;FMTTYPE=image/jpeg:https://864foodtrucks.com/wp-content/uploads/2023/06/Simpell-Sammies-Trailer.jpg
ORGANIZER;CN="Simpell Sammies":MAILTO:info@simpelltreats.com
GEO:34.5933918;-82.6689248
X-APPLE-STRUCTURED-LOCATION;VALUE=URI;X-ADDRESS=VERTIV 400 Supreme Industrial Dr Anderson South Carolina;X-APPLE-RADIUS=500;X-TITLE=400 Supreme Industrial Dr:geo:-82.6689248,34.5933918
END:VEVENT
BEGIN:VEVENT
DTSTART;TZID=America/New_York:20250205T110000
DTEND;TZID=America/New_York:20250205T130000
DTSTAMP:20260425T120151
CREATED:20250203T001146Z
LAST-MODIFIED:20250203T001146Z
UID:42117-1738753200-1738760400@864foodtrucks.com
SUMMARY:Spinx Cluk Truk @ Champion Aerospace
DESCRIPTION:Your favorite southern fried chicken is hitting the road—and it’s going to be legendary. Our community comes first\, and we want to share that tender love by bringing our homegrown menu to you. The Cluk Truk is coming Fall 2020 to the Upstate!
URL:https://864foodtrucks.com/event/spinx-cluk-truk-champion-aerospace/
LOCATION:Champion Aerospace\, 1230 Old Norris Road\, Liberty\, South Carolina
CATEGORIES:Food Truck Schedules,Liberty
ATTACH;FMTTYPE=image/jpeg:https://864foodtrucks.com/wp-content/uploads/2021/05/Spinx-Cluk-Truk-Truck.jpg
ORGANIZER;CN="Spinx Cluk Truk":MAILTO:cluktruk@spinxco.com
GEO:34.772949;-82.7267903
X-APPLE-STRUCTURED-LOCATION;VALUE=URI;X-ADDRESS=Champion Aerospace 1230 Old Norris Road Liberty South Carolina;X-APPLE-RADIUS=500;X-TITLE=1230 Old Norris Road:geo:-82.7267903,34.772949
END:VEVENT
BEGIN:VEVENT
DTSTART;TZID=America/New_York:20260321T100000
DTEND;TZID=America/New_York:20260321T100000
DTSTAMP:20260425T120151
CREATED:20260317T191546Z
LAST-MODIFIED:20260317T191546Z
UID:60776-1774087200-1774087200@864foodtrucks.com
SUMMARY:Fuel Foods @ Waffle Festival
DESCRIPTION:Fuel Foods – Food Truck & Catering\nClean\, Unique & Delicious!\nLocated in Clemson & Upstate\, SC 📍\nBook Us for Events! Contact for More Info!
URL:https://864foodtrucks.com/event/fuel-foods-waffle-festival/
LOCATION:Downtown Liberty\, 28 S Commerce St\, Liberty
CATEGORIES:Food Truck Schedules,Liberty
ATTACH;FMTTYPE=image/png:https://864foodtrucks.com/wp-content/uploads/2025/03/Fuel-Foods-.png
ORGANIZER;CN="Fuel Foods Food Truck":MAILTO:fuelfoods.truck@gmail.com
END:VEVENT
END:VCALENDAR