BEGIN:VCALENDAR
VERSION:2.0
PRODID:-//864 Food Trucks - ECPv6.15.20//NONSGML v1.0//EN
CALSCALE:GREGORIAN
METHOD:PUBLISH
X-WR-CALNAME:864 Food Trucks
X-ORIGINAL-URL:https://864foodtrucks.com
X-WR-CALDESC:Events for 864 Food Trucks
REFRESH-INTERVAL;VALUE=DURATION:PT1H
X-Robots-Tag:noindex
X-PUBLISHED-TTL:PT1H
BEGIN:VTIMEZONE
TZID:America/New_York
BEGIN:DAYLIGHT
TZOFFSETFROM:-0500
TZOFFSETTO:-0400
TZNAME:EDT
DTSTART:20250309T070000
END:DAYLIGHT
BEGIN:STANDARD
TZOFFSETFROM:-0400
TZOFFSETTO:-0500
TZNAME:EST
DTSTART:20251102T060000
END:STANDARD
BEGIN:DAYLIGHT
TZOFFSETFROM:-0500
TZOFFSETTO:-0400
TZNAME:EDT
DTSTART:20260308T070000
END:DAYLIGHT
BEGIN:STANDARD
TZOFFSETFROM:-0400
TZOFFSETTO:-0500
TZNAME:EST
DTSTART:20261101T060000
END:STANDARD
BEGIN:DAYLIGHT
TZOFFSETFROM:-0500
TZOFFSETTO:-0400
TZNAME:EDT
DTSTART:20270314T070000
END:DAYLIGHT
BEGIN:STANDARD
TZOFFSETFROM:-0400
TZOFFSETTO:-0500
TZNAME:EST
DTSTART:20271107T060000
END:STANDARD
END:VTIMEZONE
BEGIN:VEVENT
DTSTART;TZID=America/New_York:20260321T130000
DTEND;TZID=America/New_York:20260321T180000
DTSTAMP:20260424T082131
CREATED:20251215T233742Z
LAST-MODIFIED:20260413T195220Z
UID:60814-1774098000-1774116000@864foodtrucks.com
SUMMARY:Uncle Luke's @ Keg & Cellar
DESCRIPTION:Uncle Lukes LLC\nNamed after my Father\nBook for Job worksite’s Corporate lunches\, Churches\, Festivals\, Apartments buildings.
URL:https://864foodtrucks.com/event/uncle-lukes-keg-cellar/2026-03-21/
LOCATION:Keg & Cellar\, 5844 Reidville Rd\, Moore\, South Carolina
CATEGORIES:Food Truck Schedules,Moore
ATTACH;FMTTYPE=image/jpeg:https://864foodtrucks.com/wp-content/uploads/2025/12/Uncle-Lukes.jpg
ORGANIZER;CN="Uncle Luke's":MAILTO:j.diggs864@gmail.com
GEO:34.887628;-82.0648457
X-APPLE-STRUCTURED-LOCATION;VALUE=URI;X-ADDRESS=Keg & Cellar 5844 Reidville Rd Moore South Carolina;X-APPLE-RADIUS=500;X-TITLE=5844 Reidville Rd:geo:-82.0648457,34.887628
END:VEVENT
END:VCALENDAR