BEGIN:VCALENDAR
VERSION:2.0
PRODID:-//864 Food Trucks - ECPv6.15.20//NONSGML v1.0//EN
CALSCALE:GREGORIAN
METHOD:PUBLISH
X-WR-CALNAME:864 Food Trucks
X-ORIGINAL-URL:https://864foodtrucks.com
X-WR-CALDESC:Events for 864 Food Trucks
REFRESH-INTERVAL;VALUE=DURATION:PT1H
X-Robots-Tag:noindex
X-PUBLISHED-TTL:PT1H
BEGIN:VTIMEZONE
TZID:America/New_York
BEGIN:DAYLIGHT
TZOFFSETFROM:-0500
TZOFFSETTO:-0400
TZNAME:EDT
DTSTART:20220313T070000
END:DAYLIGHT
BEGIN:STANDARD
TZOFFSETFROM:-0400
TZOFFSETTO:-0500
TZNAME:EST
DTSTART:20221106T060000
END:STANDARD
BEGIN:DAYLIGHT
TZOFFSETFROM:-0500
TZOFFSETTO:-0400
TZNAME:EDT
DTSTART:20230312T070000
END:DAYLIGHT
BEGIN:STANDARD
TZOFFSETFROM:-0400
TZOFFSETTO:-0500
TZNAME:EST
DTSTART:20231105T060000
END:STANDARD
BEGIN:DAYLIGHT
TZOFFSETFROM:-0500
TZOFFSETTO:-0400
TZNAME:EDT
DTSTART:20240310T070000
END:DAYLIGHT
BEGIN:STANDARD
TZOFFSETFROM:-0400
TZOFFSETTO:-0500
TZNAME:EST
DTSTART:20241103T060000
END:STANDARD
BEGIN:DAYLIGHT
TZOFFSETFROM:-0500
TZOFFSETTO:-0400
TZNAME:EDT
DTSTART:20250309T070000
END:DAYLIGHT
BEGIN:STANDARD
TZOFFSETFROM:-0400
TZOFFSETTO:-0500
TZNAME:EST
DTSTART:20251102T060000
END:STANDARD
BEGIN:DAYLIGHT
TZOFFSETFROM:-0500
TZOFFSETTO:-0400
TZNAME:EDT
DTSTART:20260308T070000
END:DAYLIGHT
BEGIN:STANDARD
TZOFFSETFROM:-0400
TZOFFSETTO:-0500
TZNAME:EST
DTSTART:20261101T060000
END:STANDARD
END:VTIMEZONE
BEGIN:VEVENT
DTSTART;TZID=America/New_York:20251004T100000
DTEND;TZID=America/New_York:20251004T180000
DTSTAMP:20260424T010108
CREATED:20241015T124616Z
LAST-MODIFIED:20241015T124616Z
UID:54667-1759572000-1759600800@864foodtrucks.com
SUMMARY:The Rolling Dough @ Newberry Oktoberfest
DESCRIPTION:
URL:https://864foodtrucks.com/event/the-rolling-dough-newberry-oktoberfest-2/2025-10-04/
LOCATION:Newberry Oktoberfest\, Newberry\, South Carolina
CATEGORIES:Food Truck Schedules,Newberry
ORGANIZER;CN="The Rolling Dough Company":MAILTO:therollingdoughco@yahoo.com
END:VEVENT
BEGIN:VEVENT
DTSTART;TZID=America/New_York:20241030T110000
DTEND;TZID=America/New_York:20241030T140000
DTSTAMP:20260424T010108
CREATED:20241028T184710Z
LAST-MODIFIED:20241116T215944Z
UID:39437-1730286000-1730296800@864foodtrucks.com
SUMMARY:Lobster Dogs @ Tractor Supply Newberry
DESCRIPTION:Food truck serving the Best Lobster Rolls & Stuffed Avocados in the Carolinas
URL:https://864foodtrucks.com/event/lobster-dogs-tractor-supply-newberry/2024-10-30/
LOCATION:Tractor Supply Newberry\, 2808 MainSt\, Newberry\, SC\, United States
CATEGORIES:Food Truck Schedules,Newberry
ATTACH;FMTTYPE=image/jpeg:https://864foodtrucks.com/wp-content/uploads/2021/05/lobster-dogs-Food-Truck.jpg
ORGANIZER;CN="Lobster Dogs":MAILTO:lobsterdogs3@gmail.com
END:VEVENT
BEGIN:VEVENT
DTSTART;TZID=America/New_York:20241019T100000
DTEND;TZID=America/New_York:20241019T180000
DTSTAMP:20260424T010108
CREATED:20241015T124616Z
LAST-MODIFIED:20250930T005040Z
UID:39264-1729332000-1729360800@864foodtrucks.com
SUMMARY:The Rolling Dough @ Newberry Oktoberfest
DESCRIPTION:
URL:https://864foodtrucks.com/event/the-rolling-dough-newberry-oktoberfest-2/2024-10-19/
LOCATION:Newberry Oktoberfest\, Newberry\, South Carolina
CATEGORIES:Food Truck Schedules,Newberry
ORGANIZER;CN="The Rolling Dough Company":MAILTO:therollingdoughco@yahoo.com
END:VEVENT
BEGIN:VEVENT
DTSTART;TZID=America/New_York:20231119T140000
DTEND;TZID=America/New_York:20231119T180000
DTSTAMP:20260424T010108
CREATED:20231119T153831Z
LAST-MODIFIED:20231119T153831Z
UID:24192-1700402400-1700416800@864foodtrucks.com
SUMMARY:Just a Smile Caribbean @ Enoree River Winery
DESCRIPTION:JUST-A-SMILE ENTERTAINMENT PROVIDING YOUR PLACE OR VENUE COMPLETE CARIBBEAN EXPERIENCE THROUGH FOOD DANCE AND UNITY. WE BRING SMILES.
URL:https://864foodtrucks.com/event/just-a-smile-caribbean-enoree-river-winery/
LOCATION:Enoree River Winery\, 1650 Dusty Rd\, Newberry\, South Carolina
CATEGORIES:Food Truck Schedules,Newberry
ATTACH;FMTTYPE=image/jpeg:https://864foodtrucks.com/wp-content/uploads/2021/05/Just-A-Smile.jpg
GEO:34.313211;-81.560976
X-APPLE-STRUCTURED-LOCATION;VALUE=URI;X-ADDRESS=Enoree River Winery 1650 Dusty Rd Newberry South Carolina;X-APPLE-RADIUS=500;X-TITLE=1650 Dusty Rd:geo:-81.560976,34.313211
END:VEVENT
BEGIN:VEVENT
DTSTART;TZID=America/New_York:20231007T100000
DTEND;TZID=America/New_York:20231007T180000
DTSTAMP:20260424T010108
CREATED:20231003T012030Z
LAST-MODIFIED:20231003T012030Z
UID:23323-1696672800-1696701600@864foodtrucks.com
SUMMARY:The Rolling Dough @ Newberry Oktoberfest
DESCRIPTION:
URL:https://864foodtrucks.com/event/the-rolling-dough-newberry-oktoberfest/
LOCATION:Newberry Oktoberfest\, Newberry\, South Carolina
CATEGORIES:Food Truck Schedules,Newberry
ATTACH;FMTTYPE=image/jpeg:https://864foodtrucks.com/wp-content/uploads/2021/05/The-Rolling-Dough-Company-Truck.jpg
ORGANIZER;CN="The Rolling Dough Company":MAILTO:therollingdoughco@yahoo.com
END:VEVENT
BEGIN:VEVENT
DTSTART;TZID=America/New_York:20230419T170000
DTEND;TZID=America/New_York:20230419T170000
DTSTAMP:20260424T010108
CREATED:20230418T121359Z
LAST-MODIFIED:20230418T121359Z
UID:18335-1681923600-1681923600@864foodtrucks.com
SUMMARY:Boss Seafood @ Tractor Supply Newberry
DESCRIPTION:
URL:https://864foodtrucks.com/event/boss-seafood-tractor-supply-newberry/
LOCATION:Tractor Supply Newberry\, 2808 MainSt\, Newberry\, SC\, United States
CATEGORIES:Food Truck Schedules,Newberry
ATTACH;FMTTYPE=image/jpeg:https://864foodtrucks.com/wp-content/uploads/2023/01/Boss-Seafood.jpg
ORGANIZER;CN="Boss Seafood":MAILTO:seafoodgoals@gmail.com
END:VEVENT
END:VCALENDAR