BEGIN:VCALENDAR
VERSION:2.0
PRODID:-//864 Food Trucks - ECPv6.15.20//NONSGML v1.0//EN
CALSCALE:GREGORIAN
METHOD:PUBLISH
X-WR-CALNAME:864 Food Trucks
X-ORIGINAL-URL:https://864foodtrucks.com
X-WR-CALDESC:Events for 864 Food Trucks
REFRESH-INTERVAL;VALUE=DURATION:PT1H
X-Robots-Tag:noindex
X-PUBLISHED-TTL:PT1H
BEGIN:VTIMEZONE
TZID:America/New_York
BEGIN:DAYLIGHT
TZOFFSETFROM:-0500
TZOFFSETTO:-0400
TZNAME:EDT
DTSTART:20250309T070000
END:DAYLIGHT
BEGIN:STANDARD
TZOFFSETFROM:-0400
TZOFFSETTO:-0500
TZNAME:EST
DTSTART:20251102T060000
END:STANDARD
BEGIN:DAYLIGHT
TZOFFSETFROM:-0500
TZOFFSETTO:-0400
TZNAME:EDT
DTSTART:20260308T070000
END:DAYLIGHT
BEGIN:STANDARD
TZOFFSETFROM:-0400
TZOFFSETTO:-0500
TZNAME:EST
DTSTART:20261101T060000
END:STANDARD
BEGIN:DAYLIGHT
TZOFFSETFROM:-0500
TZOFFSETTO:-0400
TZNAME:EDT
DTSTART:20270314T070000
END:DAYLIGHT
BEGIN:STANDARD
TZOFFSETFROM:-0400
TZOFFSETTO:-0500
TZNAME:EST
DTSTART:20271107T060000
END:STANDARD
END:VTIMEZONE
BEGIN:VEVENT
DTSTART;TZID=America/New_York:20260404T110000
DTEND;TZID=America/New_York:20260404T170000
DTSTAMP:20260425T203543
CREATED:20260331T003843Z
LAST-MODIFIED:20260331T003843Z
UID:61265-1775300400-1775322000@864foodtrucks.com
SUMMARY:Fuel Foods @ Pendleton Spring Jubilee
DESCRIPTION:Fuel Foods – Food Truck & Catering\nClean\, Unique & Delicious!\nLocated in Clemson & Upstate\, SC 📍\nBook Us for Events! Contact for More Info!
URL:https://864foodtrucks.com/event/fuel-foods-pendleton-spring-jubilee/2026-04-04/
LOCATION:Downtown Pendleton\, West Main Street\, Pendleton\, South Carolina\, 29670\, United States
CATEGORIES:Food Truck Schedules,Pendleton
ATTACH;FMTTYPE=image/png:https://864foodtrucks.com/wp-content/uploads/2025/03/Fuel-Foods-.png
ORGANIZER;CN="Fuel Foods Food Truck":MAILTO:fuelfoods.truck@gmail.com
GEO:34.6506543;-82.7857283
X-APPLE-STRUCTURED-LOCATION;VALUE=URI;X-ADDRESS=Downtown Pendleton West Main Street Pendleton South Carolina 29670 United States;X-APPLE-RADIUS=500;X-TITLE=West Main Street:geo:-82.7857283,34.6506543
END:VEVENT
BEGIN:VEVENT
DTSTART;TZID=America/New_York:20260405T120000
DTEND;TZID=America/New_York:20260405T170000
DTSTAMP:20260425T203543
CREATED:20260331T003843Z
LAST-MODIFIED:20260331T003843Z
UID:61266-1775390400-1775408400@864foodtrucks.com
SUMMARY:Fuel Foods @ Pendleton Spring Jubilee
DESCRIPTION:Fuel Foods – Food Truck & Catering\nClean\, Unique & Delicious!\nLocated in Clemson & Upstate\, SC 📍\nBook Us for Events! Contact for More Info!
URL:https://864foodtrucks.com/event/fuel-foods-pendleton-spring-jubilee/2026-04-05/
LOCATION:Downtown Pendleton\, West Main Street\, Pendleton\, South Carolina\, 29670\, United States
CATEGORIES:Food Truck Schedules,Pendleton
ATTACH;FMTTYPE=image/png:https://864foodtrucks.com/wp-content/uploads/2025/03/Fuel-Foods-.png
ORGANIZER;CN="Fuel Foods Food Truck":MAILTO:fuelfoods.truck@gmail.com
GEO:34.6506543;-82.7857283
X-APPLE-STRUCTURED-LOCATION;VALUE=URI;X-ADDRESS=Downtown Pendleton West Main Street Pendleton South Carolina 29670 United States;X-APPLE-RADIUS=500;X-TITLE=West Main Street:geo:-82.7857283,34.6506543
END:VEVENT
BEGIN:VEVENT
DTSTART;TZID=America/New_York:20260415T100000
DTEND;TZID=America/New_York:20260415T130000
DTSTAMP:20260425T203543
CREATED:20250929T005458Z
LAST-MODIFIED:20250929T005458Z
UID:61791-1776247200-1776258000@864foodtrucks.com
SUMMARY:Simpell Sammies @ Mt Lebanon Elementary Teacher Lunch
DESCRIPTION:Simpell Sammies is open for business and ready to serve you flavorful and delicious sandwiches and hoagies.
URL:https://864foodtrucks.com/event/simpell-sammies-mt-lebanon-elementary-teacher-lunch/2026-04-15/
LOCATION:Mt Lebanon Elemetary\, 2850 Lebanon Rd\, Pendleton\, South Carolina
CATEGORIES:Food Truck Schedules,Pendleton
ATTACH;FMTTYPE=image/jpeg:https://864foodtrucks.com/wp-content/uploads/2023/06/Simpell-Sammies-Trailer.jpg
ORGANIZER;CN="Simpell Sammies":MAILTO:info@simpelltreats.com
GEO:34.6033673;-82.698965
X-APPLE-STRUCTURED-LOCATION;VALUE=URI;X-ADDRESS=Mt Lebanon Elemetary 2850 Lebanon Rd Pendleton South Carolina;X-APPLE-RADIUS=500;X-TITLE=2850 Lebanon Rd:geo:-82.698965,34.6033673
END:VEVENT
END:VCALENDAR