BEGIN:VCALENDAR
VERSION:2.0
PRODID:-//864 Food Trucks - ECPv6.15.20//NONSGML v1.0//EN
CALSCALE:GREGORIAN
METHOD:PUBLISH
X-WR-CALNAME:864 Food Trucks
X-ORIGINAL-URL:https://864foodtrucks.com
X-WR-CALDESC:Events for 864 Food Trucks
REFRESH-INTERVAL;VALUE=DURATION:PT1H
X-Robots-Tag:noindex
X-PUBLISHED-TTL:PT1H
BEGIN:VTIMEZONE
TZID:America/New_York
BEGIN:DAYLIGHT
TZOFFSETFROM:-0500
TZOFFSETTO:-0400
TZNAME:EDT
DTSTART:20210314T070000
END:DAYLIGHT
BEGIN:STANDARD
TZOFFSETFROM:-0400
TZOFFSETTO:-0500
TZNAME:EST
DTSTART:20211107T060000
END:STANDARD
BEGIN:DAYLIGHT
TZOFFSETFROM:-0500
TZOFFSETTO:-0400
TZNAME:EDT
DTSTART:20220313T070000
END:DAYLIGHT
BEGIN:STANDARD
TZOFFSETFROM:-0400
TZOFFSETTO:-0500
TZNAME:EST
DTSTART:20221106T060000
END:STANDARD
BEGIN:DAYLIGHT
TZOFFSETFROM:-0500
TZOFFSETTO:-0400
TZNAME:EDT
DTSTART:20230312T070000
END:DAYLIGHT
BEGIN:STANDARD
TZOFFSETFROM:-0400
TZOFFSETTO:-0500
TZNAME:EST
DTSTART:20231105T060000
END:STANDARD
BEGIN:DAYLIGHT
TZOFFSETFROM:-0500
TZOFFSETTO:-0400
TZNAME:EDT
DTSTART:20240310T070000
END:DAYLIGHT
BEGIN:STANDARD
TZOFFSETFROM:-0400
TZOFFSETTO:-0500
TZNAME:EST
DTSTART:20241103T060000
END:STANDARD
BEGIN:DAYLIGHT
TZOFFSETFROM:-0500
TZOFFSETTO:-0400
TZNAME:EDT
DTSTART:20250309T070000
END:DAYLIGHT
BEGIN:STANDARD
TZOFFSETFROM:-0400
TZOFFSETTO:-0500
TZNAME:EST
DTSTART:20251102T060000
END:STANDARD
BEGIN:DAYLIGHT
TZOFFSETFROM:-0500
TZOFFSETTO:-0400
TZNAME:EDT
DTSTART:20260308T070000
END:DAYLIGHT
BEGIN:STANDARD
TZOFFSETFROM:-0400
TZOFFSETTO:-0500
TZNAME:EST
DTSTART:20261101T060000
END:STANDARD
END:VTIMEZONE
BEGIN:VEVENT
DTSTART;TZID=America/New_York:20251220T100000
DTEND;TZID=America/New_York:20251220T160000
DTSTAMP:20260423T173350
CREATED:20241216T010126Z
LAST-MODIFIED:20241216T010126Z
UID:57714-1766224800-1766246400@864foodtrucks.com
SUMMARY:Simpell Sammies @ Hagood Historic Mill
DESCRIPTION:Simpell Sammies is open for business and ready to serve you flavorful and delicious sandwiches and hoagies.
URL:https://864foodtrucks.com/event/simpell-sammies-hagood-historic-mill/2025-12-20/
LOCATION:Hagood Mill\, Hagood Mill Road 138\, Pickens\, South Carolina\, 29671\, United States
CATEGORIES:Food Truck Schedules,Pickens
ATTACH;FMTTYPE=image/jpeg:https://864foodtrucks.com/wp-content/uploads/2023/06/Simpell-Sammies-Trailer.jpg
ORGANIZER;CN="Simpell Sammies":MAILTO:info@simpelltreats.com
GEO:34.9399425;-82.7389943
X-APPLE-STRUCTURED-LOCATION;VALUE=URI;X-ADDRESS=Hagood Mill Hagood Mill Road 138 Pickens South Carolina 29671 United States;X-APPLE-RADIUS=500;X-TITLE=Hagood Mill Road 138:geo:-82.7389943,34.9399425
END:VEVENT
BEGIN:VEVENT
DTSTART;TZID=America/New_York:20251025T110000
DTEND;TZID=America/New_York:20251025T180000
DTSTAMP:20260423T173350
CREATED:20251020T203254Z
LAST-MODIFIED:20251020T203254Z
UID:55338-1761390000-1761415200@864foodtrucks.com
SUMMARY:The Salted Fry @ 3rd Annual Pickens Appalachian Folk Festival
DESCRIPTION:100% Gluten Free Food Trailer! Crispy Belgian style pommes frites loaded with your choice of savory toppings. Choose from multiple house made sauces and unique ketchup flavors!
URL:https://864foodtrucks.com/event/the-salted-fry-3rd-annual-pickens-appalachian-folk-festival/
LOCATION:Hagood Mill\, Hagood Mill Road 138\, Pickens\, South Carolina\, 29671\, United States
CATEGORIES:Food Truck Schedules,Pickens
ATTACH;FMTTYPE=image/jpeg:https://864foodtrucks.com/wp-content/uploads/2025/05/The-Salted-Fry-1.jpg
ORGANIZER;CN="The Salted Fry":MAILTO:thesaltedfry@gmail.com
GEO:34.9399425;-82.7389943
X-APPLE-STRUCTURED-LOCATION;VALUE=URI;X-ADDRESS=Hagood Mill Hagood Mill Road 138 Pickens South Carolina 29671 United States;X-APPLE-RADIUS=500;X-TITLE=Hagood Mill Road 138:geo:-82.7389943,34.9399425
END:VEVENT
BEGIN:VEVENT
DTSTART;TZID=America/New_York:20250920T100000
DTEND;TZID=America/New_York:20250920T160000
DTSTAMP:20260423T173350
CREATED:20241216T010126Z
LAST-MODIFIED:20251214T205302Z
UID:53848-1758362400-1758384000@864foodtrucks.com
SUMMARY:Simpell Sammies @ Hagood Historic Mill
DESCRIPTION:Simpell Sammies is open for business and ready to serve you flavorful and delicious sandwiches and hoagies.
URL:https://864foodtrucks.com/event/simpell-sammies-hagood-historic-mill/2025-09-20/
LOCATION:Hagood Mill\, Hagood Mill Road 138\, Pickens\, South Carolina\, 29671\, United States
CATEGORIES:Food Truck Schedules,Pickens
ATTACH;FMTTYPE=image/jpeg:https://864foodtrucks.com/wp-content/uploads/2023/06/Simpell-Sammies-Trailer.jpg
ORGANIZER;CN="Simpell Sammies":MAILTO:info@simpelltreats.com
GEO:34.9399425;-82.7389943
X-APPLE-STRUCTURED-LOCATION;VALUE=URI;X-ADDRESS=Hagood Mill Hagood Mill Road 138 Pickens South Carolina 29671 United States;X-APPLE-RADIUS=500;X-TITLE=Hagood Mill Road 138:geo:-82.7389943,34.9399425
END:VEVENT
BEGIN:VEVENT
DTSTART;TZID=America/New_York:20250531T170000
DTEND;TZID=America/New_York:20250531T210000
DTSTAMP:20260423T173350
CREATED:20250527T133144Z
LAST-MODIFIED:20250528T152503Z
UID:46671-1748710800-1748725200@864foodtrucks.com
SUMMARY:We Got the Beets @ Historic Hampton House
DESCRIPTION:FOOD FOR ALL!\nPowered by love…and plants 🌱🌈\n📍 Greenville\, SC
URL:https://864foodtrucks.com/event/we-got-the-beets-historic-hampton-house/
LOCATION:Hampton House\, 307 Hampton Ave\, Pickens\, South Carolina
CATEGORIES:Food Truck Schedules,Pickens
ATTACH;FMTTYPE=image/jpeg:https://864foodtrucks.com/wp-content/uploads/2023/10/We-Got-the-Beets.jpg
GEO:34.8817965;-82.7022469
X-APPLE-STRUCTURED-LOCATION;VALUE=URI;X-ADDRESS=Hampton House 307 Hampton Ave Pickens South Carolina;X-APPLE-RADIUS=500;X-TITLE=307 Hampton Ave:geo:-82.7022469,34.8817965
END:VEVENT
BEGIN:VEVENT
DTSTART;TZID=America/New_York:20250425T180000
DTEND;TZID=America/New_York:20250425T220000
DTSTAMP:20260423T173350
CREATED:20250421T184031Z
LAST-MODIFIED:20250421T184031Z
UID:43992-1745604000-1745618400@864foodtrucks.com
SUMMARY:Lai Sushi Express @ Pickens Azalea Festival
DESCRIPTION:Roll into flavor at our food truck! Serving fresh\, hand-crafted sushi and bold Asian (Lai) fusion!
URL:https://864foodtrucks.com/event/lai-sushi-express-pickens-azalea-festival/2025-04-25/
LOCATION:Pickens Azalea Festival\, 208 Johnson St\, Pickens\, SC\, United States
CATEGORIES:Food Truck Schedules,Pickens
ATTACH;FMTTYPE=image/jpeg:https://864foodtrucks.com/wp-content/uploads/2025/04/Lai-Sushi-Express.jpg
ORGANIZER;CN="Lai Sushi Express":MAILTO:Laisushiexpress@gmail.com
END:VEVENT
BEGIN:VEVENT
DTSTART;TZID=America/New_York:20250205T070000
DTEND;TZID=America/New_York:20250205T120000
DTSTAMP:20260423T173350
CREATED:20250204T141717Z
LAST-MODIFIED:20250721T232432Z
UID:42181-1738738800-1738756800@864foodtrucks.com
SUMMARY:Las Cazuelas @ Pickens Flea Market
DESCRIPTION:
URL:https://864foodtrucks.com/event/las-cazuelas-pickens-flea-market/2025-02-05/
LOCATION:Pickens Flea Market\, 1427 Walhalla Hwy\,\, Pickens\, South Carolina
CATEGORIES:Food Truck Schedules,Pickens
ATTACH;FMTTYPE=image/png:https://864foodtrucks.com/wp-content/uploads/2024/12/Las-Cazuelas.png
ORGANIZER;CN="Las Cazuelas":MAILTO:lascazuelascatering.llc@gmail.com
GEO:34.8745374;-82.7450408
X-APPLE-STRUCTURED-LOCATION;VALUE=URI;X-ADDRESS=Pickens Flea Market 1427 Walhalla Hwy Pickens South Carolina;X-APPLE-RADIUS=500;X-TITLE=1427 Walhalla Hwy\,:geo:-82.7450408,34.8745374
END:VEVENT
BEGIN:VEVENT
DTSTART;TZID=America/New_York:20250116T110000
DTEND;TZID=America/New_York:20250116T133000
DTSTAMP:20260423T173350
CREATED:20250114T141815Z
LAST-MODIFIED:20250114T141815Z
UID:41780-1737025200-1737034200@864foodtrucks.com
SUMMARY:Kodesh BBQ Bowls @ Pickens County Admin
DESCRIPTION:Kodesh BBQ Bowls is a mobile food trailer that provides a heap amount of Levitical clean\, flavorful\, pit smoked BBQ. We’ve also come up with a link between enjoying our delicious BBQ and providing healthier options\, our cultural inspired bowls!
URL:https://864foodtrucks.com/event/kodesh-bbq-bowls-pickens-county-admin/
LOCATION:Pickens County Administration\, McDaniel Avenue\, Pickens\, South Carolina\, 29671\, United States
CATEGORIES:Food Truck Schedules,Pickens
ATTACH;FMTTYPE=image/jpeg:https://864foodtrucks.com/wp-content/uploads/2023/07/Kodesh-BBQ.jpg
ORGANIZER;CN="Kodesh BBQ & Bowls":MAILTO:kodeshbbq@gmail.com
GEO:34.8691475;-82.7095948
X-APPLE-STRUCTURED-LOCATION;VALUE=URI;X-ADDRESS=Pickens County Administration McDaniel Avenue Pickens South Carolina 29671 United States;X-APPLE-RADIUS=500;X-TITLE=McDaniel Avenue:geo:-82.7095948,34.8691475
END:VEVENT
BEGIN:VEVENT
DTSTART;TZID=America/New_York:20241221T100000
DTEND;TZID=America/New_York:20241221T160000
DTSTAMP:20260423T173350
CREATED:20241216T010126Z
LAST-MODIFIED:20251214T205302Z
UID:41200-1734775200-1734796800@864foodtrucks.com
SUMMARY:Simpell Sammies @ Hagood Historic Mill
DESCRIPTION:Simpell Sammies is open for business and ready to serve you flavorful and delicious sandwiches and hoagies.
URL:https://864foodtrucks.com/event/simpell-sammies-hagood-historic-mill/2024-12-21/
LOCATION:Hagood Mill\, Hagood Mill Road 138\, Pickens\, South Carolina\, 29671\, United States
CATEGORIES:Food Truck Schedules,Pickens
ATTACH;FMTTYPE=image/jpeg:https://864foodtrucks.com/wp-content/uploads/2023/06/Simpell-Sammies-Trailer.jpg
ORGANIZER;CN="Simpell Sammies":MAILTO:info@simpelltreats.com
GEO:34.9399425;-82.7389943
X-APPLE-STRUCTURED-LOCATION;VALUE=URI;X-ADDRESS=Hagood Mill Hagood Mill Road 138 Pickens South Carolina 29671 United States;X-APPLE-RADIUS=500;X-TITLE=Hagood Mill Road 138:geo:-82.7389943,34.9399425
END:VEVENT
BEGIN:VEVENT
DTSTART;TZID=America/New_York:20241219T113000
DTEND;TZID=America/New_York:20241219T130000
DTSTAMP:20260423T173350
CREATED:20241217T005813Z
LAST-MODIFIED:20241217T005813Z
UID:41259-1734607800-1734613200@864foodtrucks.com
SUMMARY:Havana Taste @ Pickens City Office
DESCRIPTION:Authentic Cuban Savor
URL:https://864foodtrucks.com/event/havana-taste-pickens-city-office/
LOCATION:Pickens County City Hall\, McDaniel Avenue 222\, Pickens\, South Carolina\, 29671\, United States
CATEGORIES:Food Truck Schedules,Pickens
ATTACH;FMTTYPE=image/jpeg:https://864foodtrucks.com/wp-content/uploads/2024/11/Havana-taste.jpg
ORGANIZER;CN="Havana Taste":MAILTO:havanatasteinc@gmail.com
GEO:34.8691475;-82.7095948
X-APPLE-STRUCTURED-LOCATION;VALUE=URI;X-ADDRESS=Pickens County City Hall McDaniel Avenue 222 Pickens South Carolina 29671 United States;X-APPLE-RADIUS=500;X-TITLE=McDaniel Avenue 222:geo:-82.7095948,34.8691475
END:VEVENT
BEGIN:VEVENT
DTSTART;TZID=America/New_York:20240718T113000
DTEND;TZID=America/New_York:20240718T133000
DTSTAMP:20260423T173350
CREATED:20240716T140349Z
LAST-MODIFIED:20240716T140349Z
UID:32324-1721302200-1721309400@864foodtrucks.com
SUMMARY:Half Rooted @ Pickens County Administration
DESCRIPTION:Half Rooted is a modern Latin-American street food mobile kitchen!
URL:https://864foodtrucks.com/event/half-rooted-pickens-county-administration/
LOCATION:Pickens County Administration\, McDaniel Avenue\, Pickens\, South Carolina\, 29671\, United States
CATEGORIES:Food Truck Schedules,Pickens
ATTACH;FMTTYPE=image/jpeg:https://864foodtrucks.com/wp-content/uploads/2023/05/Half-Rooted.jpg
GEO:34.8691475;-82.7095948
X-APPLE-STRUCTURED-LOCATION;VALUE=URI;X-ADDRESS=Pickens County Administration McDaniel Avenue Pickens South Carolina 29671 United States;X-APPLE-RADIUS=500;X-TITLE=McDaniel Avenue:geo:-82.7095948,34.8691475
END:VEVENT
BEGIN:VEVENT
DTSTART;TZID=America/New_York:20240427T100000
DTEND;TZID=America/New_York:20240427T220000
DTSTAMP:20260423T173350
CREATED:20240423T155758Z
LAST-MODIFIED:20240423T155758Z
UID:27501-1714212000-1714255200@864foodtrucks.com
SUMMARY:Xtreme Cheesecake @ Pickens Azelea Fest
DESCRIPTION:
URL:https://864foodtrucks.com/event/xtreme-cheesecake-pickens-azelea-fest/
LOCATION:Pickens Azalea Festival\, 208 Johnson St\, Pickens\, SC\, United States
CATEGORIES:Food Truck Schedules,Pickens
ATTACH;FMTTYPE=image/jpeg:https://864foodtrucks.com/wp-content/uploads/2023/07/Xtreme-Cheesecakz.jpg
ORGANIZER;CN="Xtreme Cheesecakez":MAILTO:xtremecheesecakez@gmail.com
END:VEVENT
BEGIN:VEVENT
DTSTART;TZID=America/New_York:20240426T180000
DTEND;TZID=America/New_York:20240426T220000
DTSTAMP:20260423T173350
CREATED:20240425T155354Z
LAST-MODIFIED:20240425T155354Z
UID:27508-1714154400-1714168800@864foodtrucks.com
SUMMARY:Rad Dad's BBQ @ Picken's Azalea Festival
DESCRIPTION:We at Rad Dad’s are determined to bring the best BBQ and friendliest service possible. If there is one thing we love more than slow cooked BBQ it’s people! We want to bring family and friends together because that’s what BBQ truly represents.
URL:https://864foodtrucks.com/event/rad-dads-bbq-pickens-azalea-festival/
LOCATION:Pickens Azalea Festival\, 208 Johnson St\, Pickens\, SC\, United States
CATEGORIES:Food Truck Schedules,Pickens
ATTACH;FMTTYPE=image/jpeg:https://864foodtrucks.com/wp-content/uploads/2021/05/Rad-Dads-BBQ-and-Catering-Truck.jpg
ORGANIZER;CN="Rad Dad's BBQ and Catering":MAILTO:info@raddadsbbq.com
END:VEVENT
BEGIN:VEVENT
DTSTART;TZID=America/New_York:20240420T100000
DTEND;TZID=America/New_York:20240420T230000
DTSTAMP:20260423T173350
CREATED:20240415T002349Z
LAST-MODIFIED:20240415T002349Z
UID:27283-1713607200-1713654000@864foodtrucks.com
SUMMARY:Simpell Sammies @ Spring Fest
DESCRIPTION:Simpell Sammies is open for business and ready to serve you flavorful and delicious sandwiches and hoagies.
URL:https://864foodtrucks.com/event/simpell-sammies-spring-fest/
LOCATION:The Market at the Mill\, Pumpkintown Highway 225\, Pickens\, 29671\, 29671\, United States
CATEGORIES:Food Truck Schedules,Pickens
ATTACH;FMTTYPE=image/jpeg:https://864foodtrucks.com/wp-content/uploads/2023/06/Simpell-Sammies-Trailer.jpg
ORGANIZER;CN="Simpell Sammies":MAILTO:info@simpelltreats.com
GEO:34.8908173;-82.7006484
X-APPLE-STRUCTURED-LOCATION;VALUE=URI;X-ADDRESS=The Market at the Mill Pumpkintown Highway 225 Pickens 29671 29671 United States;X-APPLE-RADIUS=500;X-TITLE=Pumpkintown Highway 225:geo:-82.7006484,34.8908173
END:VEVENT
BEGIN:VEVENT
DTSTART;TZID=America/New_York:20240118T110000
DTEND;TZID=America/New_York:20240118T140000
DTSTAMP:20260423T173350
CREATED:20240116T010142Z
LAST-MODIFIED:20240116T010142Z
UID:25166-1705575600-1705586400@864foodtrucks.com
SUMMARY:La Katrina Mia @ Pickens County City Hall
DESCRIPTION:Latin Cuisine\, book us for your next event we Cater or bring our Food Truck out the choice is yours.
URL:https://864foodtrucks.com/event/la-katrina-mia-pickens-county-city-hall/
LOCATION:Pickens County City Hall\, McDaniel Avenue 222\, Pickens\, South Carolina\, 29671\, United States
CATEGORIES:Food Truck Schedules,Pickens
ATTACH;FMTTYPE=image/jpeg:https://864foodtrucks.com/wp-content/uploads/2022/06/La-Katrina-Mia-Truck.jpg
ORGANIZER;CN="La Katrina Mia":MAILTO:lakatrinamia@gmail.com
GEO:34.8691475;-82.7095948
X-APPLE-STRUCTURED-LOCATION;VALUE=URI;X-ADDRESS=Pickens County City Hall McDaniel Avenue 222 Pickens South Carolina 29671 United States;X-APPLE-RADIUS=500;X-TITLE=McDaniel Avenue 222:geo:-82.7095948,34.8691475
END:VEVENT
BEGIN:VEVENT
DTSTART;TZID=America/New_York:20231216T100000
DTEND;TZID=America/New_York:20231216T160000
DTSTAMP:20260423T173350
CREATED:20231211T184213Z
LAST-MODIFIED:20231211T184213Z
UID:24581-1702720800-1702742400@864foodtrucks.com
SUMMARY:Simpell Sammies @ Hagood Mill
DESCRIPTION:Simpell Sammies is open for business and ready to serve you flavorful and delicious sandwiches and hoagies.
URL:https://864foodtrucks.com/event/simpell-sammies-hagood-mill-2/
LOCATION:Hagood Mill\, Hagood Mill Road 138\, Pickens\, South Carolina\, 29671\, United States
CATEGORIES:Food Truck Schedules,Pickens
ATTACH;FMTTYPE=image/jpeg:https://864foodtrucks.com/wp-content/uploads/2023/06/Simpell-Sammies-Trailer.jpg
ORGANIZER;CN="Simpell Sammies":MAILTO:info@simpelltreats.com
GEO:34.9399425;-82.7389943
X-APPLE-STRUCTURED-LOCATION;VALUE=URI;X-ADDRESS=Hagood Mill Hagood Mill Road 138 Pickens South Carolina 29671 United States;X-APPLE-RADIUS=500;X-TITLE=Hagood Mill Road 138:geo:-82.7389943,34.9399425
END:VEVENT
BEGIN:VEVENT
DTSTART;TZID=America/New_York:20231214T113000
DTEND;TZID=America/New_York:20231214T133000
DTSTAMP:20260423T173350
CREATED:20231211T184930Z
LAST-MODIFIED:20231211T184930Z
UID:24590-1702553400-1702560600@864foodtrucks.com
SUMMARY:Spinx Cluk Truk @ City of Pickens
DESCRIPTION:Your favorite southern fried chicken is hitting the road—and it’s going to be legendary. Our community comes first\, and we want to share that tender love by bringing our homegrown menu to you. The Cluk Truk is coming Fall 2020 to the Upstate!
URL:https://864foodtrucks.com/event/spinx-cluk-truk-city-of-pickens/
LOCATION:Downtown Pickens\, Main St\, Pickens\, South Carolina
CATEGORIES:Food Truck Schedules,Pickens
ATTACH;FMTTYPE=image/jpeg:https://864foodtrucks.com/wp-content/uploads/2021/05/Spinx-Cluk-Truk-Truck.jpg
ORGANIZER;CN="Spinx Cluk Truk":MAILTO:cluktruk@spinxco.com
GEO:34.8815932;-82.7154719
X-APPLE-STRUCTURED-LOCATION;VALUE=URI;X-ADDRESS=Downtown Pickens Main St Pickens South Carolina;X-APPLE-RADIUS=500;X-TITLE=Main St:geo:-82.7154719,34.8815932
END:VEVENT
BEGIN:VEVENT
DTSTART;TZID=America/New_York:20231201T190000
DTEND;TZID=America/New_York:20231201T210000
DTSTAMP:20260423T173350
CREATED:20231127T183213Z
LAST-MODIFIED:20231205T190624Z
UID:24327-1701457200-1701464400@864foodtrucks.com
SUMMARY:Donut NV @ Pickens Christmas Parade
DESCRIPTION:DonutNV brings the party to your door! Hot mini donuts\, fresh squeezed lemonade\, coffee & more!
URL:https://864foodtrucks.com/event/donut-nv-pickens-christmas-parade/2023-12-01/
LOCATION:Downtown Pickens\, Main St\, Pickens\, South Carolina
CATEGORIES:Food Truck Schedules,Pickens
ATTACH;FMTTYPE=image/jpeg:https://864foodtrucks.com/wp-content/uploads/2023/11/DonutNV.jpg
ORGANIZER;CN="Donut NV Greenville":MAILTO:greenvillesc@donutnv.com
GEO:34.8815932;-82.7154719
X-APPLE-STRUCTURED-LOCATION;VALUE=URI;X-ADDRESS=Downtown Pickens Main St Pickens South Carolina;X-APPLE-RADIUS=500;X-TITLE=Main St:geo:-82.7154719,34.8815932
END:VEVENT
BEGIN:VEVENT
DTSTART;TZID=America/New_York:20231021T100000
DTEND;TZID=America/New_York:20231021T160000
DTSTAMP:20260423T173350
CREATED:20231015T233041Z
LAST-MODIFIED:20231015T233041Z
UID:23514-1697882400-1697904000@864foodtrucks.com
SUMMARY:Simpell Sammies @ Hagood Mill
DESCRIPTION:Simpell Sammies is open for business and ready to serve you flavorful and delicious sandwiches and hoagies.
URL:https://864foodtrucks.com/event/simpell-sammies-hagood-mill/
LOCATION:Hagood Mill\, Hagood Mill Road 138\, Pickens\, South Carolina\, 29671\, United States
CATEGORIES:Food Truck Schedules,Pickens
ATTACH;FMTTYPE=image/jpeg:https://864foodtrucks.com/wp-content/uploads/2023/06/Simpell-Sammies-Trailer.jpg
ORGANIZER;CN="Simpell Sammies":MAILTO:info@simpelltreats.com
GEO:34.9399425;-82.7389943
X-APPLE-STRUCTURED-LOCATION;VALUE=URI;X-ADDRESS=Hagood Mill Hagood Mill Road 138 Pickens South Carolina 29671 United States;X-APPLE-RADIUS=500;X-TITLE=Hagood Mill Road 138:geo:-82.7389943,34.9399425
END:VEVENT
BEGIN:VEVENT
DTSTART;TZID=America/New_York:20230930T090000
DTEND;TZID=America/New_York:20230930T180000
DTSTAMP:20260423T173350
CREATED:20230924T003359Z
LAST-MODIFIED:20230924T003359Z
UID:23035-1696064400-1696096800@864foodtrucks.com
SUMMARY:Simpell Sammies @ Pickens Jeep Explosion
DESCRIPTION:Simpell Sammies is open for business and ready to serve you flavorful and delicious sandwiches and hoagies.
URL:https://864foodtrucks.com/event/simpell-sammies-pickens-jeep-explosion/
LOCATION:Pickens Jeep Explosion\, Pumpkintown Highway 225\, Pickens\, South Carolina\, 29671\, United States
CATEGORIES:Food Truck Schedules,Pickens
ATTACH;FMTTYPE=image/jpeg:https://864foodtrucks.com/wp-content/uploads/2023/06/Simpell-Sammies-Trailer.jpg
ORGANIZER;CN="Simpell Sammies":MAILTO:info@simpelltreats.com
GEO:34.8908173;-82.7006484
X-APPLE-STRUCTURED-LOCATION;VALUE=URI;X-ADDRESS=Pickens Jeep Explosion Pumpkintown Highway 225 Pickens South Carolina 29671 United States;X-APPLE-RADIUS=500;X-TITLE=Pumpkintown Highway 225:geo:-82.7006484,34.8908173
END:VEVENT
BEGIN:VEVENT
DTSTART;TZID=America/New_York:20230929T103000
DTEND;TZID=America/New_York:20230929T130000
DTSTAMP:20260423T173351
CREATED:20230924T003230Z
LAST-MODIFIED:20230924T003230Z
UID:23031-1695983400-1695992400@864foodtrucks.com
SUMMARY:Simpell Sammies @ Hagood Elementary
DESCRIPTION:Simpell Sammies is open for business and ready to serve you flavorful and delicious sandwiches and hoagies.
URL:https://864foodtrucks.com/event/simpell-sammies-hagood-elementary/
LOCATION:Hagood Elementary\, Sparks Lane 435\, Pickens\, South Carolina\, 29671\, United States
CATEGORIES:Food Truck Schedules,Pickens
ATTACH;FMTTYPE=image/jpeg:https://864foodtrucks.com/wp-content/uploads/2023/06/Simpell-Sammies-Trailer.jpg
ORGANIZER;CN="Simpell Sammies":MAILTO:info@simpelltreats.com
GEO:34.8975882;-82.7052154
X-APPLE-STRUCTURED-LOCATION;VALUE=URI;X-ADDRESS=Hagood Elementary Sparks Lane 435 Pickens South Carolina 29671 United States;X-APPLE-RADIUS=500;X-TITLE=Sparks Lane 435:geo:-82.7052154,34.8975882
END:VEVENT
BEGIN:VEVENT
DTSTART;TZID=America/New_York:20230916T100000
DTEND;TZID=America/New_York:20230916T130000
DTSTAMP:20260423T173351
CREATED:20230910T192447Z
LAST-MODIFIED:20230910T192447Z
UID:22700-1694858400-1694869200@864foodtrucks.com
SUMMARY:Simpell Sammies @ Pickens Junk'n and Jammin
DESCRIPTION:Simpell Sammies is open for business and ready to serve you flavorful and delicious sandwiches and hoagies.
URL:https://864foodtrucks.com/event/simpell-sammies-pickens-junkn-and-jammin/
LOCATION:Market at the Mill\, 225 Pumpkintown Hwy\, Pickens
CATEGORIES:Food Truck Schedules,Pickens
ATTACH;FMTTYPE=image/jpeg:https://864foodtrucks.com/wp-content/uploads/2023/06/Simpell-Sammies-Trailer.jpg
ORGANIZER;CN="Simpell Sammies":MAILTO:info@simpelltreats.com
GEO:34.8911776;-82.7011577
X-APPLE-STRUCTURED-LOCATION;VALUE=URI;X-ADDRESS=Market at the Mill 225 Pumpkintown Hwy Pickens;X-APPLE-RADIUS=500;X-TITLE=225 Pumpkintown Hwy:geo:-82.7011577,34.8911776
END:VEVENT
BEGIN:VEVENT
DTSTART;TZID=America/New_York:20230721T120000
DTEND;TZID=America/New_York:20230721T190000
DTSTAMP:20260423T173351
CREATED:20230717T144827Z
LAST-MODIFIED:20230717T144827Z
UID:20836-1689940800-1689966000@864foodtrucks.com
SUMMARY:Lobster Dogs @ Grits & Grass Music Festival
DESCRIPTION:Food truck serving the Best Lobster Rolls & Stuffed Avocados in the Carolinas
URL:https://864foodtrucks.com/event/lobster-dogs-grits-grass-music-festival/2023-07-21/
LOCATION:Grits & Grass Music Festival\, 138 Hagood Mill Rd\, Pickens\, SC\, United States
CATEGORIES:Food Truck Schedules,Pickens
ATTACH;FMTTYPE=image/jpeg:https://864foodtrucks.com/wp-content/uploads/2021/05/lobster-dogs-Food-Truck.jpg
ORGANIZER;CN="Lobster Dogs":MAILTO:lobsterdogs3@gmail.com
END:VEVENT
BEGIN:VEVENT
DTSTART;TZID=America/New_York:20230704T173000
DTEND;TZID=America/New_York:20230704T213000
DTSTAMP:20260423T173351
CREATED:20230703T151858Z
LAST-MODIFIED:20230812T230130Z
UID:20442-1688491800-1688506200@864foodtrucks.com
SUMMARY:Simpell Sammies @ Market At The Mill
DESCRIPTION:Simpell Sammies is open for business and ready to serve you flavorful and delicious sandwiches and hoagies.
URL:https://864foodtrucks.com/event/simpell-sammies-market-at-the-mill/2023-07-04/
LOCATION:Market at the Mill\, 225 Pumpkintown Hwy\, Pickens
CATEGORIES:Food Truck Schedules,Pickens
ATTACH;FMTTYPE=image/jpeg:https://864foodtrucks.com/wp-content/uploads/2023/06/Simpell-Sammies-Trailer.jpg
ORGANIZER;CN="Simpell Sammies":MAILTO:info@simpelltreats.com
GEO:34.8911776;-82.7011577
X-APPLE-STRUCTURED-LOCATION;VALUE=URI;X-ADDRESS=Market at the Mill 225 Pumpkintown Hwy Pickens;X-APPLE-RADIUS=500;X-TITLE=225 Pumpkintown Hwy:geo:-82.7011577,34.8911776
END:VEVENT
BEGIN:VEVENT
DTSTART;TZID=America/New_York:20230520T163000
DTEND;TZID=America/New_York:20230520T200000
DTSTAMP:20260423T173351
CREATED:20230514T194515Z
LAST-MODIFIED:20230807T154303Z
UID:18938-1684600200-1684612800@864foodtrucks.com
SUMMARY:Lobster Dogs @ Jocassee Valley Brewing
DESCRIPTION:Food truck serving the Best Lobster Rolls & Stuffed Avocados in the Carolinas
URL:https://864foodtrucks.com/event/lobster-dogs-jocassee-valley-brewing-3/2023-05-20/
LOCATION:Jocassee Valley Brewing\, 13412 Sc-11\, Salem\, South Carolina
CATEGORIES:Food Truck Schedules,Pickens
ATTACH;FMTTYPE=image/jpeg:https://864foodtrucks.com/wp-content/uploads/2021/05/lobster-dogs-Food-Truck.jpg
ORGANIZER;CN="Lobster Dogs":MAILTO:lobsterdogs3@gmail.com
GEO:34.907363;-82.9715987
X-APPLE-STRUCTURED-LOCATION;VALUE=URI;X-ADDRESS=Jocassee Valley Brewing 13412 Sc-11 Salem South Carolina;X-APPLE-RADIUS=500;X-TITLE=13412 Sc-11:geo:-82.9715987,34.907363
END:VEVENT
BEGIN:VEVENT
DTSTART;TZID=America/New_York:20230519T180000
DTEND;TZID=America/New_York:20230519T210000
DTSTAMP:20260423T173351
CREATED:20230517T145830Z
LAST-MODIFIED:20230517T145830Z
UID:19062-1684519200-1684530000@864foodtrucks.com
SUMMARY:Half Rooted @ Food Truck Challenge
DESCRIPTION:Half Rooted is a modern Latin-American street food mobile kitchen!
URL:https://864foodtrucks.com/event/half-rooted-food-truck-challenge/
LOCATION:Market on the Mill\, 22 Mill Street\, Inman\, South Carolina
CATEGORIES:Food Truck Schedules,Pickens
ATTACH;FMTTYPE=image/jpeg:https://864foodtrucks.com/wp-content/uploads/2023/05/Half-Rooted.jpg
GEO:35.0473299;-82.0916559
X-APPLE-STRUCTURED-LOCATION;VALUE=URI;X-ADDRESS=Market on the Mill 22 Mill Street Inman South Carolina;X-APPLE-RADIUS=500;X-TITLE=22 Mill Street:geo:-82.0916559,35.0473299
END:VEVENT
BEGIN:VEVENT
DTSTART;TZID=America/New_York:20230519T000000
DTEND;TZID=America/New_York:20230519T000000
DTSTAMP:20260423T173351
CREATED:20230514T193510Z
LAST-MODIFIED:20230514T193510Z
UID:18934-1684454400-1684454400@864foodtrucks.com
SUMMARY:Lobster Dogs @ Food Truck Challenge
DESCRIPTION:Food truck serving the Best Lobster Rolls & Stuffed Avocados in the Carolinas
URL:https://864foodtrucks.com/event/lobster-dogs-food-truck-challenge/
LOCATION:Market at the Mill\, 225 Pumpkintown Hwy\, Pickens
CATEGORIES:Food Truck Schedules,Pickens
ATTACH;FMTTYPE=image/jpeg:https://864foodtrucks.com/wp-content/uploads/2021/05/lobster-dogs-Food-Truck.jpg
ORGANIZER;CN="Lobster Dogs":MAILTO:lobsterdogs3@gmail.com
GEO:34.8911776;-82.7011577
X-APPLE-STRUCTURED-LOCATION;VALUE=URI;X-ADDRESS=Market at the Mill 225 Pumpkintown Hwy Pickens;X-APPLE-RADIUS=500;X-TITLE=225 Pumpkintown Hwy:geo:-82.7011577,34.8911776
END:VEVENT
BEGIN:VEVENT
DTSTART;TZID=America/New_York:20230429T100000
DTEND;TZID=America/New_York:20230429T200000
DTSTAMP:20260423T173351
CREATED:20230424T185832Z
LAST-MODIFIED:20230424T185832Z
UID:18454-1682762400-1682798400@864foodtrucks.com
SUMMARY:Kiss My Asada @ Pickens Azalea Festival
DESCRIPTION:Rollin’ homemade Mexican deliciousness through the SC upstate. Locally sourced when possible!
URL:https://864foodtrucks.com/event/kiss-my-asada-pickens-azalea-festival/
LOCATION:Pickens Azalea Festival\, 208 Johnson St\, Pickens\, SC\, United States
CATEGORIES:Food Truck Schedules,Pickens
ATTACH;FMTTYPE=image/jpeg:https://864foodtrucks.com/wp-content/uploads/2023/03/Kiss-my-asada.jpg
ORGANIZER;CN="Kiss My Asada":MAILTO:kissmyasada@gmail.com
END:VEVENT
BEGIN:VEVENT
DTSTART;TZID=America/New_York:20221202T170000
DTEND;TZID=America/New_York:20221202T170000
DTSTAMP:20260423T173351
CREATED:20221130T175259Z
LAST-MODIFIED:20221130T175259Z
UID:15136-1670000400-1670000400@864foodtrucks.com
SUMMARY:Traveling Taps @ Pickens Santa Race & Christmas Parade
DESCRIPTION:We’ve converted two vintage trucks into beer & wine taps! We have a 1960 Ford F100 named “Ole Blue” and a 1953 Chevy 3100 named “Lucky Lass”. We are available for weddings\, neighborhoods or parties!
URL:https://864foodtrucks.com/event/traveling-taps-pickens-santa-race-christmas-parade/
LOCATION:Downtown Pickens\, Main St\, Pickens\, South Carolina
CATEGORIES:Food Truck Schedules,Pickens
ATTACH;FMTTYPE=image/jpeg:https://864foodtrucks.com/wp-content/uploads/2022/10/Traveling-Taps-Truck-e1666466690290.jpg
ORGANIZER;CN="Traveling Taps":MAILTO:cmotter@travelingtapssc.com
GEO:34.8815932;-82.7154719
X-APPLE-STRUCTURED-LOCATION;VALUE=URI;X-ADDRESS=Downtown Pickens Main St Pickens South Carolina;X-APPLE-RADIUS=500;X-TITLE=Main St:geo:-82.7154719,34.8815932
END:VEVENT
END:VCALENDAR