BEGIN:VCALENDAR
VERSION:2.0
PRODID:-//864 Food Trucks - ECPv6.15.20//NONSGML v1.0//EN
CALSCALE:GREGORIAN
METHOD:PUBLISH
X-ORIGINAL-URL:https://864foodtrucks.com
X-WR-CALDESC:Events for 864 Food Trucks
REFRESH-INTERVAL;VALUE=DURATION:PT1H
X-Robots-Tag:noindex
X-PUBLISHED-TTL:PT1H
BEGIN:VTIMEZONE
TZID:America/New_York
BEGIN:DAYLIGHT
TZOFFSETFROM:-0500
TZOFFSETTO:-0400
TZNAME:EDT
DTSTART:20220313T070000
END:DAYLIGHT
BEGIN:STANDARD
TZOFFSETFROM:-0400
TZOFFSETTO:-0500
TZNAME:EST
DTSTART:20221106T060000
END:STANDARD
BEGIN:DAYLIGHT
TZOFFSETFROM:-0500
TZOFFSETTO:-0400
TZNAME:EDT
DTSTART:20230312T070000
END:DAYLIGHT
BEGIN:STANDARD
TZOFFSETFROM:-0400
TZOFFSETTO:-0500
TZNAME:EST
DTSTART:20231105T060000
END:STANDARD
BEGIN:DAYLIGHT
TZOFFSETFROM:-0500
TZOFFSETTO:-0400
TZNAME:EDT
DTSTART:20240310T070000
END:DAYLIGHT
BEGIN:STANDARD
TZOFFSETFROM:-0400
TZOFFSETTO:-0500
TZNAME:EST
DTSTART:20241103T060000
END:STANDARD
BEGIN:DAYLIGHT
TZOFFSETFROM:-0500
TZOFFSETTO:-0400
TZNAME:EDT
DTSTART:20250309T070000
END:DAYLIGHT
BEGIN:STANDARD
TZOFFSETFROM:-0400
TZOFFSETTO:-0500
TZNAME:EST
DTSTART:20251102T060000
END:STANDARD
BEGIN:DAYLIGHT
TZOFFSETFROM:-0500
TZOFFSETTO:-0400
TZNAME:EDT
DTSTART:20260308T070000
END:DAYLIGHT
BEGIN:STANDARD
TZOFFSETFROM:-0400
TZOFFSETTO:-0500
TZNAME:EST
DTSTART:20261101T060000
END:STANDARD
BEGIN:DAYLIGHT
TZOFFSETFROM:-0500
TZOFFSETTO:-0400
TZNAME:EDT
DTSTART:20270314T070000
END:DAYLIGHT
BEGIN:STANDARD
TZOFFSETFROM:-0400
TZOFFSETTO:-0500
TZNAME:EST
DTSTART:20271107T060000
END:STANDARD
END:VTIMEZONE
BEGIN:VEVENT
DTSTART;TZID=America/New_York:20230304T110000
DTEND;TZID=America/New_York:20230304T140000
DTSTAMP:20260425T113640
CREATED:20230228T124601Z
LAST-MODIFIED:20230228T124601Z
UID:17230-1677927600-1677938400@864foodtrucks.com
SUMMARY:La Katrina Mia @ Sugar Tits Moonshine Distillery
DESCRIPTION:Latin Cuisine\, book us for your next event we Cater or bring our Food Truck out the choice is yours.
URL:https://864foodtrucks.com/event/la-katrina-mia-sugar-tits-moonshine-distillery/
LOCATION:Sugar Tit Moonshine\, 330 Main St\, Reidville\, South Carolina
CATEGORIES:Food Truck Schedules,Reidville
ATTACH;FMTTYPE=image/jpeg:https://864foodtrucks.com/wp-content/uploads/2022/06/La-Katrina-Mia-Truck.jpg
GEO:34.8603185;-82.1101298
X-APPLE-STRUCTURED-LOCATION;VALUE=URI;X-ADDRESS=Sugar Tit Moonshine 330 Main St Reidville South Carolina;X-APPLE-RADIUS=500;X-TITLE=330 Main St:geo:-82.1101298,34.8603185
END:VEVENT
BEGIN:VEVENT
DTSTART;TZID=America/New_York:20230304T150000
DTEND;TZID=America/New_York:20230304T173000
DTSTAMP:20260425T113640
CREATED:20230228T124803Z
LAST-MODIFIED:20230228T124803Z
UID:17232-1677942000-1677951000@864foodtrucks.com
SUMMARY:La Katrina Mia @ T-Mobile Grand Opening Williamston
DESCRIPTION:Latin Cuisine\, book us for your next event we Cater or bring our Food Truck out the choice is yours.
URL:https://864foodtrucks.com/event/la-katrina-mia-t-mobile-grand-opening-williamston/
LOCATION:T-Mobile Williamston\, 551 West Main St\, Williamston\, SC\, United States
CATEGORIES:Food Truck Schedules,Reidville
ATTACH;FMTTYPE=image/jpeg:https://864foodtrucks.com/wp-content/uploads/2022/06/La-Katrina-Mia-Truck.jpg
ORGANIZER;CN="La Katrina Mia":MAILTO:lakatrinamia@gmail.com
END:VEVENT
BEGIN:VEVENT
DTSTART;TZID=America/New_York:20250517T110000
DTEND;TZID=America/New_York:20250517T160000
DTSTAMP:20260425T113640
CREATED:20250514T163237Z
LAST-MODIFIED:20250514T163237Z
UID:45374-1747479600-1747497600@864foodtrucks.com
SUMMARY:Havana Taste @ Reidville Spring Festival
DESCRIPTION:Authentic Cuban Savor
URL:https://864foodtrucks.com/event/havana-taste-reidville-spring-festival/
LOCATION:City of Reidville\, Reidville\, South Carolina
CATEGORIES:Food Truck Schedules,Reidville
ATTACH;FMTTYPE=image/jpeg:https://864foodtrucks.com/wp-content/uploads/2024/11/Havana-taste.jpg
ORGANIZER;CN="Havana Taste":MAILTO:havanatasteinc@gmail.com
GEO:34.8634502;-82.1141959
END:VEVENT
BEGIN:VEVENT
DTSTART;TZID=America/New_York:20250719T170000
DTEND;TZID=America/New_York:20250719T210000
DTSTAMP:20260425T113640
CREATED:20250714T153828Z
LAST-MODIFIED:20250714T153828Z
UID:50022-1752944400-1752958800@864foodtrucks.com
SUMMARY:Local Pie Pizza Co @ Upstate Nursery
DESCRIPTION:
URL:https://864foodtrucks.com/event/local-pie-pizza-co-upstate-nursery/
LOCATION:Upstate Nursery\, 364 Dillard Rd\, Reidville\, South Carolina
CATEGORIES:Food Truck Schedules,Reidville
ATTACH;FMTTYPE=image/jpeg:https://864foodtrucks.com/wp-content/uploads/2021/12/Local-Pie-Pizza-3.jpg
ORGANIZER;CN="Local Pie Pizza Company":MAILTO:cory@localpiepizzacompany.com
GEO:34.8653345;-82.1069652
X-APPLE-STRUCTURED-LOCATION;VALUE=URI;X-ADDRESS=Upstate Nursery 364 Dillard Rd Reidville South Carolina;X-APPLE-RADIUS=500;X-TITLE=364 Dillard Rd:geo:-82.1069652,34.8653345
END:VEVENT
BEGIN:VEVENT
DTSTART;TZID=America/New_York:20251101T170000
DTEND;TZID=America/New_York:20251101T170000
DTSTAMP:20260425T113640
CREATED:20251026T225432Z
LAST-MODIFIED:20251026T225432Z
UID:55574-1762016400-1762016400@864foodtrucks.com
SUMMARY:Local Pie Pizza Co @ Sugar Tit Distillery
DESCRIPTION:
URL:https://864foodtrucks.com/event/local-pie-pizza-co-sugar-tit-distillery/
LOCATION:Sugar Tit Moonshine\, 330 Main St\, Reidville\, South Carolina
CATEGORIES:Food Truck Schedules,Reidville
ATTACH;FMTTYPE=image/jpeg:https://864foodtrucks.com/wp-content/uploads/2021/12/Local-Pie-Pizza-3.jpg
ORGANIZER;CN="Local Pie Pizza Company":MAILTO:cory@localpiepizzacompany.com
GEO:34.8603185;-82.1101298
X-APPLE-STRUCTURED-LOCATION;VALUE=URI;X-ADDRESS=Sugar Tit Moonshine 330 Main St Reidville South Carolina;X-APPLE-RADIUS=500;X-TITLE=330 Main St:geo:-82.1101298,34.8603185
END:VEVENT
BEGIN:VEVENT
DTSTART;TZID=America/New_York:20260207T080000
DTEND;TZID=America/New_York:20260207T113000
DTSTAMP:20260425T113640
CREATED:20260202T232819Z
LAST-MODIFIED:20260202T232819Z
UID:59401-1770451200-1770463800@864foodtrucks.com
SUMMARY:Cinnabon @ Sweet Tea Station
DESCRIPTION:Cinnabon Food Truck Greenville
URL:https://864foodtrucks.com/event/cinnabon-sweet-tea-station-2/
LOCATION:Sweet Tea Station\, Reidville Road 7325\, Woodruff\, SC\, 29388\, United States
CATEGORIES:Food Truck Schedules,Reidville
ATTACH;FMTTYPE=image/jpeg:https://864foodtrucks.com/wp-content/uploads/2024/12/326870080_1829549937401559_2632445834433428235_n-2.jpg
ORGANIZER;CN="Cinnabon Greenville":MAILTO:info@hotbonssc.com
GEO:34.8631063;-82.1133434
X-APPLE-STRUCTURED-LOCATION;VALUE=URI;X-ADDRESS=Sweet Tea Station Reidville Road 7325 Woodruff SC 29388 United States;X-APPLE-RADIUS=500;X-TITLE=Reidville Road 7325:geo:-82.1133434,34.8631063
END:VEVENT
END:VCALENDAR