BEGIN:VCALENDAR
VERSION:2.0
PRODID:-//864 Food Trucks - ECPv6.15.20//NONSGML v1.0//EN
CALSCALE:GREGORIAN
METHOD:PUBLISH
X-ORIGINAL-URL:https://864foodtrucks.com
X-WR-CALDESC:Events for 864 Food Trucks
REFRESH-INTERVAL;VALUE=DURATION:PT1H
X-Robots-Tag:noindex
X-PUBLISHED-TTL:PT1H
BEGIN:VTIMEZONE
TZID:America/New_York
BEGIN:DAYLIGHT
TZOFFSETFROM:-0500
TZOFFSETTO:-0400
TZNAME:EDT
DTSTART:20210314T070000
END:DAYLIGHT
BEGIN:STANDARD
TZOFFSETFROM:-0400
TZOFFSETTO:-0500
TZNAME:EST
DTSTART:20211107T060000
END:STANDARD
BEGIN:DAYLIGHT
TZOFFSETFROM:-0500
TZOFFSETTO:-0400
TZNAME:EDT
DTSTART:20220313T070000
END:DAYLIGHT
BEGIN:STANDARD
TZOFFSETFROM:-0400
TZOFFSETTO:-0500
TZNAME:EST
DTSTART:20221106T060000
END:STANDARD
BEGIN:DAYLIGHT
TZOFFSETFROM:-0500
TZOFFSETTO:-0400
TZNAME:EDT
DTSTART:20230312T070000
END:DAYLIGHT
BEGIN:STANDARD
TZOFFSETFROM:-0400
TZOFFSETTO:-0500
TZNAME:EST
DTSTART:20231105T060000
END:STANDARD
BEGIN:DAYLIGHT
TZOFFSETFROM:-0500
TZOFFSETTO:-0400
TZNAME:EDT
DTSTART:20240310T070000
END:DAYLIGHT
BEGIN:STANDARD
TZOFFSETFROM:-0400
TZOFFSETTO:-0500
TZNAME:EST
DTSTART:20241103T060000
END:STANDARD
BEGIN:DAYLIGHT
TZOFFSETFROM:-0500
TZOFFSETTO:-0400
TZNAME:EDT
DTSTART:20250309T070000
END:DAYLIGHT
BEGIN:STANDARD
TZOFFSETFROM:-0400
TZOFFSETTO:-0500
TZNAME:EST
DTSTART:20251102T060000
END:STANDARD
BEGIN:DAYLIGHT
TZOFFSETFROM:-0500
TZOFFSETTO:-0400
TZNAME:EDT
DTSTART:20260308T070000
END:DAYLIGHT
BEGIN:STANDARD
TZOFFSETFROM:-0400
TZOFFSETTO:-0500
TZNAME:EST
DTSTART:20261101T060000
END:STANDARD
END:VTIMEZONE
BEGIN:VEVENT
DTSTART;TZID=America/New_York:20221119T160000
DTEND;TZID=America/New_York:20221119T200000
DTSTAMP:20260425T204044
CREATED:20221114T172628Z
LAST-MODIFIED:20221211T225641Z
UID:14611-1668873600-1668888000@864foodtrucks.com
SUMMARY:Lobster Dogs @ Jocassee Valley Brewing
DESCRIPTION:Great food on the go. Fill your cup and go. We are the best Mediterranean food trailer in Greenville \, Sc
URL:https://864foodtrucks.com/event/lobster-dogs-jocassee-valley-brewing/2022-11-19/
LOCATION:Jocassee Valley Brewing\, 13412 Sc-11\, Salem\, South Carolina
CATEGORIES:Food Truck Schedules,Salem
ATTACH;FMTTYPE=image/jpeg:https://864foodtrucks.com/wp-content/uploads/2021/05/lobster-dogs-Food-Truck.jpg
ORGANIZER;CN="Lobster Dogs":MAILTO:lobsterdogs3@gmail.com
GEO:34.907363;-82.9715987
X-APPLE-STRUCTURED-LOCATION;VALUE=URI;X-ADDRESS=Jocassee Valley Brewing 13412 Sc-11 Salem South Carolina;X-APPLE-RADIUS=500;X-TITLE=13412 Sc-11:geo:-82.9715987,34.907363
END:VEVENT
BEGIN:VEVENT
DTSTART;TZID=America/New_York:20221209T000000
DTEND;TZID=America/New_York:20221209T000000
DTSTAMP:20260425T204044
CREATED:20221204T212515Z
LAST-MODIFIED:20250323T001042Z
UID:15397-1670544000-1670544000@864foodtrucks.com
SUMMARY:Simpell Sammies @ Jocassee Valley Brewing Co
DESCRIPTION:Simpell Sammies is open for business and ready to serve you flavorful and delicious sandwiches and hoagies.
URL:https://864foodtrucks.com/event/simpell-sammies-jocassee-valley-brewing-co/2022-12-09/
LOCATION:Jocassee Valley Brewing\, 13412 Sc-11\, Salem\, South Carolina
CATEGORIES:Food Truck Schedules,Salem
ATTACH;FMTTYPE=image/jpeg:https://864foodtrucks.com/wp-content/uploads/2021/12/Simpell-Sammies-Trailer.jpg
ORGANIZER;CN="Simpell Sammies":MAILTO:info@simpelltreats.com
GEO:34.907363;-82.9715987
X-APPLE-STRUCTURED-LOCATION;VALUE=URI;X-ADDRESS=Jocassee Valley Brewing 13412 Sc-11 Salem South Carolina;X-APPLE-RADIUS=500;X-TITLE=13412 Sc-11:geo:-82.9715987,34.907363
END:VEVENT
BEGIN:VEVENT
DTSTART;TZID=America/New_York:20221209T170000
DTEND;TZID=America/New_York:20221209T200000
DTSTAMP:20260425T204044
CREATED:20221204T233638Z
LAST-MODIFIED:20241216T011337Z
UID:15405-1670605200-1670616000@864foodtrucks.com
SUMMARY:Lobster Dogs @ Twice a Town Taproom
DESCRIPTION:Great food on the go. Fill your cup and go. We are the best Mediterranean food trailer in Greenville \, Sc
URL:https://864foodtrucks.com/event/lobster-dogs-twice-a-town-taproom/2022-12-09/
LOCATION:Twice a Town Taproom\, 165 E Main St\, Salem\, SC\, United States
CATEGORIES:Food Truck Schedules,Salem
ATTACH;FMTTYPE=image/jpeg:https://864foodtrucks.com/wp-content/uploads/2021/05/lobster-dogs-Food-Truck.jpg
ORGANIZER;CN="Lobster Dogs":MAILTO:lobsterdogs3@gmail.com
END:VEVENT
BEGIN:VEVENT
DTSTART;TZID=America/New_York:20221230T170000
DTEND;TZID=America/New_York:20221230T200000
DTSTAMP:20260425T204044
CREATED:20221219T224710Z
LAST-MODIFIED:20221219T224710Z
UID:15754-1672419600-1672430400@864foodtrucks.com
SUMMARY:Wing Wagon South @ Jocassee Family Brewing
DESCRIPTION:
URL:https://864foodtrucks.com/event/wing-wagon-south-jocassee-family-brewing/
LOCATION:Jocassee Valley Brewing\, 13412 Sc-11\, Salem\, South Carolina
CATEGORIES:Food Truck Schedules,Salem
ATTACH;FMTTYPE=image/jpeg:https://864foodtrucks.com/wp-content/uploads/2022/07/Wing-Wagon-South.jpg
GEO:34.907363;-82.9715987
X-APPLE-STRUCTURED-LOCATION;VALUE=URI;X-ADDRESS=Jocassee Valley Brewing 13412 Sc-11 Salem South Carolina;X-APPLE-RADIUS=500;X-TITLE=13412 Sc-11:geo:-82.9715987,34.907363
END:VEVENT
BEGIN:VEVENT
DTSTART;TZID=America/New_York:20230112T170000
DTEND;TZID=America/New_York:20230112T200000
DTSTAMP:20260425T204044
CREATED:20230111T194401Z
LAST-MODIFIED:20230627T181732Z
UID:16123-1673542800-1673553600@864foodtrucks.com
SUMMARY:Wing Wagon South @ Twice a Town Taproom
DESCRIPTION:
URL:https://864foodtrucks.com/event/wing-wagon-south-twice-a-town-taproom/2023-01-12/
LOCATION:Twice a Town Taproom\, 165 E Main St\, Salem\, SC\, United States
CATEGORIES:Food Truck Schedules,Salem
ATTACH;FMTTYPE=image/jpeg:https://864foodtrucks.com/wp-content/uploads/2022/07/Wing-Wagon-South-Trailer.jpg
END:VEVENT
BEGIN:VEVENT
DTSTART;TZID=America/New_York:20230113T170000
DTEND;TZID=America/New_York:20230113T200000
DTSTAMP:20260425T204044
CREATED:20230109T191416Z
LAST-MODIFIED:20230109T191416Z
UID:15999-1673629200-1673640000@864foodtrucks.com
SUMMARY:Lobster Dogs @ Twice A Town Taproom
DESCRIPTION:Food truck serving the Best Lobster Rolls & Stuffed Avocados in the Carolinas
URL:https://864foodtrucks.com/event/lobster-dogs-twice-a-town-taproom-2/
LOCATION:Twice a Town Taproom\, 165 E Main St\, Salem\, SC\, United States
CATEGORIES:Food Truck Schedules,Salem
ATTACH;FMTTYPE=image/jpeg:https://864foodtrucks.com/wp-content/uploads/2021/05/lobster-dogs-Food-Truck.jpg
ORGANIZER;CN="Lobster Dogs":MAILTO:lobsterdogs3@gmail.com
END:VEVENT
BEGIN:VEVENT
DTSTART;TZID=America/New_York:20230129T120000
DTEND;TZID=America/New_York:20230129T160000
DTSTAMP:20260425T204044
CREATED:20230123T192131Z
LAST-MODIFIED:20230123T192131Z
UID:16288-1674993600-1675008000@864foodtrucks.com
SUMMARY:Lobster Dogs @ Twice a Town Taproom
DESCRIPTION:Food truck serving the Best Lobster Rolls & Stuffed Avocados in the Carolinas
URL:https://864foodtrucks.com/event/lobster-dogs-twice-a-town-taproom-3/
LOCATION:Twice a Town Taproom\, 165 E Main St\, Salem\, SC\, United States
CATEGORIES:Food Truck Schedules,Salem
ATTACH;FMTTYPE=image/jpeg:https://864foodtrucks.com/wp-content/uploads/2021/05/lobster-dogs-Food-Truck.jpg
ORGANIZER;CN="Lobster Dogs":MAILTO:lobsterdogs3@gmail.com
END:VEVENT
BEGIN:VEVENT
DTSTART;TZID=America/New_York:20230210T170000
DTEND;TZID=America/New_York:20230210T200000
DTSTAMP:20260425T204044
CREATED:20230208T191054Z
LAST-MODIFIED:20230627T181645Z
UID:16659-1676048400-1676059200@864foodtrucks.com
SUMMARY:Wing Wagon South @ Jocassee Valley Brewing
DESCRIPTION:
URL:https://864foodtrucks.com/event/wing-wagon-south-jocassee-valley-brewing/2023-02-10/
LOCATION:Jocassee Valley Brewing\, 13412 Sc-11\, Salem\, South Carolina
CATEGORIES:Food Truck Schedules,Salem
ATTACH;FMTTYPE=image/jpeg:https://864foodtrucks.com/wp-content/uploads/2022/07/Wing-Wagon-South.jpg
GEO:34.907363;-82.9715987
X-APPLE-STRUCTURED-LOCATION;VALUE=URI;X-ADDRESS=Jocassee Valley Brewing 13412 Sc-11 Salem South Carolina;X-APPLE-RADIUS=500;X-TITLE=13412 Sc-11:geo:-82.9715987,34.907363
END:VEVENT
BEGIN:VEVENT
DTSTART;TZID=America/New_York:20230218T160000
DTEND;TZID=America/New_York:20230218T200000
DTSTAMP:20260425T204044
CREATED:20230212T204840Z
LAST-MODIFIED:20230409T191036Z
UID:16727-1676736000-1676750400@864foodtrucks.com
SUMMARY:Lobster Dogs @ Jocassee Valley Brewing
DESCRIPTION:Food truck serving the Best Lobster Rolls & Stuffed Avocados in the Carolinas
URL:https://864foodtrucks.com/event/lobster-dogs-jocassee-valley-brewing-2/2023-02-18/
LOCATION:Jocassee Valley Brewing\, 13412 Sc-11\, Salem\, South Carolina
CATEGORIES:Food Truck Schedules,Salem
ATTACH;FMTTYPE=image/jpeg:https://864foodtrucks.com/wp-content/uploads/2021/05/lobster-dogs-Food-Truck.jpg
ORGANIZER;CN="Lobster Dogs":MAILTO:lobsterdogs3@gmail.com
GEO:34.907363;-82.9715987
X-APPLE-STRUCTURED-LOCATION;VALUE=URI;X-ADDRESS=Jocassee Valley Brewing 13412 Sc-11 Salem South Carolina;X-APPLE-RADIUS=500;X-TITLE=13412 Sc-11:geo:-82.9715987,34.907363
END:VEVENT
BEGIN:VEVENT
DTSTART;TZID=America/New_York:20230319T120000
DTEND;TZID=America/New_York:20230319T160000
DTSTAMP:20260425T204044
CREATED:20230312T201457Z
LAST-MODIFIED:20230611T191642Z
UID:17423-1679227200-1679241600@864foodtrucks.com
SUMMARY:Lobster Dogs @ Twice-A-Town Taproom
DESCRIPTION:Food truck serving the Best Lobster Rolls & Stuffed Avocados in the Carolinas
URL:https://864foodtrucks.com/event/lobster-dogs-twice-a-town-taproom-4/2023-03-19/
LOCATION:Twice a Town Taproom\, 165 E Main St\, Salem\, SC\, United States
CATEGORIES:Food Truck Schedules,Salem
ATTACH;FMTTYPE=image/jpeg:https://864foodtrucks.com/wp-content/uploads/2021/05/lobster-dogs-Food-Truck.jpg
ORGANIZER;CN="Lobster Dogs":MAILTO:lobsterdogs3@gmail.com
END:VEVENT
BEGIN:VEVENT
DTSTART;TZID=America/New_York:20230406T120000
DTEND;TZID=America/New_York:20230406T190000
DTSTAMP:20260425T204044
CREATED:20230403T185514Z
LAST-MODIFIED:20230830T203730Z
UID:17973-1680782400-1680807600@864foodtrucks.com
SUMMARY:Kiss My Asada @ Jocassee Valley Brewing
DESCRIPTION:Rollin’ homemade Mexican deliciousness through the SC upstate. Locally sourced when possible!
URL:https://864foodtrucks.com/event/kiss-my-asada-jocassee-valley-brewing/2023-04-06/
LOCATION:Jocassee Valley Brewing\, 13412 Sc-11\, Salem\, South Carolina
CATEGORIES:Food Truck Schedules,Salem
ATTACH;FMTTYPE=image/jpeg:https://864foodtrucks.com/wp-content/uploads/2023/03/Kiss-my-asada.jpg
ORGANIZER;CN="Kiss My Asada":MAILTO:kissmyasada@gmail.com
GEO:34.907363;-82.9715987
X-APPLE-STRUCTURED-LOCATION;VALUE=URI;X-ADDRESS=Jocassee Valley Brewing 13412 Sc-11 Salem South Carolina;X-APPLE-RADIUS=500;X-TITLE=13412 Sc-11:geo:-82.9715987,34.907363
END:VEVENT
BEGIN:VEVENT
DTSTART;TZID=America/New_York:20230701T140000
DTEND;TZID=America/New_York:20230701T200000
DTSTAMP:20260425T204044
CREATED:20230628T182151Z
LAST-MODIFIED:20250723T011125Z
UID:20363-1688220000-1688241600@864foodtrucks.com
SUMMARY:Just a Smile Caribbean @ Jocassee Valley Brewing
DESCRIPTION:JUST-A-SMILE ENTERTAINMENT PROVIDING YOUR PLACE OR VENUE COMPLETE CARIBBEAN EXPERIENCE THROUGH FOOD DANCE AND UNITY. WE BRING SMILES.
URL:https://864foodtrucks.com/event/just-a-smile-caribbean-jocassee-valley-brewing/2023-07-01/
LOCATION:South Carolina
CATEGORIES:Food Truck Schedules,Salem
ATTACH;FMTTYPE=image/jpeg:https://864foodtrucks.com/wp-content/uploads/2021/05/Just-A-Smile.jpg
END:VEVENT
BEGIN:VEVENT
DTSTART;TZID=America/New_York:20230719T170000
DTEND;TZID=America/New_York:20230719T200000
DTSTAMP:20260425T204044
CREATED:20230718T194152Z
LAST-MODIFIED:20230718T194152Z
UID:20967-1689786000-1689796800@864foodtrucks.com
SUMMARY:Wing Wagon South @ Jocassee Valley Brewing Company
DESCRIPTION:
URL:https://864foodtrucks.com/event/wing-wagon-south-jocassee-valley-brewing-company/
LOCATION:Jocassee Valley Brewing\, 13412 Sc-11\, Salem\, South Carolina
CATEGORIES:Food Truck Schedules,Salem
ATTACH;FMTTYPE=image/jpeg:https://864foodtrucks.com/wp-content/uploads/2022/07/Wing-Wagon-South.jpg
GEO:34.907363;-82.9715987
X-APPLE-STRUCTURED-LOCATION;VALUE=URI;X-ADDRESS=Jocassee Valley Brewing 13412 Sc-11 Salem South Carolina;X-APPLE-RADIUS=500;X-TITLE=13412 Sc-11:geo:-82.9715987,34.907363
END:VEVENT
BEGIN:VEVENT
DTSTART;TZID=America/New_York:20230720T170000
DTEND;TZID=America/New_York:20230720T200000
DTSTAMP:20260425T204044
CREATED:20230717T144620Z
LAST-MODIFIED:20240825T220051Z
UID:20834-1689872400-1689883200@864foodtrucks.com
SUMMARY:Lobster Dogs @ Twice a Town Taproom
DESCRIPTION:Food truck serving the Best Lobster Rolls & Stuffed Avocados in the Carolinas
URL:https://864foodtrucks.com/event/lobster-dogs-twice-a-town-taproom-5/2023-07-20/
LOCATION:Twice a Town Taproom\, 165 E Main St\, Salem\, SC\, United States
CATEGORIES:Food Truck Schedules,Salem
ATTACH;FMTTYPE=image/jpeg:https://864foodtrucks.com/wp-content/uploads/2021/05/lobster-dogs-Food-Truck.jpg
ORGANIZER;CN="Lobster Dogs":MAILTO:lobsterdogs3@gmail.com
END:VEVENT
BEGIN:VEVENT
DTSTART;TZID=America/New_York:20230723T120000
DTEND;TZID=America/New_York:20230723T170000
DTSTAMP:20260425T204044
CREATED:20230718T195036Z
LAST-MODIFIED:20230718T195036Z
UID:20975-1690113600-1690131600@864foodtrucks.com
SUMMARY:Simpell Sammies @ Twice-A-Town Taproom
DESCRIPTION:Simpell Sammies is open for business and ready to serve you flavorful and delicious sandwiches and hoagies.
URL:https://864foodtrucks.com/event/simpell-sammies-twice-a-town-taproom/
LOCATION:Twice a Town Taproom\, 165 E Main St\, Salem\, SC\, United States
CATEGORIES:Food Truck Schedules,Salem
ATTACH;FMTTYPE=image/jpeg:https://864foodtrucks.com/wp-content/uploads/2023/06/Simpell-Sammies-Trailer.jpg
ORGANIZER;CN="Simpell Sammies":MAILTO:info@simpelltreats.com
END:VEVENT
BEGIN:VEVENT
DTSTART;TZID=America/New_York:20230907T170000
DTEND;TZID=America/New_York:20230907T210000
DTSTAMP:20260425T204044
CREATED:20230903T195321Z
LAST-MODIFIED:20230903T195321Z
UID:22538-1694106000-1694120400@864foodtrucks.com
SUMMARY:Simpell Sammies @ Twice-A-Town Taproom
DESCRIPTION:Simpell Sammies is open for business and ready to serve you flavorful and delicious sandwiches and hoagies.
URL:https://864foodtrucks.com/event/simpell-sammies-twice-a-town-taproom-2/
LOCATION:Twice a Town Taproom\, 165 E Main St\, Salem\, SC\, United States
CATEGORIES:Food Truck Schedules,Salem
ATTACH;FMTTYPE=image/jpeg:https://864foodtrucks.com/wp-content/uploads/2023/06/Simpell-Sammies-Trailer.jpg
ORGANIZER;CN="Simpell Sammies":MAILTO:info@simpelltreats.com
END:VEVENT
BEGIN:VEVENT
DTSTART;TZID=America/New_York:20230914T160000
DTEND;TZID=America/New_York:20230914T210000
DTSTAMP:20260425T204044
CREATED:20230914T004754Z
LAST-MODIFIED:20230914T004754Z
UID:22852-1694707200-1694725200@864foodtrucks.com
SUMMARY:The Wok Lobster @ Twice-A-Town Taproom
DESCRIPTION:First and only Asian American🥢🥟food truck🚚 booking for festivals\, music venues AL\, TN\, GA\, NC\, SC
URL:https://864foodtrucks.com/event/the-wok-lobster-twice-a-town-taproom/
LOCATION:Twice a Town Taproom\, 165 E Main St\, Salem\, SC\, United States
CATEGORIES:Food Truck Schedules,Salem
ATTACH;FMTTYPE=image/jpeg:https://864foodtrucks.com/wp-content/uploads/2023/02/The-Wok-Lobster.jpg
ORGANIZER;CN="The Wok Lobster":MAILTO:thewoklobster@thewoklobster.net
END:VEVENT
BEGIN:VEVENT
DTSTART;TZID=America/New_York:20230916T150000
DTEND;TZID=America/New_York:20230916T190000
DTSTAMP:20260425T204044
CREATED:20230910T192617Z
LAST-MODIFIED:20251013T192017Z
UID:22702-1694876400-1694890800@864foodtrucks.com
SUMMARY:Simpell Sammies @ Jocassee Valley Brewing Company
DESCRIPTION:Simpell Sammies is open for business and ready to serve you flavorful and delicious sandwiches and hoagies.
URL:https://864foodtrucks.com/event/simpell-sammies-jocassee-valley-brewing-company/2023-09-16/
LOCATION:Jocassee Valley Brewing\, 13412 Sc-11\, Salem\, South Carolina
CATEGORIES:Food Truck Schedules,Salem
ATTACH;FMTTYPE=image/jpeg:https://864foodtrucks.com/wp-content/uploads/2023/06/Simpell-Sammies-Trailer.jpg
ORGANIZER;CN="Simpell Sammies":MAILTO:info@simpelltreats.com
GEO:34.907363;-82.9715987
X-APPLE-STRUCTURED-LOCATION;VALUE=URI;X-ADDRESS=Jocassee Valley Brewing 13412 Sc-11 Salem South Carolina;X-APPLE-RADIUS=500;X-TITLE=13412 Sc-11:geo:-82.9715987,34.907363
END:VEVENT
BEGIN:VEVENT
DTSTART;TZID=America/New_York:20230922T170000
DTEND;TZID=America/New_York:20230922T200000
DTSTAMP:20260425T204044
CREATED:20230920T175012Z
LAST-MODIFIED:20250604T154843Z
UID:23001-1695402000-1695412800@864foodtrucks.com
SUMMARY:Kodesh BBQ Bowls @ Jocassee Valley Brewing
DESCRIPTION:Kodesh BBQ Bowls is a mobile food trailer that provides a heap amount of Levitical clean\, flavorful\, pit smoked BBQ. We’ve also come up with a link between enjoying our delicious BBQ and providing healthier options\, our cultural inspired bowls!
URL:https://864foodtrucks.com/event/kodesh-bbq-bowls-jocassee-valley-brewing/2023-09-22/
LOCATION:Jocassee Valley Brewing\, 13412 Sc-11\, Salem\, South Carolina
CATEGORIES:Food Truck Schedules,Salem
ATTACH;FMTTYPE=image/jpeg:https://864foodtrucks.com/wp-content/uploads/2023/07/Kodesh-BBQ.jpg
ORGANIZER;CN="Kodesh BBQ & Bowls":MAILTO:kodeshbbq@gmail.com
GEO:34.907363;-82.9715987
X-APPLE-STRUCTURED-LOCATION;VALUE=URI;X-ADDRESS=Jocassee Valley Brewing 13412 Sc-11 Salem South Carolina;X-APPLE-RADIUS=500;X-TITLE=13412 Sc-11:geo:-82.9715987,34.907363
END:VEVENT
BEGIN:VEVENT
DTSTART;TZID=America/New_York:20230923T160000
DTEND;TZID=America/New_York:20230923T200000
DTSTAMP:20260425T204044
CREATED:20230918T181229Z
LAST-MODIFIED:20240623T205037Z
UID:22952-1695484800-1695499200@864foodtrucks.com
SUMMARY:Lobster Dogs @ Jocassee Valley Brewing
DESCRIPTION:Food truck serving the Best Lobster Rolls & Stuffed Avocados in the Carolinas
URL:https://864foodtrucks.com/event/lobster-dogs-jocassee-valley-brewing-4/2023-09-23/
LOCATION:Jocassee Valley Brewing\, 13412 Sc-11\, Salem\, South Carolina
CATEGORIES:Food Truck Schedules,Salem
ATTACH;FMTTYPE=image/jpeg:https://864foodtrucks.com/wp-content/uploads/2021/05/lobster-dogs-Food-Truck.jpg
ORGANIZER;CN="Lobster Dogs":MAILTO:lobsterdogs3@gmail.com
GEO:34.907363;-82.9715987
X-APPLE-STRUCTURED-LOCATION;VALUE=URI;X-ADDRESS=Jocassee Valley Brewing 13412 Sc-11 Salem South Carolina;X-APPLE-RADIUS=500;X-TITLE=13412 Sc-11:geo:-82.9715987,34.907363
END:VEVENT
BEGIN:VEVENT
DTSTART;TZID=America/New_York:20231027T150000
DTEND;TZID=America/New_York:20231027T180000
DTSTAMP:20260425T204044
CREATED:20231025T185311Z
LAST-MODIFIED:20240717T134031Z
UID:23809-1698418800-1698429600@864foodtrucks.com
SUMMARY:Mak N Cheesecakes @ The Wine Emporium
DESCRIPTION:
URL:https://864foodtrucks.com/event/mak-n-cheesecakes-the-wine-emporium/2023-10-27/
LOCATION:The Wine Emporium\, Stamp Creek Road 1229\, Salem\, South Carolina\, 29676\, United States
CATEGORIES:Food Truck Schedules,Salem
ATTACH;FMTTYPE=image/jpeg:https://864foodtrucks.com/wp-content/uploads/2021/12/Mak-cheesecakes-Cart.jpg
GEO:34.8242901;-82.9167489
X-APPLE-STRUCTURED-LOCATION;VALUE=URI;X-ADDRESS=The Wine Emporium Stamp Creek Road 1229 Salem South Carolina 29676 United States;X-APPLE-RADIUS=500;X-TITLE=Stamp Creek Road 1229:geo:-82.9167489,34.8242901
END:VEVENT
BEGIN:VEVENT
DTSTART;TZID=America/New_York:20231103T170000
DTEND;TZID=America/New_York:20231103T200000
DTSTAMP:20260425T204044
CREATED:20231101T200002Z
LAST-MODIFIED:20240225T162803Z
UID:23906-1699030800-1699041600@864foodtrucks.com
SUMMARY:Lobster Dogs @ Twice-A-Town Taproom
DESCRIPTION:Food truck serving the Best Lobster Rolls & Stuffed Avocados in the Carolinas
URL:https://864foodtrucks.com/event/lobster-dogs-twice-a-town-taproom-6/2023-11-03/
LOCATION:Twice a Town Taproom\, 165 E Main St\, Salem\, SC\, United States
CATEGORIES:Food Truck Schedules,Salem
ATTACH;FMTTYPE=image/jpeg:https://864foodtrucks.com/wp-content/uploads/2021/05/lobster-dogs-Food-Truck.jpg
ORGANIZER;CN="Lobster Dogs":MAILTO:lobsterdogs3@gmail.com
END:VEVENT
BEGIN:VEVENT
DTSTART;TZID=America/New_York:20231117T170000
DTEND;TZID=America/New_York:20231117T200000
DTSTAMP:20260425T204044
CREATED:20231114T191131Z
LAST-MODIFIED:20231114T191131Z
UID:24155-1700240400-1700251200@864foodtrucks.com
SUMMARY:Big Fuss Fresh Foods @ Jocassee Valley Brewing Company
DESCRIPTION:We are a mobile food truck that specializes in fresh food with amazing flavor.
URL:https://864foodtrucks.com/event/big-fuss-fresh-foods-jocassee-valley-brewing-company/
LOCATION:Jocassee Valley Brewing\, 13412 Sc-11\, Salem\, South Carolina
CATEGORIES:Food Truck Schedules,Salem
ATTACH;FMTTYPE=image/jpeg:https://864foodtrucks.com/wp-content/uploads/2023/07/Big-Fuss-Fresh-Food.jpg
GEO:34.907363;-82.9715987
X-APPLE-STRUCTURED-LOCATION;VALUE=URI;X-ADDRESS=Jocassee Valley Brewing 13412 Sc-11 Salem South Carolina;X-APPLE-RADIUS=500;X-TITLE=13412 Sc-11:geo:-82.9715987,34.907363
END:VEVENT
BEGIN:VEVENT
DTSTART;TZID=America/New_York:20231209T140000
DTEND;TZID=America/New_York:20231209T230000
DTSTAMP:20260425T204044
CREATED:20231203T152041Z
LAST-MODIFIED:20251130T202737Z
UID:24443-1702130400-1702162800@864foodtrucks.com
SUMMARY:Simpell Sammies @ Jocassee Valley Brewing Company
DESCRIPTION:Simpell Sammies is open for business and ready to serve you flavorful and delicious sandwiches and hoagies.
URL:https://864foodtrucks.com/event/simpell-sammies-jocassee-valley-brewing-company-2/2023-12-09/
LOCATION:Jocassee Valley Brewing\, 13412 Sc-11\, Salem\, South Carolina
CATEGORIES:Food Truck Schedules,Salem
ATTACH;FMTTYPE=image/jpeg:https://864foodtrucks.com/wp-content/uploads/2023/06/Simpell-Sammies-Trailer.jpg
ORGANIZER;CN="Simpell Sammies":MAILTO:info@simpelltreats.com
GEO:34.907363;-82.9715987
X-APPLE-STRUCTURED-LOCATION;VALUE=URI;X-ADDRESS=Jocassee Valley Brewing 13412 Sc-11 Salem South Carolina;X-APPLE-RADIUS=500;X-TITLE=13412 Sc-11:geo:-82.9715987,34.907363
END:VEVENT
BEGIN:VEVENT
DTSTART;TZID=America/New_York:20231210T150000
DTEND;TZID=America/New_York:20231210T173000
DTSTAMP:20260425T204044
CREATED:20231205T192148Z
LAST-MODIFIED:20240912T144225Z
UID:24537-1702220400-1702229400@864foodtrucks.com
SUMMARY:Xtreme Cheesecake @ Twice-A-Town Taproom
DESCRIPTION:
URL:https://864foodtrucks.com/event/xtreme-cheesecake-twice-a-town-taproom/2023-12-10/
LOCATION:Twice a Town Taproom\, 165 E Main St\, Salem\, SC\, United States
CATEGORIES:Food Truck Schedules,Salem
ATTACH;FMTTYPE=image/jpeg:https://864foodtrucks.com/wp-content/uploads/2023/07/Xtreme-Cheesecakz.jpg
ORGANIZER;CN="Xtreme Cheesecakez":MAILTO:xtremecheesecakez@gmail.com
END:VEVENT
BEGIN:VEVENT
DTSTART;TZID=America/New_York:20231222T160000
DTEND;TZID=America/New_York:20231222T200000
DTSTAMP:20260425T204044
CREATED:20231218T152305Z
LAST-MODIFIED:20241209T214910Z
UID:24669-1703260800-1703275200@864foodtrucks.com
SUMMARY:Lobster Dogs @ Jocassee Valley Brewing
DESCRIPTION:Food truck serving the Best Lobster Rolls & Stuffed Avocados in the Carolinas
URL:https://864foodtrucks.com/event/lobster-dogs-jocassee-valley-brewing-5/2023-12-22/
LOCATION:Jocassee Valley Brewing\, 13412 Sc-11\, Salem\, South Carolina
CATEGORIES:Food Truck Schedules,Salem
ATTACH;FMTTYPE=image/jpeg:https://864foodtrucks.com/wp-content/uploads/2021/05/lobster-dogs-Food-Truck.jpg
ORGANIZER;CN="Lobster Dogs":MAILTO:lobsterdogs3@gmail.com
GEO:34.907363;-82.9715987
X-APPLE-STRUCTURED-LOCATION;VALUE=URI;X-ADDRESS=Jocassee Valley Brewing 13412 Sc-11 Salem South Carolina;X-APPLE-RADIUS=500;X-TITLE=13412 Sc-11:geo:-82.9715987,34.907363
END:VEVENT
BEGIN:VEVENT
DTSTART;TZID=America/New_York:20240620T160000
DTEND;TZID=America/New_York:20240620T200000
DTSTAMP:20260425T204044
CREATED:20240616T203922Z
LAST-MODIFIED:20241020T140742Z
UID:28925-1718899200-1718913600@864foodtrucks.com
SUMMARY:Lobster Dogs @ Twice-A-Town Taproom
DESCRIPTION:Food truck serving the Best Lobster Rolls & Stuffed Avocados in the Carolinas
URL:https://864foodtrucks.com/event/lobster-dogs-twice-a-town-taproom-7/2024-06-20/
LOCATION:Twice a Town Taproom\, 165 E Main St\, Salem\, SC\, United States
CATEGORIES:Food Truck Schedules,Salem
ATTACH;FMTTYPE=image/jpeg:https://864foodtrucks.com/wp-content/uploads/2021/05/lobster-dogs-Food-Truck.jpg
ORGANIZER;CN="Lobster Dogs":MAILTO:lobsterdogs3@gmail.com
END:VEVENT
BEGIN:VEVENT
DTSTART;TZID=America/New_York:20240809T170000
DTEND;TZID=America/New_York:20240809T210000
DTSTAMP:20260425T204044
CREATED:20240806T133338Z
LAST-MODIFIED:20240916T201738Z
UID:33435-1723222800-1723237200@864foodtrucks.com
SUMMARY:Kodesh BBQ Bowls @ Twice a Town
DESCRIPTION:Kodesh BBQ Bowls is a mobile food trailer that provides a heap amount of Levitical clean\, flavorful\, pit smoked BBQ. We’ve also come up with a link between enjoying our delicious BBQ and providing healthier options\, our cultural inspired bowls!
URL:https://864foodtrucks.com/event/kodesh-bbq-bowls-twice-a-town/2024-08-09/
LOCATION:Twice a Town Taproom\, 165 E Main St\, Salem\, SC\, United States
CATEGORIES:Food Truck Schedules,Salem
ATTACH;FMTTYPE=image/jpeg:https://864foodtrucks.com/wp-content/uploads/2023/07/Kodesh-BBQ.jpg
ORGANIZER;CN="Kodesh BBQ & Bowls":MAILTO:kodeshbbq@gmail.com
END:VEVENT
BEGIN:VEVENT
DTSTART;TZID=America/New_York:20240831T120000
DTEND;TZID=America/New_York:20240831T173000
DTSTAMP:20260425T204044
CREATED:20240826T125307Z
LAST-MODIFIED:20240923T164659Z
UID:33684-1725105600-1725125400@864foodtrucks.com
SUMMARY:Local Pie Pizza Co @ Twice a Town Taproom
DESCRIPTION:Artisan Pizza Food Truck
URL:https://864foodtrucks.com/event/local-pie-pizza-co-twice-a-town-taproom/2024-08-31/
LOCATION:Twice a Town Taproom\, 165 E Main St\, Salem\, SC\, United States
CATEGORIES:Food Truck Schedules,Salem
ATTACH;FMTTYPE=image/png:https://864foodtrucks.com/wp-content/uploads/2022/01/Local-Pie.png
ORGANIZER;CN="Local Pie Pizza Company":MAILTO:cory@localpiepizzacompany.com
END:VEVENT
BEGIN:VEVENT
DTSTART;TZID=America/New_York:20250924T170000
DTEND;TZID=America/New_York:20250924T203000
DTSTAMP:20260425T204044
CREATED:20250922T175232Z
LAST-MODIFIED:20260106T201638Z
UID:54426-1758733200-1758745800@864foodtrucks.com
SUMMARY:Fuel Foods @ Jocassee Valley Brewing
DESCRIPTION:Fuel Foods – Food Truck & Catering\nClean\, Unique & Delicious!\nLocated in Clemson & Upstate\, SC 📍\nBook Us for Events! Contact for More Info!
URL:https://864foodtrucks.com/event/fuel-foods-jocassee-valley-brewing/2025-09-24/
LOCATION:Jocassee Valley Brewing\, 13412 Sc-11\, Salem\, South Carolina
CATEGORIES:Food Truck Schedules,Salem
ATTACH;FMTTYPE=image/png:https://864foodtrucks.com/wp-content/uploads/2025/03/Fuel-Foods-.png
ORGANIZER;CN="Fuel Foods Food Truck":MAILTO:fuelfoods.truck@gmail.com
GEO:34.907363;-82.9715987
X-APPLE-STRUCTURED-LOCATION;VALUE=URI;X-ADDRESS=Jocassee Valley Brewing 13412 Sc-11 Salem South Carolina;X-APPLE-RADIUS=500;X-TITLE=13412 Sc-11:geo:-82.9715987,34.907363
END:VEVENT
END:VCALENDAR