BEGIN:VCALENDAR
VERSION:2.0
PRODID:-//864 Food Trucks - ECPv6.15.20//NONSGML v1.0//EN
CALSCALE:GREGORIAN
METHOD:PUBLISH
X-WR-CALNAME:864 Food Trucks
X-ORIGINAL-URL:https://864foodtrucks.com
X-WR-CALDESC:Events for 864 Food Trucks
REFRESH-INTERVAL;VALUE=DURATION:PT1H
X-Robots-Tag:noindex
X-PUBLISHED-TTL:PT1H
BEGIN:VTIMEZONE
TZID:America/New_York
BEGIN:DAYLIGHT
TZOFFSETFROM:-0500
TZOFFSETTO:-0400
TZNAME:EDT
DTSTART:20230312T070000
END:DAYLIGHT
BEGIN:STANDARD
TZOFFSETFROM:-0400
TZOFFSETTO:-0500
TZNAME:EST
DTSTART:20231105T060000
END:STANDARD
BEGIN:DAYLIGHT
TZOFFSETFROM:-0500
TZOFFSETTO:-0400
TZNAME:EDT
DTSTART:20240310T070000
END:DAYLIGHT
BEGIN:STANDARD
TZOFFSETFROM:-0400
TZOFFSETTO:-0500
TZNAME:EST
DTSTART:20241103T060000
END:STANDARD
BEGIN:DAYLIGHT
TZOFFSETFROM:-0500
TZOFFSETTO:-0400
TZNAME:EDT
DTSTART:20250309T070000
END:DAYLIGHT
BEGIN:STANDARD
TZOFFSETFROM:-0400
TZOFFSETTO:-0500
TZNAME:EST
DTSTART:20251102T060000
END:STANDARD
BEGIN:DAYLIGHT
TZOFFSETFROM:-0500
TZOFFSETTO:-0400
TZNAME:EDT
DTSTART:20260308T070000
END:DAYLIGHT
BEGIN:STANDARD
TZOFFSETFROM:-0400
TZOFFSETTO:-0500
TZNAME:EST
DTSTART:20261101T060000
END:STANDARD
BEGIN:DAYLIGHT
TZOFFSETFROM:-0500
TZOFFSETTO:-0400
TZNAME:EDT
DTSTART:20270314T070000
END:DAYLIGHT
BEGIN:STANDARD
TZOFFSETFROM:-0400
TZOFFSETTO:-0500
TZNAME:EST
DTSTART:20271107T060000
END:STANDARD
END:VTIMEZONE
BEGIN:VEVENT
DTSTART;TZID=America/New_York:20260129T110000
DTEND;TZID=America/New_York:20260129T130000
DTSTAMP:20260424T122659
CREATED:20250921T193810Z
LAST-MODIFIED:20260419T195302Z
UID:59144-1769684400-1769691600@864foodtrucks.com
SUMMARY:Simpell Sammies @ BASF
DESCRIPTION:Simpell Sammies is open for business and ready to serve you flavorful and delicious sandwiches and hoagies.
URL:https://864foodtrucks.com/event/simpell-sammies-basf-3/2026-01-29/
LOCATION:BASF Catalysts LLC\, 554 Engelhard Drive\, Seneca\, South Carolina
CATEGORIES:Food Truck Schedules,Seneca
ATTACH;FMTTYPE=image/jpeg:https://864foodtrucks.com/wp-content/uploads/2023/06/Simpell-Sammies-Trailer.jpg
ORGANIZER;CN="Simpell Sammies":MAILTO:info@simpelltreats.com
GEO:34.6518557;-82.955869
X-APPLE-STRUCTURED-LOCATION;VALUE=URI;X-ADDRESS=BASF Catalysts LLC 554 Engelhard Drive Seneca South Carolina;X-APPLE-RADIUS=500;X-TITLE=554 Engelhard Drive:geo:-82.955869,34.6518557
END:VEVENT
BEGIN:VEVENT
DTSTART;TZID=America/New_York:20260127T103000
DTEND;TZID=America/New_York:20260127T133000
DTSTAMP:20260424T122659
CREATED:20251116T235758Z
LAST-MODIFIED:20260419T195247Z
UID:59142-1769509800-1769520600@864foodtrucks.com
SUMMARY:Simpell Sammies @ Borgwarner
DESCRIPTION:Simpell Sammies is open for business and ready to serve you flavorful and delicious sandwiches and hoagies.
URL:https://864foodtrucks.com/event/simpell-sammies-borgwarner-4/2026-01-27/
LOCATION:BorgWarner\, 15545 Wells Hwy\, Seneca
CATEGORIES:Food Truck Schedules,Seneca
ATTACH;FMTTYPE=image/jpeg:https://864foodtrucks.com/wp-content/uploads/2023/06/Simpell-Sammies-Trailer.jpg
ORGANIZER;CN="Simpell Sammies":MAILTO:info@simpelltreats.com
END:VEVENT
BEGIN:VEVENT
DTSTART;TZID=America/New_York:20260122T110000
DTEND;TZID=America/New_York:20260122T130000
DTSTAMP:20260424T122659
CREATED:20250921T193810Z
LAST-MODIFIED:20260419T195302Z
UID:58953-1769079600-1769086800@864foodtrucks.com
SUMMARY:Simpell Sammies @ BASF
DESCRIPTION:Simpell Sammies is open for business and ready to serve you flavorful and delicious sandwiches and hoagies.
URL:https://864foodtrucks.com/event/simpell-sammies-basf-3/2026-01-22/
LOCATION:BASF Catalysts LLC\, 554 Engelhard Drive\, Seneca\, South Carolina
CATEGORIES:Food Truck Schedules,Seneca
ATTACH;FMTTYPE=image/jpeg:https://864foodtrucks.com/wp-content/uploads/2023/06/Simpell-Sammies-Trailer.jpg
ORGANIZER;CN="Simpell Sammies":MAILTO:info@simpelltreats.com
GEO:34.6518557;-82.955869
X-APPLE-STRUCTURED-LOCATION;VALUE=URI;X-ADDRESS=BASF Catalysts LLC 554 Engelhard Drive Seneca South Carolina;X-APPLE-RADIUS=500;X-TITLE=554 Engelhard Drive:geo:-82.955869,34.6518557
END:VEVENT
BEGIN:VEVENT
DTSTART;TZID=America/New_York:20260115T110000
DTEND;TZID=America/New_York:20260115T130000
DTSTAMP:20260424T122659
CREATED:20250921T193810Z
LAST-MODIFIED:20260419T195302Z
UID:58708-1768474800-1768482000@864foodtrucks.com
SUMMARY:Simpell Sammies @ BASF
DESCRIPTION:Simpell Sammies is open for business and ready to serve you flavorful and delicious sandwiches and hoagies.
URL:https://864foodtrucks.com/event/simpell-sammies-basf-3/2026-01-15/
LOCATION:BASF Catalysts LLC\, 554 Engelhard Drive\, Seneca\, South Carolina
CATEGORIES:Food Truck Schedules,Seneca
ATTACH;FMTTYPE=image/jpeg:https://864foodtrucks.com/wp-content/uploads/2023/06/Simpell-Sammies-Trailer.jpg
ORGANIZER;CN="Simpell Sammies":MAILTO:info@simpelltreats.com
GEO:34.6518557;-82.955869
X-APPLE-STRUCTURED-LOCATION;VALUE=URI;X-ADDRESS=BASF Catalysts LLC 554 Engelhard Drive Seneca South Carolina;X-APPLE-RADIUS=500;X-TITLE=554 Engelhard Drive:geo:-82.955869,34.6518557
END:VEVENT
BEGIN:VEVENT
DTSTART;TZID=America/New_York:20260113T110000
DTEND;TZID=America/New_York:20260113T130000
DTSTAMP:20260424T122659
CREATED:20250921T193551Z
LAST-MODIFIED:20250921T193551Z
UID:58706-1768302000-1768309200@864foodtrucks.com
SUMMARY:Simpell Sammies @ Borgwarner
DESCRIPTION:Simpell Sammies is open for business and ready to serve you flavorful and delicious sandwiches and hoagies.
URL:https://864foodtrucks.com/event/simpell-sammies-borgwarner-3/2026-01-13/
LOCATION:BorgWarner\, 15545 Wells Hwy\, Seneca
CATEGORIES:Food Truck Schedules,Seneca
ATTACH;FMTTYPE=image/jpeg:https://864foodtrucks.com/wp-content/uploads/2023/06/Simpell-Sammies-Trailer.jpg
ORGANIZER;CN="Simpell Sammies":MAILTO:info@simpelltreats.com
END:VEVENT
BEGIN:VEVENT
DTSTART;TZID=America/New_York:20260108T110000
DTEND;TZID=America/New_York:20260108T130000
DTSTAMP:20260424T122659
CREATED:20250222T185440Z
LAST-MODIFIED:20250222T185440Z
UID:58471-1767870000-1767877200@864foodtrucks.com
SUMMARY:Simpell Sammies @ BASF
DESCRIPTION:Simpell Sammies is open for business and ready to serve you flavorful and delicious sandwiches and hoagies.
URL:https://864foodtrucks.com/event/simpell-sammies-basf-2/2026-01-08/
LOCATION:BASF Catalysts LLC\, 554 Engelhard Drive\, Seneca\, South Carolina
CATEGORIES:Food Truck Schedules,Seneca
ATTACH;FMTTYPE=image/jpeg:https://864foodtrucks.com/wp-content/uploads/2023/06/Simpell-Sammies-Trailer.jpg
ORGANIZER;CN="Simpell Sammies":MAILTO:info@simpelltreats.com
GEO:34.6518557;-82.955869
X-APPLE-STRUCTURED-LOCATION;VALUE=URI;X-ADDRESS=BASF Catalysts LLC 554 Engelhard Drive Seneca South Carolina;X-APPLE-RADIUS=500;X-TITLE=554 Engelhard Drive:geo:-82.955869,34.6518557
END:VEVENT
BEGIN:VEVENT
DTSTART;TZID=America/New_York:20251217T103000
DTEND;TZID=America/New_York:20251217T133000
DTSTAMP:20260424T122659
CREATED:20251116T235758Z
LAST-MODIFIED:20260419T195247Z
UID:57716-1765967400-1765978200@864foodtrucks.com
SUMMARY:Simpell Sammies @ Borgwarner
DESCRIPTION:Simpell Sammies is open for business and ready to serve you flavorful and delicious sandwiches and hoagies.
URL:https://864foodtrucks.com/event/simpell-sammies-borgwarner-4/2025-12-17/
LOCATION:BorgWarner\, 15545 Wells Hwy\, Seneca
CATEGORIES:Food Truck Schedules,Seneca
ATTACH;FMTTYPE=image/jpeg:https://864foodtrucks.com/wp-content/uploads/2023/06/Simpell-Sammies-Trailer.jpg
ORGANIZER;CN="Simpell Sammies":MAILTO:info@simpelltreats.com
END:VEVENT
BEGIN:VEVENT
DTSTART;TZID=America/New_York:20251211T110000
DTEND;TZID=America/New_York:20251211T130000
DTSTAMP:20260424T122659
CREATED:20250921T193810Z
LAST-MODIFIED:20260419T195301Z
UID:57289-1765450800-1765458000@864foodtrucks.com
SUMMARY:Simpell Sammies @ BASF
DESCRIPTION:Simpell Sammies is open for business and ready to serve you flavorful and delicious sandwiches and hoagies.
URL:https://864foodtrucks.com/event/simpell-sammies-basf-3/2025-12-11/
LOCATION:BASF Catalysts LLC\, 554 Engelhard Drive\, Seneca\, South Carolina
CATEGORIES:Food Truck Schedules,Seneca
ATTACH;FMTTYPE=image/jpeg:https://864foodtrucks.com/wp-content/uploads/2023/06/Simpell-Sammies-Trailer.jpg
ORGANIZER;CN="Simpell Sammies":MAILTO:info@simpelltreats.com
GEO:34.6518557;-82.955869
X-APPLE-STRUCTURED-LOCATION;VALUE=URI;X-ADDRESS=BASF Catalysts LLC 554 Engelhard Drive Seneca South Carolina;X-APPLE-RADIUS=500;X-TITLE=554 Engelhard Drive:geo:-82.955869,34.6518557
END:VEVENT
BEGIN:VEVENT
DTSTART;TZID=America/New_York:20251205T110000
DTEND;TZID=America/New_York:20251205T130000
DTSTAMP:20260424T122659
CREATED:20241106T003046Z
LAST-MODIFIED:20241106T003046Z
UID:57058-1764932400-1764939600@864foodtrucks.com
SUMMARY:Kodesh BBQ Bowls @ BorgWarner
DESCRIPTION:Kodesh BBQ Bowls is a mobile food trailer that provides a heap amount of Levitical clean\, flavorful\, pit smoked BBQ. We’ve also come up with a link between enjoying our delicious BBQ and providing healthier options\, our cultural inspired bowls!
URL:https://864foodtrucks.com/event/kodesh-bbq-bowls-borgwarner-2/2025-12-05/
LOCATION:BorgWarner\, 15545 Wells Hwy\, Seneca
CATEGORIES:Food Truck Schedules,Seneca
ATTACH;FMTTYPE=image/jpeg:https://864foodtrucks.com/wp-content/uploads/2023/07/Kodesh-BBQ.jpg
ORGANIZER;CN="Kodesh BBQ & Bowls":MAILTO:kodeshbbq@gmail.com
END:VEVENT
BEGIN:VEVENT
DTSTART;TZID=America/New_York:20251202T103000
DTEND;TZID=America/New_York:20251202T133000
DTSTAMP:20260424T122659
CREATED:20251116T235758Z
LAST-MODIFIED:20260419T195247Z
UID:56942-1764671400-1764682200@864foodtrucks.com
SUMMARY:Simpell Sammies @ Borgwarner
DESCRIPTION:Simpell Sammies is open for business and ready to serve you flavorful and delicious sandwiches and hoagies.
URL:https://864foodtrucks.com/event/simpell-sammies-borgwarner-4/2025-12-02/
LOCATION:BorgWarner\, 15545 Wells Hwy\, Seneca
CATEGORIES:Food Truck Schedules,Seneca
ATTACH;FMTTYPE=image/jpeg:https://864foodtrucks.com/wp-content/uploads/2023/06/Simpell-Sammies-Trailer.jpg
ORGANIZER;CN="Simpell Sammies":MAILTO:info@simpelltreats.com
END:VEVENT
BEGIN:VEVENT
DTSTART;TZID=America/New_York:20251120T110000
DTEND;TZID=America/New_York:20251120T130000
DTSTAMP:20260424T122659
CREATED:20250921T193810Z
LAST-MODIFIED:20260419T195301Z
UID:56327-1763636400-1763643600@864foodtrucks.com
SUMMARY:Simpell Sammies @ BASF
DESCRIPTION:Simpell Sammies is open for business and ready to serve you flavorful and delicious sandwiches and hoagies.
URL:https://864foodtrucks.com/event/simpell-sammies-basf-3/2025-11-20/
LOCATION:BASF Catalysts LLC\, 554 Engelhard Drive\, Seneca\, South Carolina
CATEGORIES:Food Truck Schedules,Seneca
ATTACH;FMTTYPE=image/jpeg:https://864foodtrucks.com/wp-content/uploads/2023/06/Simpell-Sammies-Trailer.jpg
ORGANIZER;CN="Simpell Sammies":MAILTO:info@simpelltreats.com
GEO:34.6518557;-82.955869
X-APPLE-STRUCTURED-LOCATION;VALUE=URI;X-ADDRESS=BASF Catalysts LLC 554 Engelhard Drive Seneca South Carolina;X-APPLE-RADIUS=500;X-TITLE=554 Engelhard Drive:geo:-82.955869,34.6518557
END:VEVENT
BEGIN:VEVENT
DTSTART;TZID=America/New_York:20251118T103000
DTEND;TZID=America/New_York:20251118T133000
DTSTAMP:20260424T122659
CREATED:20251116T235758Z
LAST-MODIFIED:20260419T195247Z
UID:56329-1763461800-1763472600@864foodtrucks.com
SUMMARY:Simpell Sammies @ Borgwarner
DESCRIPTION:Simpell Sammies is open for business and ready to serve you flavorful and delicious sandwiches and hoagies.
URL:https://864foodtrucks.com/event/simpell-sammies-borgwarner-4/2025-11-18/
LOCATION:BorgWarner\, 15545 Wells Hwy\, Seneca
CATEGORIES:Food Truck Schedules,Seneca
ATTACH;FMTTYPE=image/jpeg:https://864foodtrucks.com/wp-content/uploads/2023/06/Simpell-Sammies-Trailer.jpg
ORGANIZER;CN="Simpell Sammies":MAILTO:info@simpelltreats.com
END:VEVENT
BEGIN:VEVENT
DTSTART;TZID=America/New_York:20251113T110000
DTEND;TZID=America/New_York:20251113T130000
DTSTAMP:20260424T122659
CREATED:20250921T193810Z
LAST-MODIFIED:20260419T195301Z
UID:56167-1763031600-1763038800@864foodtrucks.com
SUMMARY:Simpell Sammies @ BASF
DESCRIPTION:Simpell Sammies is open for business and ready to serve you flavorful and delicious sandwiches and hoagies.
URL:https://864foodtrucks.com/event/simpell-sammies-basf-3/2025-11-13/
LOCATION:BASF Catalysts LLC\, 554 Engelhard Drive\, Seneca\, South Carolina
CATEGORIES:Food Truck Schedules,Seneca
ATTACH;FMTTYPE=image/jpeg:https://864foodtrucks.com/wp-content/uploads/2023/06/Simpell-Sammies-Trailer.jpg
ORGANIZER;CN="Simpell Sammies":MAILTO:info@simpelltreats.com
GEO:34.6518557;-82.955869
X-APPLE-STRUCTURED-LOCATION;VALUE=URI;X-ADDRESS=BASF Catalysts LLC 554 Engelhard Drive Seneca South Carolina;X-APPLE-RADIUS=500;X-TITLE=554 Engelhard Drive:geo:-82.955869,34.6518557
END:VEVENT
BEGIN:VEVENT
DTSTART;TZID=America/New_York:20251023T110000
DTEND;TZID=America/New_York:20251023T130000
DTSTAMP:20260424T122659
CREATED:20250921T193810Z
LAST-MODIFIED:20260419T195301Z
UID:55280-1761217200-1761224400@864foodtrucks.com
SUMMARY:Simpell Sammies @ BASF
DESCRIPTION:Simpell Sammies is open for business and ready to serve you flavorful and delicious sandwiches and hoagies.
URL:https://864foodtrucks.com/event/simpell-sammies-basf-3/2025-10-23/
LOCATION:BASF Catalysts LLC\, 554 Engelhard Drive\, Seneca\, South Carolina
CATEGORIES:Food Truck Schedules,Seneca
ATTACH;FMTTYPE=image/jpeg:https://864foodtrucks.com/wp-content/uploads/2023/06/Simpell-Sammies-Trailer.jpg
ORGANIZER;CN="Simpell Sammies":MAILTO:info@simpelltreats.com
GEO:34.6518557;-82.955869
X-APPLE-STRUCTURED-LOCATION;VALUE=URI;X-ADDRESS=BASF Catalysts LLC 554 Engelhard Drive Seneca South Carolina;X-APPLE-RADIUS=500;X-TITLE=554 Engelhard Drive:geo:-82.955869,34.6518557
END:VEVENT
BEGIN:VEVENT
DTSTART;TZID=America/New_York:20251021T103000
DTEND;TZID=America/New_York:20251021T133000
DTSTAMP:20260424T122659
CREATED:20250921T193551Z
LAST-MODIFIED:20260111T205517Z
UID:55283-1761042600-1761053400@864foodtrucks.com
SUMMARY:Simpell Sammies @ Borgwarner
DESCRIPTION:Simpell Sammies is open for business and ready to serve you flavorful and delicious sandwiches and hoagies.
URL:https://864foodtrucks.com/event/simpell-sammies-borgwarner-3/2025-10-21/
LOCATION:BorgWarner\, 15545 Wells Hwy\, Seneca
CATEGORIES:Food Truck Schedules,Seneca
ATTACH;FMTTYPE=image/jpeg:https://864foodtrucks.com/wp-content/uploads/2023/06/Simpell-Sammies-Trailer.jpg
ORGANIZER;CN="Simpell Sammies":MAILTO:info@simpelltreats.com
END:VEVENT
BEGIN:VEVENT
DTSTART;TZID=America/New_York:20251016T110000
DTEND;TZID=America/New_York:20251016T130000
DTSTAMP:20260424T122659
CREATED:20250921T193810Z
LAST-MODIFIED:20260419T195301Z
UID:55054-1760612400-1760619600@864foodtrucks.com
SUMMARY:Simpell Sammies @ BASF
DESCRIPTION:Simpell Sammies is open for business and ready to serve you flavorful and delicious sandwiches and hoagies.
URL:https://864foodtrucks.com/event/simpell-sammies-basf-3/2025-10-16/
LOCATION:BASF Catalysts LLC\, 554 Engelhard Drive\, Seneca\, South Carolina
CATEGORIES:Food Truck Schedules,Seneca
ATTACH;FMTTYPE=image/jpeg:https://864foodtrucks.com/wp-content/uploads/2023/06/Simpell-Sammies-Trailer.jpg
ORGANIZER;CN="Simpell Sammies":MAILTO:info@simpelltreats.com
GEO:34.6518557;-82.955869
X-APPLE-STRUCTURED-LOCATION;VALUE=URI;X-ADDRESS=BASF Catalysts LLC 554 Engelhard Drive Seneca South Carolina;X-APPLE-RADIUS=500;X-TITLE=554 Engelhard Drive:geo:-82.955869,34.6518557
END:VEVENT
BEGIN:VEVENT
DTSTART;TZID=America/New_York:20251009T110000
DTEND;TZID=America/New_York:20251009T130000
DTSTAMP:20260424T122659
CREATED:20250222T185440Z
LAST-MODIFIED:20260105T004543Z
UID:54811-1760007600-1760014800@864foodtrucks.com
SUMMARY:Simpell Sammies @ BASF
DESCRIPTION:Simpell Sammies is open for business and ready to serve you flavorful and delicious sandwiches and hoagies.
URL:https://864foodtrucks.com/event/simpell-sammies-basf-2/2025-10-09/
LOCATION:BASF Catalysts LLC\, 554 Engelhard Drive\, Seneca\, South Carolina
CATEGORIES:Food Truck Schedules,Seneca
ATTACH;FMTTYPE=image/jpeg:https://864foodtrucks.com/wp-content/uploads/2023/06/Simpell-Sammies-Trailer.jpg
ORGANIZER;CN="Simpell Sammies":MAILTO:info@simpelltreats.com
GEO:34.6518557;-82.955869
X-APPLE-STRUCTURED-LOCATION;VALUE=URI;X-ADDRESS=BASF Catalysts LLC 554 Engelhard Drive Seneca South Carolina;X-APPLE-RADIUS=500;X-TITLE=554 Engelhard Drive:geo:-82.955869,34.6518557
END:VEVENT
BEGIN:VEVENT
DTSTART;TZID=America/New_York:20250925T110000
DTEND;TZID=America/New_York:20250925T130000
DTSTAMP:20260424T122659
CREATED:20250921T193810Z
LAST-MODIFIED:20260419T195301Z
UID:54372-1758798000-1758805200@864foodtrucks.com
SUMMARY:Simpell Sammies @ BASF
DESCRIPTION:Simpell Sammies is open for business and ready to serve you flavorful and delicious sandwiches and hoagies.
URL:https://864foodtrucks.com/event/simpell-sammies-basf-3/2025-09-25/
LOCATION:BASF Catalysts LLC\, 554 Engelhard Drive\, Seneca\, South Carolina
CATEGORIES:Food Truck Schedules,Seneca
ATTACH;FMTTYPE=image/jpeg:https://864foodtrucks.com/wp-content/uploads/2023/06/Simpell-Sammies-Trailer.jpg
ORGANIZER;CN="Simpell Sammies":MAILTO:info@simpelltreats.com
GEO:34.6518557;-82.955869
X-APPLE-STRUCTURED-LOCATION;VALUE=URI;X-ADDRESS=BASF Catalysts LLC 554 Engelhard Drive Seneca South Carolina;X-APPLE-RADIUS=500;X-TITLE=554 Engelhard Drive:geo:-82.955869,34.6518557
END:VEVENT
BEGIN:VEVENT
DTSTART;TZID=America/New_York:20250924T100000
DTEND;TZID=America/New_York:20250924T130000
DTSTAMP:20260424T122659
CREATED:20250112T145945Z
LAST-MODIFIED:20250112T145945Z
UID:54371-1758708000-1758718800@864foodtrucks.com
SUMMARY:Simpell Sammies @ Ravenel Elementary School
DESCRIPTION:Simpell Sammies is open for business and ready to serve you flavorful and delicious sandwiches and hoagies.
URL:https://864foodtrucks.com/event/simpell-sammies-ravenel-elementary-school-2/2025-09-24/
LOCATION:Ravenel Elementary School\, Ravenel School Road 150\, Seneca\, South Carolina\, 29678\, United States
CATEGORIES:Food Truck Schedules,Seneca
ATTACH;FMTTYPE=image/jpeg:https://864foodtrucks.com/wp-content/uploads/2023/06/Simpell-Sammies-Trailer.jpg
ORGANIZER;CN="Simpell Sammies":MAILTO:info@simpelltreats.com
GEO:34.6852242;-82.8955976
X-APPLE-STRUCTURED-LOCATION;VALUE=URI;X-ADDRESS=Ravenel Elementary School Ravenel School Road 150 Seneca South Carolina 29678 United States;X-APPLE-RADIUS=500;X-TITLE=Ravenel School Road 150:geo:-82.8955976,34.6852242
END:VEVENT
BEGIN:VEVENT
DTSTART;TZID=America/New_York:20250923T103000
DTEND;TZID=America/New_York:20250923T133000
DTSTAMP:20260424T122659
CREATED:20250921T193551Z
LAST-MODIFIED:20260111T205516Z
UID:54369-1758623400-1758634200@864foodtrucks.com
SUMMARY:Simpell Sammies @ Borgwarner
DESCRIPTION:Simpell Sammies is open for business and ready to serve you flavorful and delicious sandwiches and hoagies.
URL:https://864foodtrucks.com/event/simpell-sammies-borgwarner-3/2025-09-23/
LOCATION:BorgWarner\, 15545 Wells Hwy\, Seneca
CATEGORIES:Food Truck Schedules,Seneca
ATTACH;FMTTYPE=image/jpeg:https://864foodtrucks.com/wp-content/uploads/2023/06/Simpell-Sammies-Trailer.jpg
ORGANIZER;CN="Simpell Sammies":MAILTO:info@simpelltreats.com
END:VEVENT
BEGIN:VEVENT
DTSTART;TZID=America/New_York:20250917T103000
DTEND;TZID=America/New_York:20250917T133000
DTSTAMP:20260424T122659
CREATED:20250222T185440Z
LAST-MODIFIED:20260105T004542Z
UID:53810-1758105000-1758115800@864foodtrucks.com
SUMMARY:Simpell Sammies @ BASF
DESCRIPTION:Simpell Sammies is open for business and ready to serve you flavorful and delicious sandwiches and hoagies.
URL:https://864foodtrucks.com/event/simpell-sammies-basf-2/2025-09-17/
LOCATION:BASF Catalysts LLC\, 554 Engelhard Drive\, Seneca\, South Carolina
CATEGORIES:Food Truck Schedules,Seneca
ATTACH;FMTTYPE=image/jpeg:https://864foodtrucks.com/wp-content/uploads/2023/06/Simpell-Sammies-Trailer.jpg
ORGANIZER;CN="Simpell Sammies":MAILTO:info@simpelltreats.com
GEO:34.6518557;-82.955869
X-APPLE-STRUCTURED-LOCATION;VALUE=URI;X-ADDRESS=BASF Catalysts LLC 554 Engelhard Drive Seneca South Carolina;X-APPLE-RADIUS=500;X-TITLE=554 Engelhard Drive:geo:-82.955869,34.6518557
END:VEVENT
BEGIN:VEVENT
DTSTART;TZID=America/New_York:20250911T100000
DTEND;TZID=America/New_York:20250911T130000
DTSTAMP:20260424T122659
CREATED:20250222T185440Z
LAST-MODIFIED:20260105T004541Z
UID:53291-1757584800-1757595600@864foodtrucks.com
SUMMARY:Simpell Sammies @ BASF
DESCRIPTION:Simpell Sammies is open for business and ready to serve you flavorful and delicious sandwiches and hoagies.
URL:https://864foodtrucks.com/event/simpell-sammies-basf-2/2025-09-11/
LOCATION:BASF Catalysts LLC\, 554 Engelhard Drive\, Seneca\, South Carolina
CATEGORIES:Food Truck Schedules,Seneca
ATTACH;FMTTYPE=image/jpeg:https://864foodtrucks.com/wp-content/uploads/2023/06/Simpell-Sammies-Trailer.jpg
ORGANIZER;CN="Simpell Sammies":MAILTO:info@simpelltreats.com
GEO:34.6518557;-82.955869
X-APPLE-STRUCTURED-LOCATION;VALUE=URI;X-ADDRESS=BASF Catalysts LLC 554 Engelhard Drive Seneca South Carolina;X-APPLE-RADIUS=500;X-TITLE=554 Engelhard Drive:geo:-82.955869,34.6518557
END:VEVENT
BEGIN:VEVENT
DTSTART;TZID=America/New_York:20250904T100000
DTEND;TZID=America/New_York:20250904T130000
DTSTAMP:20260424T122659
CREATED:20250222T185440Z
LAST-MODIFIED:20260105T004540Z
UID:53025-1756980000-1756990800@864foodtrucks.com
SUMMARY:Simpell Sammies @ BASF
DESCRIPTION:Simpell Sammies is open for business and ready to serve you flavorful and delicious sandwiches and hoagies.
URL:https://864foodtrucks.com/event/simpell-sammies-basf-2/2025-09-04/
LOCATION:BASF Catalysts LLC\, 554 Engelhard Drive\, Seneca\, South Carolina
CATEGORIES:Food Truck Schedules,Seneca
ATTACH;FMTTYPE=image/jpeg:https://864foodtrucks.com/wp-content/uploads/2023/06/Simpell-Sammies-Trailer.jpg
ORGANIZER;CN="Simpell Sammies":MAILTO:info@simpelltreats.com
GEO:34.6518557;-82.955869
X-APPLE-STRUCTURED-LOCATION;VALUE=URI;X-ADDRESS=BASF Catalysts LLC 554 Engelhard Drive Seneca South Carolina;X-APPLE-RADIUS=500;X-TITLE=554 Engelhard Drive:geo:-82.955869,34.6518557
END:VEVENT
BEGIN:VEVENT
DTSTART;TZID=America/New_York:20250828T110000
DTEND;TZID=America/New_York:20250828T130000
DTSTAMP:20260424T122659
CREATED:20250222T185440Z
LAST-MODIFIED:20260105T004539Z
UID:52779-1756378800-1756386000@864foodtrucks.com
SUMMARY:Simpell Sammies @ BASF
DESCRIPTION:Simpell Sammies is open for business and ready to serve you flavorful and delicious sandwiches and hoagies.
URL:https://864foodtrucks.com/event/simpell-sammies-basf-2/2025-08-28/
LOCATION:BASF Catalysts LLC\, 554 Engelhard Drive\, Seneca\, South Carolina
CATEGORIES:Food Truck Schedules,Seneca
ATTACH;FMTTYPE=image/jpeg:https://864foodtrucks.com/wp-content/uploads/2023/06/Simpell-Sammies-Trailer.jpg
ORGANIZER;CN="Simpell Sammies":MAILTO:info@simpelltreats.com
GEO:34.6518557;-82.955869
X-APPLE-STRUCTURED-LOCATION;VALUE=URI;X-ADDRESS=BASF Catalysts LLC 554 Engelhard Drive Seneca South Carolina;X-APPLE-RADIUS=500;X-TITLE=554 Engelhard Drive:geo:-82.955869,34.6518557
END:VEVENT
BEGIN:VEVENT
DTSTART;TZID=America/New_York:20250604T170000
DTEND;TZID=America/New_York:20250604T203000
DTSTAMP:20260424T122659
CREATED:20250601T001709Z
LAST-MODIFIED:20250601T001709Z
UID:47033-1749056400-1749069000@864foodtrucks.com
SUMMARY:Spinx Cluk Truk @ Blue Ridge Elementary
DESCRIPTION:Your favorite southern fried chicken is hitting the road—and it’s going to be legendary. Our community comes first\, and we want to share that tender love by bringing our homegrown menu to you. The Cluk Truk is coming Fall 2020 to the Upstate!
URL:https://864foodtrucks.com/event/spinx-cluk-truk-blue-ridge-elementary/
LOCATION:Blue Ridge Elementary\, 995 S Oak St\, Seneca\, South Carolina
CATEGORIES:Food Truck Schedules,Seneca
ATTACH;FMTTYPE=image/jpeg:https://864foodtrucks.com/wp-content/uploads/2021/05/Spinx-Cluk-Truk-Truck.jpg
ORGANIZER;CN="Spinx Cluk Truk":MAILTO:cluktruk@spinxco.com
GEO:34.668206;-82.9548248
X-APPLE-STRUCTURED-LOCATION;VALUE=URI;X-ADDRESS=Blue Ridge Elementary 995 S Oak St Seneca South Carolina;X-APPLE-RADIUS=500;X-TITLE=995 S Oak St:geo:-82.9548248,34.668206
END:VEVENT
BEGIN:VEVENT
DTSTART;TZID=America/New_York:20250307T163000
DTEND;TZID=America/New_York:20250307T193000
DTSTAMP:20260424T122659
CREATED:20250302T005641Z
LAST-MODIFIED:20250302T005641Z
UID:42714-1741365000-1741375800@864foodtrucks.com
SUMMARY:Spinx Cluk Truk @ Northside Elementary Glow Dance
DESCRIPTION:Your favorite southern fried chicken is hitting the road—and it’s going to be legendary. Our community comes first\, and we want to share that tender love by bringing our homegrown menu to you. The Cluk Truk is coming Fall 2020 to the Upstate!
URL:https://864foodtrucks.com/event/spinx-cluk-truk-northside-elementary-glow-dance/
LOCATION:Northside Elementary\, 710 N Townville St\, Seneca\, South Carolina
CATEGORIES:Food Truck Schedules,Seneca
ATTACH;FMTTYPE=image/jpeg:https://864foodtrucks.com/wp-content/uploads/2021/05/Spinx-Cluk-Truk-Truck.jpg
ORGANIZER;CN="Spinx Cluk Truk":MAILTO:cluktruk@spinxco.com
GEO:34.6947691;-82.9564363
X-APPLE-STRUCTURED-LOCATION;VALUE=URI;X-ADDRESS=Northside Elementary 710 N Townville St Seneca South Carolina;X-APPLE-RADIUS=500;X-TITLE=710 N Townville St:geo:-82.9564363,34.6947691
END:VEVENT
BEGIN:VEVENT
DTSTART;TZID=America/New_York:20250227T100000
DTEND;TZID=America/New_York:20250227T130000
DTSTAMP:20260424T122659
CREATED:20250222T185440Z
LAST-MODIFIED:20260105T004519Z
UID:42583-1740650400-1740661200@864foodtrucks.com
SUMMARY:Simpell Sammies @ BASF
DESCRIPTION:Simpell Sammies is open for business and ready to serve you flavorful and delicious sandwiches and hoagies.
URL:https://864foodtrucks.com/event/simpell-sammies-basf-2/2025-02-27/
LOCATION:BASF Catalysts LLC\, 554 Engelhard Drive\, Seneca\, South Carolina
CATEGORIES:Food Truck Schedules,Seneca
ATTACH;FMTTYPE=image/jpeg:https://864foodtrucks.com/wp-content/uploads/2023/06/Simpell-Sammies-Trailer.jpg
ORGANIZER;CN="Simpell Sammies":MAILTO:info@simpelltreats.com
GEO:34.6518557;-82.955869
X-APPLE-STRUCTURED-LOCATION;VALUE=URI;X-ADDRESS=BASF Catalysts LLC 554 Engelhard Drive Seneca South Carolina;X-APPLE-RADIUS=500;X-TITLE=554 Engelhard Drive:geo:-82.955869,34.6518557
END:VEVENT
BEGIN:VEVENT
DTSTART;TZID=America/New_York:20250117T100000
DTEND;TZID=America/New_York:20250117T130000
DTSTAMP:20260424T122659
CREATED:20250112T145945Z
LAST-MODIFIED:20250921T193632Z
UID:41710-1737108000-1737118800@864foodtrucks.com
SUMMARY:Simpell Sammies @ Ravenel Elementary School
DESCRIPTION:Simpell Sammies is open for business and ready to serve you flavorful and delicious sandwiches and hoagies.
URL:https://864foodtrucks.com/event/simpell-sammies-ravenel-elementary-school-2/2025-01-17/
LOCATION:Ravenel Elementary School\, Ravenel School Road 150\, Seneca\, South Carolina\, 29678\, United States
CATEGORIES:Food Truck Schedules,Seneca
ATTACH;FMTTYPE=image/jpeg:https://864foodtrucks.com/wp-content/uploads/2023/06/Simpell-Sammies-Trailer.jpg
ORGANIZER;CN="Simpell Sammies":MAILTO:info@simpelltreats.com
GEO:34.6852242;-82.8955976
X-APPLE-STRUCTURED-LOCATION;VALUE=URI;X-ADDRESS=Ravenel Elementary School Ravenel School Road 150 Seneca South Carolina 29678 United States;X-APPLE-RADIUS=500;X-TITLE=Ravenel School Road 150:geo:-82.8955976,34.6852242
END:VEVENT
BEGIN:VEVENT
DTSTART;TZID=America/New_York:20241107T110000
DTEND;TZID=America/New_York:20241107T130000
DTSTAMP:20260424T122659
CREATED:20241106T003046Z
LAST-MODIFIED:20251202T135454Z
UID:39690-1730977200-1730984400@864foodtrucks.com
SUMMARY:Kodesh BBQ Bowls @ BorgWarner
DESCRIPTION:Kodesh BBQ Bowls is a mobile food trailer that provides a heap amount of Levitical clean\, flavorful\, pit smoked BBQ. We’ve also come up with a link between enjoying our delicious BBQ and providing healthier options\, our cultural inspired bowls!
URL:https://864foodtrucks.com/event/kodesh-bbq-bowls-borgwarner-2/2024-11-07/
LOCATION:BorgWarner\, 15545 Wells Hwy\, Seneca
CATEGORIES:Food Truck Schedules,Seneca
ATTACH;FMTTYPE=image/jpeg:https://864foodtrucks.com/wp-content/uploads/2023/07/Kodesh-BBQ.jpg
ORGANIZER;CN="Kodesh BBQ & Bowls":MAILTO:kodeshbbq@gmail.com
END:VEVENT
BEGIN:VEVENT
DTSTART;TZID=America/New_York:20240918T070000
DTEND;TZID=America/New_York:20240918T140000
DTSTAMP:20260424T122659
CREATED:20240916T005603Z
LAST-MODIFIED:20240916T005603Z
UID:38821-1726642800-1726668000@864foodtrucks.com
SUMMARY:Fuel Foods @ BorgWarner
DESCRIPTION:Fuel Foods – Food Truck & Catering\nClean\, Unique & Delicious!\nLocated in Clemson & Upstate\, SC 📍\nBook Us for Events! Contact for More Info!
URL:https://864foodtrucks.com/event/fuel-foods-borgwarner/
LOCATION:BorgWarner\, 15545 Wells Hwy\, Seneca
CATEGORIES:Food Truck Schedules,Seneca
ATTACH;FMTTYPE=image/jpeg:https://864foodtrucks.com/wp-content/uploads/2024/08/Fuel-Foods-Food-Truck.jpg
ORGANIZER;CN="Fuel Foods Food Truck":MAILTO:fuelfoods.truck@gmail.com
END:VEVENT
END:VCALENDAR