BEGIN:VCALENDAR
VERSION:2.0
PRODID:-//864 Food Trucks - ECPv6.15.20//NONSGML v1.0//EN
CALSCALE:GREGORIAN
METHOD:PUBLISH
X-WR-CALNAME:864 Food Trucks
X-ORIGINAL-URL:https://864foodtrucks.com
X-WR-CALDESC:Events for 864 Food Trucks
REFRESH-INTERVAL;VALUE=DURATION:PT1H
X-Robots-Tag:noindex
X-PUBLISHED-TTL:PT1H
BEGIN:VTIMEZONE
TZID:America/New_York
BEGIN:DAYLIGHT
TZOFFSETFROM:-0500
TZOFFSETTO:-0400
TZNAME:EDT
DTSTART:20210314T070000
END:DAYLIGHT
BEGIN:STANDARD
TZOFFSETFROM:-0400
TZOFFSETTO:-0500
TZNAME:EST
DTSTART:20211107T060000
END:STANDARD
BEGIN:DAYLIGHT
TZOFFSETFROM:-0500
TZOFFSETTO:-0400
TZNAME:EDT
DTSTART:20220313T070000
END:DAYLIGHT
BEGIN:STANDARD
TZOFFSETFROM:-0400
TZOFFSETTO:-0500
TZNAME:EST
DTSTART:20221106T060000
END:STANDARD
BEGIN:DAYLIGHT
TZOFFSETFROM:-0500
TZOFFSETTO:-0400
TZNAME:EDT
DTSTART:20230312T070000
END:DAYLIGHT
BEGIN:STANDARD
TZOFFSETFROM:-0400
TZOFFSETTO:-0500
TZNAME:EST
DTSTART:20231105T060000
END:STANDARD
BEGIN:DAYLIGHT
TZOFFSETFROM:-0500
TZOFFSETTO:-0400
TZNAME:EDT
DTSTART:20240310T070000
END:DAYLIGHT
BEGIN:STANDARD
TZOFFSETFROM:-0400
TZOFFSETTO:-0500
TZNAME:EST
DTSTART:20241103T060000
END:STANDARD
END:VTIMEZONE
BEGIN:VEVENT
DTSTART;TZID=America/New_York:20221102T170000
DTEND;TZID=America/New_York:20221102T200000
DTSTAMP:20260425T115650
CREATED:20221031T174620Z
LAST-MODIFIED:20221219T204522Z
UID:13968-1667408400-1667419200@864foodtrucks.com
SUMMARY:Local Pie Pizza Co @ Spectrum
DESCRIPTION:
URL:https://864foodtrucks.com/event/local-pie-pizza-co-spectrum/2022-11-02/
LOCATION:Spectrum\, 2 Digital Place\, Simpsonville\, SC\, United States
CATEGORIES:Food Truck Schedules,Simpsonville
ATTACH;FMTTYPE=image/jpeg:https://864foodtrucks.com/wp-content/uploads/2021/12/Local-Pie-Pizza-3.jpg
ORGANIZER;CN="Local Pie Pizza Company":MAILTO:cory@localpiepizzacompany.com
GEO:34.7953548;-82.2788291
X-APPLE-STRUCTURED-LOCATION;VALUE=URI;X-ADDRESS=Spectrum 2 Digital Place Simpsonville SC United States;X-APPLE-RADIUS=500;X-TITLE=2 Digital Place:geo:-82.2788291,34.7953548
END:VEVENT
BEGIN:VEVENT
DTSTART;TZID=America/New_York:20221103T173000
DTEND;TZID=America/New_York:20221103T200000
DTSTAMP:20260425T115650
CREATED:20221031T181300Z
LAST-MODIFIED:20221213T130111Z
UID:13982-1667496600-1667505600@864foodtrucks.com
SUMMARY:La Katrina Mia @ WineXpress
DESCRIPTION:
URL:https://864foodtrucks.com/event/la-katrina-mia-winexpress/2022-11-03/
LOCATION:WineXpress\, 202 Scuffletown Rd\, Simpsonville\, South Carolina
CATEGORIES:Food Truck Schedules,Simpsonville
ATTACH;FMTTYPE=image/jpeg:https://864foodtrucks.com/wp-content/uploads/2022/06/La-Katrina-Mia-Truck.jpg
ORGANIZER;CN="La Katrina Mia":MAILTO:lakatrinamia@gmail.com
GEO:34.8046736;-82.2292537
X-APPLE-STRUCTURED-LOCATION;VALUE=URI;X-ADDRESS=WineXpress 202 Scuffletown Rd Simpsonville South Carolina;X-APPLE-RADIUS=500;X-TITLE=202 Scuffletown Rd:geo:-82.2292537,34.8046736
END:VEVENT
BEGIN:VEVENT
DTSTART;TZID=America/New_York:20221104T070000
DTEND;TZID=America/New_York:20221104T100000
DTSTAMP:20260425T115650
CREATED:20221031T164600Z
LAST-MODIFIED:20250203T000630Z
UID:13937-1667545200-1667556000@864foodtrucks.com
SUMMARY:Vita Nova Coffee & Tea @ Neely Farms
DESCRIPTION:The vision of Vita Nova is to bring communities together around good coffee\, delicacies and various entertainment!
URL:https://864foodtrucks.com/event/vita-nova-coffee-tea-neely-farms/2022-11-04/
LOCATION:Neely Farms\, 105 Farm Club Dr\,\, Simpsonville\, SC\, 29680\, United States
CATEGORIES:Food Truck Schedules,Simpsonville
ATTACH;FMTTYPE=image/jpeg:https://864foodtrucks.com/wp-content/uploads/2021/12/Vita-Nova.jpg
ORGANIZER;CN="Vita Nova Coffee And Tea":MAILTO:Vitanova3710@gmail.com
GEO:34.7021818;-82.2815731
X-APPLE-STRUCTURED-LOCATION;VALUE=URI;X-ADDRESS=Neely Farms 105 Farm Club Dr Simpsonville SC 29680 United States;X-APPLE-RADIUS=500;X-TITLE=105 Farm Club Dr\,:geo:-82.2815731,34.7021818
END:VEVENT
BEGIN:VEVENT
DTSTART;TZID=America/New_York:20221105T090000
DTEND;TZID=America/New_York:20221105T170000
DTSTAMP:20260425T115650
CREATED:20221101T164456Z
LAST-MODIFIED:20221101T164456Z
UID:14197-1667638800-1667667600@864foodtrucks.com
SUMMARY:Obey the Crave @ Everything Outdoor Festival
DESCRIPTION:Homemade Cookies Baked randomly. Please follow our Instagram to see when we are taking orders. Best way to get cookies fresh. Currently servicing the Greenville SC area.
URL:https://864foodtrucks.com/event/obey-the-crave-everything-outdoor-festival/
LOCATION:Historic Hopkins Farms\, 3717 Fork Shoals Rd\, Simpsonville\, South Carolina
CATEGORIES:Food Truck Schedules,Simpsonville
ATTACH;FMTTYPE=image/jpeg:https://864foodtrucks.com/wp-content/uploads/2021/05/obey-the-crave-truck.jpg
ORGANIZER;CN="Obey the Crave":MAILTO:creamcookiesmiami@gmail.com
END:VEVENT
BEGIN:VEVENT
DTSTART;TZID=America/New_York:20221110T073000
DTEND;TZID=America/New_York:20221110T110000
DTSTAMP:20260425T115650
CREATED:20221108T173736Z
LAST-MODIFIED:20230517T151438Z
UID:14525-1668065400-1668078000@864foodtrucks.com
SUMMARY:Roaming Ritual @ Sprouts Woodruff
DESCRIPTION:A mobile coffee trailer serving parts of Greenville County\, SC !
URL:https://864foodtrucks.com/event/roaming-ritual-sprouts-woodruff/2022-11-10/
LOCATION:Sprouts Woodruff\, 2200 Woodruff Rd\, Simpsonville\, SC\, United States
CATEGORIES:Food Truck Schedules,Simpsonville
ATTACH;FMTTYPE=image/jpeg:https://864foodtrucks.com/wp-content/uploads/2022/10/Roaming-Ritual-Trailer.jpg
ORGANIZER;CN="Roaming Ritual":MAILTO:Roamingritualcoffee@gmail.com
END:VEVENT
BEGIN:VEVENT
DTSTART;TZID=America/New_York:20221114T100000
DTEND;TZID=America/New_York:20221115T000000
DTSTAMP:20260425T115651
CREATED:20221114T171144Z
LAST-MODIFIED:20221114T171144Z
UID:14590-1668420000-1668470400@864foodtrucks.com
SUMMARY:Just a Smile @ Walmart Simpsonville
DESCRIPTION:Coffee. Tea. Community.\nThe vision of Vita Nova is to bring communities together around good coffee\, delicacies and various entertainment!
URL:https://864foodtrucks.com/event/just-a-smile-walmart-simpsonville/
LOCATION:Walmart Neighborhood\, 1401 W Georgia Rd\, Simpsonville
CATEGORIES:Food Truck Schedules,Simpsonville
ATTACH;FMTTYPE=image/jpeg:https://864foodtrucks.com/wp-content/uploads/2021/05/Just-A-Smile.jpg
END:VEVENT
BEGIN:VEVENT
DTSTART;TZID=America/New_York:20221116T170000
DTEND;TZID=America/New_York:20221116T190000
DTSTAMP:20260425T115651
CREATED:20221114T175117Z
LAST-MODIFIED:20221114T175117Z
UID:14643-1668618000-1668625200@864foodtrucks.com
SUMMARY:Local Pie Pizza Co @ Cotton Mill Apartments
DESCRIPTION:
URL:https://864foodtrucks.com/event/local-pie-pizza-co-cotton-mill-apartments/
LOCATION:Cotton Mills\, 6001 Spindle Cir\,\, Simpsonville\, SC\, 29681\, United States
CATEGORIES:Food Truck Schedules,Simpsonville
ATTACH;FMTTYPE=image/jpeg:https://864foodtrucks.com/wp-content/uploads/2021/12/Local-Pie-Pizza-3.jpg
ORGANIZER;CN="Local Pie Pizza Company":MAILTO:cory@localpiepizzacompany.com
GEO:34.734136;-82.2586757
X-APPLE-STRUCTURED-LOCATION;VALUE=URI;X-ADDRESS=Cotton Mills 6001 Spindle Cir Simpsonville SC 29681 United States;X-APPLE-RADIUS=500;X-TITLE=6001 Spindle Cir\,:geo:-82.2586757,34.734136
END:VEVENT
BEGIN:VEVENT
DTSTART;TZID=America/New_York:20221118T180000
DTEND;TZID=America/New_York:20221118T200000
DTSTAMP:20260425T115651
CREATED:20221115T223319Z
LAST-MODIFIED:20221115T223319Z
UID:14698-1668794400-1668801600@864foodtrucks.com
SUMMARY:One Love Fusion Food @ Grandview Drive
DESCRIPTION:Global Flavors. Local Favorites.\nUS Foods’ Silver Spoon Champion 2017 & 2018\n1st Place at Fall for Greenville 2017 & 2018\nVoted Top 5 Best Food Trucks in the Upstate 2018\, 2019\, & 2020\nAvailable in Public & Private events.
URL:https://864foodtrucks.com/event/one-love-fusion-food-grandview-drive/
LOCATION:Grandview Drive\, 3725 Grandview Drive\, Simpsonville\, SC\, United States
CATEGORIES:Food Truck Schedules,Simpsonville
ATTACH;FMTTYPE=image/jpeg:https://864foodtrucks.com/wp-content/uploads/2021/05/one-Love-Fusion-Foods-truck.jpg
ORGANIZER;CN="One Love Fusion Foods":MAILTO:OneLoveFusionFoods@gmail.com
END:VEVENT
BEGIN:VEVENT
DTSTART;TZID=America/New_York:20221121T170000
DTEND;TZID=America/New_York:20221121T190000
DTSTAMP:20260425T115651
CREATED:20221121T194522Z
LAST-MODIFIED:20221121T194522Z
UID:14873-1669050000-1669057200@864foodtrucks.com
SUMMARY:Lobster Dogs @ River Shoals
DESCRIPTION:Great food on the go. Fill your cup and go. We are the best Mediterranean food trailer in Greenville \, Sc
URL:https://864foodtrucks.com/event/lobster-dogs-river-shoals/
LOCATION:River Shoals\, 311 Rio Grand Place\, Simpsonville\, South Carolina
CATEGORIES:Food Truck Schedules,Simpsonville
ATTACH;FMTTYPE=image/jpeg:https://864foodtrucks.com/wp-content/uploads/2021/05/lobster-dogs-Food-Truck.jpg
ORGANIZER;CN="Lobster Dogs":MAILTO:lobsterdogs3@gmail.com
GEO:34.7162973;-82.3077943
X-APPLE-STRUCTURED-LOCATION;VALUE=URI;X-ADDRESS=River Shoals 311 Rio Grand Place Simpsonville South Carolina;X-APPLE-RADIUS=500;X-TITLE=311 Rio Grand Place:geo:-82.3077943,34.7162973
END:VEVENT
BEGIN:VEVENT
DTSTART;TZID=America/New_York:20221129T073000
DTEND;TZID=America/New_York:20221129T140000
DTSTAMP:20260425T115651
CREATED:20221129T020201Z
LAST-MODIFIED:20230102T172342Z
UID:15086-1669707000-1669730400@864foodtrucks.com
SUMMARY:Roaming Ritual @ Five Forks Animal Hospital
DESCRIPTION:A mobile coffee trailer serving parts of Greenville County\, SC !
URL:https://864foodtrucks.com/event/roaming-ritual-five-forks-animal-hospital/2022-11-29/
LOCATION:Five Forks Animal Hospital\, 221 Batesville Rd\, Simpsonville\, South Carolina
CATEGORIES:Food Truck Schedules,Simpsonville
ATTACH;FMTTYPE=image/jpeg:https://864foodtrucks.com/wp-content/uploads/2022/10/Roaming-Ritual-Trailer-e1666182278753.jpg
ORGANIZER;CN="Roaming Ritual":MAILTO:Roamingritualcoffee@gmail.com
GEO:34.8111258;-82.2332657
X-APPLE-STRUCTURED-LOCATION;VALUE=URI;X-ADDRESS=Five Forks Animal Hospital 221 Batesville Rd Simpsonville South Carolina;X-APPLE-RADIUS=500;X-TITLE=221 Batesville Rd:geo:-82.2332657,34.8111258
END:VEVENT
BEGIN:VEVENT
DTSTART;TZID=America/New_York:20221207T160000
DTEND;TZID=America/New_York:20221207T200000
DTSTAMP:20260425T115651
CREATED:20221205T211340Z
LAST-MODIFIED:20221205T211340Z
UID:15439-1670428800-1670443200@864foodtrucks.com
SUMMARY:Just a Smile @ WineXpress
DESCRIPTION:
URL:https://864foodtrucks.com/event/just-a-smile-winexpress/
LOCATION:WineXpress\, 202 Scuffletown Rd\, Simpsonville\, South Carolina
CATEGORIES:Food Truck Schedules,Simpsonville
ATTACH;FMTTYPE=image/jpeg:https://864foodtrucks.com/wp-content/uploads/2021/05/Just-A-Smile.jpg
GEO:34.8046736;-82.2292537
X-APPLE-STRUCTURED-LOCATION;VALUE=URI;X-ADDRESS=WineXpress 202 Scuffletown Rd Simpsonville South Carolina;X-APPLE-RADIUS=500;X-TITLE=202 Scuffletown Rd:geo:-82.2292537,34.8046736
END:VEVENT
BEGIN:VEVENT
DTSTART;TZID=America/New_York:20221208T180000
DTEND;TZID=America/New_York:20221208T200000
DTSTAMP:20260425T115651
CREATED:20221205T191659Z
LAST-MODIFIED:20230109T191933Z
UID:15425-1670522400-1670529600@864foodtrucks.com
SUMMARY:The Noodle Lady @ WineXpress
DESCRIPTION:Authentic Chinese dishes for catering and events. Artisan Noodles and 100% Natural. Check out here our events calendar in Greenville\, South Carolina. #TheNoodleLady
URL:https://864foodtrucks.com/event/the-noodle-lady-winexpress-2/2022-12-08/
LOCATION:WineXpress\, 202 Scuffletown Rd\, Simpsonville\, South Carolina
CATEGORIES:Food Truck Schedules,Simpsonville
ATTACH;FMTTYPE=image/jpeg:https://864foodtrucks.com/wp-content/uploads/2021/05/The-Noodle-Lady-Truck.jpg
ORGANIZER;CN="The Noodle Lady":MAILTO:thenoodlelady@yahoo.com
GEO:34.8046736;-82.2292537
X-APPLE-STRUCTURED-LOCATION;VALUE=URI;X-ADDRESS=WineXpress 202 Scuffletown Rd Simpsonville South Carolina;X-APPLE-RADIUS=500;X-TITLE=202 Scuffletown Rd:geo:-82.2292537,34.8046736
END:VEVENT
BEGIN:VEVENT
DTSTART;TZID=America/New_York:20221209T170000
DTEND;TZID=America/New_York:20221209T193000
DTSTAMP:20260425T115651
CREATED:20221205T221525Z
LAST-MODIFIED:20221205T221525Z
UID:15462-1670605200-1670614200@864foodtrucks.com
SUMMARY:Local Pie Pizza Co @ Cotton Mill Apartments
DESCRIPTION:Artisan Pizza Food Truck
URL:https://864foodtrucks.com/event/local-pie-pizza-co-cotton-mill-apartments-2/
LOCATION:Cotton Mills\, 6001 Spindle Cir\,\, Simpsonville\, SC\, 29681\, United States
CATEGORIES:Food Truck Schedules,Simpsonville
ATTACH;FMTTYPE=image/jpeg:https://864foodtrucks.com/wp-content/uploads/2021/12/Local-Pie-Pizza-3.jpg
ORGANIZER;CN="Local Pie Pizza Company":MAILTO:cory@localpiepizzacompany.com
GEO:34.734136;-82.2586757
X-APPLE-STRUCTURED-LOCATION;VALUE=URI;X-ADDRESS=Cotton Mills 6001 Spindle Cir Simpsonville SC 29681 United States;X-APPLE-RADIUS=500;X-TITLE=6001 Spindle Cir\,:geo:-82.2586757,34.734136
END:VEVENT
BEGIN:VEVENT
DTSTART;TZID=America/New_York:20221210T130000
DTEND;TZID=America/New_York:20221210T170000
DTSTAMP:20260425T115651
CREATED:20221130T194858Z
LAST-MODIFIED:20221130T194858Z
UID:15151-1670677200-1670691600@864foodtrucks.com
SUMMARY:Traveling Taps @ Christmas Market at Neely Farms
DESCRIPTION:We’ve converted two vintage trucks into beer & wine taps! We have a 1960 Ford F100 named “Ole Blue” and a 1953 Chevy 3100 named “Lucky Lass”. We are available for weddings\, neighborhoods or parties!
URL:https://864foodtrucks.com/event/traveling-taps-christmas-market-at-neely-farms/
LOCATION:Neely Farms\, 105 Farm Club Dr\,\, Simpsonville\, SC\, 29680\, United States
CATEGORIES:Food Truck Schedules,Simpsonville
ATTACH;FMTTYPE=image/jpeg:https://864foodtrucks.com/wp-content/uploads/2022/10/Traveling-Taps-Truck.jpg
ORGANIZER;CN="Traveling Taps":MAILTO:cmotter@travelingtapssc.com
GEO:34.7021818;-82.2815731
X-APPLE-STRUCTURED-LOCATION;VALUE=URI;X-ADDRESS=Neely Farms 105 Farm Club Dr Simpsonville SC 29680 United States;X-APPLE-RADIUS=500;X-TITLE=105 Farm Club Dr\,:geo:-82.2815731,34.7021818
END:VEVENT
BEGIN:VEVENT
DTSTART;TZID=America/New_York:20221215T000000
DTEND;TZID=America/New_York:20221215T000000
DTSTAMP:20260425T115651
CREATED:20221204T212732Z
LAST-MODIFIED:20221204T212732Z
UID:15399-1671062400-1671062400@864foodtrucks.com
SUMMARY:Simpell Sammies @ Hillcrest Middle School
DESCRIPTION:Simpell Sammies is open for business and ready to serve you flavorful and delicious sandwiches and hoagies.
URL:https://864foodtrucks.com/event/simpell-sammies-hillcrest-middle-school/
LOCATION:Hillcrest Middle School\, 510 Garrison Rd\, Simpsonville\, South Carolina
CATEGORIES:Food Truck Schedules,Simpsonville
ATTACH;FMTTYPE=image/jpeg:https://864foodtrucks.com/wp-content/uploads/2021/12/Simpell-Sammies-Trailer.jpg
ORGANIZER;CN="Simpell Sammies":MAILTO:info@simpelltreats.com
GEO:34.7535729;-82.2558683
X-APPLE-STRUCTURED-LOCATION;VALUE=URI;X-ADDRESS=Hillcrest Middle School 510 Garrison Rd Simpsonville South Carolina;X-APPLE-RADIUS=500;X-TITLE=510 Garrison Rd:geo:-82.2558683,34.7535729
END:VEVENT
BEGIN:VEVENT
DTSTART;TZID=America/New_York:20221221T073000
DTEND;TZID=America/New_York:20221221T110000
DTSTAMP:20260425T115651
CREATED:20221220T004810Z
LAST-MODIFIED:20221220T004810Z
UID:15763-1671607800-1671620400@864foodtrucks.com
SUMMARY:Roaming Ritual @ Kilgore Farms
DESCRIPTION:A mobile coffee trailer serving parts of Greenville County\, SC !
URL:https://864foodtrucks.com/event/roaming-ritual-kilgore-farms/
LOCATION:Kilgore Farms\, 1 Kilgore Farms Circle\, Simpsonville\, South Carolina
CATEGORIES:Food Truck Schedules,Simpsonville
ATTACH;FMTTYPE=image/jpeg:https://864foodtrucks.com/wp-content/uploads/2022/10/Roaming-Ritual-Trailer-e1666182278753.jpg
ORGANIZER;CN="Roaming Ritual":MAILTO:Roamingritualcoffee@gmail.com
GEO:34.7956185;-82.1980208
X-APPLE-STRUCTURED-LOCATION;VALUE=URI;X-ADDRESS=Kilgore Farms 1 Kilgore Farms Circle Simpsonville South Carolina;X-APPLE-RADIUS=500;X-TITLE=1 Kilgore Farms Circle:geo:-82.1980208,34.7956185
END:VEVENT
BEGIN:VEVENT
DTSTART;TZID=America/New_York:20221223T073000
DTEND;TZID=America/New_York:20221223T110000
DTSTAMP:20260425T115651
CREATED:20221220T014220Z
LAST-MODIFIED:20221220T014220Z
UID:15765-1671780600-1671793200@864foodtrucks.com
SUMMARY:Roaming Ritual @ Remington
DESCRIPTION:A mobile coffee trailer serving parts of Greenville County\, SC !
URL:https://864foodtrucks.com/event/roaming-ritual-remington/
LOCATION:Remington\, 20 Cardston Drive\, Simpsonville\, South Carolina
CATEGORIES:Food Truck Schedules,Simpsonville
ATTACH;FMTTYPE=image/jpeg:https://864foodtrucks.com/wp-content/uploads/2022/10/Roaming-Ritual-Trailer-e1666182278753.jpg
ORGANIZER;CN="Roaming Ritual":MAILTO:Roamingritualcoffee@gmail.com
GEO:34.7074651;-82.2992493
X-APPLE-STRUCTURED-LOCATION;VALUE=URI;X-ADDRESS=Remington 20 Cardston Drive Simpsonville South Carolina;X-APPLE-RADIUS=500;X-TITLE=20 Cardston Drive:geo:-82.2992493,34.7074651
END:VEVENT
BEGIN:VEVENT
DTSTART;TZID=America/New_York:20230103T133000
DTEND;TZID=America/New_York:20230103T153000
DTSTAMP:20260425T115651
CREATED:20230102T202324Z
LAST-MODIFIED:20230102T202324Z
UID:15922-1672752600-1672759800@864foodtrucks.com
SUMMARY:The Dog House Sabrett @ Standing Springs
DESCRIPTION:Serving the best all beef Hot Dogs \, Polish Sausage\, Brats w/kraut. The cooked red onions are yummy. Take home a pack of Sabrett Hot dogs.
URL:https://864foodtrucks.com/event/the-dog-house-sabrett-standing-springs/2023-01-03/
LOCATION:Standing Springs\, Simpsonville\, SC\, United States
CATEGORIES:Food Truck Schedules,Simpsonville
ATTACH;FMTTYPE=image/jpeg:https://864foodtrucks.com/wp-content/uploads/2022/01/Dog-house-sabrett-Trailer.jpg
ORGANIZER;CN="Dog House Sabrett":MAILTO:thedoghouse@ymail.com
END:VEVENT
BEGIN:VEVENT
DTSTART;TZID=America/New_York:20230106T170000
DTEND;TZID=America/New_York:20230106T170000
DTSTAMP:20260425T115651
CREATED:20230102T173228Z
LAST-MODIFIED:20230120T203148Z
UID:15917-1673024400-1673024400@864foodtrucks.com
SUMMARY:One Love Fusion Foods @ FH2 Cigars
DESCRIPTION:Global Flavors. Local Favorites.\nUS Foods’ Silver Spoon Champion 2017 & 2018\n1st Place at Fall for Greenville 2017 & 2018\nVoted Top 5 Best Food Trucks in the Upstate 2018\, 2019\, & 2020\nAvailable in Public & Private events.
URL:https://864foodtrucks.com/event/one-love-fusion-foods-fh2-cigars/2023-01-06/
LOCATION:FH2 Cigars\, 3725 Grandview Drive\, Simpsonville\, SC\, United States
CATEGORIES:Food Truck Schedules,Simpsonville
ATTACH;FMTTYPE=image/jpeg:https://864foodtrucks.com/wp-content/uploads/2021/05/one-Love-Fusion-Foods-truck.jpg
ORGANIZER;CN="One Love Fusion Foods":MAILTO:OneLoveFusionFoods@gmail.com
END:VEVENT
BEGIN:VEVENT
DTSTART;TZID=America/New_York:20230111T073000
DTEND;TZID=America/New_York:20230111T120000
DTSTAMP:20260425T115651
CREATED:20230110T192920Z
LAST-MODIFIED:20230213T174937Z
UID:16111-1673422200-1673438400@864foodtrucks.com
SUMMARY:Roaming Ritual @ Abiding Peace
DESCRIPTION:A mobile coffee trailer serving parts of Greenville County\, SC !
URL:https://864foodtrucks.com/event/roaming-ritual-abiding-peace/2023-01-11/
LOCATION:Abiding Peace Church\, 401 Batesville Road\, Simpsonville\, South Carolina
CATEGORIES:Food Truck Schedules,Simpsonville
ATTACH;FMTTYPE=image/jpeg:https://864foodtrucks.com/wp-content/uploads/2022/10/Roaming-Ritual-Trailer-e1666182278753.jpg
ORGANIZER;CN="Roaming Ritual":MAILTO:Roamingritualcoffee@gmail.com
GEO:34.823337;-82.229466
X-APPLE-STRUCTURED-LOCATION;VALUE=URI;X-ADDRESS=Abiding Peace Church 401 Batesville Road Simpsonville South Carolina;X-APPLE-RADIUS=500;X-TITLE=401 Batesville Road:geo:-82.229466,34.823337
END:VEVENT
BEGIN:VEVENT
DTSTART;TZID=America/New_York:20230124T170000
DTEND;TZID=America/New_York:20230124T200000
DTSTAMP:20260425T115651
CREATED:20230123T191345Z
LAST-MODIFIED:20230220T004707Z
UID:16281-1674579600-1674590400@864foodtrucks.com
SUMMARY:Lobster Dogs @ WineXpress
DESCRIPTION:Food truck serving the Best Lobster Rolls & Stuffed Avocados in the Carolinas
URL:https://864foodtrucks.com/event/lobster-dogs-winexpress-3/2023-01-24/
LOCATION:WineXpress\, 202 Scuffletown Rd\, Simpsonville\, South Carolina
CATEGORIES:Food Truck Schedules,Simpsonville
ATTACH;FMTTYPE=image/jpeg:https://864foodtrucks.com/wp-content/uploads/2021/05/lobster-dogs-Food-Truck.jpg
ORGANIZER;CN="Lobster Dogs":MAILTO:lobsterdogs3@gmail.com
GEO:34.8046736;-82.2292537
X-APPLE-STRUCTURED-LOCATION;VALUE=URI;X-ADDRESS=WineXpress 202 Scuffletown Rd Simpsonville South Carolina;X-APPLE-RADIUS=500;X-TITLE=202 Scuffletown Rd:geo:-82.2292537,34.8046736
END:VEVENT
BEGIN:VEVENT
DTSTART;TZID=America/New_York:20230126T180000
DTEND;TZID=America/New_York:20230126T200000
DTSTAMP:20260425T115651
CREATED:20230123T194819Z
LAST-MODIFIED:20230123T194819Z
UID:16292-1674756000-1674763200@864foodtrucks.com
SUMMARY:The Noodle Lady @ WineXpress
DESCRIPTION:Authentic Chinese dishes for catering and events. Artisan Noodles and 100% Natural. Check out here our events calendar in Greenville\, South Carolina. #TheNoodleLady
URL:https://864foodtrucks.com/event/the-noodle-lady-winexpress-3/
LOCATION:WineXpress\, 202 Scuffletown Rd\, Simpsonville\, South Carolina
CATEGORIES:Food Truck Schedules,Simpsonville
ATTACH;FMTTYPE=image/jpeg:https://864foodtrucks.com/wp-content/uploads/2021/05/The-Noodle-Lady-Truck.jpg
ORGANIZER;CN="The Noodle Lady":MAILTO:thenoodlelady@yahoo.com
GEO:34.8046736;-82.2292537
X-APPLE-STRUCTURED-LOCATION;VALUE=URI;X-ADDRESS=WineXpress 202 Scuffletown Rd Simpsonville South Carolina;X-APPLE-RADIUS=500;X-TITLE=202 Scuffletown Rd:geo:-82.2292537,34.8046736
END:VEVENT
BEGIN:VEVENT
DTSTART;TZID=America/New_York:20230202T180000
DTEND;TZID=America/New_York:20230202T200000
DTSTAMP:20260425T115651
CREATED:20230130T194842Z
LAST-MODIFIED:20230403T192905Z
UID:16433-1675360800-1675368000@864foodtrucks.com
SUMMARY:Too Sauc'd Up @ WineXpress
DESCRIPTION:
URL:https://864foodtrucks.com/event/too-saucd-up-winexpress/2023-02-02/
LOCATION:WineXpress\, 202 Scuffletown Rd\, Simpsonville\, South Carolina
CATEGORIES:Food Truck Schedules,Simpsonville
ATTACH;FMTTYPE=image/jpeg:https://864foodtrucks.com/wp-content/uploads/2022/07/Too-Saucd-Up.jpg
ORGANIZER;CN="Too Sauc'D Up":MAILTO:toosauc.dup@gmail.com
GEO:34.8046736;-82.2292537
X-APPLE-STRUCTURED-LOCATION;VALUE=URI;X-ADDRESS=WineXpress 202 Scuffletown Rd Simpsonville South Carolina;X-APPLE-RADIUS=500;X-TITLE=202 Scuffletown Rd:geo:-82.2292537,34.8046736
END:VEVENT
BEGIN:VEVENT
DTSTART;TZID=America/New_York:20230203T070000
DTEND;TZID=America/New_York:20230203T213000
DTSTAMP:20260425T115651
CREATED:20230131T125834Z
LAST-MODIFIED:20230315T130625Z
UID:16491-1675407600-1675459800@864foodtrucks.com
SUMMARY:Roaming Ritual @ Bells Crossing
DESCRIPTION:A mobile coffee trailer serving parts of Greenville County\, SC !
URL:https://864foodtrucks.com/event/roaming-ritual-bells-crossing/2023-02-03/
LOCATION:Bells Crossing\, 804 Scuffletown Rd\, Simpsonville\, SC\, United States
CATEGORIES:Food Truck Schedules,Simpsonville
ATTACH;FMTTYPE=image/jpeg:https://864foodtrucks.com/wp-content/uploads/2022/10/Roaming-Ritual-Trailer-e1666182278753.jpg
ORGANIZER;CN="Roaming Ritual":MAILTO:Roamingritualcoffee@gmail.com
END:VEVENT
BEGIN:VEVENT
DTSTART;TZID=America/New_York:20230208T070000
DTEND;TZID=America/New_York:20230208T093000
DTSTAMP:20260425T115651
CREATED:20230207T212033Z
LAST-MODIFIED:20241023T175430Z
UID:16652-1675839600-1675848600@864foodtrucks.com
SUMMARY:Roaming Ritual @ Abiding Peace
DESCRIPTION:A mobile coffee trailer serving parts of Greenville County\, SC !
URL:https://864foodtrucks.com/event/roaming-ritual-abiding-peace-2/2023-02-08/
LOCATION:Abiding Peace Church\, 401 Batesville Road\, Simpsonville\, South Carolina
CATEGORIES:Food Truck Schedules,Simpsonville
ATTACH;FMTTYPE=image/jpeg:https://864foodtrucks.com/wp-content/uploads/2022/10/Roaming-Ritual-Trailer-e1666182278753.jpg
ORGANIZER;CN="Roaming Ritual":MAILTO:Roamingritualcoffee@gmail.com
GEO:34.823337;-82.229466
X-APPLE-STRUCTURED-LOCATION;VALUE=URI;X-ADDRESS=Abiding Peace Church 401 Batesville Road Simpsonville South Carolina;X-APPLE-RADIUS=500;X-TITLE=401 Batesville Road:geo:-82.229466,34.823337
END:VEVENT
BEGIN:VEVENT
DTSTART;TZID=America/New_York:20230208T173000
DTEND;TZID=America/New_York:20230208T193000
DTSTAMP:20260425T115651
CREATED:20230208T191623Z
LAST-MODIFIED:20230224T203308Z
UID:16664-1675877400-1675884600@864foodtrucks.com
SUMMARY:Nard's Backyard BBQ @ Long Creek Plantation
DESCRIPTION:
URL:https://864foodtrucks.com/event/nards-backyard-bbq-long-creek-plantation/
LOCATION:Long Creek Plantation\, Rocky Creek Road\, Simpsonville\, South Carolina
CATEGORIES:Food Truck Schedules,Simpsonville
ATTACH;FMTTYPE=image/jpeg:https://864foodtrucks.com/wp-content/uploads/2021/05/Nards-Backyard-BBQ-Truck-e1569246321735.jpg
ORGANIZER;CN="Nards Backyard BBQ":MAILTO:nardsbackyardbbq@gmail.com
GEO:34.7022241;-82.2966611
X-APPLE-STRUCTURED-LOCATION;VALUE=URI;X-ADDRESS=Long Creek Plantation Rocky Creek Road Simpsonville South Carolina;X-APPLE-RADIUS=500;X-TITLE=Rocky Creek Road:geo:-82.2966611,34.7022241
END:VEVENT
BEGIN:VEVENT
DTSTART;TZID=America/New_York:20230209T170000
DTEND;TZID=America/New_York:20230209T200000
DTSTAMP:20260425T115651
CREATED:20230207T002348Z
LAST-MODIFIED:20230207T002348Z
UID:16631-1675962000-1675972800@864foodtrucks.com
SUMMARY:Kodesh BBQ Bowls @ Rudolph Gordon School
DESCRIPTION:Kodesh BBQ Bowls is a mobile food trailer that provides a heap amount of Levitical clean\, flavorful\, pit smoked BBQ. We’ve also come up with a link between enjoying our delicious BBQ and providing healthier options\, our cultural inspired bowls!
URL:https://864foodtrucks.com/event/kodesh-bbq-bowls-rudolph-gordon-school/
LOCATION:Rudolph Gordon Middle School\, 1507 Scuffletown Rd\, Mauldin\, SC\, United States
CATEGORIES:Food Truck Schedules,Simpsonville
ATTACH;FMTTYPE=image/jpeg:https://864foodtrucks.com/wp-content/uploads/2022/05/Kodesh-BBQ.jpg
ORGANIZER;CN="Kodesh BBQ & Bowls":MAILTO:kodeshbbq@gmail.com
GEO:34.7467866;-82.1926901
X-APPLE-STRUCTURED-LOCATION;VALUE=URI;X-ADDRESS=Rudolph Gordon Middle School 1507 Scuffletown Rd Mauldin SC United States;X-APPLE-RADIUS=500;X-TITLE=1507 Scuffletown Rd:geo:-82.1926901,34.7467866
END:VEVENT
BEGIN:VEVENT
DTSTART;TZID=America/New_York:20230209T180000
DTEND;TZID=America/New_York:20230209T200000
DTSTAMP:20260425T115651
CREATED:20230206T233143Z
LAST-MODIFIED:20250512T163701Z
UID:16596-1675965600-1675972800@864foodtrucks.com
SUMMARY:The Noodle Lady @ WineXpress
DESCRIPTION:Authentic Chinese dishes for catering and events. Artisan Noodles and 100% Natural. Check out here our events calendar in Greenville\, South Carolina. #TheNoodleLady
URL:https://864foodtrucks.com/event/the-noodle-lady-winexpress-4/2023-02-09/
LOCATION:WineXpress\, 202 Scuffletown Rd\, Simpsonville\, South Carolina
CATEGORIES:Food Truck Schedules,Simpsonville
ATTACH;FMTTYPE=image/jpeg:https://864foodtrucks.com/wp-content/uploads/2021/05/The-Noodle-Lady-Truck.jpg
ORGANIZER;CN="The Noodle Lady":MAILTO:thenoodlelady@yahoo.com
GEO:34.8046736;-82.2292537
X-APPLE-STRUCTURED-LOCATION;VALUE=URI;X-ADDRESS=WineXpress 202 Scuffletown Rd Simpsonville South Carolina;X-APPLE-RADIUS=500;X-TITLE=202 Scuffletown Rd:geo:-82.2292537,34.8046736
END:VEVENT
BEGIN:VEVENT
DTSTART;TZID=America/New_York:20230211T110000
DTEND;TZID=America/New_York:20230211T140000
DTSTAMP:20260425T115651
CREATED:20230206T010042Z
LAST-MODIFIED:20230220T011136Z
UID:16544-1676113200-1676124000@864foodtrucks.com
SUMMARY:Local Pie Pizza Co @ Mak & Cheesecakes
DESCRIPTION:Artisan Pizza Food Truck
URL:https://864foodtrucks.com/event/local-pie-pizza-co-mak-cheesecakes/2023-02-11/
LOCATION:Mak & Cheesecakes\, 510 SE Main St\, Simpsonville\, SC\, United States
CATEGORIES:Food Truck Schedules,Simpsonville
ATTACH;FMTTYPE=image/png:https://864foodtrucks.com/wp-content/uploads/2022/01/Local-Pie.png
ORGANIZER;CN="Local Pie Pizza Company":MAILTO:cory@localpiepizzacompany.com
END:VEVENT
BEGIN:VEVENT
DTSTART;TZID=America/New_York:20230218T150000
DTEND;TZID=America/New_York:20230218T170000
DTSTAMP:20260425T115651
CREATED:20230127T194733Z
LAST-MODIFIED:20230127T194733Z
UID:16355-1676732400-1676739600@864foodtrucks.com
SUMMARY:Traveling Taps @ Chili Cook Off Lost River
DESCRIPTION:We’ve converted two vintage trucks into beer & wine taps! We have a 1960 Ford F100 named “Ole Blue” and a 1953 Chevy 3100 named “Lucky Lass”. We are available for weddings\, neighborhoods or parties!
URL:https://864foodtrucks.com/event/traveling-taps-chili-cook-off-lost-river/
LOCATION:Lost River\, 505 Whitemarsh Ave\, Simpsonville\, South Carolina
CATEGORIES:Food Truck Schedules,Simpsonville
ATTACH;FMTTYPE=image/jpeg:https://864foodtrucks.com/wp-content/uploads/2022/10/Traveling-Taps-Truck-e1666466690290.jpg
ORGANIZER;CN="Traveling Taps":MAILTO:cmotter@travelingtapssc.com
GEO:34.6970438;-82.2953521
X-APPLE-STRUCTURED-LOCATION;VALUE=URI;X-ADDRESS=Lost River 505 Whitemarsh Ave Simpsonville South Carolina;X-APPLE-RADIUS=500;X-TITLE=505 Whitemarsh Ave:geo:-82.2953521,34.6970438
END:VEVENT
END:VCALENDAR