BEGIN:VCALENDAR
VERSION:2.0
PRODID:-//864 Food Trucks - ECPv6.15.20//NONSGML v1.0//EN
CALSCALE:GREGORIAN
METHOD:PUBLISH
X-ORIGINAL-URL:https://864foodtrucks.com
X-WR-CALDESC:Events for 864 Food Trucks
REFRESH-INTERVAL;VALUE=DURATION:PT1H
X-Robots-Tag:noindex
X-PUBLISHED-TTL:PT1H
BEGIN:VTIMEZONE
TZID:America/New_York
BEGIN:DAYLIGHT
TZOFFSETFROM:-0500
TZOFFSETTO:-0400
TZNAME:EDT
DTSTART:20220313T070000
END:DAYLIGHT
BEGIN:STANDARD
TZOFFSETFROM:-0400
TZOFFSETTO:-0500
TZNAME:EST
DTSTART:20221106T060000
END:STANDARD
BEGIN:DAYLIGHT
TZOFFSETFROM:-0500
TZOFFSETTO:-0400
TZNAME:EDT
DTSTART:20230312T070000
END:DAYLIGHT
BEGIN:STANDARD
TZOFFSETFROM:-0400
TZOFFSETTO:-0500
TZNAME:EST
DTSTART:20231105T060000
END:STANDARD
BEGIN:DAYLIGHT
TZOFFSETFROM:-0500
TZOFFSETTO:-0400
TZNAME:EDT
DTSTART:20240310T070000
END:DAYLIGHT
BEGIN:STANDARD
TZOFFSETFROM:-0400
TZOFFSETTO:-0500
TZNAME:EST
DTSTART:20241103T060000
END:STANDARD
BEGIN:DAYLIGHT
TZOFFSETFROM:-0500
TZOFFSETTO:-0400
TZNAME:EDT
DTSTART:20250309T070000
END:DAYLIGHT
BEGIN:STANDARD
TZOFFSETFROM:-0400
TZOFFSETTO:-0500
TZNAME:EST
DTSTART:20251102T060000
END:STANDARD
END:VTIMEZONE
BEGIN:VEVENT
DTSTART;TZID=America/New_York:20230615T110000
DTEND;TZID=America/New_York:20230615T180000
DTSTAMP:20260425T165925
CREATED:20230612T164517Z
LAST-MODIFIED:20230612T164517Z
UID:19659-1686826800-1686852000@864foodtrucks.com
SUMMARY:Kiss My Asada @ Sunset Marina on Lake Keowee
DESCRIPTION:Rollin’ homemade Mexican deliciousness through the SC upstate. Locally sourced when possible!
URL:https://864foodtrucks.com/event/kiss-my-asada-sunset-marina-on-lake-keowee/
LOCATION:Lake Keowee\, 900 Gap Hill Rd\, Six Mile\, SC\, United States
CATEGORIES:Food Truck Schedules,Six Miles
ATTACH;FMTTYPE=image/jpeg:https://864foodtrucks.com/wp-content/uploads/2023/03/Kiss-my-asada.jpg
ORGANIZER;CN="Kiss My Asada":MAILTO:kissmyasada@gmail.com
END:VEVENT
BEGIN:VEVENT
DTSTART;TZID=America/New_York:20230711T160000
DTEND;TZID=America/New_York:20230711T190000
DTSTAMP:20260425T165925
CREATED:20230710T180227Z
LAST-MODIFIED:20230710T180227Z
UID:20663-1689091200-1689102000@864foodtrucks.com
SUMMARY:Lobster Dogs @ Six Miles Farmers Market
DESCRIPTION:Food truck serving the Best Lobster Rolls & Stuffed Avocados in the Carolinas
URL:https://864foodtrucks.com/event/lobster-dogs-six-miles-farmers-market/
LOCATION:Six Mile Farmer’s Market\, 102 S Main St\, Six Mile\, South Carolina
CATEGORIES:Food Truck Schedules,Six Miles
ATTACH;FMTTYPE=image/jpeg:https://864foodtrucks.com/wp-content/uploads/2021/05/lobster-dogs-Food-Truck.jpg
ORGANIZER;CN="Lobster Dogs":MAILTO:lobsterdogs3@gmail.com
GEO:34.8042106;-82.8190155
X-APPLE-STRUCTURED-LOCATION;VALUE=URI;X-ADDRESS=Six Mile Farmer’s Market 102 S Main St Six Mile South Carolina;X-APPLE-RADIUS=500;X-TITLE=102 S Main St:geo:-82.8190155,34.8042106
END:VEVENT
BEGIN:VEVENT
DTSTART;TZID=America/New_York:20240430T160000
DTEND;TZID=America/New_York:20240430T190000
DTSTAMP:20260425T165925
CREATED:20240430T213927Z
LAST-MODIFIED:20240604T175509Z
UID:28059-1714492800-1714503600@864foodtrucks.com
SUMMARY:Kodesh BBQ Bowls @ Six Mile Farmers Market
DESCRIPTION:Kodesh BBQ Bowls is a mobile food trailer that provides a heap amount of Levitical clean\, flavorful\, pit smoked BBQ. We’ve also come up with a link between enjoying our delicious BBQ and providing healthier options\, our cultural inspired bowls!
URL:https://864foodtrucks.com/event/kodesh-bbq-bowls-six-mile-farmers-market/2024-04-30/
LOCATION:Main Street Six Mile\, North Main Street 116\, Six Mile\, South Carolina\, 29682\, United States
CATEGORIES:Food Truck Schedules,Six Miles
ATTACH;FMTTYPE=image/jpeg:https://864foodtrucks.com/wp-content/uploads/2023/07/Kodesh-BBQ.jpg
ORGANIZER;CN="Kodesh BBQ & Bowls":MAILTO:kodeshbbq@gmail.com
GEO:34.806315;-82.818313
X-APPLE-STRUCTURED-LOCATION;VALUE=URI;X-ADDRESS=Main Street Six Mile North Main Street 116 Six Mile South Carolina 29682 United States;X-APPLE-RADIUS=500;X-TITLE=North Main Street 116:geo:-82.818313,34.806315
END:VEVENT
END:VCALENDAR