BEGIN:VCALENDAR
VERSION:2.0
PRODID:-//864 Food Trucks - ECPv6.15.20//NONSGML v1.0//EN
CALSCALE:GREGORIAN
METHOD:PUBLISH
X-WR-CALNAME:864 Food Trucks
X-ORIGINAL-URL:https://864foodtrucks.com
X-WR-CALDESC:Events for 864 Food Trucks
REFRESH-INTERVAL;VALUE=DURATION:PT1H
X-Robots-Tag:noindex
X-PUBLISHED-TTL:PT1H
BEGIN:VTIMEZONE
TZID:America/New_York
BEGIN:DAYLIGHT
TZOFFSETFROM:-0500
TZOFFSETTO:-0400
TZNAME:EDT
DTSTART:20250309T070000
END:DAYLIGHT
BEGIN:STANDARD
TZOFFSETFROM:-0400
TZOFFSETTO:-0500
TZNAME:EST
DTSTART:20251102T060000
END:STANDARD
BEGIN:DAYLIGHT
TZOFFSETFROM:-0500
TZOFFSETTO:-0400
TZNAME:EDT
DTSTART:20260308T070000
END:DAYLIGHT
BEGIN:STANDARD
TZOFFSETFROM:-0400
TZOFFSETTO:-0500
TZNAME:EST
DTSTART:20261101T060000
END:STANDARD
BEGIN:DAYLIGHT
TZOFFSETFROM:-0500
TZOFFSETTO:-0400
TZNAME:EDT
DTSTART:20270314T070000
END:DAYLIGHT
BEGIN:STANDARD
TZOFFSETFROM:-0400
TZOFFSETTO:-0500
TZNAME:EST
DTSTART:20271107T060000
END:STANDARD
END:VTIMEZONE
BEGIN:VEVENT
DTSTART;TZID=America/New_York:20260401T110000
DTEND;TZID=America/New_York:20260401T153000
DTSTAMP:20260423T185729
CREATED:20260126T190100Z
LAST-MODIFIED:20260420T125133Z
UID:61187-1775041200-1775057400@864foodtrucks.com
SUMMARY:Cinnabon @ Spartanburg Medical Center
DESCRIPTION:Cinnabon Food Truck Greenville
URL:https://864foodtrucks.com/event/cinnabon-spartanburg-medical-center/2026-04-01/
LOCATION:Spartanburg Medical Center\, East Wood Street 101\, Spartanburg\, SC\, 29303\, United States
CATEGORIES:Food Truck Schedules,Spartanburg
ATTACH;FMTTYPE=image/jpeg:https://864foodtrucks.com/wp-content/uploads/2024/12/326870080_1829549937401559_2632445834433428235_n-2.jpg
ORGANIZER;CN="Cinnabon Greenville":MAILTO:info@hotbonssc.com
GEO:34.967042;-81.9385993
X-APPLE-STRUCTURED-LOCATION;VALUE=URI;X-ADDRESS=Spartanburg Medical Center East Wood Street 101 Spartanburg SC 29303 United States;X-APPLE-RADIUS=500;X-TITLE=East Wood Street 101:geo:-81.9385993,34.967042
END:VEVENT
BEGIN:VEVENT
DTSTART;TZID=America/New_York:20260421T080000
DTEND;TZID=America/New_York:20260421T170000
DTSTAMP:20260423T185729
CREATED:20260421T172503Z
LAST-MODIFIED:20260421T172503Z
UID:62141-1776758400-1776790800@864foodtrucks.com
SUMMARY:One Love Fusion Foods @ Outdoor Concert at Hatcher Gardens
DESCRIPTION:Global Flavors. Local Favorites.\nUS Foods’ Silver Spoon Champion 2017 & 2018\n1st Place at Fall for Greenville 2017 & 2018\nVoted Top 5 Best Food Trucks in the Upstate 2018\, 2019\, & 2020\nAvailable in Public & Private events.
URL:https://864foodtrucks.com/event/one-love-fusion-foods-outdoor-concert-at-hatcher-gardens/
LOCATION:Hatcher Gardens\, 832 John B White Sr Blbvd\, Spartanburg\, South Carolina
CATEGORIES:Food Truck Schedules,Spartanburg
ATTACH;FMTTYPE=image/jpeg:https://864foodtrucks.com/wp-content/uploads/2019/10/One-Love-Truck.jpg
ORGANIZER;CN="One Love Fusion Foods":MAILTO:OneLoveFusionFoods@gmail.com
GEO:34.9301457;-81.95834
X-APPLE-STRUCTURED-LOCATION;VALUE=URI;X-ADDRESS=Hatcher Gardens 832 John B White Sr Blbvd Spartanburg South Carolina;X-APPLE-RADIUS=500;X-TITLE=832 John B White Sr Blbvd:geo:-81.95834,34.9301457
END:VEVENT
BEGIN:VEVENT
DTSTART;TZID=America/New_York:20260422T110000
DTEND;TZID=America/New_York:20260422T153000
DTSTAMP:20260423T185729
CREATED:20260126T190100Z
LAST-MODIFIED:20260126T190100Z
UID:62056-1776855600-1776871800@864foodtrucks.com
SUMMARY:Cinnabon @ Spartanburg Medical Center
DESCRIPTION:Cinnabon Food Truck Greenville
URL:https://864foodtrucks.com/event/cinnabon-spartanburg-medical-center/2026-04-22/
LOCATION:Spartanburg Medical Center\, East Wood Street 101\, Spartanburg\, SC\, 29303\, United States
CATEGORIES:Food Truck Schedules,Spartanburg
ATTACH;FMTTYPE=image/jpeg:https://864foodtrucks.com/wp-content/uploads/2024/12/326870080_1829549937401559_2632445834433428235_n-2.jpg
ORGANIZER;CN="Cinnabon Greenville":MAILTO:info@hotbonssc.com
GEO:34.967042;-81.9385993
X-APPLE-STRUCTURED-LOCATION;VALUE=URI;X-ADDRESS=Spartanburg Medical Center East Wood Street 101 Spartanburg SC 29303 United States;X-APPLE-RADIUS=500;X-TITLE=East Wood Street 101:geo:-81.9385993,34.967042
END:VEVENT
BEGIN:VEVENT
DTSTART;TZID=America/New_York:20260423T170000
DTEND;TZID=America/New_York:20260423T200000
DTSTAMP:20260423T185729
CREATED:20240513T162426Z
LAST-MODIFIED:20240513T162426Z
UID:62048-1776963600-1776974400@864foodtrucks.com
SUMMARY:Local Pie Pizza Co @ Wofford College
DESCRIPTION:Artisan Pizza Food Truck
URL:https://864foodtrucks.com/event/local-pie-pizza-co-wofford-college/2026-04-23/
LOCATION:Wofford College\, 429 N Church St\, Spartanburg\, SC\, United States
CATEGORIES:Food Truck Schedules,Spartanburg
ATTACH;FMTTYPE=image/jpeg:https://864foodtrucks.com/wp-content/uploads/2021/12/Local-Pie-Pizza-3.jpg
ORGANIZER;CN="Local Pie Pizza Company":MAILTO:cory@localpiepizzacompany.com
END:VEVENT
END:VCALENDAR