BEGIN:VCALENDAR
VERSION:2.0
PRODID:-//864 Food Trucks - ECPv6.15.20//NONSGML v1.0//EN
CALSCALE:GREGORIAN
METHOD:PUBLISH
X-ORIGINAL-URL:https://864foodtrucks.com
X-WR-CALDESC:Events for 864 Food Trucks
REFRESH-INTERVAL;VALUE=DURATION:PT1H
X-Robots-Tag:noindex
X-PUBLISHED-TTL:PT1H
BEGIN:VTIMEZONE
TZID:America/New_York
BEGIN:DAYLIGHT
TZOFFSETFROM:-0500
TZOFFSETTO:-0400
TZNAME:EDT
DTSTART:20230312T070000
END:DAYLIGHT
BEGIN:STANDARD
TZOFFSETFROM:-0400
TZOFFSETTO:-0500
TZNAME:EST
DTSTART:20231105T060000
END:STANDARD
BEGIN:DAYLIGHT
TZOFFSETFROM:-0500
TZOFFSETTO:-0400
TZNAME:EDT
DTSTART:20240310T070000
END:DAYLIGHT
BEGIN:STANDARD
TZOFFSETFROM:-0400
TZOFFSETTO:-0500
TZNAME:EST
DTSTART:20241103T060000
END:STANDARD
BEGIN:DAYLIGHT
TZOFFSETFROM:-0500
TZOFFSETTO:-0400
TZNAME:EDT
DTSTART:20250309T070000
END:DAYLIGHT
BEGIN:STANDARD
TZOFFSETFROM:-0400
TZOFFSETTO:-0500
TZNAME:EST
DTSTART:20251102T060000
END:STANDARD
BEGIN:DAYLIGHT
TZOFFSETFROM:-0500
TZOFFSETTO:-0400
TZNAME:EDT
DTSTART:20260308T070000
END:DAYLIGHT
BEGIN:STANDARD
TZOFFSETFROM:-0400
TZOFFSETTO:-0500
TZNAME:EST
DTSTART:20261101T060000
END:STANDARD
END:VTIMEZONE
BEGIN:VEVENT
DTSTART;TZID=America/New_York:20251002T090000
DTEND;TZID=America/New_York:20251002T133000
DTSTAMP:20260424T035950
CREATED:20250512T205510Z
LAST-MODIFIED:20251019T193306Z
UID:54599-1759395600-1759411800@864foodtrucks.com
SUMMARY:Cinnabon @ North Grove Medical
DESCRIPTION:Cinnabon Food Truck Greenville
URL:https://864foodtrucks.com/event/cinnabon-north-grove-medical/2025-10-02/
LOCATION:North Grove Medical\, 1330 Boiling Springs Rd\, Spartanburg\, South Carolina
CATEGORIES:Food Truck Schedules,Spartanburg
ATTACH;FMTTYPE=image/jpeg:https://864foodtrucks.com/wp-content/uploads/2024/12/326870080_1829549937401559_2632445834433428235_n-2.jpg
ORGANIZER;CN="Cinnabon Greenville":MAILTO:info@hotbonssc.com
GEO:34.9895441;-81.9444456
X-APPLE-STRUCTURED-LOCATION;VALUE=URI;X-ADDRESS=North Grove Medical 1330 Boiling Springs Rd Spartanburg South Carolina;X-APPLE-RADIUS=500;X-TITLE=1330 Boiling Springs Rd:geo:-81.9444456,34.9895441
END:VEVENT
BEGIN:VEVENT
DTSTART;TZID=America/New_York:20251001T110000
DTEND;TZID=America/New_York:20251001T160000
DTSTAMP:20260424T035951
CREATED:20250331T003544Z
LAST-MODIFIED:20260323T195537Z
UID:54597-1759316400-1759334400@864foodtrucks.com
SUMMARY:Cinnabon @ Spartanburg Reginal Medical Center
DESCRIPTION:Cinnabon Food Truck Greenville
URL:https://864foodtrucks.com/event/cinnabon-spartanburg-reginal-healthcare/2025-10-01/
LOCATION:Spartanburg Regional Healthcare\, 101 E Wood St\, Spartanburg\, South Carolina
CATEGORIES:Food Truck Schedules,Spartanburg
ATTACH;FMTTYPE=image/jpeg:https://864foodtrucks.com/wp-content/uploads/2024/12/326870080_1829549937401559_2632445834433428235_n-2.jpg
ORGANIZER;CN="Cinnabon Greenville":MAILTO:info@hotbonssc.com
GEO:34.966283;-81.9393976
X-APPLE-STRUCTURED-LOCATION;VALUE=URI;X-ADDRESS=Spartanburg Regional Healthcare 101 E Wood St Spartanburg South Carolina;X-APPLE-RADIUS=500;X-TITLE=101 E Wood St:geo:-81.9393976,34.966283
END:VEVENT
BEGIN:VEVENT
DTSTART;TZID=America/New_York:20250925T110000
DTEND;TZID=America/New_York:20250925T150000
DTSTAMP:20260424T035951
CREATED:20250512T205510Z
LAST-MODIFIED:20251019T193306Z
UID:54398-1758798000-1758812400@864foodtrucks.com
SUMMARY:Cinnabon @ North Grove Medical
DESCRIPTION:Cinnabon Food Truck Greenville
URL:https://864foodtrucks.com/event/cinnabon-north-grove-medical/2025-09-25/
LOCATION:North Grove Medical\, 1330 Boiling Springs Rd\, Spartanburg\, South Carolina
CATEGORIES:Food Truck Schedules,Spartanburg
ATTACH;FMTTYPE=image/jpeg:https://864foodtrucks.com/wp-content/uploads/2024/12/326870080_1829549937401559_2632445834433428235_n-2.jpg
ORGANIZER;CN="Cinnabon Greenville":MAILTO:info@hotbonssc.com
GEO:34.9895441;-81.9444456
X-APPLE-STRUCTURED-LOCATION;VALUE=URI;X-ADDRESS=North Grove Medical 1330 Boiling Springs Rd Spartanburg South Carolina;X-APPLE-RADIUS=500;X-TITLE=1330 Boiling Springs Rd:geo:-81.9444456,34.9895441
END:VEVENT
BEGIN:VEVENT
DTSTART;TZID=America/New_York:20250924T110000
DTEND;TZID=America/New_York:20250924T160000
DTSTAMP:20260424T035951
CREATED:20250331T003544Z
LAST-MODIFIED:20260323T195537Z
UID:54400-1758711600-1758729600@864foodtrucks.com
SUMMARY:Cinnabon @ Spartanburg Reginal Medical Center
DESCRIPTION:Cinnabon Food Truck Greenville
URL:https://864foodtrucks.com/event/cinnabon-spartanburg-reginal-healthcare/2025-09-24/
LOCATION:Spartanburg Regional Healthcare\, 101 E Wood St\, Spartanburg\, South Carolina
CATEGORIES:Food Truck Schedules,Spartanburg
ATTACH;FMTTYPE=image/jpeg:https://864foodtrucks.com/wp-content/uploads/2024/12/326870080_1829549937401559_2632445834433428235_n-2.jpg
ORGANIZER;CN="Cinnabon Greenville":MAILTO:info@hotbonssc.com
GEO:34.966283;-81.9393976
X-APPLE-STRUCTURED-LOCATION;VALUE=URI;X-ADDRESS=Spartanburg Regional Healthcare 101 E Wood St Spartanburg South Carolina;X-APPLE-RADIUS=500;X-TITLE=101 E Wood St:geo:-81.9393976,34.966283
END:VEVENT
BEGIN:VEVENT
DTSTART;TZID=America/New_York:20250917T130000
DTEND;TZID=America/New_York:20250917T150000
DTSTAMP:20260424T035951
CREATED:20250915T172454Z
LAST-MODIFIED:20250915T172454Z
UID:53851-1758114000-1758121200@864foodtrucks.com
SUMMARY:Cinnabon @ Wofford College
DESCRIPTION:Cinnabon Food Truck Greenville
URL:https://864foodtrucks.com/event/cinnabon-wofford-college-2/
LOCATION:Wofford College\, 429 N Church St\, Spartanburg\, SC\, United States
CATEGORIES:Food Truck Schedules,Spartanburg
ATTACH;FMTTYPE=image/jpeg:https://864foodtrucks.com/wp-content/uploads/2024/12/326870080_1829549937401559_2632445834433428235_n-2.jpg
ORGANIZER;CN="Cinnabon Greenville":MAILTO:info@hotbonssc.com
END:VEVENT
BEGIN:VEVENT
DTSTART;TZID=America/New_York:20250914T100000
DTEND;TZID=America/New_York:20250914T220000
DTSTAMP:20260424T035951
CREATED:20250908T013244Z
LAST-MODIFIED:20250908T013244Z
UID:53295-1757844000-1757887200@864foodtrucks.com
SUMMARY:Simpell Sammies @ Renaissance Faire
DESCRIPTION:Simpell Sammies is open for business and ready to serve you flavorful and delicious sandwiches and hoagies.
URL:https://864foodtrucks.com/event/simpell-sammies-renaissance-faire/2025-09-14/
LOCATION:Spartanburg Fairgrounds\, 575 Fairgrounds Rd\, Spartanburg\, South Carolina
CATEGORIES:Food Truck Schedules,Spartanburg
ATTACH;FMTTYPE=image/jpeg:https://864foodtrucks.com/wp-content/uploads/2023/06/Simpell-Sammies-Trailer.jpg
ORGANIZER;CN="Simpell Sammies":MAILTO:info@simpelltreats.com
GEO:34.9594849;-81.9526505
X-APPLE-STRUCTURED-LOCATION;VALUE=URI;X-ADDRESS=Spartanburg Fairgrounds 575 Fairgrounds Rd Spartanburg South Carolina;X-APPLE-RADIUS=500;X-TITLE=575 Fairgrounds Rd:geo:-81.9526505,34.9594849
END:VEVENT
BEGIN:VEVENT
DTSTART;TZID=America/New_York:20250913T100000
DTEND;TZID=America/New_York:20250913T220000
DTSTAMP:20260424T035951
CREATED:20250908T013244Z
LAST-MODIFIED:20250908T013244Z
UID:53294-1757757600-1757800800@864foodtrucks.com
SUMMARY:Simpell Sammies @ Renaissance Faire
DESCRIPTION:Simpell Sammies is open for business and ready to serve you flavorful and delicious sandwiches and hoagies.
URL:https://864foodtrucks.com/event/simpell-sammies-renaissance-faire/2025-09-13/
LOCATION:Spartanburg Fairgrounds\, 575 Fairgrounds Rd\, Spartanburg\, South Carolina
CATEGORIES:Food Truck Schedules,Spartanburg
ATTACH;FMTTYPE=image/jpeg:https://864foodtrucks.com/wp-content/uploads/2023/06/Simpell-Sammies-Trailer.jpg
ORGANIZER;CN="Simpell Sammies":MAILTO:info@simpelltreats.com
GEO:34.9594849;-81.9526505
X-APPLE-STRUCTURED-LOCATION;VALUE=URI;X-ADDRESS=Spartanburg Fairgrounds 575 Fairgrounds Rd Spartanburg South Carolina;X-APPLE-RADIUS=500;X-TITLE=575 Fairgrounds Rd:geo:-81.9526505,34.9594849
END:VEVENT
BEGIN:VEVENT
DTSTART;TZID=America/New_York:20250912T100000
DTEND;TZID=America/New_York:20250912T220000
DTSTAMP:20260424T035951
CREATED:20250908T013244Z
LAST-MODIFIED:20250908T013244Z
UID:53292-1757671200-1757714400@864foodtrucks.com
SUMMARY:Simpell Sammies @ Renaissance Faire
DESCRIPTION:Simpell Sammies is open for business and ready to serve you flavorful and delicious sandwiches and hoagies.
URL:https://864foodtrucks.com/event/simpell-sammies-renaissance-faire/2025-09-12/
LOCATION:Spartanburg Fairgrounds\, 575 Fairgrounds Rd\, Spartanburg\, South Carolina
CATEGORIES:Food Truck Schedules,Spartanburg
ATTACH;FMTTYPE=image/jpeg:https://864foodtrucks.com/wp-content/uploads/2023/06/Simpell-Sammies-Trailer.jpg
ORGANIZER;CN="Simpell Sammies":MAILTO:info@simpelltreats.com
GEO:34.9594849;-81.9526505
X-APPLE-STRUCTURED-LOCATION;VALUE=URI;X-ADDRESS=Spartanburg Fairgrounds 575 Fairgrounds Rd Spartanburg South Carolina;X-APPLE-RADIUS=500;X-TITLE=575 Fairgrounds Rd:geo:-81.9526505,34.9594849
END:VEVENT
BEGIN:VEVENT
DTSTART;TZID=America/New_York:20250911T110000
DTEND;TZID=America/New_York:20250911T160000
DTSTAMP:20260424T035951
CREATED:20250331T003544Z
LAST-MODIFIED:20260323T195537Z
UID:53283-1757588400-1757606400@864foodtrucks.com
SUMMARY:Cinnabon @ Spartanburg Reginal Medical Center
DESCRIPTION:Cinnabon Food Truck Greenville
URL:https://864foodtrucks.com/event/cinnabon-spartanburg-reginal-healthcare/2025-09-11/
LOCATION:Spartanburg Regional Healthcare\, 101 E Wood St\, Spartanburg\, South Carolina
CATEGORIES:Food Truck Schedules,Spartanburg
ATTACH;FMTTYPE=image/jpeg:https://864foodtrucks.com/wp-content/uploads/2024/12/326870080_1829549937401559_2632445834433428235_n-2.jpg
ORGANIZER;CN="Cinnabon Greenville":MAILTO:info@hotbonssc.com
GEO:34.966283;-81.9393976
X-APPLE-STRUCTURED-LOCATION;VALUE=URI;X-ADDRESS=Spartanburg Regional Healthcare 101 E Wood St Spartanburg South Carolina;X-APPLE-RADIUS=500;X-TITLE=101 E Wood St:geo:-81.9393976,34.966283
END:VEVENT
BEGIN:VEVENT
DTSTART;TZID=America/New_York:20250911T110000
DTEND;TZID=America/New_York:20250911T150000
DTSTAMP:20260424T035951
CREATED:20250512T205510Z
LAST-MODIFIED:20251019T193306Z
UID:53281-1757588400-1757602800@864foodtrucks.com
SUMMARY:Cinnabon @ North Grove Medical
DESCRIPTION:Cinnabon Food Truck Greenville
URL:https://864foodtrucks.com/event/cinnabon-north-grove-medical/2025-09-11/
LOCATION:North Grove Medical\, 1330 Boiling Springs Rd\, Spartanburg\, South Carolina
CATEGORIES:Food Truck Schedules,Spartanburg
ATTACH;FMTTYPE=image/jpeg:https://864foodtrucks.com/wp-content/uploads/2024/12/326870080_1829549937401559_2632445834433428235_n-2.jpg
ORGANIZER;CN="Cinnabon Greenville":MAILTO:info@hotbonssc.com
GEO:34.9895441;-81.9444456
X-APPLE-STRUCTURED-LOCATION;VALUE=URI;X-ADDRESS=North Grove Medical 1330 Boiling Springs Rd Spartanburg South Carolina;X-APPLE-RADIUS=500;X-TITLE=1330 Boiling Springs Rd:geo:-81.9444456,34.9895441
END:VEVENT
BEGIN:VEVENT
DTSTART;TZID=America/New_York:20250907T123000
DTEND;TZID=America/New_York:20250907T173000
DTSTAMP:20260424T035951
CREATED:20250901T141320Z
LAST-MODIFIED:20250901T141320Z
UID:53010-1757248200-1757266200@864foodtrucks.com
SUMMARY:One Love Fusion Foods @ PorchFest
DESCRIPTION:Global Flavors. Local Favorites.\nAward-winning Food Truck\nEst. 2016
URL:https://864foodtrucks.com/event/one-love-fusion-foods-porchfest/
LOCATION:PorchFest\, 220 W Hampton Ave.\, Spartanburg\, South Carolina
CATEGORIES:Food Truck Schedules,Spartanburg
ATTACH;FMTTYPE=image/jpeg:https://864foodtrucks.com/wp-content/uploads/2019/10/One-Love-Truck.jpg
ORGANIZER;CN="One Love Fusion Foods":MAILTO:OneLoveFusionFoods@gmail.com
GEO:34.9411165;-81.9318489
X-APPLE-STRUCTURED-LOCATION;VALUE=URI;X-ADDRESS=PorchFest 220 W Hampton Ave. Spartanburg South Carolina;X-APPLE-RADIUS=500;X-TITLE=220 W Hampton Ave.:geo:-81.9318489,34.9411165
END:VEVENT
BEGIN:VEVENT
DTSTART;TZID=America/New_York:20250903T110000
DTEND;TZID=America/New_York:20250903T160000
DTSTAMP:20260424T035951
CREATED:20250331T003544Z
LAST-MODIFIED:20260323T195537Z
UID:53053-1756897200-1756915200@864foodtrucks.com
SUMMARY:Cinnabon @ Spartanburg Reginal Medical Center
DESCRIPTION:Cinnabon Food Truck Greenville
URL:https://864foodtrucks.com/event/cinnabon-spartanburg-reginal-healthcare/2025-09-03/
LOCATION:Spartanburg Regional Healthcare\, 101 E Wood St\, Spartanburg\, South Carolina
CATEGORIES:Food Truck Schedules,Spartanburg
ATTACH;FMTTYPE=image/jpeg:https://864foodtrucks.com/wp-content/uploads/2024/12/326870080_1829549937401559_2632445834433428235_n-2.jpg
ORGANIZER;CN="Cinnabon Greenville":MAILTO:info@hotbonssc.com
GEO:34.966283;-81.9393976
X-APPLE-STRUCTURED-LOCATION;VALUE=URI;X-ADDRESS=Spartanburg Regional Healthcare 101 E Wood St Spartanburg South Carolina;X-APPLE-RADIUS=500;X-TITLE=101 E Wood St:geo:-81.9393976,34.966283
END:VEVENT
BEGIN:VEVENT
DTSTART;TZID=America/New_York:20250802T110000
DTEND;TZID=America/New_York:20250802T140000
DTSTAMP:20260424T035951
CREATED:20250731T132122Z
LAST-MODIFIED:20250731T132122Z
UID:51501-1754132400-1754143200@864foodtrucks.com
SUMMARY:Yum Bai @ Project Horsepower
DESCRIPTION:Asian fusion street food
URL:https://864foodtrucks.com/event/yum-bai-project-horsepower/
LOCATION:Spartanburg Community College\, 107 Community College Drive\, Spartanburg\, SC\, United States
CATEGORIES:Food Truck Schedules,Spartanburg
ATTACH;FMTTYPE=image/jpeg:https://864foodtrucks.com/wp-content/uploads/2021/05/Yum-Bai.jpg
ORGANIZER;CN="Yum Bai":MAILTO:yumbaisc@gmail.com
GEO:34.9752715;-81.9885063
X-APPLE-STRUCTURED-LOCATION;VALUE=URI;X-ADDRESS=Spartanburg Community College 107 Community College Drive Spartanburg SC United States;X-APPLE-RADIUS=500;X-TITLE=107 Community College Drive:geo:-81.9885063,34.9752715
END:VEVENT
BEGIN:VEVENT
DTSTART;TZID=America/New_York:20250731T113000
DTEND;TZID=America/New_York:20250731T143000
DTSTAMP:20260424T035951
CREATED:20250731T131936Z
LAST-MODIFIED:20250731T131936Z
UID:51498-1753961400-1753972200@864foodtrucks.com
SUMMARY:Yum Bai @ Spartanburg City Hall
DESCRIPTION:Asian fusion street food
URL:https://864foodtrucks.com/event/yum-bai-spartanburg-city-hall/
LOCATION:Spartanburg City Hall\, 295 E Main St\, Spartanburg\, South Carolina
CATEGORIES:Food Truck Schedules,Spartanburg
ATTACH;FMTTYPE=image/jpeg:https://864foodtrucks.com/wp-content/uploads/2021/05/Yum-Bai.jpg
ORGANIZER;CN="Yum Bai":MAILTO:yumbaisc@gmail.com
GEO:34.9507158;-81.9252691
X-APPLE-STRUCTURED-LOCATION;VALUE=URI;X-ADDRESS=Spartanburg City Hall 295 E Main St Spartanburg South Carolina;X-APPLE-RADIUS=500;X-TITLE=295 E Main St:geo:-81.9252691,34.9507158
END:VEVENT
BEGIN:VEVENT
DTSTART;TZID=America/New_York:20250709T110000
DTEND;TZID=America/New_York:20250709T160000
DTSTAMP:20260424T035951
CREATED:20250707T155911Z
LAST-MODIFIED:20251124T193809Z
UID:49829-1752058800-1752076800@864foodtrucks.com
SUMMARY:Cinnabon @ Mary Black Memorial
DESCRIPTION:Cinnabon Food Truck Greenville
URL:https://864foodtrucks.com/event/cinnabon-mary-black-memorial/2025-07-09/
LOCATION:Mary Black Memorial\, 1700 Skylyn Drive\, Spartanburg\, South Carolina
CATEGORIES:Food Truck Schedules,Spartanburg
ATTACH;FMTTYPE=image/jpeg:https://864foodtrucks.com/wp-content/uploads/2024/12/326870080_1829549937401559_2632445834433428235_n-2.jpg
ORGANIZER;CN="Cinnabon Greenville":MAILTO:info@hotbonssc.com
GEO:34.9782882;-81.8952514
X-APPLE-STRUCTURED-LOCATION;VALUE=URI;X-ADDRESS=Mary Black Memorial 1700 Skylyn Drive Spartanburg South Carolina;X-APPLE-RADIUS=500;X-TITLE=1700 Skylyn Drive:geo:-81.8952514,34.9782882
END:VEVENT
BEGIN:VEVENT
DTSTART;TZID=America/New_York:20250702T110000
DTEND;TZID=America/New_York:20250702T160000
DTSTAMP:20260424T035951
CREATED:20250629T194737Z
LAST-MODIFIED:20250629T194737Z
UID:49495-1751454000-1751472000@864foodtrucks.com
SUMMARY:Cinnabon @ RNR Tire
DESCRIPTION:Cinnabon Food Truck Greenville
URL:https://864foodtrucks.com/event/cinnabon-rnr-tire/
LOCATION:RNR Tire Express\, 3150 N Main St\, Anderson\, SC\, United States
CATEGORIES:Food Truck Schedules,Spartanburg
ATTACH;FMTTYPE=image/jpeg:https://864foodtrucks.com/wp-content/uploads/2024/12/326870080_1829549937401559_2632445834433428235_n-2.jpg
ORGANIZER;CN="Cinnabon Greenville":MAILTO:info@hotbonssc.com
END:VEVENT
BEGIN:VEVENT
DTSTART;TZID=America/New_York:20250628T073000
DTEND;TZID=America/New_York:20250628T103000
DTSTAMP:20260424T035951
CREATED:20250623T161433Z
LAST-MODIFIED:20250623T161433Z
UID:48920-1751095800-1751106600@864foodtrucks.com
SUMMARY:Cinnabon @ Holly Tree Country Club
DESCRIPTION:Cinnabon Food Truck Greenville
URL:https://864foodtrucks.com/event/cinnabon-holly-tree-country-club/
LOCATION:Holly Tree Country Club\, 500 Golf Club Rd\, Simpsonville\, SC\, 29681\, United States
CATEGORIES:Food Truck Schedules,Spartanburg
ATTACH;FMTTYPE=image/jpeg:https://864foodtrucks.com/wp-content/uploads/2024/12/326870080_1829549937401559_2632445834433428235_n-2.jpg
ORGANIZER;CN="Cinnabon Greenville":MAILTO:info@hotbonssc.com
GEO:34.7937918;-82.2612709
X-APPLE-STRUCTURED-LOCATION;VALUE=URI;X-ADDRESS=Holly Tree Country Club 500 Golf Club Rd Simpsonville SC 29681 United States;X-APPLE-RADIUS=500;X-TITLE=500 Golf Club Rd:geo:-82.2612709,34.7937918
END:VEVENT
BEGIN:VEVENT
DTSTART;TZID=America/New_York:20250516T160000
DTEND;TZID=America/New_York:20250516T210000
DTSTAMP:20260424T035951
CREATED:20250512T162002Z
LAST-MODIFIED:20250512T162002Z
UID:45057-1747411200-1747429200@864foodtrucks.com
SUMMARY:Local Pie Pizza Co @ Wofford University
DESCRIPTION:
URL:https://864foodtrucks.com/event/local-pie-pizza-co-wofford-university/
LOCATION:Wofford College\, 429 N Church St\, Spartanburg\, SC\, United States
CATEGORIES:Food Truck Schedules,Spartanburg
ATTACH;FMTTYPE=image/jpeg:https://864foodtrucks.com/wp-content/uploads/2021/12/Local-Pie-Pizza-3.jpg
ORGANIZER;CN="Local Pie Pizza Company":MAILTO:cory@localpiepizzacompany.com
END:VEVENT
BEGIN:VEVENT
DTSTART;TZID=America/New_York:20250514T110000
DTEND;TZID=America/New_York:20250514T150000
DTSTAMP:20260424T035951
CREATED:20250512T205510Z
LAST-MODIFIED:20251019T193305Z
UID:45116-1747220400-1747234800@864foodtrucks.com
SUMMARY:Cinnabon @ North Grove Medical
DESCRIPTION:Cinnabon Food Truck Greenville
URL:https://864foodtrucks.com/event/cinnabon-north-grove-medical/2025-05-14/
LOCATION:North Grove Medical\, 1330 Boiling Springs Rd\, Spartanburg\, South Carolina
CATEGORIES:Food Truck Schedules,Spartanburg
ATTACH;FMTTYPE=image/jpeg:https://864foodtrucks.com/wp-content/uploads/2024/12/326870080_1829549937401559_2632445834433428235_n-2.jpg
ORGANIZER;CN="Cinnabon Greenville":MAILTO:info@hotbonssc.com
GEO:34.9895441;-81.9444456
X-APPLE-STRUCTURED-LOCATION;VALUE=URI;X-ADDRESS=North Grove Medical 1330 Boiling Springs Rd Spartanburg South Carolina;X-APPLE-RADIUS=500;X-TITLE=1330 Boiling Springs Rd:geo:-81.9444456,34.9895441
END:VEVENT
BEGIN:VEVENT
DTSTART;TZID=America/New_York:20250513T100000
DTEND;TZID=America/New_York:20250513T120000
DTSTAMP:20260424T035951
CREATED:20250512T204910Z
LAST-MODIFIED:20250512T204910Z
UID:45111-1747130400-1747137600@864foodtrucks.com
SUMMARY:Cinnabon @ Wofford College
DESCRIPTION:Cinnabon Food Truck Greenville
URL:https://864foodtrucks.com/event/cinnabon-wofford-college/
LOCATION:Wofford College\, 429 N Church St\, Spartanburg\, SC\, United States
CATEGORIES:Food Truck Schedules,Spartanburg
ATTACH;FMTTYPE=image/jpeg:https://864foodtrucks.com/wp-content/uploads/2024/12/326870080_1829549937401559_2632445834433428235_n-2.jpg
ORGANIZER;CN="Cinnabon Greenville":MAILTO:info@hotbonssc.com
END:VEVENT
BEGIN:VEVENT
DTSTART;TZID=America/New_York:20250501T120000
DTEND;TZID=America/New_York:20250501T140000
DTSTAMP:20260424T035951
CREATED:20250430T163359Z
LAST-MODIFIED:20250430T163359Z
UID:44212-1746100800-1746108000@864foodtrucks.com
SUMMARY:Havana Taste @ Lyceum 2025
DESCRIPTION:Authentic Cuban Savor
URL:https://864foodtrucks.com/event/havana-taste-lyceum-2025/2025-05-01/
LOCATION:Sherman College of Chiropratic\, 2020 Spingfield Rd\, Spartanburg\, South Carolina
CATEGORIES:Food Truck Schedules,Spartanburg
ATTACH;FMTTYPE=image/jpeg:https://864foodtrucks.com/wp-content/uploads/2024/11/Havana-taste.jpg
ORGANIZER;CN="Havana Taste":MAILTO:havanatasteinc@gmail.com
GEO:35.0139919;-81.9864707
X-APPLE-STRUCTURED-LOCATION;VALUE=URI;X-ADDRESS=Sherman College of Chiropratic 2020 Spingfield Rd Spartanburg South Carolina;X-APPLE-RADIUS=500;X-TITLE=2020 Spingfield Rd:geo:-81.9864707,35.0139919
END:VEVENT
BEGIN:VEVENT
DTSTART;TZID=America/New_York:20250412T110000
DTEND;TZID=America/New_York:20250412T160000
DTSTAMP:20260424T035951
CREATED:20250406T203955Z
LAST-MODIFIED:20250406T203955Z
UID:43552-1744455600-1744473600@864foodtrucks.com
SUMMARY:Cinnabon Food Truck @ The Purpose Place Church
DESCRIPTION:Cinnabon Food Truck Greenville
URL:https://864foodtrucks.com/event/cinnabon-food-truck-the-purpose-place-church/
LOCATION:The Purpose Place Church\, 105 Southport Road\, Spartanburg\, South Carolina
CATEGORIES:Food Truck Schedules,Spartanburg
ATTACH;FMTTYPE=image/jpeg:https://864foodtrucks.com/wp-content/uploads/2024/12/326870080_1829549937401559_2632445834433428235_n-2.jpg
ORGANIZER;CN="Cinnabon Greenville":MAILTO:info@hotbonssc.com
GEO:34.9224453;-81.970016
X-APPLE-STRUCTURED-LOCATION;VALUE=URI;X-ADDRESS=The Purpose Place Church 105 Southport Road Spartanburg South Carolina;X-APPLE-RADIUS=500;X-TITLE=105 Southport Road:geo:-81.970016,34.9224453
END:VEVENT
BEGIN:VEVENT
DTSTART;TZID=America/New_York:20250410T170000
DTEND;TZID=America/New_York:20250410T210000
DTSTAMP:20260424T035951
CREATED:20250406T205119Z
LAST-MODIFIED:20250406T205119Z
UID:43557-1744304400-1744318800@864foodtrucks.com
SUMMARY:Cinnabon @ Spartanburg Music on the Main
DESCRIPTION:Cinnabon Food Truck Greenville
URL:https://864foodtrucks.com/event/cinnabon-spartanburg-music-on-the-main/
LOCATION:Spartanburg Music on Main\, E Dunbar St\, Spartanburg\, South Carolina
CATEGORIES:Food Truck Schedules,Spartanburg
ATTACH;FMTTYPE=image/jpeg:https://864foodtrucks.com/wp-content/uploads/2024/12/326870080_1829549937401559_2632445834433428235_n-2.jpg
ORGANIZER;CN="Cinnabon Greenville":MAILTO:info@hotbonssc.com
GEO:34.9504301;-81.9306196
X-APPLE-STRUCTURED-LOCATION;VALUE=URI;X-ADDRESS=Spartanburg Music on Main E Dunbar St Spartanburg South Carolina;X-APPLE-RADIUS=500;X-TITLE=E Dunbar St:geo:-81.9306196,34.9504301
END:VEVENT
BEGIN:VEVENT
DTSTART;TZID=America/New_York:20250402T110000
DTEND;TZID=America/New_York:20250402T160000
DTSTAMP:20260424T035951
CREATED:20250331T003544Z
LAST-MODIFIED:20260323T195536Z
UID:43378-1743591600-1743609600@864foodtrucks.com
SUMMARY:Cinnabon @ Spartanburg Reginal Medical Center
DESCRIPTION:Cinnabon Food Truck Greenville
URL:https://864foodtrucks.com/event/cinnabon-spartanburg-reginal-healthcare/2025-04-02/
LOCATION:Spartanburg Regional Healthcare\, 101 E Wood St\, Spartanburg\, South Carolina
CATEGORIES:Food Truck Schedules,Spartanburg
ATTACH;FMTTYPE=image/jpeg:https://864foodtrucks.com/wp-content/uploads/2024/12/326870080_1829549937401559_2632445834433428235_n-2.jpg
ORGANIZER;CN="Cinnabon Greenville":MAILTO:info@hotbonssc.com
GEO:34.966283;-81.9393976
X-APPLE-STRUCTURED-LOCATION;VALUE=URI;X-ADDRESS=Spartanburg Regional Healthcare 101 E Wood St Spartanburg South Carolina;X-APPLE-RADIUS=500;X-TITLE=101 E Wood St:geo:-81.9393976,34.966283
END:VEVENT
BEGIN:VEVENT
DTSTART;TZID=America/New_York:20250220T173000
DTEND;TZID=America/New_York:20250220T193000
DTSTAMP:20260424T035951
CREATED:20250217T003437Z
LAST-MODIFIED:20250217T003437Z
UID:42443-1740072600-1740079800@864foodtrucks.com
SUMMARY:The Noodle Lady @ Bon Haven Apartments
DESCRIPTION:Authentic Chinese dishes for catering and events. Artisan Noodles and 100% Natural. Check out here our events calendar in Greenville\, South Carolina. #TheNoodleLady
URL:https://864foodtrucks.com/event/the-noodle-lady-bon-haven-apartments/
LOCATION:Bon Haven Apartments\, North Church Street 728\, Spartanburg\, SC\, 29303\, United States
CATEGORIES:Food Truck Schedules,Spartanburg
ATTACH;FMTTYPE=image/jpeg:https://864foodtrucks.com/wp-content/uploads/2023/07/Noodle-lady.jpg
ORGANIZER;CN="The Noodle Lady":MAILTO:thenoodlelady@yahoo.com
GEO:34.9635209;-81.9435359
X-APPLE-STRUCTURED-LOCATION;VALUE=URI;X-ADDRESS=Bon Haven Apartments North Church Street 728 Spartanburg SC 29303 United States;X-APPLE-RADIUS=500;X-TITLE=North Church Street 728:geo:-81.9435359,34.9635209
END:VEVENT
BEGIN:VEVENT
DTSTART;TZID=America/New_York:20250212T160000
DTEND;TZID=America/New_York:20250212T190000
DTSTAMP:20260424T035951
CREATED:20250209T201232Z
LAST-MODIFIED:20250209T201232Z
UID:42288-1739376000-1739386800@864foodtrucks.com
SUMMARY:Cinnabon @ Grande Oaks of Spartanburg
DESCRIPTION:Cinnabon Food Truck Greenville
URL:https://864foodtrucks.com/event/cinnabon-grande-oaks-of-spartanburg/
LOCATION:Grand Oaks of Spartanburg\, 7 Thomas Oak Dr\, Spartanburg\, South Carolina
CATEGORIES:Food Truck Schedules,Spartanburg
ATTACH;FMTTYPE=image/jpeg:https://864foodtrucks.com/wp-content/uploads/2024/12/326870080_1829549937401559_2632445834433428235_n-2.jpg
ORGANIZER;CN="Cinnabon Greenville":MAILTO:info@hotbonssc.com
GEO:34.9377564;-82.0572467
X-APPLE-STRUCTURED-LOCATION;VALUE=URI;X-ADDRESS=Grand Oaks of Spartanburg 7 Thomas Oak Dr Spartanburg South Carolina;X-APPLE-RADIUS=500;X-TITLE=7 Thomas Oak Dr:geo:-82.0572467,34.9377564
END:VEVENT
BEGIN:VEVENT
DTSTART;TZID=America/New_York:20250211T110000
DTEND;TZID=America/New_York:20250211T130000
DTSTAMP:20260424T035951
CREATED:20250209T201004Z
LAST-MODIFIED:20250209T201004Z
UID:42286-1739271600-1739278800@864foodtrucks.com
SUMMARY:Cinnabon Food Truck Greenville @ Wofford College
DESCRIPTION:Cinnabon Food Truck Greenville
URL:https://864foodtrucks.com/event/cinnabon-food-truck-greenville-wofford-college/
LOCATION:Wofford College\, 429 N Church St\, Spartanburg\, SC\, United States
CATEGORIES:Food Truck Schedules,Spartanburg
ATTACH;FMTTYPE=image/jpeg:https://864foodtrucks.com/wp-content/uploads/2024/12/326870080_1829549937401559_2632445834433428235_n-2.jpg
ORGANIZER;CN="Cinnabon Greenville":MAILTO:info@hotbonssc.com
END:VEVENT
BEGIN:VEVENT
DTSTART;TZID=America/New_York:20250124T010000
DTEND;TZID=America/New_York:20250124T130000
DTSTAMP:20260424T035951
CREATED:20250122T192049Z
LAST-MODIFIED:20250322T235855Z
UID:41911-1737680400-1737723600@864foodtrucks.com
SUMMARY:Fifis Hibachi @ Restorative Care Spartanburg Regional
DESCRIPTION:
URL:https://864foodtrucks.com/event/fifis-hibachi-restorative-care-spartanburg-regional/2025-01-24/
LOCATION:Restorative Care\, 389 Serpentine Dr\, Spartanburg\, South Carolina
CATEGORIES:Food Truck Schedules,Spartanburg
ATTACH;FMTTYPE=image/jpeg:https://864foodtrucks.com/wp-content/uploads/2023/11/Fifis-Hibachi.jpg
GEO:34.9662164;-81.9362444
X-APPLE-STRUCTURED-LOCATION;VALUE=URI;X-ADDRESS=Restorative Care 389 Serpentine Dr Spartanburg South Carolina;X-APPLE-RADIUS=500;X-TITLE=389 Serpentine Dr:geo:-81.9362444,34.9662164
END:VEVENT
BEGIN:VEVENT
DTSTART;TZID=America/New_York:20241127T160000
DTEND;TZID=America/New_York:20241127T190000
DTSTAMP:20260424T035951
CREATED:20241125T193958Z
LAST-MODIFIED:20241216T011317Z
UID:40048-1732723200-1732734000@864foodtrucks.com
SUMMARY:Lobster Dogs @ Peach Cobbler Factory
DESCRIPTION:Food truck serving the Best Lobster Rolls & Stuffed Avocados in the Carolinas
URL:https://864foodtrucks.com/event/lobster-dogs-peach-cobbler-factory-2/2024-11-27/
LOCATION:Peach Cobbler Factory\, Southport Road 98\, Spartanburg\, South Carolina\, 29306\, United States
CATEGORIES:Food Truck Schedules,Spartanburg
ATTACH;FMTTYPE=image/jpeg:https://864foodtrucks.com/wp-content/uploads/2021/05/lobster-dogs-Food-Truck.jpg
ORGANIZER;CN="Lobster Dogs":MAILTO:lobsterdogs3@gmail.com
GEO:34.922613;-81.9715347
X-APPLE-STRUCTURED-LOCATION;VALUE=URI;X-ADDRESS=Peach Cobbler Factory Southport Road 98 Spartanburg South Carolina 29306 United States;X-APPLE-RADIUS=500;X-TITLE=Southport Road 98:geo:-81.9715347,34.922613
END:VEVENT
BEGIN:VEVENT
DTSTART;TZID=America/New_York:20241029T180000
DTEND;TZID=America/New_York:20241029T200000
DTSTAMP:20260424T035951
CREATED:20241028T190041Z
LAST-MODIFIED:20241028T190041Z
UID:39452-1730224800-1730232000@864foodtrucks.com
SUMMARY:Yum Bai @ YMCA Spartanburg Trunk or Treat
DESCRIPTION:Asian fusion street food
URL:https://864foodtrucks.com/event/yum-bai-ymca-spartanburg-trunk-or-treat/
LOCATION:YMCA Spartanburg\, Spartanburg\, South Carolina\, United States
CATEGORIES:Food Truck Schedules,Spartanburg
ATTACH;FMTTYPE=image/jpeg:https://864foodtrucks.com/wp-content/uploads/2021/05/Yum-Bai.jpg
ORGANIZER;CN="Yum Bai":MAILTO:yumbaisc@gmail.com
GEO:34.9515959;-81.9327167
END:VEVENT
END:VCALENDAR