BEGIN:VCALENDAR
VERSION:2.0
PRODID:-//864 Food Trucks - ECPv6.15.20//NONSGML v1.0//EN
CALSCALE:GREGORIAN
METHOD:PUBLISH
X-WR-CALNAME:864 Food Trucks
X-ORIGINAL-URL:https://864foodtrucks.com
X-WR-CALDESC:Events for 864 Food Trucks
REFRESH-INTERVAL;VALUE=DURATION:PT1H
X-Robots-Tag:noindex
X-PUBLISHED-TTL:PT1H
BEGIN:VTIMEZONE
TZID:America/New_York
BEGIN:DAYLIGHT
TZOFFSETFROM:-0500
TZOFFSETTO:-0400
TZNAME:EDT
DTSTART:20220313T070000
END:DAYLIGHT
BEGIN:STANDARD
TZOFFSETFROM:-0400
TZOFFSETTO:-0500
TZNAME:EST
DTSTART:20221106T060000
END:STANDARD
BEGIN:DAYLIGHT
TZOFFSETFROM:-0500
TZOFFSETTO:-0400
TZNAME:EDT
DTSTART:20230312T070000
END:DAYLIGHT
BEGIN:STANDARD
TZOFFSETFROM:-0400
TZOFFSETTO:-0500
TZNAME:EST
DTSTART:20231105T060000
END:STANDARD
BEGIN:DAYLIGHT
TZOFFSETFROM:-0500
TZOFFSETTO:-0400
TZNAME:EDT
DTSTART:20240310T070000
END:DAYLIGHT
BEGIN:STANDARD
TZOFFSETFROM:-0400
TZOFFSETTO:-0500
TZNAME:EST
DTSTART:20241103T060000
END:STANDARD
BEGIN:DAYLIGHT
TZOFFSETFROM:-0500
TZOFFSETTO:-0400
TZNAME:EDT
DTSTART:20250309T070000
END:DAYLIGHT
BEGIN:STANDARD
TZOFFSETFROM:-0400
TZOFFSETTO:-0500
TZNAME:EST
DTSTART:20251102T060000
END:STANDARD
BEGIN:DAYLIGHT
TZOFFSETFROM:-0500
TZOFFSETTO:-0400
TZNAME:EDT
DTSTART:20260308T070000
END:DAYLIGHT
BEGIN:STANDARD
TZOFFSETFROM:-0400
TZOFFSETTO:-0500
TZNAME:EST
DTSTART:20261101T060000
END:STANDARD
END:VTIMEZONE
BEGIN:VEVENT
DTSTART;TZID=America/New_York:20250220T173000
DTEND;TZID=America/New_York:20250220T193000
DTSTAMP:20260424T190450
CREATED:20250217T003437Z
LAST-MODIFIED:20250217T003437Z
UID:42443-1740072600-1740079800@864foodtrucks.com
SUMMARY:The Noodle Lady @ Bon Haven Apartments
DESCRIPTION:Authentic Chinese dishes for catering and events. Artisan Noodles and 100% Natural. Check out here our events calendar in Greenville\, South Carolina. #TheNoodleLady
URL:https://864foodtrucks.com/event/the-noodle-lady-bon-haven-apartments/
LOCATION:Bon Haven Apartments\, North Church Street 728\, Spartanburg\, SC\, 29303\, United States
CATEGORIES:Food Truck Schedules,Spartanburg
ATTACH;FMTTYPE=image/jpeg:https://864foodtrucks.com/wp-content/uploads/2023/07/Noodle-lady.jpg
ORGANIZER;CN="The Noodle Lady":MAILTO:thenoodlelady@yahoo.com
GEO:34.9635209;-81.9435359
X-APPLE-STRUCTURED-LOCATION;VALUE=URI;X-ADDRESS=Bon Haven Apartments North Church Street 728 Spartanburg SC 29303 United States;X-APPLE-RADIUS=500;X-TITLE=North Church Street 728:geo:-81.9435359,34.9635209
END:VEVENT
BEGIN:VEVENT
DTSTART;TZID=America/New_York:20250212T160000
DTEND;TZID=America/New_York:20250212T190000
DTSTAMP:20260424T190450
CREATED:20250209T201232Z
LAST-MODIFIED:20250209T201232Z
UID:42288-1739376000-1739386800@864foodtrucks.com
SUMMARY:Cinnabon @ Grande Oaks of Spartanburg
DESCRIPTION:Cinnabon Food Truck Greenville
URL:https://864foodtrucks.com/event/cinnabon-grande-oaks-of-spartanburg/
LOCATION:Grand Oaks of Spartanburg\, 7 Thomas Oak Dr\, Spartanburg\, South Carolina
CATEGORIES:Food Truck Schedules,Spartanburg
ATTACH;FMTTYPE=image/jpeg:https://864foodtrucks.com/wp-content/uploads/2024/12/326870080_1829549937401559_2632445834433428235_n-2.jpg
ORGANIZER;CN="Cinnabon Greenville":MAILTO:info@hotbonssc.com
GEO:34.9377564;-82.0572467
X-APPLE-STRUCTURED-LOCATION;VALUE=URI;X-ADDRESS=Grand Oaks of Spartanburg 7 Thomas Oak Dr Spartanburg South Carolina;X-APPLE-RADIUS=500;X-TITLE=7 Thomas Oak Dr:geo:-82.0572467,34.9377564
END:VEVENT
BEGIN:VEVENT
DTSTART;TZID=America/New_York:20250211T110000
DTEND;TZID=America/New_York:20250211T130000
DTSTAMP:20260424T190450
CREATED:20250209T201004Z
LAST-MODIFIED:20250209T201004Z
UID:42286-1739271600-1739278800@864foodtrucks.com
SUMMARY:Cinnabon Food Truck Greenville @ Wofford College
DESCRIPTION:Cinnabon Food Truck Greenville
URL:https://864foodtrucks.com/event/cinnabon-food-truck-greenville-wofford-college/
LOCATION:Wofford College\, 429 N Church St\, Spartanburg\, SC\, United States
CATEGORIES:Food Truck Schedules,Spartanburg
ATTACH;FMTTYPE=image/jpeg:https://864foodtrucks.com/wp-content/uploads/2024/12/326870080_1829549937401559_2632445834433428235_n-2.jpg
ORGANIZER;CN="Cinnabon Greenville":MAILTO:info@hotbonssc.com
END:VEVENT
BEGIN:VEVENT
DTSTART;TZID=America/New_York:20250124T010000
DTEND;TZID=America/New_York:20250124T130000
DTSTAMP:20260424T190450
CREATED:20250122T192049Z
LAST-MODIFIED:20250322T235855Z
UID:41911-1737680400-1737723600@864foodtrucks.com
SUMMARY:Fifis Hibachi @ Restorative Care Spartanburg Regional
DESCRIPTION:
URL:https://864foodtrucks.com/event/fifis-hibachi-restorative-care-spartanburg-regional/2025-01-24/
LOCATION:Restorative Care\, 389 Serpentine Dr\, Spartanburg\, South Carolina
CATEGORIES:Food Truck Schedules,Spartanburg
ATTACH;FMTTYPE=image/jpeg:https://864foodtrucks.com/wp-content/uploads/2023/11/Fifis-Hibachi.jpg
GEO:34.9662164;-81.9362444
X-APPLE-STRUCTURED-LOCATION;VALUE=URI;X-ADDRESS=Restorative Care 389 Serpentine Dr Spartanburg South Carolina;X-APPLE-RADIUS=500;X-TITLE=389 Serpentine Dr:geo:-81.9362444,34.9662164
END:VEVENT
BEGIN:VEVENT
DTSTART;TZID=America/New_York:20241127T160000
DTEND;TZID=America/New_York:20241127T190000
DTSTAMP:20260424T190450
CREATED:20241125T193958Z
LAST-MODIFIED:20241216T011317Z
UID:40048-1732723200-1732734000@864foodtrucks.com
SUMMARY:Lobster Dogs @ Peach Cobbler Factory
DESCRIPTION:Food truck serving the Best Lobster Rolls & Stuffed Avocados in the Carolinas
URL:https://864foodtrucks.com/event/lobster-dogs-peach-cobbler-factory-2/2024-11-27/
LOCATION:Peach Cobbler Factory\, Southport Road 98\, Spartanburg\, South Carolina\, 29306\, United States
CATEGORIES:Food Truck Schedules,Spartanburg
ATTACH;FMTTYPE=image/jpeg:https://864foodtrucks.com/wp-content/uploads/2021/05/lobster-dogs-Food-Truck.jpg
ORGANIZER;CN="Lobster Dogs":MAILTO:lobsterdogs3@gmail.com
GEO:34.922613;-81.9715347
X-APPLE-STRUCTURED-LOCATION;VALUE=URI;X-ADDRESS=Peach Cobbler Factory Southport Road 98 Spartanburg South Carolina 29306 United States;X-APPLE-RADIUS=500;X-TITLE=Southport Road 98:geo:-81.9715347,34.922613
END:VEVENT
BEGIN:VEVENT
DTSTART;TZID=America/New_York:20241029T180000
DTEND;TZID=America/New_York:20241029T200000
DTSTAMP:20260424T190450
CREATED:20241028T190041Z
LAST-MODIFIED:20241028T190041Z
UID:39452-1730224800-1730232000@864foodtrucks.com
SUMMARY:Yum Bai @ YMCA Spartanburg Trunk or Treat
DESCRIPTION:Asian fusion street food
URL:https://864foodtrucks.com/event/yum-bai-ymca-spartanburg-trunk-or-treat/
LOCATION:YMCA Spartanburg\, Spartanburg\, South Carolina\, United States
CATEGORIES:Food Truck Schedules,Spartanburg
ATTACH;FMTTYPE=image/jpeg:https://864foodtrucks.com/wp-content/uploads/2021/05/Yum-Bai.jpg
ORGANIZER;CN="Yum Bai":MAILTO:yumbaisc@gmail.com
GEO:34.9515959;-81.9327167
END:VEVENT
BEGIN:VEVENT
DTSTART;TZID=America/New_York:20241029T180000
DTEND;TZID=America/New_York:20241029T180000
DTSTAMP:20260424T190450
CREATED:20241029T131238Z
LAST-MODIFIED:20241029T131238Z
UID:39482-1730224800-1730224800@864foodtrucks.com
SUMMARY:Manda's Kitchen on Wheels @ Halloween Trunk or Treat
DESCRIPTION:
URL:https://864foodtrucks.com/event/mandas-kitchen-on-wheels-halloween-trunk-or-treat/
LOCATION:Mountain View Prep\, Springfield Road 895\, Spartanburg\, South Carolina\, 29303\, United States
CATEGORIES:Food Truck Schedules,Spartanburg
ATTACH;FMTTYPE=image/jpeg:https://864foodtrucks.com/wp-content/uploads/2023/01/Mandas-Kitchen-on-Wheels.jpg
ORGANIZER;CN="Manda's Kitchen on Wheels":MAILTO:mandaskitchenonwheels@yahoo.com
GEO:35.0006092;-82.0079745
X-APPLE-STRUCTURED-LOCATION;VALUE=URI;X-ADDRESS=Mountain View Prep Springfield Road 895 Spartanburg South Carolina 29303 United States;X-APPLE-RADIUS=500;X-TITLE=Springfield Road 895:geo:-82.0079745,35.0006092
END:VEVENT
BEGIN:VEVENT
DTSTART;TZID=America/New_York:20240718T170000
DTEND;TZID=America/New_York:20240718T193000
DTSTAMP:20260424T190450
CREATED:20240716T135707Z
LAST-MODIFIED:20240724T142244Z
UID:32317-1721322000-1721331000@864foodtrucks.com
SUMMARY:Yum Bai @ Arbor Glen
DESCRIPTION:Asian fusion street food
URL:https://864foodtrucks.com/event/yum-bai-arbor-glen/2024-07-18/
LOCATION:Arbor Glen\, Spartanburg\, South Carolina\, United States
CATEGORIES:Food Truck Schedules,Spartanburg
ATTACH;FMTTYPE=image/jpeg:https://864foodtrucks.com/wp-content/uploads/2021/05/Yum-Bai.jpg
ORGANIZER;CN="Yum Bai":MAILTO:yumbaisc@gmail.com
GEO:34.9577313;-81.8907184
END:VEVENT
BEGIN:VEVENT
DTSTART;TZID=America/New_York:20240608T130000
DTEND;TZID=America/New_York:20240608T150000
DTSTAMP:20260424T190450
CREATED:20240602T233703Z
LAST-MODIFIED:20240602T233703Z
UID:28627-1717851600-1717858800@864foodtrucks.com
SUMMARY:Sky Cream Ice Cream @ DRB Homes
DESCRIPTION:Greenville’s cutest ice cream truck coming to a neighborhood near you!
URL:https://864foodtrucks.com/event/sky-cream-ice-cream-drb-homes/
LOCATION:DRB Homes\, Dalmatian Drive 247\, Spartanburg\, South Carolina\, 29307\, United States
CATEGORIES:Food Truck Schedules,Spartanburg
ATTACH;FMTTYPE=image/jpeg:https://864foodtrucks.com/wp-content/uploads/2022/05/Sky-Cream-Ice-Cream-Truck-1.jpg
ORGANIZER;CN="Sky Cream Ice Cream Truck":MAILTO:skycreamicecreamtruck@gmail.com
GEO:34.974749;-81.90001
X-APPLE-STRUCTURED-LOCATION;VALUE=URI;X-ADDRESS=DRB Homes Dalmatian Drive 247 Spartanburg South Carolina 29307 United States;X-APPLE-RADIUS=500;X-TITLE=Dalmatian Drive 247:geo:-81.90001,34.974749
END:VEVENT
BEGIN:VEVENT
DTSTART;TZID=America/New_York:20240517T193000
DTEND;TZID=America/New_York:20240517T213000
DTSTAMP:20260424T190450
CREATED:20240513T162426Z
LAST-MODIFIED:20260420T124218Z
UID:28229-1715974200-1715981400@864foodtrucks.com
SUMMARY:Local Pie Pizza Co @ Wofford College
DESCRIPTION:Artisan Pizza Food Truck
URL:https://864foodtrucks.com/event/local-pie-pizza-co-wofford-college/2024-05-17/
LOCATION:Wofford College\, 429 N Church St\, Spartanburg\, SC\, United States
CATEGORIES:Food Truck Schedules,Spartanburg
ATTACH;FMTTYPE=image/jpeg:https://864foodtrucks.com/wp-content/uploads/2021/12/Local-Pie-Pizza-3.jpg
ORGANIZER;CN="Local Pie Pizza Company":MAILTO:cory@localpiepizzacompany.com
END:VEVENT
BEGIN:VEVENT
DTSTART;TZID=America/New_York:20240405T160000
DTEND;TZID=America/New_York:20240405T200000
DTSTAMP:20260424T190450
CREATED:20240401T185123Z
LAST-MODIFIED:20240401T185123Z
UID:27102-1712332800-1712347200@864foodtrucks.com
SUMMARY:Sky Cream Ice Cream @ Taste of Spartanburg
DESCRIPTION:Greenville’s cutest ice cream truck coming to a neighborhood near you!
URL:https://864foodtrucks.com/event/sky-cream-ice-cream-taste-of-spartanburg/
LOCATION:Downtown Spartanburg\, Spartanburg
CATEGORIES:Food Truck Schedules,Spartanburg
ATTACH;FMTTYPE=image/jpeg:https://864foodtrucks.com/wp-content/uploads/2022/05/Sky-Cream-Ice-Cream-Truck-1.jpg
ORGANIZER;CN="Sky Cream Ice Cream Truck":MAILTO:skycreamicecreamtruck@gmail.com
GEO:34.9495672;-81.9320482
END:VEVENT
BEGIN:VEVENT
DTSTART;TZID=America/New_York:20240327T173000
DTEND;TZID=America/New_York:20240327T193000
DTSTAMP:20260424T190450
CREATED:20240325T182454Z
LAST-MODIFIED:20240325T182454Z
UID:26947-1711560600-1711567800@864foodtrucks.com
SUMMARY:Churro Masters @ Bonhaven Apartments
DESCRIPTION:Delicious CHURROS made fresh!
URL:https://864foodtrucks.com/event/churro-masters-bonhaven-apartments/
LOCATION:Bonhaven Apartments\, North Church Street 728\, Spartanburg\, South Carolina\, 29303\, United States
CATEGORIES:Food Truck Schedules,Spartanburg
ATTACH;FMTTYPE=image/jpeg:https://864foodtrucks.com/wp-content/uploads/2023/05/Churro-Masters-1.jpg
ORGANIZER;CN="Churro Masters":MAILTO:Churromastersemail@gmail.com
GEO:34.9635209;-81.9435359
X-APPLE-STRUCTURED-LOCATION;VALUE=URI;X-ADDRESS=Bonhaven Apartments North Church Street 728 Spartanburg South Carolina 29303 United States;X-APPLE-RADIUS=500;X-TITLE=North Church Street 728:geo:-81.9435359,34.9635209
END:VEVENT
BEGIN:VEVENT
DTSTART;TZID=America/New_York:20240221T120000
DTEND;TZID=America/New_York:20240221T180000
DTSTAMP:20260424T190450
CREATED:20240220T194923Z
LAST-MODIFIED:20240220T194923Z
UID:26263-1708516800-1708538400@864foodtrucks.com
SUMMARY:That Grill on the Wheel @ John Dodd Rd
DESCRIPTION:
URL:https://864foodtrucks.com/event/that-grill-on-the-wheel-john-dodd-rd/
LOCATION:120 John Dodd Rd\, John Dodd Road 120\, Spartanburg\, South Carolina\, 29303\, United States
CATEGORIES:Food Truck Schedules,Spartanburg
ATTACH;FMTTYPE=image/png:https://864foodtrucks.com/wp-content/uploads/2023/11/That-Grill-on-the-Wheel.png
GEO:35.0145637;-82.0239812
X-APPLE-STRUCTURED-LOCATION;VALUE=URI;X-ADDRESS=120 John Dodd Rd John Dodd Road 120 Spartanburg South Carolina 29303 United States;X-APPLE-RADIUS=500;X-TITLE=John Dodd Road 120:geo:-82.0239812,35.0145637
END:VEVENT
BEGIN:VEVENT
DTSTART;TZID=America/New_York:20240130T103000
DTEND;TZID=America/New_York:20240130T120000
DTSTAMP:20260424T190450
CREATED:20240130T191619Z
LAST-MODIFIED:20240130T191619Z
UID:25387-1706610600-1706616000@864foodtrucks.com
SUMMARY:Churro Masters @ Wofford College
DESCRIPTION:Delicious CHURROS made fresh!
URL:https://864foodtrucks.com/event/churro-masters-wofford-college/
LOCATION:Wofford College\, 429 N Church St\, Spartanburg\, SC\, United States
CATEGORIES:Food Truck Schedules,Spartanburg
ATTACH;FMTTYPE=image/jpeg:https://864foodtrucks.com/wp-content/uploads/2023/05/Churro-Masters-1.jpg
ORGANIZER;CN="Churro Masters":MAILTO:Churromastersemail@gmail.com
END:VEVENT
BEGIN:VEVENT
DTSTART;TZID=America/New_York:20240120T110000
DTEND;TZID=America/New_York:20240120T170000
DTSTAMP:20260424T190450
CREATED:20240115T193008Z
LAST-MODIFIED:20240115T193008Z
UID:25144-1705748400-1705770000@864foodtrucks.com
SUMMARY:KBBQ Food Truck @ Spartanburg Medical Center
DESCRIPTION:
URL:https://864foodtrucks.com/event/kbbq-food-truck-spartanburg-medical-center/
LOCATION:Spartanburg Medical Center\, East Wood Street 101\, Spartanburg\, SC\, 29303\, United States
CATEGORIES:Food Truck Schedules,Spartanburg
ATTACH;FMTTYPE=image/jpeg:https://864foodtrucks.com/wp-content/uploads/2023/11/KBBQ.jpg
ORGANIZER;CN="KBBQ Food Truck":MAILTO:kbbq1mallory@gmail.com
GEO:34.967042;-81.9385993
X-APPLE-STRUCTURED-LOCATION;VALUE=URI;X-ADDRESS=Spartanburg Medical Center East Wood Street 101 Spartanburg SC 29303 United States;X-APPLE-RADIUS=500;X-TITLE=East Wood Street 101:geo:-81.9385993,34.967042
END:VEVENT
BEGIN:VEVENT
DTSTART;TZID=America/New_York:20240104T110000
DTEND;TZID=America/New_York:20240104T110000
DTSTAMP:20260424T190450
CREATED:20240102T185126Z
LAST-MODIFIED:20240102T185126Z
UID:24922-1704366000-1704366000@864foodtrucks.com
SUMMARY:Lobster Dogs @ RNR Tire
DESCRIPTION:Food truck serving the Best Lobster Rolls & Stuffed Avocados in the Carolinas
URL:https://864foodtrucks.com/event/lobster-dogs-rnr-tire/
LOCATION:RNR Tire Express\, 3150 N Main St\, Anderson\, SC\, United States
CATEGORIES:Food Truck Schedules,Spartanburg
ATTACH;FMTTYPE=image/jpeg:https://864foodtrucks.com/wp-content/uploads/2021/05/lobster-dogs-Food-Truck.jpg
ORGANIZER;CN="Lobster Dogs":MAILTO:lobsterdogs3@gmail.com
END:VEVENT
BEGIN:VEVENT
DTSTART;TZID=America/New_York:20231230T120000
DTEND;TZID=America/New_York:20231230T150000
DTSTAMP:20260424T190450
CREATED:20231225T200009Z
LAST-MODIFIED:20241103T153511Z
UID:24837-1703937600-1703948400@864foodtrucks.com
SUMMARY:Lobster Dogs @ Peach Cobbler Factory
DESCRIPTION:Food truck serving the Best Lobster Rolls & Stuffed Avocados in the Carolinas
URL:https://864foodtrucks.com/event/lobster-dogs-peach-cobbler-factory/2023-12-30/
LOCATION:Peach Cobbler Factory\, Southport Road 98\, Spartanburg\, South Carolina\, 29306\, United States
CATEGORIES:Food Truck Schedules,Spartanburg
ATTACH;FMTTYPE=image/jpeg:https://864foodtrucks.com/wp-content/uploads/2021/05/lobster-dogs-Food-Truck.jpg
ORGANIZER;CN="Lobster Dogs":MAILTO:lobsterdogs3@gmail.com
GEO:34.922613;-81.9715347
X-APPLE-STRUCTURED-LOCATION;VALUE=URI;X-ADDRESS=Peach Cobbler Factory Southport Road 98 Spartanburg South Carolina 29306 United States;X-APPLE-RADIUS=500;X-TITLE=Southport Road 98:geo:-81.9715347,34.922613
END:VEVENT
BEGIN:VEVENT
DTSTART;TZID=America/New_York:20231229T110000
DTEND;TZID=America/New_York:20231229T130000
DTSTAMP:20260424T190450
CREATED:20231225T195127Z
LAST-MODIFIED:20231225T195127Z
UID:24828-1703847600-1703854800@864foodtrucks.com
SUMMARY:Simpell Sammies @ Spartanburg Hospital
DESCRIPTION:Simpell Sammies is open for business and ready to serve you flavorful and delicious sandwiches and hoagies.
URL:https://864foodtrucks.com/event/simpell-sammies-spartanburg-hospital/
LOCATION:Spartanburg Hospital\, Serpentine Drive 389\, Spartanburg\, South Carolina\, 29303\, United States
CATEGORIES:Food Truck Schedules,Spartanburg
ATTACH;FMTTYPE=image/jpeg:https://864foodtrucks.com/wp-content/uploads/2023/06/Simpell-Sammies-Trailer.jpg
ORGANIZER;CN="Simpell Sammies":MAILTO:info@simpelltreats.com
GEO:34.9662164;-81.9362444
X-APPLE-STRUCTURED-LOCATION;VALUE=URI;X-ADDRESS=Spartanburg Hospital Serpentine Drive 389 Spartanburg South Carolina 29303 United States;X-APPLE-RADIUS=500;X-TITLE=Serpentine Drive 389:geo:-81.9362444,34.9662164
END:VEVENT
BEGIN:VEVENT
DTSTART;TZID=America/New_York:20231028T100000
DTEND;TZID=America/New_York:20231028T140000
DTSTAMP:20260424T190450
CREATED:20231023T001617Z
LAST-MODIFIED:20231023T001617Z
UID:23688-1698487200-1698501600@864foodtrucks.com
SUMMARY:Lobster Dogs @ Hub City Farmers Market
DESCRIPTION:Food truck serving the Best Lobster Rolls & Stuffed Avocados in the Carolinas
URL:https://864foodtrucks.com/event/lobster-dogs-hub-city-farmers-market-3/
LOCATION:Hub City\, East Saint John Street 248\, Spartanburg\, South Carolina\, 29302\, United States
CATEGORIES:Food Truck Schedules,Spartanburg
ATTACH;FMTTYPE=image/jpeg:https://864foodtrucks.com/wp-content/uploads/2021/05/lobster-dogs-Food-Truck.jpg
ORGANIZER;CN="Lobster Dogs":MAILTO:lobsterdogs3@gmail.com
GEO:34.9532138;-81.9284837
X-APPLE-STRUCTURED-LOCATION;VALUE=URI;X-ADDRESS=Hub City East Saint John Street 248 Spartanburg South Carolina 29302 United States;X-APPLE-RADIUS=500;X-TITLE=East Saint John Street 248:geo:-81.9284837,34.9532138
END:VEVENT
BEGIN:VEVENT
DTSTART;TZID=America/New_York:20231015T120000
DTEND;TZID=America/New_York:20231015T160000
DTSTAMP:20260424T190450
CREATED:20231009T165630Z
LAST-MODIFIED:20231009T165630Z
UID:23430-1697371200-1697385600@864foodtrucks.com
SUMMARY:Robins Just Dessert @ Market on Main
DESCRIPTION:Hi I’m Robin. I own a home bakery. My son Bryan has Down syndrome & Autism. My goal one day to employ people with special needs and at risk youth.
URL:https://864foodtrucks.com/event/robins-just-dessert-market-on-main/
LOCATION:Downtown Spartanburg\, Spartanburg
CATEGORIES:Food Truck Schedules,Spartanburg
ATTACH;FMTTYPE=image/jpeg:https://864foodtrucks.com/wp-content/uploads/2022/09/Robins-Just-Dessert-Table-e1663960865907.jpg
ORGANIZER;CN="Robin's Just Dessert":MAILTO:robinroach500@icloud.com
GEO:34.9495672;-81.9320482
END:VEVENT
BEGIN:VEVENT
DTSTART;TZID=America/New_York:20231013T113000
DTEND;TZID=America/New_York:20231013T140000
DTSTAMP:20260424T190450
CREATED:20231009T000902Z
LAST-MODIFIED:20231009T000902Z
UID:23388-1697196600-1697205600@864foodtrucks.com
SUMMARY:Lobster Dogs @ Food Truck Friday
DESCRIPTION:Food truck serving the Best Lobster Rolls & Stuffed Avocados in the Carolinas
URL:https://864foodtrucks.com/event/lobster-dogs-food-truck-friday/
LOCATION:Food Truck Friday\, 151 S Church St\, Spartanburg\, South Carolina
CATEGORIES:Food Truck Schedules,Spartanburg
ATTACH;FMTTYPE=image/jpeg:https://864foodtrucks.com/wp-content/uploads/2021/05/lobster-dogs-Food-Truck.jpg
ORGANIZER;CN="Lobster Dogs":MAILTO:lobsterdogs3@gmail.com
GEO:34.4465018;-82.3915121
X-APPLE-STRUCTURED-LOCATION;VALUE=URI;X-ADDRESS=Food Truck Friday 151 S Church St Spartanburg South Carolina;X-APPLE-RADIUS=500;X-TITLE=151 S Church St:geo:-82.3915121,34.4465018
END:VEVENT
BEGIN:VEVENT
DTSTART;TZID=America/New_York:20230930T100000
DTEND;TZID=America/New_York:20230930T220000
DTSTAMP:20260424T190450
CREATED:20230927T162116Z
LAST-MODIFIED:20230927T162116Z
UID:23201-1696068000-1696111200@864foodtrucks.com
SUMMARY:Unk and Me Comfort Food @ James F Byrnes High School
DESCRIPTION:
URL:https://864foodtrucks.com/event/unk-and-me-comfort-food-james-f-byrnes-high-school/
LOCATION:James F Byrnes High School\, East Main Street 150\, Spartanburg\, South Carolina\, 29306\, United States
CATEGORIES:Food Truck Schedules,Spartanburg
ATTACH;FMTTYPE=image/jpeg:https://864foodtrucks.com/wp-content/uploads/2023/07/Unk-Me.jpg
ORGANIZER;CN="Unk & Me Comfort Foods":MAILTO:uncandmellc@gmail.com
GEO:34.949949;-81.9299288
X-APPLE-STRUCTURED-LOCATION;VALUE=URI;X-ADDRESS=James F Byrnes High School East Main Street 150 Spartanburg South Carolina 29306 United States;X-APPLE-RADIUS=500;X-TITLE=East Main Street 150:geo:-81.9299288,34.949949
END:VEVENT
BEGIN:VEVENT
DTSTART;TZID=America/New_York:20230923T150000
DTEND;TZID=America/New_York:20230923T190000
DTSTAMP:20260424T190450
CREATED:20230918T171439Z
LAST-MODIFIED:20230918T171439Z
UID:22934-1695481200-1695495600@864foodtrucks.com
SUMMARY:Sky Cream Ice Cream @ Hip Hop & R&B Picnic
DESCRIPTION:Greenville’s cutest ice cream truck coming to a neighborhood near you!
URL:https://864foodtrucks.com/event/sky-cream-ice-cream-hip-hop-rb-picnic/
LOCATION:248 E St John St\, East Saint John Street 248\, Spartanburg\, South Carolina\, 29302\, United States
CATEGORIES:Food Truck Schedules,Spartanburg
ATTACH;FMTTYPE=image/jpeg:https://864foodtrucks.com/wp-content/uploads/2022/05/Sky-Cream-Ice-Cream-Truck-1.jpg
ORGANIZER;CN="Sky Cream Ice Cream Truck":MAILTO:skycreamicecreamtruck@gmail.com
GEO:34.9532138;-81.9284837
X-APPLE-STRUCTURED-LOCATION;VALUE=URI;X-ADDRESS=248 E St John St East Saint John Street 248 Spartanburg South Carolina 29302 United States;X-APPLE-RADIUS=500;X-TITLE=East Saint John Street 248:geo:-81.9284837,34.9532138
END:VEVENT
BEGIN:VEVENT
DTSTART;TZID=America/New_York:20230915T063000
DTEND;TZID=America/New_York:20230915T090000
DTSTAMP:20260424T190450
CREATED:20230911T175134Z
LAST-MODIFIED:20230911T175134Z
UID:22759-1694759400-1694768400@864foodtrucks.com
SUMMARY:Vita Nova Coffee & Tea @ Bon Haven
DESCRIPTION:The vision of Vita Nova is to bring communities together around good coffee\, delicacies and various entertainment!
URL:https://864foodtrucks.com/event/vita-nova-coffee-tea-bon-haven/
LOCATION:Bon Haven Apartments\, North Church Street 728\, Spartanburg\, SC\, 29303\, United States
CATEGORIES:Food Truck Schedules,Spartanburg
ATTACH;FMTTYPE=image/jpeg:https://864foodtrucks.com/wp-content/uploads/2023/06/Vita-Nova-2.jpg
ORGANIZER;CN="Vita Nova Coffee And Tea":MAILTO:Vitanova3710@gmail.com
GEO:34.9635209;-81.9435359
X-APPLE-STRUCTURED-LOCATION;VALUE=URI;X-ADDRESS=Bon Haven Apartments North Church Street 728 Spartanburg SC 29303 United States;X-APPLE-RADIUS=500;X-TITLE=North Church Street 728:geo:-81.9435359,34.9635209
END:VEVENT
BEGIN:VEVENT
DTSTART;TZID=America/New_York:20230909T100000
DTEND;TZID=America/New_York:20230909T150000
DTSTAMP:20260424T190450
CREATED:20230905T001716Z
LAST-MODIFIED:20230905T001716Z
UID:22619-1694253600-1694271600@864foodtrucks.com
SUMMARY:Half Rooted @ Hub City Health Fair
DESCRIPTION:Half Rooted is a modern Latin-American street food mobile kitchen!
URL:https://864foodtrucks.com/event/half-rooted-hub-city-health-fair/
LOCATION:Hub City\, East Saint John Street 248\, Spartanburg\, South Carolina\, 29302\, United States
CATEGORIES:Food Truck Schedules,Spartanburg
ATTACH;FMTTYPE=image/jpeg:https://864foodtrucks.com/wp-content/uploads/2023/05/Half-Rooted.jpg
GEO:34.9532138;-81.9284837
X-APPLE-STRUCTURED-LOCATION;VALUE=URI;X-ADDRESS=Hub City East Saint John Street 248 Spartanburg South Carolina 29302 United States;X-APPLE-RADIUS=500;X-TITLE=East Saint John Street 248:geo:-81.9284837,34.9532138
END:VEVENT
BEGIN:VEVENT
DTSTART;TZID=America/New_York:20230907T060000
DTEND;TZID=America/New_York:20230907T100000
DTSTAMP:20260424T190450
CREATED:20230903T202444Z
LAST-MODIFIED:20230903T202444Z
UID:22563-1694066400-1694080800@864foodtrucks.com
SUMMARY:Vita Nova @ Brashier Middle College
DESCRIPTION:The vision of Vita Nova is to bring communities together around good coffee\, delicacies and various entertainment!
URL:https://864foodtrucks.com/event/vita-nova-brashier-middle-college/
LOCATION:Brashier Middle College\, West Georgia Road 1830\, Simpsonville\, SC\, 29680\, United States
CATEGORIES:Food Truck Schedules,Spartanburg
ATTACH;FMTTYPE=image/jpeg:https://864foodtrucks.com/wp-content/uploads/2023/06/Vita-Nova-2.jpg
ORGANIZER;CN="Vita Nova Coffee And Tea":MAILTO:Vitanova3710@gmail.com
GEO:34.7113252;-82.3087409
X-APPLE-STRUCTURED-LOCATION;VALUE=URI;X-ADDRESS=Brashier Middle College West Georgia Road 1830 Simpsonville SC 29680 United States;X-APPLE-RADIUS=500;X-TITLE=West Georgia Road 1830:geo:-82.3087409,34.7113252
END:VEVENT
BEGIN:VEVENT
DTSTART;TZID=America/New_York:20230822T110000
DTEND;TZID=America/New_York:20230822T150000
DTSTAMP:20260424T190450
CREATED:20230820T230913Z
LAST-MODIFIED:20231113T010338Z
UID:22200-1692702000-1692716400@864foodtrucks.com
SUMMARY:Spinx Cluk Truk @ Spartanburg Medical Center
DESCRIPTION:Your favorite southern fried chicken is hitting the road—and it’s going to be legendary. Our community comes first\, and we want to share that tender love by bringing our homegrown menu to you. The Cluk Truk is coming Fall 2020 to the Upstate!
URL:https://864foodtrucks.com/event/spinx-cluk-truk-spartanburg-medical-center/2023-08-22/
LOCATION:Spartanburg Medical Center\, East Wood Street 101\, Spartanburg\, SC\, 29303\, United States
CATEGORIES:Food Truck Schedules,Spartanburg
ATTACH;FMTTYPE=image/jpeg:https://864foodtrucks.com/wp-content/uploads/2021/05/Spinx-Cluk-Truk-Truck.jpg
ORGANIZER;CN="Spinx Cluk Truk":MAILTO:cluktruk@spinxco.com
GEO:34.967042;-81.9385993
X-APPLE-STRUCTURED-LOCATION;VALUE=URI;X-ADDRESS=Spartanburg Medical Center East Wood Street 101 Spartanburg SC 29303 United States;X-APPLE-RADIUS=500;X-TITLE=East Wood Street 101:geo:-81.9385993,34.967042
END:VEVENT
BEGIN:VEVENT
DTSTART;TZID=America/New_York:20230810T110000
DTEND;TZID=America/New_York:20230810T130000
DTSTAMP:20260424T190450
CREATED:20230808T214006Z
LAST-MODIFIED:20230808T214006Z
UID:21951-1691665200-1691672400@864foodtrucks.com
SUMMARY:Everything Eggroll @ Auriga Polymer
DESCRIPTION:
URL:https://864foodtrucks.com/event/everything-eggroll-auriga-polymer/
LOCATION:Auriga Polymer\, Spartanburg\, SC\, United States
CATEGORIES:Food Truck Schedules,Spartanburg
ATTACH;FMTTYPE=image/jpeg:https://864foodtrucks.com/wp-content/uploads/2021/05/Everything-Eggroll-Food-Truck.jpg
END:VEVENT
BEGIN:VEVENT
DTSTART;TZID=America/New_York:20230803T160000
DTEND;TZID=America/New_York:20230803T190000
DTSTAMP:20260424T190450
CREATED:20230801T130625Z
LAST-MODIFIED:20230801T130625Z
UID:21715-1691078400-1691089200@864foodtrucks.com
SUMMARY:El Coco Loco Mariscos Y Tacos @ Spartanburg Rehabilitation Institute
DESCRIPTION:EL COCO LOCO MARISCOS Y TACOS TE OFRECE UNA GRAN VARIEDAD DE MARISCOS AL ESTILO CULIACAN SINALOA
URL:https://864foodtrucks.com/event/el-coco-loco-mariscos-y-tacos-spartanburg-rehabilitation-institute/
LOCATION:Spartanburg Rehabilitation Institute\, Harold Fleming Court 160\, Spartanburg\, SC\, 29303\, United States
CATEGORIES:Food Truck Schedules,Spartanburg
ATTACH;FMTTYPE=image/jpeg:https://864foodtrucks.com/wp-content/uploads/2023/06/El-coco-loco.jpg
GEO:34.9896783;-81.9424782
X-APPLE-STRUCTURED-LOCATION;VALUE=URI;X-ADDRESS=Spartanburg Rehabilitation Institute Harold Fleming Court 160 Spartanburg SC 29303 United States;X-APPLE-RADIUS=500;X-TITLE=Harold Fleming Court 160:geo:-81.9424782,34.9896783
END:VEVENT
BEGIN:VEVENT
DTSTART;TZID=America/New_York:20230729T100000
DTEND;TZID=America/New_York:20230729T140000
DTSTAMP:20260424T190450
CREATED:20230724T184914Z
LAST-MODIFIED:20230724T184914Z
UID:21085-1690624800-1690639200@864foodtrucks.com
SUMMARY:Lobster Dogs @ Hub City Farmers Market
DESCRIPTION:Food truck serving the Best Lobster Rolls & Stuffed Avocados in the Carolinas
URL:https://864foodtrucks.com/event/lobster-dogs-hub-city-farmers-market-2/
LOCATION:Hub City Farmers market\, 488 Howard St\, Spartanburg\, SC\, 29303\, United States
CATEGORIES:Food Truck Schedules,Spartanburg
ATTACH;FMTTYPE=image/jpeg:https://864foodtrucks.com/wp-content/uploads/2021/05/lobster-dogs-Food-Truck.jpg
ORGANIZER;CN="Lobster Dogs":MAILTO:lobsterdogs3@gmail.com
GEO:34.9563999;-81.9422647
X-APPLE-STRUCTURED-LOCATION;VALUE=URI;X-ADDRESS=Hub City Farmers market 488 Howard St Spartanburg SC 29303 United States;X-APPLE-RADIUS=500;X-TITLE=488 Howard St:geo:-81.9422647,34.9563999
END:VEVENT
END:VCALENDAR