BEGIN:VCALENDAR
VERSION:2.0
PRODID:-//864 Food Trucks - ECPv6.15.20//NONSGML v1.0//EN
CALSCALE:GREGORIAN
METHOD:PUBLISH
X-ORIGINAL-URL:https://864foodtrucks.com
X-WR-CALDESC:Events for 864 Food Trucks
REFRESH-INTERVAL;VALUE=DURATION:PT1H
X-Robots-Tag:noindex
X-PUBLISHED-TTL:PT1H
BEGIN:VTIMEZONE
TZID:America/New_York
BEGIN:DAYLIGHT
TZOFFSETFROM:-0500
TZOFFSETTO:-0400
TZNAME:EDT
DTSTART:20220313T070000
END:DAYLIGHT
BEGIN:STANDARD
TZOFFSETFROM:-0400
TZOFFSETTO:-0500
TZNAME:EST
DTSTART:20221106T060000
END:STANDARD
BEGIN:DAYLIGHT
TZOFFSETFROM:-0500
TZOFFSETTO:-0400
TZNAME:EDT
DTSTART:20230312T070000
END:DAYLIGHT
BEGIN:STANDARD
TZOFFSETFROM:-0400
TZOFFSETTO:-0500
TZNAME:EST
DTSTART:20231105T060000
END:STANDARD
BEGIN:DAYLIGHT
TZOFFSETFROM:-0500
TZOFFSETTO:-0400
TZNAME:EDT
DTSTART:20240310T070000
END:DAYLIGHT
BEGIN:STANDARD
TZOFFSETFROM:-0400
TZOFFSETTO:-0500
TZNAME:EST
DTSTART:20241103T060000
END:STANDARD
BEGIN:DAYLIGHT
TZOFFSETFROM:-0500
TZOFFSETTO:-0400
TZNAME:EDT
DTSTART:20250309T070000
END:DAYLIGHT
BEGIN:STANDARD
TZOFFSETFROM:-0400
TZOFFSETTO:-0500
TZNAME:EST
DTSTART:20251102T060000
END:STANDARD
BEGIN:DAYLIGHT
TZOFFSETFROM:-0500
TZOFFSETTO:-0400
TZNAME:EDT
DTSTART:20260308T070000
END:DAYLIGHT
BEGIN:STANDARD
TZOFFSETFROM:-0400
TZOFFSETTO:-0500
TZNAME:EST
DTSTART:20261101T060000
END:STANDARD
END:VTIMEZONE
BEGIN:VEVENT
DTSTART;TZID=America/New_York:20250517T180000
DTEND;TZID=America/New_York:20250517T180000
DTSTAMP:20260424T035952
CREATED:20250512T205023Z
LAST-MODIFIED:20250512T205023Z
UID:45113-1747504800-1747504800@864foodtrucks.com
SUMMARY:Cinnabon @ Trailblazers Park Concert
DESCRIPTION:Cinnabon Food Truck Greenville
URL:https://864foodtrucks.com/event/cinnabon-trailblazers-park-concert/
LOCATION:Trailblazer Park\, 235 Trailblazer Dr\, Travelers Rest\, SC\, 29690\, United States
CATEGORIES:Food Truck Schedules,Travelers Rest
ATTACH;FMTTYPE=image/jpeg:https://864foodtrucks.com/wp-content/uploads/2024/12/326870080_1829549937401559_2632445834433428235_n-2.jpg
ORGANIZER;CN="Cinnabon Greenville":MAILTO:info@hotbonssc.com
GEO:34.95593;-82.4419747
X-APPLE-STRUCTURED-LOCATION;VALUE=URI;X-ADDRESS=Trailblazer Park 235 Trailblazer Dr Travelers Rest SC 29690 United States;X-APPLE-RADIUS=500;X-TITLE=235 Trailblazer Dr:geo:-82.4419747,34.95593
END:VEVENT
BEGIN:VEVENT
DTSTART;TZID=America/New_York:20250510T180000
DTEND;TZID=America/New_York:20250510T210000
DTSTAMP:20260424T035952
CREATED:20250506T010232Z
LAST-MODIFIED:20250506T010232Z
UID:44374-1746900000-1746910800@864foodtrucks.com
SUMMARY:Havana Taste @ TR Concert in the Park
DESCRIPTION:Authentic Cuban Savor
URL:https://864foodtrucks.com/event/havana-taste-tr-concert-in-the-park/
LOCATION:Trailblazer Park\, 235 Trailblazer Dr\, Travelers Rest\, SC\, 29690\, United States
CATEGORIES:Food Truck Schedules,Travelers Rest
ORGANIZER;CN="Havana Taste":MAILTO:havanatasteinc@gmail.com
GEO:34.95593;-82.4419747
X-APPLE-STRUCTURED-LOCATION;VALUE=URI;X-ADDRESS=Trailblazer Park 235 Trailblazer Dr Travelers Rest SC 29690 United States;X-APPLE-RADIUS=500;X-TITLE=235 Trailblazer Dr:geo:-82.4419747,34.95593
END:VEVENT
BEGIN:VEVENT
DTSTART;TZID=America/New_York:20250329T170000
DTEND;TZID=America/New_York:20250329T210000
DTSTAMP:20260424T035952
CREATED:20250323T234036Z
LAST-MODIFIED:20250323T234036Z
UID:43267-1743267600-1743282000@864foodtrucks.com
SUMMARY:Local Pie Pizza Co @ Swamp Rabbit Brewing Anniversary Party
DESCRIPTION:
URL:https://864foodtrucks.com/event/local-pie-pizza-co-swamp-rabbit-brewing-anniversary-party/
LOCATION:Swamp Rabbit Brewery\, 26 S Main St\, Travelers Rest\, South Carolina
CATEGORIES:Food Truck Schedules,Travelers Rest
ATTACH;FMTTYPE=image/jpeg:https://864foodtrucks.com/wp-content/uploads/2021/12/Local-Pie-Pizza-3.jpg
ORGANIZER;CN="Local Pie Pizza Company":MAILTO:cory@localpiepizzacompany.com
GEO:34.9670847;-82.4425017
X-APPLE-STRUCTURED-LOCATION;VALUE=URI;X-ADDRESS=Swamp Rabbit Brewery 26 S Main St Travelers Rest South Carolina;X-APPLE-RADIUS=500;X-TITLE=26 S Main St:geo:-82.4425017,34.9670847
END:VEVENT
BEGIN:VEVENT
DTSTART;TZID=America/New_York:20250329T120000
DTEND;TZID=America/New_York:20250329T160000
DTSTAMP:20260424T035952
CREATED:20250324T131233Z
LAST-MODIFIED:20260316T232444Z
UID:43283-1743249600-1743264000@864foodtrucks.com
SUMMARY:Las Cazuelas @ Swamp Rabbit Brewery
DESCRIPTION:
URL:https://864foodtrucks.com/event/las-cazuelas-swamp-rabbit-brewery/2025-03-29/
LOCATION:Swamp Rabbit Brewery\, 26 S Main St\, Travelers Rest\, South Carolina
CATEGORIES:Food Truck Schedules,Travelers Rest
ATTACH;FMTTYPE=image/png:https://864foodtrucks.com/wp-content/uploads/2024/12/Las-Cazuelas.png
ORGANIZER;CN="Las Cazuelas":MAILTO:lascazuelascatering.llc@gmail.com
GEO:34.9670847;-82.4425017
X-APPLE-STRUCTURED-LOCATION;VALUE=URI;X-ADDRESS=Swamp Rabbit Brewery 26 S Main St Travelers Rest South Carolina;X-APPLE-RADIUS=500;X-TITLE=26 S Main St:geo:-82.4425017,34.9670847
END:VEVENT
BEGIN:VEVENT
DTSTART;TZID=America/New_York:20250208T120000
DTEND;TZID=America/New_York:20250208T150000
DTSTAMP:20260424T035952
CREATED:20250205T212634Z
LAST-MODIFIED:20250205T212634Z
UID:42225-1739016000-1739026800@864foodtrucks.com
SUMMARY:The Noodle Lady @ Traveler's Rest Farmer's Market
DESCRIPTION:Authentic Chinese dishes for catering and events. Artisan Noodles and 100% Natural. Check out here our events calendar in Greenville\, South Carolina. #TheNoodleLady
URL:https://864foodtrucks.com/event/the-noodle-lady-travelers-rest-farmers-market/
LOCATION:Trailblazer Park\, 235 Trailblazer Dr\, Travelers Rest\, SC\, 29690\, United States
CATEGORIES:Food Truck Schedules,Travelers Rest
ATTACH;FMTTYPE=image/jpeg:https://864foodtrucks.com/wp-content/uploads/2023/07/Noodle-lady.jpg
ORGANIZER;CN="The Noodle Lady":MAILTO:thenoodlelady@yahoo.com
GEO:34.95593;-82.4419747
X-APPLE-STRUCTURED-LOCATION;VALUE=URI;X-ADDRESS=Trailblazer Park 235 Trailblazer Dr Travelers Rest SC 29690 United States;X-APPLE-RADIUS=500;X-TITLE=235 Trailblazer Dr:geo:-82.4419747,34.95593
END:VEVENT
BEGIN:VEVENT
DTSTART;TZID=America/New_York:20250117T170000
DTEND;TZID=America/New_York:20250117T203000
DTSTAMP:20260424T035952
CREATED:20250113T215147Z
LAST-MODIFIED:20260413T171746Z
UID:41759-1737133200-1737145800@864foodtrucks.com
SUMMARY:Las Cazuelas @ Swamp Rabbit Taproom
DESCRIPTION:
URL:https://864foodtrucks.com/event/las-cazuelas-swamp-rabbit-taproom/2025-01-17/
LOCATION:Swamp Rabbit Brewery\, 26 S Main St\, Travelers Rest\, South Carolina
CATEGORIES:Food Truck Schedules,Travelers Rest
ATTACH;FMTTYPE=image/png:https://864foodtrucks.com/wp-content/uploads/2024/12/Las-Cazuelas.png
ORGANIZER;CN="Las Cazuelas":MAILTO:lascazuelascatering.llc@gmail.com
GEO:34.9670847;-82.4425017
X-APPLE-STRUCTURED-LOCATION;VALUE=URI;X-ADDRESS=Swamp Rabbit Brewery 26 S Main St Travelers Rest South Carolina;X-APPLE-RADIUS=500;X-TITLE=26 S Main St:geo:-82.4425017,34.9670847
END:VEVENT
BEGIN:VEVENT
DTSTART;TZID=America/New_York:20241214T120000
DTEND;TZID=America/New_York:20241214T160000
DTSTAMP:20260424T035952
CREATED:20241210T135752Z
LAST-MODIFIED:20241210T135752Z
UID:41129-1734177600-1734192000@864foodtrucks.com
SUMMARY:Havana Taste @ Travelers Rest Merry Market
DESCRIPTION:Authentic Cuban Savor
URL:https://864foodtrucks.com/event/havana-taste-travelers-rest-merry-market/
LOCATION:Trailblazer Park\, 235 Trailblazer Dr\, Travelers Rest\, SC\, 29690\, United States
CATEGORIES:Food Truck Schedules,Travelers Rest
ATTACH;FMTTYPE=image/jpeg:https://864foodtrucks.com/wp-content/uploads/2024/11/Havana-taste.jpg
ORGANIZER;CN="Havana Taste":MAILTO:havanatasteinc@gmail.com
GEO:34.95593;-82.4419747
X-APPLE-STRUCTURED-LOCATION;VALUE=URI;X-ADDRESS=Trailblazer Park 235 Trailblazer Dr Travelers Rest SC 29690 United States;X-APPLE-RADIUS=500;X-TITLE=235 Trailblazer Dr:geo:-82.4419747,34.95593
END:VEVENT
BEGIN:VEVENT
DTSTART;TZID=America/New_York:20241214T120000
DTEND;TZID=America/New_York:20241214T160000
DTSTAMP:20260424T035952
CREATED:20241209T201653Z
LAST-MODIFIED:20241209T201653Z
UID:41075-1734177600-1734192000@864foodtrucks.com
SUMMARY:The Noodle Lady @ Travelers Rest Christmas Market
DESCRIPTION:Authentic Chinese dishes for catering and events. Artisan Noodles and 100% Natural. Check out here our events calendar in Greenville\, South Carolina. #TheNoodleLady
URL:https://864foodtrucks.com/event/the-noodle-lady-travelers-rest-christmas-market/
LOCATION:Trailblazer Park\, 235 Trailblazer Dr\, Travelers Rest\, SC\, 29690\, United States
CATEGORIES:Food Truck Schedules,Travelers Rest
ATTACH;FMTTYPE=image/jpeg:https://864foodtrucks.com/wp-content/uploads/2021/05/The-Noodle-Lady-Truck.jpg
ORGANIZER;CN="The Noodle Lady":MAILTO:thenoodlelady@yahoo.com
GEO:34.95593;-82.4419747
X-APPLE-STRUCTURED-LOCATION;VALUE=URI;X-ADDRESS=Trailblazer Park 235 Trailblazer Dr Travelers Rest SC 29690 United States;X-APPLE-RADIUS=500;X-TITLE=235 Trailblazer Dr:geo:-82.4419747,34.95593
END:VEVENT
BEGIN:VEVENT
DTSTART;TZID=America/New_York:20241116T140000
DTEND;TZID=America/New_York:20241116T170000
DTSTAMP:20260424T035952
CREATED:20241111T195001Z
LAST-MODIFIED:20241111T195001Z
UID:39879-1731765600-1731776400@864foodtrucks.com
SUMMARY:Local Pie Pizza Co @ Community Tap TR
DESCRIPTION:Artisan Pizza Food Truck
URL:https://864foodtrucks.com/event/local-pie-pizza-co-community-tap-tr/
LOCATION:Community Tap TR\, Travelers Rest\, SC\, 29690\, United States
CATEGORIES:Food Truck Schedules,Travelers Rest
ATTACH;FMTTYPE=image/jpeg:https://864foodtrucks.com/wp-content/uploads/2022/01/Local-Pie-Logo.jpg
ORGANIZER;CN="Local Pie Pizza Company":MAILTO:cory@localpiepizzacompany.com
GEO:34.9676167;-82.4434548
END:VEVENT
BEGIN:VEVENT
DTSTART;TZID=America/New_York:20241017T173000
DTEND;TZID=America/New_York:20241017T200000
DTSTAMP:20260424T035952
CREATED:20241011T183217Z
LAST-MODIFIED:20241011T183217Z
UID:39200-1729186200-1729195200@864foodtrucks.com
SUMMARY:The Noodle Lady @ Fall Bluegrass and Harvest Market
DESCRIPTION:Authentic Chinese dishes for catering and events. Artisan Noodles and 100% Natural. Check out here our events calendar in Greenville\, South Carolina. #TheNoodleLady
URL:https://864foodtrucks.com/event/the-noodle-lady-fall-bluegrass-and-harvest-market/
LOCATION:Trailblazer Park\, 235 Trailblazer Dr\, Travelers Rest\, SC\, 29690\, United States
CATEGORIES:Food Truck Schedules,Travelers Rest
ATTACH;FMTTYPE=image/jpeg:https://864foodtrucks.com/wp-content/uploads/2023/07/Noodle-lady.jpg
ORGANIZER;CN="The Noodle Lady":MAILTO:thenoodlelady@yahoo.com
GEO:34.95593;-82.4419747
X-APPLE-STRUCTURED-LOCATION;VALUE=URI;X-ADDRESS=Trailblazer Park 235 Trailblazer Dr Travelers Rest SC 29690 United States;X-APPLE-RADIUS=500;X-TITLE=235 Trailblazer Dr:geo:-82.4419747,34.95593
END:VEVENT
BEGIN:VEVENT
DTSTART;TZID=America/New_York:20241010T173000
DTEND;TZID=America/New_York:20241010T200000
DTSTAMP:20260424T035952
CREATED:20241009T195035Z
LAST-MODIFIED:20241022T001139Z
UID:39189-1728581400-1728590400@864foodtrucks.com
SUMMARY:We Got the Beets @ Harvest Market
DESCRIPTION:YUMMY EATS WITHOUT THE MEATS!\nPowered by love…and plants 🌱🌈\n📍 Greenville\, SC
URL:https://864foodtrucks.com/event/we-got-the-beets-harvest-market/2024-10-10/
LOCATION:Trailblazer Park\, 235 Trailblazer Dr\, Travelers Rest\, SC\, 29690\, United States
CATEGORIES:Food Truck Schedules,Travelers Rest
ATTACH;FMTTYPE=image/jpeg:https://864foodtrucks.com/wp-content/uploads/2023/10/We-Got-the-Beets.jpg
GEO:34.95593;-82.4419747
X-APPLE-STRUCTURED-LOCATION;VALUE=URI;X-ADDRESS=Trailblazer Park 235 Trailblazer Dr Travelers Rest SC 29690 United States;X-APPLE-RADIUS=500;X-TITLE=235 Trailblazer Dr:geo:-82.4419747,34.95593
END:VEVENT
BEGIN:VEVENT
DTSTART;TZID=America/New_York:20241003T173000
DTEND;TZID=America/New_York:20241003T200000
DTSTAMP:20260424T035952
CREATED:20241002T185138Z
LAST-MODIFIED:20241002T185138Z
UID:39076-1727976600-1727985600@864foodtrucks.com
SUMMARY:Half Rooted @ Harvest Market
DESCRIPTION:Half Rooted is a modern Latin-American street food mobile kitchen!
URL:https://864foodtrucks.com/event/half-rooted-harvest-market/
LOCATION:Trailblazer Park\, 235 Trailblazer Dr\, Travelers Rest\, SC\, 29690\, United States
CATEGORIES:Food Truck Schedules,Travelers Rest
ATTACH;FMTTYPE=image/jpeg:https://864foodtrucks.com/wp-content/uploads/2023/05/Half-Rooted.jpg
GEO:34.95593;-82.4419747
X-APPLE-STRUCTURED-LOCATION;VALUE=URI;X-ADDRESS=Trailblazer Park 235 Trailblazer Dr Travelers Rest SC 29690 United States;X-APPLE-RADIUS=500;X-TITLE=235 Trailblazer Dr:geo:-82.4419747,34.95593
END:VEVENT
BEGIN:VEVENT
DTSTART;TZID=America/New_York:20241003T173000
DTEND;TZID=America/New_York:20241003T200000
DTSTAMP:20260424T035952
CREATED:20241002T141546Z
LAST-MODIFIED:20241002T141546Z
UID:39074-1727976600-1727985600@864foodtrucks.com
SUMMARY:Chocolate Artworks @ Harvest Market
DESCRIPTION:Sweet birthday parties\, chocolate workshops and local upstate farmer’s markets. Love chocolate? Come experience it in a whole new way.
URL:https://864foodtrucks.com/event/chocolate-artworks-harvest-market/
LOCATION:Trailblazer Park\, 235 Trailblazer Dr\, Travelers Rest\, SC\, 29690\, United States
CATEGORIES:Food Truck Schedules,Travelers Rest
ATTACH;FMTTYPE=image/jpeg:https://864foodtrucks.com/wp-content/uploads/2021/05/Chocolate-Artworks-Truck.jpg
GEO:34.95593;-82.4419747
X-APPLE-STRUCTURED-LOCATION;VALUE=URI;X-ADDRESS=Trailblazer Park 235 Trailblazer Dr Travelers Rest SC 29690 United States;X-APPLE-RADIUS=500;X-TITLE=235 Trailblazer Dr:geo:-82.4419747,34.95593
END:VEVENT
BEGIN:VEVENT
DTSTART;TZID=America/New_York:20240921T120000
DTEND;TZID=America/New_York:20240921T160000
DTSTAMP:20260424T035952
CREATED:20240916T005404Z
LAST-MODIFIED:20240916T005404Z
UID:38818-1726920000-1726934400@864foodtrucks.com
SUMMARY:Island Sun @ Sunrift Adventures
DESCRIPTION:Mobile Kitchen serving Caribbean Cuisine to the upstate\, SC\nCaterings\, pop ups\, and private dinners\nDm for more info
URL:https://864foodtrucks.com/event/island-sun-sunrift-adventures/
LOCATION:Sunrift Adventures\, Center Street\, Travelers Rest\, South Carolina\, 29690\, United States
CATEGORIES:Food Truck Schedules,Travelers Rest
ATTACH;FMTTYPE=image/jpeg:https://864foodtrucks.com/wp-content/uploads/2023/07/IslandSun864.jpg
GEO:34.9681738;-82.443835
X-APPLE-STRUCTURED-LOCATION;VALUE=URI;X-ADDRESS=Sunrift Adventures Center Street Travelers Rest South Carolina 29690 United States;X-APPLE-RADIUS=500;X-TITLE=Center Street:geo:-82.443835,34.9681738
END:VEVENT
BEGIN:VEVENT
DTSTART;TZID=America/New_York:20240823T173000
DTEND;TZID=America/New_York:20240823T200000
DTSTAMP:20260424T035952
CREATED:20240819T174332Z
LAST-MODIFIED:20240819T174332Z
UID:33581-1724434200-1724443200@864foodtrucks.com
SUMMARY:Island Sun @ Swamp Rabbit Brewery
DESCRIPTION:Mobile Kitchen serving Caribbean Cuisine to the upstate\, SC\nCaterings\, pop ups\, and private dinners\nDm for more info
URL:https://864foodtrucks.com/event/island-sun-swamp-rabbit-brewery/
LOCATION:Swamp Rabbit Brewery\, 26 S Main St\, Travelers Rest\, South Carolina
CATEGORIES:Food Truck Schedules,Travelers Rest
ATTACH;FMTTYPE=image/jpeg:https://864foodtrucks.com/wp-content/uploads/2023/07/IslandSun864.jpg
GEO:34.9670847;-82.4425017
X-APPLE-STRUCTURED-LOCATION;VALUE=URI;X-ADDRESS=Swamp Rabbit Brewery 26 S Main St Travelers Rest South Carolina;X-APPLE-RADIUS=500;X-TITLE=26 S Main St:geo:-82.4425017,34.9670847
END:VEVENT
BEGIN:VEVENT
DTSTART;TZID=America/New_York:20240720T120000
DTEND;TZID=America/New_York:20240720T160000
DTSTAMP:20260424T035952
CREATED:20240717T133428Z
LAST-MODIFIED:20240717T133428Z
UID:32352-1721476800-1721491200@864foodtrucks.com
SUMMARY:Donut NV @ Mid Summer Mania
DESCRIPTION:DonutNV brings the party to your door! Hot mini donuts\, fresh squeezed lemonade\, coffee & more!
URL:https://864foodtrucks.com/event/donut-nv-mid-summer-mania/
LOCATION:School House Venue\, Locust Hill Road\, Travelers Rest\, South Carolina\, 29690\, United States
CATEGORIES:Food Truck Schedules,Travelers Rest
ATTACH;FMTTYPE=image/jpeg:https://864foodtrucks.com/wp-content/uploads/2023/11/DonutNV.jpg
ORGANIZER;CN="Donut NV Greenville":MAILTO:greenvillesc@donutnv.com
GEO:35.0145785;-82.3791959
X-APPLE-STRUCTURED-LOCATION;VALUE=URI;X-ADDRESS=School House Venue Locust Hill Road Travelers Rest South Carolina 29690 United States;X-APPLE-RADIUS=500;X-TITLE=Locust Hill Road:geo:-82.3791959,35.0145785
END:VEVENT
BEGIN:VEVENT
DTSTART;TZID=America/New_York:20240718T180000
DTEND;TZID=America/New_York:20240718T200000
DTSTAMP:20260424T035952
CREATED:20240715T144432Z
LAST-MODIFIED:20240715T144432Z
UID:32292-1721325600-1721332800@864foodtrucks.com
SUMMARY:Churro Masters @ The Standard at Pinestone
DESCRIPTION:Delicious CHURROS made fresh!
URL:https://864foodtrucks.com/event/churro-masters-the-standard-at-pinestone-2/
LOCATION:The Standard at Pinestone\, 125 Pinestone Dr\, Traveler's Rest\, SC\, United States
CATEGORIES:Food Truck Schedules,Travelers Rest
ATTACH;FMTTYPE=image/jpeg:https://864foodtrucks.com/wp-content/uploads/2023/05/Churro-Masters-1.jpg
ORGANIZER;CN="Churro Masters":MAILTO:Churromastersemail@gmail.com
END:VEVENT
BEGIN:VEVENT
DTSTART;TZID=America/New_York:20240622T170000
DTEND;TZID=America/New_York:20240622T200000
DTSTAMP:20260424T035952
CREATED:20240616T202540Z
LAST-MODIFIED:20240616T202540Z
UID:28899-1719075600-1719086400@864foodtrucks.com
SUMMARY:Local Pie Pizza Co @ Trailblazer Park
DESCRIPTION:
URL:https://864foodtrucks.com/event/local-pie-pizza-co-trailblazer-park/
LOCATION:Trailblazer Park\, 235 Trailblazer Dr\, Travelers Rest\, SC\, 29690\, United States
CATEGORIES:Food Truck Schedules,Travelers Rest
ATTACH;FMTTYPE=image/jpeg:https://864foodtrucks.com/wp-content/uploads/2021/12/Local-Pie-Pizza-3.jpg
ORGANIZER;CN="Local Pie Pizza Company":MAILTO:cory@localpiepizzacompany.com
GEO:34.95593;-82.4419747
X-APPLE-STRUCTURED-LOCATION;VALUE=URI;X-ADDRESS=Trailblazer Park 235 Trailblazer Dr Travelers Rest SC 29690 United States;X-APPLE-RADIUS=500;X-TITLE=235 Trailblazer Dr:geo:-82.4419747,34.95593
END:VEVENT
BEGIN:VEVENT
DTSTART;TZID=America/New_York:20240504T180000
DTEND;TZID=America/New_York:20240504T200000
DTSTAMP:20260424T035952
CREATED:20240429T163933Z
LAST-MODIFIED:20240527T161917Z
UID:27653-1714845600-1714852800@864foodtrucks.com
SUMMARY:Local Pie Pizza Co @ Trailblazer Music in the Park
DESCRIPTION:Artisan Pizza Food Truck
URL:https://864foodtrucks.com/event/local-pie-pizza-co-trailblazer-music-in-the-park/2024-05-04/
LOCATION:Trailblazer Park\, 235 Trailblazer Dr\, Travelers Rest\, SC\, 29690\, United States
CATEGORIES:Food Truck Schedules,Travelers Rest
ATTACH;FMTTYPE=image/png:https://864foodtrucks.com/wp-content/uploads/2022/01/Local-Pie.png
ORGANIZER;CN="Local Pie Pizza Company":MAILTO:cory@localpiepizzacompany.com
GEO:34.95593;-82.4419747
X-APPLE-STRUCTURED-LOCATION;VALUE=URI;X-ADDRESS=Trailblazer Park 235 Trailblazer Dr Travelers Rest SC 29690 United States;X-APPLE-RADIUS=500;X-TITLE=235 Trailblazer Dr:geo:-82.4419747,34.95593
END:VEVENT
BEGIN:VEVENT
DTSTART;TZID=America/New_York:20240427T083000
DTEND;TZID=America/New_York:20240427T120000
DTSTAMP:20260424T035952
CREATED:20240425T155922Z
LAST-MODIFIED:20240918T170410Z
UID:27514-1714206600-1714219200@864foodtrucks.com
SUMMARY:Common Pops @ TR Farmer's Market
DESCRIPTION:
URL:https://864foodtrucks.com/event/common-pops-tr-farmers-market-2/2024-04-27/
LOCATION:TR Market\, 1814 E Greenville St\, Anderson\, South Carolina
CATEGORIES:Food Truck Schedules,Travelers Rest
ATTACH;FMTTYPE=image/jpeg:https://864foodtrucks.com/wp-content/uploads/2021/05/Common-Pops-Greenwood-Setup.jpg
ORGANIZER;CN="Common Pops Greenwood":MAILTO:commonpopsgreenwood@gmail.com
GEO:34.5402934;-82.6298793
X-APPLE-STRUCTURED-LOCATION;VALUE=URI;X-ADDRESS=TR Market 1814 E Greenville St Anderson South Carolina;X-APPLE-RADIUS=500;X-TITLE=1814 E Greenville St:geo:-82.6298793,34.5402934
END:VEVENT
BEGIN:VEVENT
DTSTART;TZID=America/New_York:20240406T110000
DTEND;TZID=America/New_York:20240406T140000
DTSTAMP:20260424T035952
CREATED:20240401T190437Z
LAST-MODIFIED:20240401T190437Z
UID:27107-1712401200-1712412000@864foodtrucks.com
SUMMARY:Lobster Dogs @ Advance Auto TR
DESCRIPTION:Food truck serving the Best Lobster Rolls & Stuffed Avocados in the Carolinas
URL:https://864foodtrucks.com/event/lobster-dogs-advance-auto-tr-3/
LOCATION:Advance Auto TR\, Walnut Lane 100\, Travelers Rest\, South Carolina\, 29690\, United States
CATEGORIES:Food Truck Schedules,Travelers Rest
ATTACH;FMTTYPE=image/jpeg:https://864foodtrucks.com/wp-content/uploads/2021/05/lobster-dogs-Food-Truck.jpg
ORGANIZER;CN="Lobster Dogs":MAILTO:lobsterdogs3@gmail.com
GEO:34.9700782;-82.4282687
X-APPLE-STRUCTURED-LOCATION;VALUE=URI;X-ADDRESS=Advance Auto TR Walnut Lane 100 Travelers Rest South Carolina 29690 United States;X-APPLE-RADIUS=500;X-TITLE=Walnut Lane 100:geo:-82.4282687,34.9700782
END:VEVENT
BEGIN:VEVENT
DTSTART;TZID=America/New_York:20240303T080000
DTEND;TZID=America/New_York:20240303T110000
DTSTAMP:20260424T035952
CREATED:20240226T182137Z
LAST-MODIFIED:20240226T182137Z
UID:26330-1709452800-1709463600@864foodtrucks.com
SUMMARY:Taco Shack @ Traveler's Rest Feed and Seed
DESCRIPTION:
URL:https://864foodtrucks.com/event/taco-shack-travelers-rest-feed-and-seed/
LOCATION:Traveler’s Rest Feed and Seed\, McElhaney Road 10\, Travelers Rest\, South Carolina\, 29690\, United States
CATEGORIES:Food Truck Schedules,Travelers Rest
ATTACH;FMTTYPE=image/jpeg:https://864foodtrucks.com/wp-content/uploads/2024/01/Taco-Shack.jpg
ORGANIZER;CN="Taco Shack":MAILTO:Tacoshackfoodtruck@gmail.com
GEO:34.9673894;-82.4444248
X-APPLE-STRUCTURED-LOCATION;VALUE=URI;X-ADDRESS=Traveler’s Rest Feed and Seed McElhaney Road 10 Travelers Rest South Carolina 29690 United States;X-APPLE-RADIUS=500;X-TITLE=McElhaney Road 10:geo:-82.4444248,34.9673894
END:VEVENT
BEGIN:VEVENT
DTSTART;TZID=America/New_York:20240229T120000
DTEND;TZID=America/New_York:20240229T140000
DTSTAMP:20260424T035952
CREATED:20240226T192434Z
LAST-MODIFIED:20240226T192434Z
UID:26380-1709208000-1709215200@864foodtrucks.com
SUMMARY:Donut NV Greenville @ Traveler's Rest High School
DESCRIPTION:DonutNV brings the party to your door! Hot mini donuts\, fresh squeezed lemonade\, coffee & more!
URL:https://864foodtrucks.com/event/donut-nv-greenville-travelers-rest-high-school/
LOCATION:Travelers Rest High School\, 301 N Main St\, Travelers Rest\, SC\, United States
CATEGORIES:Food Truck Schedules,Travelers Rest
ATTACH;FMTTYPE=image/jpeg:https://864foodtrucks.com/wp-content/uploads/2023/11/DonutNV.jpg
ORGANIZER;CN="Donut NV Greenville":MAILTO:greenvillesc@donutnv.com
END:VEVENT
BEGIN:VEVENT
DTSTART;TZID=America/New_York:20240225T100000
DTEND;TZID=America/New_York:20240225T140000
DTSTAMP:20260424T035952
CREATED:20240219T191425Z
LAST-MODIFIED:20241217T011130Z
UID:26040-1708855200-1708869600@864foodtrucks.com
SUMMARY:We Got the Beets @ Swamp Rabbit Cafe
DESCRIPTION:YUMMY EATS WITHOUT THE MEATS!\nPowered by love…and plants 🌱🌈\n📍 Greenville\, SC
URL:https://864foodtrucks.com/event/we-got-the-beets-swamp-rabbit-cafe-3/2024-02-25/
LOCATION:Swamp Rabbit Brewery\, 26 S Main St\, Travelers Rest\, South Carolina
CATEGORIES:Food Truck Schedules,Travelers Rest
ATTACH;FMTTYPE=image/jpeg:https://864foodtrucks.com/wp-content/uploads/2023/10/We-Got-the-Beets.jpg
GEO:34.9670847;-82.4425017
X-APPLE-STRUCTURED-LOCATION;VALUE=URI;X-ADDRESS=Swamp Rabbit Brewery 26 S Main St Travelers Rest South Carolina;X-APPLE-RADIUS=500;X-TITLE=26 S Main St:geo:-82.4425017,34.9670847
END:VEVENT
BEGIN:VEVENT
DTSTART;TZID=America/New_York:20240224T120000
DTEND;TZID=America/New_York:20240224T150000
DTSTAMP:20260424T035952
CREATED:20240217T202442Z
LAST-MODIFIED:20240527T165744Z
UID:25957-1708776000-1708786800@864foodtrucks.com
SUMMARY:Lobster Dogs @ Advance Auto TR
DESCRIPTION:Food truck serving the Best Lobster Rolls & Stuffed Avocados in the Carolinas
URL:https://864foodtrucks.com/event/lobster-dogs-advance-auto-tr-2/2024-02-24/
LOCATION:Advance Auto TR\, Walnut Lane 100\, Travelers Rest\, South Carolina\, 29690\, United States
CATEGORIES:Food Truck Schedules,Travelers Rest
ATTACH;FMTTYPE=image/jpeg:https://864foodtrucks.com/wp-content/uploads/2021/05/lobster-dogs-Food-Truck.jpg
ORGANIZER;CN="Lobster Dogs":MAILTO:lobsterdogs3@gmail.com
GEO:34.9700782;-82.4282687
X-APPLE-STRUCTURED-LOCATION;VALUE=URI;X-ADDRESS=Advance Auto TR Walnut Lane 100 Travelers Rest South Carolina 29690 United States;X-APPLE-RADIUS=500;X-TITLE=Walnut Lane 100:geo:-82.4282687,34.9700782
END:VEVENT
BEGIN:VEVENT
DTSTART;TZID=America/New_York:20240210T120000
DTEND;TZID=America/New_York:20240210T150000
DTSTAMP:20260424T035952
CREATED:20240205T181725Z
LAST-MODIFIED:20240205T181725Z
UID:25674-1707566400-1707577200@864foodtrucks.com
SUMMARY:Vita Nova Coffee @ Tea @ TR Farmer's Market
DESCRIPTION:The vision of Vita Nova is to bring communities together around good coffee\, delicacies and various entertainment!
URL:https://864foodtrucks.com/event/vita-nova-coffee-tea-tr-farmers-market/
LOCATION:Trailblazer Park\, 235 Trailblazer Dr\, Travelers Rest\, SC\, 29690\, United States
CATEGORIES:Food Truck Schedules,Travelers Rest
ATTACH;FMTTYPE=image/jpeg:https://864foodtrucks.com/wp-content/uploads/2023/06/Vita-Nova-1.jpg
ORGANIZER;CN="Vita Nova Coffee And Tea":MAILTO:Vitanova3710@gmail.com
GEO:34.95593;-82.4419747
X-APPLE-STRUCTURED-LOCATION;VALUE=URI;X-ADDRESS=Trailblazer Park 235 Trailblazer Dr Travelers Rest SC 29690 United States;X-APPLE-RADIUS=500;X-TITLE=235 Trailblazer Dr:geo:-82.4419747,34.95593
END:VEVENT
BEGIN:VEVENT
DTSTART;TZID=America/New_York:20240120T080000
DTEND;TZID=America/New_York:20240120T110000
DTSTAMP:20260424T035952
CREATED:20240115T190024Z
LAST-MODIFIED:20240207T193350Z
UID:25122-1705737600-1705748400@864foodtrucks.com
SUMMARY:Taco Shack @ Swamp Rabbit Brewery
DESCRIPTION:
URL:https://864foodtrucks.com/event/taco-shack-swamp-rabbit-brewery/2024-01-20/
LOCATION:Swamp Rabbit Brewery\, 26 S Main St\, Travelers Rest\, South Carolina
CATEGORIES:Food Truck Schedules,Travelers Rest
ATTACH;FMTTYPE=image/jpeg:https://864foodtrucks.com/wp-content/uploads/2024/01/Taco-Shack.jpg
ORGANIZER;CN="Taco Shack":MAILTO:Tacoshackfoodtruck@gmail.com
GEO:34.9670847;-82.4425017
X-APPLE-STRUCTURED-LOCATION;VALUE=URI;X-ADDRESS=Swamp Rabbit Brewery 26 S Main St Travelers Rest South Carolina;X-APPLE-RADIUS=500;X-TITLE=26 S Main St:geo:-82.4425017,34.9670847
END:VEVENT
BEGIN:VEVENT
DTSTART;TZID=America/New_York:20240119T110000
DTEND;TZID=America/New_York:20240119T130000
DTSTAMP:20260424T035952
CREATED:20240115T225443Z
LAST-MODIFIED:20240207T193240Z
UID:25160-1705662000-1705669200@864foodtrucks.com
SUMMARY:Big Fuss Fresh Food @ Swamp Rabbit Brewery
DESCRIPTION:We are a mobile food truck that specializes in fresh food with amazing flavor.
URL:https://864foodtrucks.com/event/big-fuss-fresh-food-swamp-rabbit-brewery/2024-01-19/
LOCATION:Swamp Rabbit Brewery\, 26 S Main St\, Travelers Rest\, South Carolina
CATEGORIES:Food Truck Schedules,Travelers Rest
ATTACH;FMTTYPE=image/jpeg:https://864foodtrucks.com/wp-content/uploads/2023/07/Big-Fuss-Fresh-Food.jpg
GEO:34.9670847;-82.4425017
X-APPLE-STRUCTURED-LOCATION;VALUE=URI;X-ADDRESS=Swamp Rabbit Brewery 26 S Main St Travelers Rest South Carolina;X-APPLE-RADIUS=500;X-TITLE=26 S Main St:geo:-82.4425017,34.9670847
END:VEVENT
BEGIN:VEVENT
DTSTART;TZID=America/New_York:20240107T120000
DTEND;TZID=America/New_York:20240107T120000
DTSTAMP:20260424T035952
CREATED:20240102T184229Z
LAST-MODIFIED:20240102T184229Z
UID:24914-1704628800-1704628800@864foodtrucks.com
SUMMARY:Lobster Dogs @Advance Auto TR
DESCRIPTION:Food truck serving the Best Lobster Rolls & Stuffed Avocados in the Carolinas
URL:https://864foodtrucks.com/event/lobster-dogs-advance-auto-tr/
LOCATION:Advance Auto TR\, Walnut Lane 100\, Travelers Rest\, South Carolina\, 29690\, United States
CATEGORIES:Food Truck Schedules,Travelers Rest
ATTACH;FMTTYPE=image/jpeg:https://864foodtrucks.com/wp-content/uploads/2021/05/lobster-dogs-Food-Truck.jpg
ORGANIZER;CN="Lobster Dogs":MAILTO:lobsterdogs3@gmail.com
GEO:34.9700782;-82.4282687
X-APPLE-STRUCTURED-LOCATION;VALUE=URI;X-ADDRESS=Advance Auto TR Walnut Lane 100 Travelers Rest South Carolina 29690 United States;X-APPLE-RADIUS=500;X-TITLE=Walnut Lane 100:geo:-82.4282687,34.9700782
END:VEVENT
BEGIN:VEVENT
DTSTART;TZID=America/New_York:20231230T120000
DTEND;TZID=America/New_York:20231230T150000
DTSTAMP:20260424T035952
CREATED:20231228T171432Z
LAST-MODIFIED:20231228T171432Z
UID:24887-1703937600-1703948400@864foodtrucks.com
SUMMARY:Xtreme Cheesecakez @ Swamp Rabbit Brewery
DESCRIPTION:
URL:https://864foodtrucks.com/event/xtreme-cheesecakez-swamp-rabbit-brewery/
LOCATION:Swamp Rabbit Brewery\, 26 S Main St\, Travelers Rest\, South Carolina
CATEGORIES:Food Truck Schedules,Travelers Rest
ATTACH;FMTTYPE=image/jpeg:https://864foodtrucks.com/wp-content/uploads/2023/07/Xtreme-Cheesecakz.jpg
ORGANIZER;CN="Xtreme Cheesecakez":MAILTO:xtremecheesecakez@gmail.com
GEO:34.9670847;-82.4425017
X-APPLE-STRUCTURED-LOCATION;VALUE=URI;X-ADDRESS=Swamp Rabbit Brewery 26 S Main St Travelers Rest South Carolina;X-APPLE-RADIUS=500;X-TITLE=26 S Main St:geo:-82.4425017,34.9670847
END:VEVENT
END:VCALENDAR