BEGIN:VCALENDAR
VERSION:2.0
PRODID:-//864 Food Trucks - ECPv6.15.20//NONSGML v1.0//EN
CALSCALE:GREGORIAN
METHOD:PUBLISH
X-WR-CALNAME:864 Food Trucks
X-ORIGINAL-URL:https://864foodtrucks.com
X-WR-CALDESC:Events for 864 Food Trucks
REFRESH-INTERVAL;VALUE=DURATION:PT1H
X-Robots-Tag:noindex
X-PUBLISHED-TTL:PT1H
BEGIN:VTIMEZONE
TZID:America/New_York
BEGIN:DAYLIGHT
TZOFFSETFROM:-0500
TZOFFSETTO:-0400
TZNAME:EDT
DTSTART:20230312T070000
END:DAYLIGHT
BEGIN:STANDARD
TZOFFSETFROM:-0400
TZOFFSETTO:-0500
TZNAME:EST
DTSTART:20231105T060000
END:STANDARD
BEGIN:DAYLIGHT
TZOFFSETFROM:-0500
TZOFFSETTO:-0400
TZNAME:EDT
DTSTART:20240310T070000
END:DAYLIGHT
BEGIN:STANDARD
TZOFFSETFROM:-0400
TZOFFSETTO:-0500
TZNAME:EST
DTSTART:20241103T060000
END:STANDARD
BEGIN:DAYLIGHT
TZOFFSETFROM:-0500
TZOFFSETTO:-0400
TZNAME:EDT
DTSTART:20250309T070000
END:DAYLIGHT
BEGIN:STANDARD
TZOFFSETFROM:-0400
TZOFFSETTO:-0500
TZNAME:EST
DTSTART:20251102T060000
END:STANDARD
BEGIN:DAYLIGHT
TZOFFSETFROM:-0500
TZOFFSETTO:-0400
TZNAME:EDT
DTSTART:20260308T070000
END:DAYLIGHT
BEGIN:STANDARD
TZOFFSETFROM:-0400
TZOFFSETTO:-0500
TZNAME:EST
DTSTART:20261101T060000
END:STANDARD
BEGIN:DAYLIGHT
TZOFFSETFROM:-0500
TZOFFSETTO:-0400
TZNAME:EDT
DTSTART:20270314T070000
END:DAYLIGHT
BEGIN:STANDARD
TZOFFSETFROM:-0400
TZOFFSETTO:-0500
TZNAME:EST
DTSTART:20271107T060000
END:STANDARD
END:VTIMEZONE
BEGIN:VEVENT
DTSTART;TZID=America/New_York:20260121T170000
DTEND;TZID=America/New_York:20260121T190000
DTSTAMP:20260425T101735
CREATED:20260118T205009Z
LAST-MODIFIED:20260118T205009Z
UID:58948-1769014800-1769022000@864foodtrucks.com
SUMMARY:The Noodle Lady @ 1137 Melford Ave
DESCRIPTION:Authentic Chinese dishes for catering and events. Artisan Noodles and 100% Natural. Check out here our events calendar in Greenville\, South Carolina. #TheNoodleLady
URL:https://864foodtrucks.com/event/the-noodle-lady-1137-melford-ave/
LOCATION:1137 Melford Ave\, 1137 Melford Ave\, Welford\, South Carolina
CATEGORIES:Food Truck Schedules,Wellford
ATTACH;FMTTYPE=image/jpeg:https://864foodtrucks.com/wp-content/uploads/2023/07/Noodle-lady.jpg
ORGANIZER;CN="The Noodle Lady":MAILTO:thenoodlelady@yahoo.com
GEO:34.9749312;-82.1281526
X-APPLE-STRUCTURED-LOCATION;VALUE=URI;X-ADDRESS=1137 Melford Ave 1137 Melford Ave Welford South Carolina;X-APPLE-RADIUS=500;X-TITLE=1137 Melford Ave:geo:-82.1281526,34.9749312
END:VEVENT
BEGIN:VEVENT
DTSTART;TZID=America/New_York:20251026T180000
DTEND;TZID=America/New_York:20251026T200000
DTSTAMP:20260425T101735
CREATED:20251020T191048Z
LAST-MODIFIED:20251020T191048Z
UID:55320-1761501600-1761508800@864foodtrucks.com
SUMMARY:Churro Masters @ Wellford Baptist Church Fall Festival
DESCRIPTION:Delicious CHURROS made fresh!
URL:https://864foodtrucks.com/event/churro-masters-wellford-baptist-church-fall-festival/
LOCATION:Wellford Baptist Church\, Syphrit Road 235\, Wellford\, South Carolina\, 29385\, United States
CATEGORIES:Food Truck Schedules,Wellford
ATTACH;FMTTYPE=image/jpeg:https://864foodtrucks.com/wp-content/uploads/2025/03/Churro-Masters.jpg
ORGANIZER;CN="Churro Masters":MAILTO:Churromastersemail@gmail.com
GEO:34.956011;-82.1075465
X-APPLE-STRUCTURED-LOCATION;VALUE=URI;X-ADDRESS=Wellford Baptist Church Syphrit Road 235 Wellford South Carolina 29385 United States;X-APPLE-RADIUS=500;X-TITLE=Syphrit Road 235:geo:-82.1075465,34.956011
END:VEVENT
BEGIN:VEVENT
DTSTART;TZID=America/New_York:20241123T080000
DTEND;TZID=America/New_York:20241123T200000
DTSTAMP:20260425T101735
CREATED:20241119T191526Z
LAST-MODIFIED:20241119T191526Z
UID:39995-1732348800-1732392000@864foodtrucks.com
SUMMARY:Churro Masters @ Carolina FC Soccer Tournament
DESCRIPTION:Delicious CHURROS made fresh!
URL:https://864foodtrucks.com/event/churro-masters-carolina-fc-soccer-tournament/
LOCATION:Carolina FC Soccer Tournament\, Madison Avenue 200\, Wellford\, South Carolina\, 29385\, United States
CATEGORIES:Food Truck Schedules,Wellford
ATTACH;FMTTYPE=image/jpeg:https://864foodtrucks.com/wp-content/uploads/2023/05/Churro-Masters-1.jpg
ORGANIZER;CN="Churro Masters":MAILTO:Churromastersemail@gmail.com
GEO:34.9482349;-82.1090576
X-APPLE-STRUCTURED-LOCATION;VALUE=URI;X-ADDRESS=Carolina FC Soccer Tournament Madison Avenue 200 Wellford South Carolina 29385 United States;X-APPLE-RADIUS=500;X-TITLE=Madison Avenue 200:geo:-82.1090576,34.9482349
END:VEVENT
END:VCALENDAR