BEGIN:VCALENDAR
VERSION:2.0
PRODID:-//864 Food Trucks - ECPv6.15.20//NONSGML v1.0//EN
CALSCALE:GREGORIAN
METHOD:PUBLISH
X-WR-CALNAME:864 Food Trucks
X-ORIGINAL-URL:https://864foodtrucks.com
X-WR-CALDESC:Events for 864 Food Trucks
REFRESH-INTERVAL;VALUE=DURATION:PT1H
X-Robots-Tag:noindex
X-PUBLISHED-TTL:PT1H
BEGIN:VTIMEZONE
TZID:America/New_York
BEGIN:DAYLIGHT
TZOFFSETFROM:-0500
TZOFFSETTO:-0400
TZNAME:EDT
DTSTART:20210314T070000
END:DAYLIGHT
BEGIN:STANDARD
TZOFFSETFROM:-0400
TZOFFSETTO:-0500
TZNAME:EST
DTSTART:20211107T060000
END:STANDARD
BEGIN:DAYLIGHT
TZOFFSETFROM:-0500
TZOFFSETTO:-0400
TZNAME:EDT
DTSTART:20220313T070000
END:DAYLIGHT
BEGIN:STANDARD
TZOFFSETFROM:-0400
TZOFFSETTO:-0500
TZNAME:EST
DTSTART:20221106T060000
END:STANDARD
BEGIN:DAYLIGHT
TZOFFSETFROM:-0500
TZOFFSETTO:-0400
TZNAME:EDT
DTSTART:20230312T070000
END:DAYLIGHT
BEGIN:STANDARD
TZOFFSETFROM:-0400
TZOFFSETTO:-0500
TZNAME:EST
DTSTART:20231105T060000
END:STANDARD
BEGIN:DAYLIGHT
TZOFFSETFROM:-0500
TZOFFSETTO:-0400
TZNAME:EDT
DTSTART:20240310T070000
END:DAYLIGHT
BEGIN:STANDARD
TZOFFSETFROM:-0400
TZOFFSETTO:-0500
TZNAME:EST
DTSTART:20241103T060000
END:STANDARD
END:VTIMEZONE
BEGIN:VEVENT
DTSTART;TZID=America/New_York:20230421T123000
DTEND;TZID=America/New_York:20230421T133000
DTSTAMP:20260424T123224
CREATED:20230416T143435Z
LAST-MODIFIED:20230416T143435Z
UID:18264-1682080200-1682083800@864foodtrucks.com
SUMMARY:Sky Cream Ice Cream @ Palmetto Elementary
DESCRIPTION:Greenville’s cutest ice cream truck coming to a neighborhood near you!
URL:https://864foodtrucks.com/event/sky-cream-ice-cream-palmetto-elementary/
LOCATION:Palmetto Elementary\, 1 Roberts Blvd\, Williamston\, SC\, United States
CATEGORIES:Food Truck Schedules,Williamston
ATTACH;FMTTYPE=image/jpeg:https://864foodtrucks.com/wp-content/uploads/2022/05/Sky-Cream-Ice-Cream-Truck.jpg
ORGANIZER;CN="Sky Cream Ice Cream Truck":MAILTO:skycreamicecreamtruck@gmail.com
END:VEVENT
BEGIN:VEVENT
DTSTART;TZID=America/New_York:20230302T110000
DTEND;TZID=America/New_York:20230302T130000
DTSTAMP:20260424T123224
CREATED:20230227T193936Z
LAST-MODIFIED:20250506T144313Z
UID:17184-1677754800-1677762000@864foodtrucks.com
SUMMARY:Kodesh BBQ Bowls @ Ryobi
DESCRIPTION:Kodesh BBQ Bowls is a mobile food trailer that provides a heap amount of Levitical clean\, flavorful\, pit smoked BBQ. We’ve also come up with a link between enjoying our delicious BBQ and providing healthier options\, our cultural inspired bowls!
URL:https://864foodtrucks.com/event/kodesh-bbq-bowls-ryobi/2023-03-02/
LOCATION:Ryobi\, 440 Lithium Ln\, Anderson\, SC\, 29621\, United States
CATEGORIES:Food Truck Schedules,Williamston
ATTACH;FMTTYPE=image/jpeg:https://864foodtrucks.com/wp-content/uploads/2022/05/Kodesh-BBQ.jpg
ORGANIZER;CN="Kodesh BBQ & Bowls":MAILTO:kodeshbbq@gmail.com
GEO:34.6314402;-82.6131861
X-APPLE-STRUCTURED-LOCATION;VALUE=URI;X-ADDRESS=Ryobi 440 Lithium Ln Anderson SC 29621 United States;X-APPLE-RADIUS=500;X-TITLE=440 Lithium Ln:geo:-82.6131861,34.6314402
END:VEVENT
BEGIN:VEVENT
DTSTART;TZID=America/New_York:20221122T100000
DTEND;TZID=America/New_York:20221122T140000
DTSTAMP:20260424T123224
CREATED:20221119T014844Z
LAST-MODIFIED:20230104T191339Z
UID:14781-1669111200-1669125600@864foodtrucks.com
SUMMARY:Simpell Sammies @ Walgreens Distribution
DESCRIPTION:Simpell Sammies is open for business and ready to serve you flavorful and delicious sandwiches and hoagies.
URL:https://864foodtrucks.com/event/simpell-sammies-walgreens-distribution/2022-11-22/
LOCATION:Walgreen Distribution\, 101 Alliance Pkwy\, Williamson\, South Carolina
CATEGORIES:Food Truck Schedules,Williamston
ATTACH;FMTTYPE=image/jpeg:https://864foodtrucks.com/wp-content/uploads/2021/12/Simpell-Sammies-Trailer.jpg
ORGANIZER;CN="Simpell Sammies":MAILTO:info@simpelltreats.com
GEO:34.6319637;-82.5801154
X-APPLE-STRUCTURED-LOCATION;VALUE=URI;X-ADDRESS=Walgreen Distribution 101 Alliance Pkwy Williamson South Carolina;X-APPLE-RADIUS=500;X-TITLE=101 Alliance Pkwy:geo:-82.5801154,34.6319637
END:VEVENT
BEGIN:VEVENT
DTSTART;TZID=America/New_York:20221117T100000
DTEND;TZID=America/New_York:20221117T130000
DTSTAMP:20260424T123224
CREATED:20221116T214551Z
LAST-MODIFIED:20221116T214551Z
UID:14724-1668679200-1668690000@864foodtrucks.com
SUMMARY:Kodesh BBQ Bowls @ Walgreens Distribution
DESCRIPTION:Kodesh BBQ Bowls is a mobile food trailer that provides a heap amount of Levitical clean\, flavorful\, pit smoked BBQ. We’ve also come up with a link between enjoying our delicious BBQ and providing healthier options\, our cultural inspired bowls!
URL:https://864foodtrucks.com/event/kodesh-bbq-bowls-walgreens-distribution/
LOCATION:Walgreen Distribution\, 101 Alliance Pkwy\, Williamson\, South Carolina
CATEGORIES:Food Truck Schedules,Williamston
ATTACH;FMTTYPE=image/jpeg:https://864foodtrucks.com/wp-content/uploads/2022/05/Kodesh-BBQ.jpg
ORGANIZER;CN="Kodesh BBQ & Bowls":MAILTO:kodeshbbq@gmail.com
GEO:34.6319637;-82.5801154
X-APPLE-STRUCTURED-LOCATION;VALUE=URI;X-ADDRESS=Walgreen Distribution 101 Alliance Pkwy Williamson South Carolina;X-APPLE-RADIUS=500;X-TITLE=101 Alliance Pkwy:geo:-82.5801154,34.6319637
END:VEVENT
END:VCALENDAR