BEGIN:VCALENDAR
VERSION:2.0
PRODID:-//864 Food Trucks - ECPv6.15.20//NONSGML v1.0//EN
CALSCALE:GREGORIAN
METHOD:PUBLISH
X-WR-CALNAME:864 Food Trucks
X-ORIGINAL-URL:https://864foodtrucks.com
X-WR-CALDESC:Events for 864 Food Trucks
REFRESH-INTERVAL;VALUE=DURATION:PT1H
X-Robots-Tag:noindex
X-PUBLISHED-TTL:PT1H
BEGIN:VTIMEZONE
TZID:America/New_York
BEGIN:DAYLIGHT
TZOFFSETFROM:-0500
TZOFFSETTO:-0400
TZNAME:EDT
DTSTART:20210314T070000
END:DAYLIGHT
BEGIN:STANDARD
TZOFFSETFROM:-0400
TZOFFSETTO:-0500
TZNAME:EST
DTSTART:20211107T060000
END:STANDARD
BEGIN:DAYLIGHT
TZOFFSETFROM:-0500
TZOFFSETTO:-0400
TZNAME:EDT
DTSTART:20220313T070000
END:DAYLIGHT
BEGIN:STANDARD
TZOFFSETFROM:-0400
TZOFFSETTO:-0500
TZNAME:EST
DTSTART:20221106T060000
END:STANDARD
BEGIN:DAYLIGHT
TZOFFSETFROM:-0500
TZOFFSETTO:-0400
TZNAME:EDT
DTSTART:20230312T070000
END:DAYLIGHT
BEGIN:STANDARD
TZOFFSETFROM:-0400
TZOFFSETTO:-0500
TZNAME:EST
DTSTART:20231105T060000
END:STANDARD
BEGIN:DAYLIGHT
TZOFFSETFROM:-0500
TZOFFSETTO:-0400
TZNAME:EDT
DTSTART:20240310T070000
END:DAYLIGHT
BEGIN:STANDARD
TZOFFSETFROM:-0400
TZOFFSETTO:-0500
TZNAME:EST
DTSTART:20241103T060000
END:STANDARD
BEGIN:DAYLIGHT
TZOFFSETFROM:-0500
TZOFFSETTO:-0400
TZNAME:EDT
DTSTART:20250309T070000
END:DAYLIGHT
BEGIN:STANDARD
TZOFFSETFROM:-0400
TZOFFSETTO:-0500
TZNAME:EST
DTSTART:20251102T060000
END:STANDARD
END:VTIMEZONE
BEGIN:VEVENT
DTSTART;TZID=America/New_York:20240810T120000
DTEND;TZID=America/New_York:20240810T150000
DTSTAMP:20260425T105043
CREATED:20240805T153410Z
LAST-MODIFIED:20240805T153410Z
UID:33374-1723291200-1723302000@864foodtrucks.com
SUMMARY:Lobster Dogs @ Lakestone
DESCRIPTION:Food truck serving the Best Lobster Rolls & Stuffed Avocados in the Carolinas
URL:https://864foodtrucks.com/event/lobster-dogs-lakestone/
LOCATION:Lakestone\, Jubilee Trail\, Woodruff\, South Carolina\, 29388\, United States
CATEGORIES:Food Truck Schedules,Woodruff
ATTACH;FMTTYPE=image/jpeg:https://864foodtrucks.com/wp-content/uploads/2021/05/lobster-dogs-Food-Truck.jpg
ORGANIZER;CN="Lobster Dogs":MAILTO:lobsterdogs3@gmail.com
GEO:34.769661;-82.070758
X-APPLE-STRUCTURED-LOCATION;VALUE=URI;X-ADDRESS=Lakestone Jubilee Trail Woodruff South Carolina 29388 United States;X-APPLE-RADIUS=500;X-TITLE=Jubilee Trail:geo:-82.070758,34.769661
END:VEVENT
BEGIN:VEVENT
DTSTART;TZID=America/New_York:20240222T110000
DTEND;TZID=America/New_York:20240222T140000
DTSTAMP:20260425T105043
CREATED:20240217T202236Z
LAST-MODIFIED:20240909T185624Z
UID:25955-1708599600-1708610400@864foodtrucks.com
SUMMARY:Lobster Dogs @ Tractor Supply Woodruff
DESCRIPTION:Food truck serving the Best Lobster Rolls & Stuffed Avocados in the Carolinas
URL:https://864foodtrucks.com/event/lobster-dogs-tractor-supply-woodruff/2024-02-22/
LOCATION:Tractor Supply Woodruff\, 391 N Main St\, Woodruff\, SC\, United States
CATEGORIES:Food Truck Schedules,Woodruff
ATTACH;FMTTYPE=image/jpeg:https://864foodtrucks.com/wp-content/uploads/2021/05/lobster-dogs-Food-Truck.jpg
ORGANIZER;CN="Lobster Dogs":MAILTO:lobsterdogs3@gmail.com
END:VEVENT
BEGIN:VEVENT
DTSTART;TZID=America/New_York:20231128T170000
DTEND;TZID=America/New_York:20231128T200000
DTSTAMP:20260425T105043
CREATED:20231127T185024Z
LAST-MODIFIED:20250122T191813Z
UID:24349-1701190800-1701201600@864foodtrucks.com
SUMMARY:Fifi Hibachi @ Main Street Woodruff
DESCRIPTION:
URL:https://864foodtrucks.com/event/fifi-hibachi-main-street-woodruff/2023-11-28/
LOCATION:Main Street Woodruff\, South Main Street\, Woodruff\, South Carolina\, 29388\, United States
CATEGORIES:Food Truck Schedules,Woodruff
ATTACH;FMTTYPE=image/jpeg:https://864foodtrucks.com/wp-content/uploads/2023/11/Fifis-Hibachi.jpg
GEO:34.7344511;-82.0337043
X-APPLE-STRUCTURED-LOCATION;VALUE=URI;X-ADDRESS=Main Street Woodruff South Main Street Woodruff South Carolina 29388 United States;X-APPLE-RADIUS=500;X-TITLE=South Main Street:geo:-82.0337043,34.7344511
END:VEVENT
BEGIN:VEVENT
DTSTART;TZID=America/New_York:20230922T070000
DTEND;TZID=America/New_York:20230922T110000
DTSTAMP:20260425T105043
CREATED:20230918T172631Z
LAST-MODIFIED:20230918T172631Z
UID:22941-1695366000-1695380400@864foodtrucks.com
SUMMARY:Vita Nova Coffee & Tea @ Triple Tree Aerodome
DESCRIPTION:The vision of Vita Nova is to bring communities together around good coffee\, delicacies and various entertainment!
URL:https://864foodtrucks.com/event/vita-nova-coffee-tea-triple-tree-aerodome/2023-09-22/
LOCATION:Triple Tree Aerodome\, Mary Hanna Road 330\, Woodruff\, South Carolina\, 29388\, United States
CATEGORIES:Food Truck Schedules,Woodruff
ATTACH;FMTTYPE=image/jpeg:https://864foodtrucks.com/wp-content/uploads/2023/06/Vita-Nova-2.jpg
ORGANIZER;CN="Vita Nova Coffee And Tea":MAILTO:Vitanova3710@gmail.com
GEO:34.675241;-81.9979099
X-APPLE-STRUCTURED-LOCATION;VALUE=URI;X-ADDRESS=Triple Tree Aerodome Mary Hanna Road 330 Woodruff South Carolina 29388 United States;X-APPLE-RADIUS=500;X-TITLE=Mary Hanna Road 330:geo:-81.9979099,34.675241
END:VEVENT
BEGIN:VEVENT
DTSTART;TZID=America/New_York:20221203T170000
DTEND;TZID=America/New_York:20221203T200000
DTSTAMP:20260425T105043
CREATED:20221119T015238Z
LAST-MODIFIED:20221119T015238Z
UID:14786-1670086800-1670097600@864foodtrucks.com
SUMMARY:Simpell Sammies @ Toy Drive at Woodruff Church
DESCRIPTION:Simpell Sammies is open for business and ready to serve you flavorful and delicious sandwiches and hoagies.
URL:https://864foodtrucks.com/event/simpell-sammies-toy-drive-at-woodruff-church/
LOCATION:Woodruff Church\, Woodruff\, SC\, United States
CATEGORIES:Food Truck Schedules,Woodruff
ATTACH;FMTTYPE=image/jpeg:https://864foodtrucks.com/wp-content/uploads/2021/12/Simpell-Sammies-Trailer.jpg
ORGANIZER;CN="Simpell Sammies":MAILTO:info@simpelltreats.com
END:VEVENT
END:VCALENDAR