BEGIN:VCALENDAR
VERSION:2.0
PRODID:-//864 Food Trucks - ECPv6.15.20//NONSGML v1.0//EN
CALSCALE:GREGORIAN
METHOD:PUBLISH
X-ORIGINAL-URL:https://864foodtrucks.com
X-WR-CALDESC:Events for 864 Food Trucks
REFRESH-INTERVAL;VALUE=DURATION:PT1H
X-Robots-Tag:noindex
X-PUBLISHED-TTL:PT1H
BEGIN:VTIMEZONE
TZID:America/New_York
BEGIN:DAYLIGHT
TZOFFSETFROM:-0500
TZOFFSETTO:-0400
TZNAME:EDT
DTSTART:20220313T070000
END:DAYLIGHT
BEGIN:STANDARD
TZOFFSETFROM:-0400
TZOFFSETTO:-0500
TZNAME:EST
DTSTART:20221106T060000
END:STANDARD
BEGIN:DAYLIGHT
TZOFFSETFROM:-0500
TZOFFSETTO:-0400
TZNAME:EDT
DTSTART:20230312T070000
END:DAYLIGHT
BEGIN:STANDARD
TZOFFSETFROM:-0400
TZOFFSETTO:-0500
TZNAME:EST
DTSTART:20231105T060000
END:STANDARD
BEGIN:DAYLIGHT
TZOFFSETFROM:-0500
TZOFFSETTO:-0400
TZNAME:EDT
DTSTART:20240310T070000
END:DAYLIGHT
BEGIN:STANDARD
TZOFFSETFROM:-0400
TZOFFSETTO:-0500
TZNAME:EST
DTSTART:20241103T060000
END:STANDARD
END:VTIMEZONE
BEGIN:VEVENT
DTSTART;TZID=America/New_York:20230318T080000
DTEND;TZID=America/New_York:20230318T120000
DTSTAMP:20260425T202006
CREATED:20230315T002000Z
LAST-MODIFIED:20230315T002000Z
UID:17577-1679126400-1679140800@864foodtrucks.com
SUMMARY:Batter Up @ 5k Dash & Bash
DESCRIPTION:The All-Natural Cookie Dough Cart in Greenville\, SC with a baseball flair! Heat treated\, egg free & all-natural ingredients! It’s okay…Dig in!
URL:https://864foodtrucks.com/event/batter-up-5k-dash-bash/
LOCATION:Fluor Field\, 945 S Main St\, Greenville\, South Carolina
CATEGORIES:Food Truck Schedules,Greenville
ATTACH;FMTTYPE=image/jpeg:https://864foodtrucks.com/wp-content/uploads/2021/05/Batter-up.jpg
GEO:34.8429072;-82.4091406
X-APPLE-STRUCTURED-LOCATION;VALUE=URI;X-ADDRESS=Fluor Field 945 S Main St Greenville South Carolina;X-APPLE-RADIUS=500;X-TITLE=945 S Main St:geo:-82.4091406,34.8429072
END:VEVENT
END:VCALENDAR