BEGIN:VCALENDAR
VERSION:2.0
PRODID:-//864 Food Trucks - ECPv6.15.20//NONSGML v1.0//EN
CALSCALE:GREGORIAN
METHOD:PUBLISH
X-ORIGINAL-URL:https://864foodtrucks.com
X-WR-CALDESC:Events for 864 Food Trucks
REFRESH-INTERVAL;VALUE=DURATION:PT1H
X-Robots-Tag:noindex
X-PUBLISHED-TTL:PT1H
BEGIN:VTIMEZONE
TZID:America/New_York
BEGIN:DAYLIGHT
TZOFFSETFROM:-0500
TZOFFSETTO:-0400
TZNAME:EDT
DTSTART:20220313T070000
END:DAYLIGHT
BEGIN:STANDARD
TZOFFSETFROM:-0400
TZOFFSETTO:-0500
TZNAME:EST
DTSTART:20221106T060000
END:STANDARD
BEGIN:DAYLIGHT
TZOFFSETFROM:-0500
TZOFFSETTO:-0400
TZNAME:EDT
DTSTART:20230312T070000
END:DAYLIGHT
BEGIN:STANDARD
TZOFFSETFROM:-0400
TZOFFSETTO:-0500
TZNAME:EST
DTSTART:20231105T060000
END:STANDARD
BEGIN:DAYLIGHT
TZOFFSETFROM:-0500
TZOFFSETTO:-0400
TZNAME:EDT
DTSTART:20240310T070000
END:DAYLIGHT
BEGIN:STANDARD
TZOFFSETFROM:-0400
TZOFFSETTO:-0500
TZNAME:EST
DTSTART:20241103T060000
END:STANDARD
END:VTIMEZONE
BEGIN:VEVENT
DTSTART;TZID=America/New_York:20231121T180000
DTEND;TZID=America/New_York:20231121T200000
DTSTAMP:20260424T074417
CREATED:20231119T223241Z
LAST-MODIFIED:20240325T213223Z
UID:24196-1700589600-1700596800@864foodtrucks.com
SUMMARY:Big Fuss Fresh Food @ Tetrad Brewing Co
DESCRIPTION:We are a mobile food truck that specializes in fresh food with amazing flavor.
URL:https://864foodtrucks.com/event/big-fuss-fresh-food-tetrad-brewing-co/2023-11-21/
LOCATION:Tetrad Brewing\, 603 E Stone Ave\, Greenville\, SC\, 29601\, United States
CATEGORIES:Food Truck Schedules,Greenville
ATTACH;FMTTYPE=image/jpeg:https://864foodtrucks.com/wp-content/uploads/2023/07/Big-Fuss-Fresh-Food.jpg
GEO:34.8585948;-82.3848082
X-APPLE-STRUCTURED-LOCATION;VALUE=URI;X-ADDRESS=Tetrad Brewing 603 E Stone Ave Greenville SC 29601 United States;X-APPLE-RADIUS=500;X-TITLE=603 E Stone Ave:geo:-82.3848082,34.8585948
END:VEVENT
BEGIN:VEVENT
DTSTART;TZID=America/New_York:20231118T110000
DTEND;TZID=America/New_York:20231118T130000
DTSTAMP:20260424T074417
CREATED:20231114T195416Z
LAST-MODIFIED:20231114T195416Z
UID:24157-1700305200-1700312400@864foodtrucks.com
SUMMARY:Big Fuss Fresh Foods @ Palisades at Howell Rd
DESCRIPTION:We are a mobile food truck that specializes in fresh food with amazing flavor.
URL:https://864foodtrucks.com/event/big-fuss-fresh-foods-palisades-at-howell-rd/
LOCATION:Palisades at Howell Rd\, Ardmore Springs Circle 14001\, Greenville\, South Carolina\, 29615\, United States
CATEGORIES:Food Truck Schedules,Greenville
ATTACH;FMTTYPE=image/jpeg:https://864foodtrucks.com/wp-content/uploads/2023/07/Big-Fuss-Fresh-Food.jpg
GEO:34.8762237;-82.329149
X-APPLE-STRUCTURED-LOCATION;VALUE=URI;X-ADDRESS=Palisades at Howell Rd Ardmore Springs Circle 14001 Greenville South Carolina 29615 United States;X-APPLE-RADIUS=500;X-TITLE=Ardmore Springs Circle 14001:geo:-82.329149,34.8762237
END:VEVENT
BEGIN:VEVENT
DTSTART;TZID=America/New_York:20231117T170000
DTEND;TZID=America/New_York:20231117T200000
DTSTAMP:20260424T074417
CREATED:20231114T191131Z
LAST-MODIFIED:20231114T191131Z
UID:24155-1700240400-1700251200@864foodtrucks.com
SUMMARY:Big Fuss Fresh Foods @ Jocassee Valley Brewing Company
DESCRIPTION:We are a mobile food truck that specializes in fresh food with amazing flavor.
URL:https://864foodtrucks.com/event/big-fuss-fresh-foods-jocassee-valley-brewing-company/
LOCATION:Jocassee Valley Brewing\, 13412 Sc-11\, Salem\, South Carolina
CATEGORIES:Food Truck Schedules,Salem
ATTACH;FMTTYPE=image/jpeg:https://864foodtrucks.com/wp-content/uploads/2023/07/Big-Fuss-Fresh-Food.jpg
GEO:34.907363;-82.9715987
X-APPLE-STRUCTURED-LOCATION;VALUE=URI;X-ADDRESS=Jocassee Valley Brewing 13412 Sc-11 Salem South Carolina;X-APPLE-RADIUS=500;X-TITLE=13412 Sc-11:geo:-82.9715987,34.907363
END:VEVENT
BEGIN:VEVENT
DTSTART;TZID=America/New_York:20231116T170000
DTEND;TZID=America/New_York:20231116T190000
DTSTAMP:20260424T074417
CREATED:20231114T185925Z
LAST-MODIFIED:20231114T185925Z
UID:24152-1700154000-1700161200@864foodtrucks.com
SUMMARY:Big Fuss Fresh Foods @ River Trace
DESCRIPTION:We are a mobile food truck that specializes in fresh food with amazing flavor.
URL:https://864foodtrucks.com/event/big-fuss-fresh-foods-river-trace/
LOCATION:River Trace\, River Trace Loop 409\, Simpsonville\, SC\, 29680\, United States
CATEGORIES:Food Truck Schedules,Simpsonville
ATTACH;FMTTYPE=image/jpeg:https://864foodtrucks.com/wp-content/uploads/2023/07/Big-Fuss-Fresh-Food.jpg
GEO:34.6927499;-82.306547
X-APPLE-STRUCTURED-LOCATION;VALUE=URI;X-ADDRESS=River Trace River Trace Loop 409 Simpsonville SC 29680 United States;X-APPLE-RADIUS=500;X-TITLE=River Trace Loop 409:geo:-82.306547,34.6927499
END:VEVENT
BEGIN:VEVENT
DTSTART;TZID=America/New_York:20231115T173000
DTEND;TZID=America/New_York:20231115T193000
DTSTAMP:20260424T074417
CREATED:20231114T185304Z
LAST-MODIFIED:20231114T185304Z
UID:24150-1700069400-1700076600@864foodtrucks.com
SUMMARY:Big Fuss Fresh Foods @ The Cove and Landing
DESCRIPTION:We are a mobile food truck that specializes in fresh food with amazing flavor.
URL:https://864foodtrucks.com/event/big-fuss-fresh-foods-the-cove-and-landing/
LOCATION:The Cove of Landing at Savannah Pointe\, 6 Tickfa The Pool Parking Lot\, Simpsonville\, South Carolina
CATEGORIES:Food Truck Schedules,Simpsonville
ATTACH;FMTTYPE=image/jpeg:https://864foodtrucks.com/wp-content/uploads/2023/07/Big-Fuss-Fresh-Food.jpg
GEO:34.7370639;-82.2542834
X-APPLE-STRUCTURED-LOCATION;VALUE=URI;X-ADDRESS=The Cove of Landing at Savannah Pointe 6 Tickfa The Pool Parking Lot Simpsonville South Carolina;X-APPLE-RADIUS=500;X-TITLE=6 Tickfa The Pool Parking Lot:geo:-82.2542834,34.7370639
END:VEVENT
BEGIN:VEVENT
DTSTART;TZID=America/New_York:20231028T173000
DTEND;TZID=America/New_York:20231028T200000
DTSTAMP:20260424T074417
CREATED:20231025T190001Z
LAST-MODIFIED:20231025T190001Z
UID:23817-1698514200-1698523200@864foodtrucks.com
SUMMARY:Big Fuss Fresh Food @ Mcswain Gardens
DESCRIPTION:We are a mobile food truck that specializes in fresh food with amazing flavor.
URL:https://864foodtrucks.com/event/big-fuss-fresh-food-mcswain-gardens/
LOCATION:Mcswain Gardens Subdivsion\, Greenville\, South Carolina
CATEGORIES:Food Truck Schedules,Greenville
ATTACH;FMTTYPE=image/jpeg:https://864foodtrucks.com/wp-content/uploads/2023/07/Big-Fuss-Fresh-Food.jpg
END:VEVENT
BEGIN:VEVENT
DTSTART;TZID=America/New_York:20231028T130000
DTEND;TZID=America/New_York:20231028T163000
DTSTAMP:20260424T074417
CREATED:20231025T185833Z
LAST-MODIFIED:20231025T185833Z
UID:23815-1698498000-1698510600@864foodtrucks.com
SUMMARY:Big Fuss Fresh Foods @ Barefoot Acres Fall Festival
DESCRIPTION:We are a mobile food truck that specializes in fresh food with amazing flavor.
URL:https://864foodtrucks.com/event/big-fuss-fresh-foods-barefoot-acres-fall-festival/
LOCATION:Barefoot Acres\, 181 Barefoot Acres Way\, Fountain Inn\, South Carolina
CATEGORIES:Food Truck Schedules,Fountain Inn
ATTACH;FMTTYPE=image/jpeg:https://864foodtrucks.com/wp-content/uploads/2023/07/Big-Fuss-Fresh-Food.jpg
GEO:34.5844389;-82.2157934
X-APPLE-STRUCTURED-LOCATION;VALUE=URI;X-ADDRESS=Barefoot Acres 181 Barefoot Acres Way Fountain Inn South Carolina;X-APPLE-RADIUS=500;X-TITLE=181 Barefoot Acres Way:geo:-82.2157934,34.5844389
END:VEVENT
BEGIN:VEVENT
DTSTART;TZID=America/New_York:20231014T100000
DTEND;TZID=America/New_York:20231014T130000
DTSTAMP:20260424T074417
CREATED:20231011T183707Z
LAST-MODIFIED:20240228T192729Z
UID:23494-1697277600-1697288400@864foodtrucks.com
SUMMARY:Big Fuss Fresh Food @ City Scape Winery
DESCRIPTION:We are a mobile food truck that specializes in fresh food with amazing flavor.
URL:https://864foodtrucks.com/event/big-fuss-fresh-food-city-scape-winery/2023-10-14/
LOCATION:City Scape Winery\, 589 Dunklin Bridge Rd\, Pelzer\, South Carolina
CATEGORIES:Food Truck Schedules,Pelzer
ATTACH;FMTTYPE=image/jpeg:https://864foodtrucks.com/wp-content/uploads/2023/07/Big-Fuss-Fresh-Food.jpg
GEO:34.6006559;-82.316679
X-APPLE-STRUCTURED-LOCATION;VALUE=URI;X-ADDRESS=City Scape Winery 589 Dunklin Bridge Rd Pelzer South Carolina;X-APPLE-RADIUS=500;X-TITLE=589 Dunklin Bridge Rd:geo:-82.316679,34.6006559
END:VEVENT
BEGIN:VEVENT
DTSTART;TZID=America/New_York:20231013T180000
DTEND;TZID=America/New_York:20231013T203000
DTSTAMP:20260424T074417
CREATED:20231009T163302Z
LAST-MODIFIED:20240205T213703Z
UID:23398-1697220000-1697229000@864foodtrucks.com
SUMMARY:Big Fuss Fresh Food @ Traveler's Taproom
DESCRIPTION:We are a mobile food truck that specializes in fresh food with amazing flavor.
URL:https://864foodtrucks.com/event/big-fuss-fresh-food-travelers-taproom/2023-10-13/
LOCATION:Travelers Taproom\, 2624 Poinsett Hwy\, Greenville\, South Carolina
CATEGORIES:Food Truck Schedules,Greenville
ATTACH;FMTTYPE=image/jpeg:https://864foodtrucks.com/wp-content/uploads/2023/07/Big-Fuss-Fresh-Food.jpg
GEO:34.9015748;-82.4159581
X-APPLE-STRUCTURED-LOCATION;VALUE=URI;X-ADDRESS=Travelers Taproom 2624 Poinsett Hwy Greenville South Carolina;X-APPLE-RADIUS=500;X-TITLE=2624 Poinsett Hwy:geo:-82.4159581,34.9015748
END:VEVENT
BEGIN:VEVENT
DTSTART;TZID=America/New_York:20231013T120000
DTEND;TZID=America/New_York:20231013T150000
DTSTAMP:20260424T074417
CREATED:20231011T184123Z
LAST-MODIFIED:20231011T184123Z
UID:23496-1697198400-1697209200@864foodtrucks.com
SUMMARY:Big Fuss Fresh Food @ Weekend Warrier
DESCRIPTION:We are a mobile food truck that specializes in fresh food with amazing flavor.
URL:https://864foodtrucks.com/event/big-fuss-fresh-food-weekend-warrier/
LOCATION:Weekend Warrior\, Little Mountain Road 721\, Dawsonville\, Georgia\, 30534\, United States
CATEGORIES:Anderson,Food Truck Schedules
ATTACH;FMTTYPE=image/jpeg:https://864foodtrucks.com/wp-content/uploads/2023/07/Big-Fuss-Fresh-Food.jpg
GEO:34.5029628;-84.1223847
X-APPLE-STRUCTURED-LOCATION;VALUE=URI;X-ADDRESS=Weekend Warrior Little Mountain Road 721 Dawsonville Georgia 30534 United States;X-APPLE-RADIUS=500;X-TITLE=Little Mountain Road 721:geo:-84.1223847,34.5029628
END:VEVENT
BEGIN:VEVENT
DTSTART;TZID=America/New_York:20231007T100000
DTEND;TZID=America/New_York:20231007T130000
DTSTAMP:20260424T074417
CREATED:20231004T213404Z
LAST-MODIFIED:20231004T213404Z
UID:23337-1696672800-1696683600@864foodtrucks.com
SUMMARY:Big Fuss Fresh Food @ Bob Jones University Homecoming
DESCRIPTION:We are a mobile food truck that specializes in fresh food with amazing flavor.
URL:https://864foodtrucks.com/event/big-fuss-fresh-food-bob-jones-university-homecoming/
LOCATION:Bob Jones University\, Wade Hampton Blvd\, Greenville\, South Carolina
CATEGORIES:Food Truck Schedules,Greenville
ATTACH;FMTTYPE=image/jpeg:https://864foodtrucks.com/wp-content/uploads/2023/07/Big-Fuss-Fresh-Food.jpg
GEO:34.8752958;-82.3661448
X-APPLE-STRUCTURED-LOCATION;VALUE=URI;X-ADDRESS=Bob Jones University Wade Hampton Blvd Greenville South Carolina;X-APPLE-RADIUS=500;X-TITLE=Wade Hampton Blvd:geo:-82.3661448,34.8752958
END:VEVENT
BEGIN:VEVENT
DTSTART;TZID=America/New_York:20230930T110000
DTEND;TZID=America/New_York:20230930T170000
DTSTAMP:20260424T074417
CREATED:20230927T203941Z
LAST-MODIFIED:20230927T203941Z
UID:23209-1696071600-1696093200@864foodtrucks.com
SUMMARY:Big Fuss Fresh Foods @ Memphis Fresh Fall Festival
DESCRIPTION:We are a mobile food truck that specializes in fresh food with amazing flavor.
URL:https://864foodtrucks.com/event/big-fuss-fresh-foods-memphis-fresh-fall-festival/
LOCATION:Westside Market\, Wade Hampton Blvd\, Greenville\, SC\, United States
CATEGORIES:Food Truck Schedules,Greenville
ATTACH;FMTTYPE=image/jpeg:https://864foodtrucks.com/wp-content/uploads/2023/07/Big-Fuss-Fresh-Food.jpg
END:VEVENT
BEGIN:VEVENT
DTSTART;TZID=America/New_York:20230929T173000
DTEND;TZID=America/New_York:20230929T193000
DTSTAMP:20260424T074417
CREATED:20230927T203756Z
LAST-MODIFIED:20230927T203756Z
UID:23206-1696008600-1696015800@864foodtrucks.com
SUMMARY:Big Fuss Fresh Foods @ Lister River
DESCRIPTION:We are a mobile food truck that specializes in fresh food with amazing flavor.
URL:https://864foodtrucks.com/event/big-fuss-fresh-foods-lister-river/
LOCATION:Lister River Subdivision\, Whitemarsh Avenue 505\, Simpsonville\, SC\, 29680\, United States
CATEGORIES:Food Truck Schedules,Simpsonville
ATTACH;FMTTYPE=image/jpeg:https://864foodtrucks.com/wp-content/uploads/2023/07/Big-Fuss-Fresh-Food.jpg
GEO:34.6982118;-82.295747
X-APPLE-STRUCTURED-LOCATION;VALUE=URI;X-ADDRESS=Lister River Subdivision Whitemarsh Avenue 505 Simpsonville SC 29680 United States;X-APPLE-RADIUS=500;X-TITLE=Whitemarsh Avenue 505:geo:-82.295747,34.6982118
END:VEVENT
BEGIN:VEVENT
DTSTART;TZID=America/New_York:20230928T173000
DTEND;TZID=America/New_York:20230928T193000
DTSTAMP:20260424T074417
CREATED:20230927T203411Z
LAST-MODIFIED:20230927T203411Z
UID:23204-1695922200-1695929400@864foodtrucks.com
SUMMARY:Big Fuss Fresh Food
DESCRIPTION:We are a mobile food truck that specializes in fresh food with amazing flavor.
URL:https://864foodtrucks.com/event/big-fuss-fresh-food/
LOCATION:Fox Trace\, 100 Border Ave\, Simpsonville\, South Carolina
CATEGORIES:Food Truck Schedules,Simpsonville
ATTACH;FMTTYPE=image/jpeg:https://864foodtrucks.com/wp-content/uploads/2023/07/Big-Fuss-Fresh-Food.jpg
GEO:34.7105087;-82.2735221
X-APPLE-STRUCTURED-LOCATION;VALUE=URI;X-ADDRESS=Fox Trace 100 Border Ave Simpsonville South Carolina;X-APPLE-RADIUS=500;X-TITLE=100 Border Ave:geo:-82.2735221,34.7105087
END:VEVENT
BEGIN:VEVENT
DTSTART;TZID=America/New_York:20230923T170000
DTEND;TZID=America/New_York:20230923T200000
DTSTAMP:20260424T074417
CREATED:20230920T173459Z
LAST-MODIFIED:20230920T173459Z
UID:22981-1695488400-1695499200@864foodtrucks.com
SUMMARY:Big Fuss Fresh Foods @ Manor at Twin Creeks
DESCRIPTION:We are a mobile food truck that specializes in fresh food with amazing flavor.
URL:https://864foodtrucks.com/event/big-fuss-fresh-foods-manor-at-twin-creeks/
LOCATION:Manor at Twin Creeks\, Mercer Drive 114\, Simpsonville\, South Carolina\, 29681\, United States
CATEGORIES:Food Truck Schedules,Simpsonville
ATTACH;FMTTYPE=image/jpeg:https://864foodtrucks.com/wp-content/uploads/2023/07/Big-Fuss-Fresh-Food.jpg
GEO:34.7860968;-82.1894403
X-APPLE-STRUCTURED-LOCATION;VALUE=URI;X-ADDRESS=Manor at Twin Creeks Mercer Drive 114 Simpsonville South Carolina 29681 United States;X-APPLE-RADIUS=500;X-TITLE=Mercer Drive 114:geo:-82.1894403,34.7860968
END:VEVENT
BEGIN:VEVENT
DTSTART;TZID=America/New_York:20230923T120000
DTEND;TZID=America/New_York:20230923T160000
DTSTAMP:20260424T074417
CREATED:20230920T173332Z
LAST-MODIFIED:20231228T172744Z
UID:22979-1695470400-1695484800@864foodtrucks.com
SUMMARY:Big Fuss Fresh Foods @ Swamp Rabbit Brewery
DESCRIPTION:We are a mobile food truck that specializes in fresh food with amazing flavor.
URL:https://864foodtrucks.com/event/big-fuss-fresh-foods-swamp-rabbit-brewery/2023-09-23/
LOCATION:Swamp Rabbit Brewery\, 26 S Main St\, Travelers Rest\, South Carolina
CATEGORIES:Food Truck Schedules,Travelers Rest
ATTACH;FMTTYPE=image/jpeg:https://864foodtrucks.com/wp-content/uploads/2023/07/Big-Fuss-Fresh-Food.jpg
GEO:34.9670847;-82.4425017
X-APPLE-STRUCTURED-LOCATION;VALUE=URI;X-ADDRESS=Swamp Rabbit Brewery 26 S Main St Travelers Rest South Carolina;X-APPLE-RADIUS=500;X-TITLE=26 S Main St:geo:-82.4425017,34.9670847
END:VEVENT
BEGIN:VEVENT
DTSTART;TZID=America/New_York:20230922T173000
DTEND;TZID=America/New_York:20230922T193000
DTSTAMP:20260424T074417
CREATED:20230920T173225Z
LAST-MODIFIED:20231004T213135Z
UID:22975-1695403800-1695411000@864foodtrucks.com
SUMMARY:Big Fuss Fresh Food @ Palisades
DESCRIPTION:We are a mobile food truck that specializes in fresh food with amazing flavor.
URL:https://864foodtrucks.com/event/big-fuss-fresh-food-palisades/2023-09-22/
LOCATION:Palisade of Duncan\, 1010 Palisade Wds Dr\, Duncan
CATEGORIES:Duncan,Food Truck Schedules
ATTACH;FMTTYPE=image/jpeg:https://864foodtrucks.com/wp-content/uploads/2023/07/Big-Fuss-Fresh-Food.jpg
END:VEVENT
BEGIN:VEVENT
DTSTART;TZID=America/New_York:20230922T110000
DTEND;TZID=America/New_York:20230922T150000
DTSTAMP:20260424T074417
CREATED:20230920T173052Z
LAST-MODIFIED:20230920T173052Z
UID:22973-1695380400-1695394800@864foodtrucks.com
SUMMARY:Big Fuss Fresh Food @ Harley Davidson Greenville
DESCRIPTION:We are a mobile food truck that specializes in fresh food with amazing flavor.
URL:https://864foodtrucks.com/event/big-fuss-fresh-food-harley-davidson-greenville/
LOCATION:Harley Davidson Greenville\, Chrome Drive 30\, Greenville\, South Carolina\, 29615\, United States
CATEGORIES:Food Truck Schedules,Greenville
ATTACH;FMTTYPE=image/jpeg:https://864foodtrucks.com/wp-content/uploads/2023/07/Big-Fuss-Fresh-Food.jpg
GEO:34.8346382;-82.292794
X-APPLE-STRUCTURED-LOCATION;VALUE=URI;X-ADDRESS=Harley Davidson Greenville Chrome Drive 30 Greenville South Carolina 29615 United States;X-APPLE-RADIUS=500;X-TITLE=Chrome Drive 30:geo:-82.292794,34.8346382
END:VEVENT
BEGIN:VEVENT
DTSTART;TZID=America/New_York:20230921T180000
DTEND;TZID=America/New_York:20230921T200000
DTSTAMP:20260424T074417
CREATED:20230920T172914Z
LAST-MODIFIED:20230920T172914Z
UID:22971-1695319200-1695326400@864foodtrucks.com
SUMMARY:Big Fuss Fresh Food @ Bridgewater
DESCRIPTION:We are a mobile food truck that specializes in fresh food with amazing flavor.
URL:https://864foodtrucks.com/event/big-fuss-fresh-food-bridgewater/
LOCATION:Bridgewater\, 103 Bridge Crossing Drive\, Simpsonville\, South Carolina
CATEGORIES:Food Truck Schedules,Simpsonville
ATTACH;FMTTYPE=image/jpeg:https://864foodtrucks.com/wp-content/uploads/2023/07/Big-Fuss-Fresh-Food.jpg
GEO:34.7452889;-82.22985
X-APPLE-STRUCTURED-LOCATION;VALUE=URI;X-ADDRESS=Bridgewater 103 Bridge Crossing Drive Simpsonville South Carolina;X-APPLE-RADIUS=500;X-TITLE=103 Bridge Crossing Drive:geo:-82.22985,34.7452889
END:VEVENT
BEGIN:VEVENT
DTSTART;TZID=America/New_York:20230909T170000
DTEND;TZID=America/New_York:20230909T190000
DTSTAMP:20260424T074417
CREATED:20230907T173553Z
LAST-MODIFIED:20230907T173553Z
UID:22674-1694278800-1694286000@864foodtrucks.com
SUMMARY:Big Fuss Fresh Food @ River Ridge
DESCRIPTION:We are a mobile food truck that specializes in fresh food with amazing flavor.
URL:https://864foodtrucks.com/event/big-fuss-fresh-food-river-ridge/
LOCATION:River Ridge\, Simpsonville\, South Carolina
CATEGORIES:Food Truck Schedules,Simpsonville
ATTACH;FMTTYPE=image/jpeg:https://864foodtrucks.com/wp-content/uploads/2023/07/Big-Fuss-Fresh-Food.jpg
GEO:34.7370639;-82.2542834
END:VEVENT
BEGIN:VEVENT
DTSTART;TZID=America/New_York:20230909T100000
DTEND;TZID=America/New_York:20230909T130000
DTSTAMP:20260424T074417
CREATED:20230907T173431Z
LAST-MODIFIED:20230907T173431Z
UID:22671-1694253600-1694264400@864foodtrucks.com
SUMMARY:Big Fuss Fresh Food @ Sweet Tea Station
DESCRIPTION:We are a mobile food truck that specializes in fresh food with amazing flavor.
URL:https://864foodtrucks.com/event/big-fuss-fresh-food-sweet-tea-station/
LOCATION:Sweet Tea Station\, Reidville Road 7325\, Woodruff\, SC\, 29388\, United States
CATEGORIES:Food Truck Schedules,Greenville
ATTACH;FMTTYPE=image/jpeg:https://864foodtrucks.com/wp-content/uploads/2023/07/Big-Fuss-Fresh-Food.jpg
GEO:34.8631063;-82.1133434
X-APPLE-STRUCTURED-LOCATION;VALUE=URI;X-ADDRESS=Sweet Tea Station Reidville Road 7325 Woodruff SC 29388 United States;X-APPLE-RADIUS=500;X-TITLE=Reidville Road 7325:geo:-82.1133434,34.8631063
END:VEVENT
BEGIN:VEVENT
DTSTART;TZID=America/New_York:20230908T173000
DTEND;TZID=America/New_York:20230908T193000
DTSTAMP:20260424T074417
CREATED:20230907T172515Z
LAST-MODIFIED:20230907T172515Z
UID:22669-1694194200-1694201400@864foodtrucks.com
SUMMARY:Big Fuss Fresh Food @ Stonewyck
DESCRIPTION:We are a mobile food truck that specializes in fresh food with amazing flavor.
URL:https://864foodtrucks.com/event/big-fuss-fresh-food-stonewyck/
LOCATION:Stonewyck\, 800 Stonewyck Drive\, Simpsonville\, South Carolina
CATEGORIES:Food Truck Schedules,Simpsonville
ATTACH;FMTTYPE=image/jpeg:https://864foodtrucks.com/wp-content/uploads/2023/07/Big-Fuss-Fresh-Food.jpg
GEO:34.8016201;-82.2563139
X-APPLE-STRUCTURED-LOCATION;VALUE=URI;X-ADDRESS=Stonewyck 800 Stonewyck Drive Simpsonville South Carolina;X-APPLE-RADIUS=500;X-TITLE=800 Stonewyck Drive:geo:-82.2563139,34.8016201
END:VEVENT
BEGIN:VEVENT
DTSTART;TZID=America/New_York:20230812T150000
DTEND;TZID=America/New_York:20230812T190000
DTSTAMP:20260424T074417
CREATED:20230809T155203Z
LAST-MODIFIED:20231004T213226Z
UID:21990-1691852400-1691866800@864foodtrucks.com
SUMMARY:Big Fuss Fresh Food @ 13 Stripes
DESCRIPTION:We are a mobile food truck that specializes in fresh food with amazing flavor.
URL:https://864foodtrucks.com/event/big-fuss-fresh-food-13-stripes/2023-08-12/
LOCATION:13 Stripes Brewery\, 250 Mill Street\, Ste PW3101 Dock Print Works No\, 3\, Taylors\, South Carolina
CATEGORIES:Food Truck Schedules,Taylors
ATTACH;FMTTYPE=image/jpeg:https://864foodtrucks.com/wp-content/uploads/2023/07/Big-Fuss-Fresh-Food.jpg
GEO:34.9197401;-82.2845935
X-APPLE-STRUCTURED-LOCATION;VALUE=URI;X-ADDRESS=13 Stripes Brewery 250 Mill Street Ste PW3101 Dock Print Works No 3 Taylors South Carolina;X-APPLE-RADIUS=500;X-TITLE=250 Mill Street\, Ste PW3101 Dock Print Works No\, 3:geo:-82.2845935,34.9197401
END:VEVENT
BEGIN:VEVENT
DTSTART;TZID=America/New_York:20230811T183000
DTEND;TZID=America/New_York:20230811T203000
DTSTAMP:20260424T074417
CREATED:20230809T154932Z
LAST-MODIFIED:20230809T154932Z
UID:21987-1691778600-1691785800@864foodtrucks.com
SUMMARY:Big Fuss Fresh Food @ Meet the Mavs
DESCRIPTION:We are a mobile food truck that specializes in fresh food with amazing flavor.
URL:https://864foodtrucks.com/event/big-fuss-fresh-food-meet-the-mavs/
LOCATION:Meet the Mavs\, East Butler Road 701\, Mauldin\, SC\, 29662\, United States
CATEGORIES:Food Truck Schedules,Mauldin
ATTACH;FMTTYPE=image/jpeg:https://864foodtrucks.com/wp-content/uploads/2023/07/Big-Fuss-Fresh-Food.jpg
GEO:34.7926156;-82.2883976
X-APPLE-STRUCTURED-LOCATION;VALUE=URI;X-ADDRESS=Meet the Mavs East Butler Road 701 Mauldin SC 29662 United States;X-APPLE-RADIUS=500;X-TITLE=East Butler Road 701:geo:-82.2883976,34.7926156
END:VEVENT
BEGIN:VEVENT
DTSTART;TZID=America/New_York:20230810T173000
DTEND;TZID=America/New_York:20230810T193000
DTSTAMP:20260424T074417
CREATED:20230809T154608Z
LAST-MODIFIED:20230809T154608Z
UID:21984-1691688600-1691695800@864foodtrucks.com
SUMMARY:Big Fuss Fresh Food @ Rainwater Subdivision
DESCRIPTION:We are a mobile food truck that specializes in fresh food with amazing flavor.
URL:https://864foodtrucks.com/event/big-fuss-fresh-food-rainwater-subdivision/
LOCATION:Rainwater Subdivision\, Santa Ana Way 106\, Duncan\, SC\, 29334\, United States
CATEGORIES:Duncan,Food Truck Schedules
ATTACH;FMTTYPE=image/jpeg:https://864foodtrucks.com/wp-content/uploads/2023/07/Big-Fuss-Fresh-Food.jpg
GEO:34.8927648;-82.0821842
X-APPLE-STRUCTURED-LOCATION;VALUE=URI;X-ADDRESS=Rainwater Subdivision Santa Ana Way 106 Duncan SC 29334 United States;X-APPLE-RADIUS=500;X-TITLE=Santa Ana Way 106:geo:-82.0821842,34.8927648
END:VEVENT
BEGIN:VEVENT
DTSTART;TZID=America/New_York:20230722T170000
DTEND;TZID=America/New_York:20230722T190000
DTSTAMP:20260424T074417
CREATED:20230720T143741Z
LAST-MODIFIED:20230720T143741Z
UID:20996-1690045200-1690052400@864foodtrucks.com
SUMMARY:Big Fuss Fresh Food @ Chastain Glen
DESCRIPTION:We are a mobile food truck that specializes in fresh food with amazing flavor.
URL:https://864foodtrucks.com/event/big-fuss-fresh-food-chastain-glen/
LOCATION:Chastain Glenn\, Simpsonville\, South Carolina
CATEGORIES:Food Truck Schedules,Simpsonville
ATTACH;FMTTYPE=image/jpeg:https://864foodtrucks.com/wp-content/uploads/2023/07/Big-Fuss-Fresh-Food.jpg
GEO:34.7370639;-82.2542834
END:VEVENT
BEGIN:VEVENT
DTSTART;TZID=America/New_York:20230721T170000
DTEND;TZID=America/New_York:20230721T200000
DTSTAMP:20260424T074417
CREATED:20230720T143522Z
LAST-MODIFIED:20231212T193116Z
UID:20990-1689958800-1689969600@864foodtrucks.com
SUMMARY:Big Fuss Fresh Food @ Keg & Cellar
DESCRIPTION:We are a mobile food truck that specializes in fresh food with amazing flavor.
URL:https://864foodtrucks.com/event/big-fuss-fresh-food-keg-cellar/2023-07-21/
LOCATION:Keg & Cellar\, 5844 Reidville Rd\, Moore\, South Carolina
CATEGORIES:Food Truck Schedules,Greenville
ATTACH;FMTTYPE=image/jpeg:https://864foodtrucks.com/wp-content/uploads/2023/07/Big-Fuss-Fresh-Food.jpg
GEO:34.887628;-82.0648457
X-APPLE-STRUCTURED-LOCATION;VALUE=URI;X-ADDRESS=Keg & Cellar 5844 Reidville Rd Moore South Carolina;X-APPLE-RADIUS=500;X-TITLE=5844 Reidville Rd:geo:-82.0648457,34.887628
END:VEVENT
END:VCALENDAR