BEGIN:VCALENDAR
VERSION:2.0
PRODID:-//864 Food Trucks - ECPv6.15.20//NONSGML v1.0//EN
CALSCALE:GREGORIAN
METHOD:PUBLISH
X-ORIGINAL-URL:https://864foodtrucks.com
X-WR-CALDESC:Events for 864 Food Trucks
REFRESH-INTERVAL;VALUE=DURATION:PT1H
X-Robots-Tag:noindex
X-PUBLISHED-TTL:PT1H
BEGIN:VTIMEZONE
TZID:America/New_York
BEGIN:DAYLIGHT
TZOFFSETFROM:-0500
TZOFFSETTO:-0400
TZNAME:EDT
DTSTART:20220313T070000
END:DAYLIGHT
BEGIN:STANDARD
TZOFFSETFROM:-0400
TZOFFSETTO:-0500
TZNAME:EST
DTSTART:20221106T060000
END:STANDARD
BEGIN:DAYLIGHT
TZOFFSETFROM:-0500
TZOFFSETTO:-0400
TZNAME:EDT
DTSTART:20230312T070000
END:DAYLIGHT
BEGIN:STANDARD
TZOFFSETFROM:-0400
TZOFFSETTO:-0500
TZNAME:EST
DTSTART:20231105T060000
END:STANDARD
BEGIN:DAYLIGHT
TZOFFSETFROM:-0500
TZOFFSETTO:-0400
TZNAME:EDT
DTSTART:20240310T070000
END:DAYLIGHT
BEGIN:STANDARD
TZOFFSETFROM:-0400
TZOFFSETTO:-0500
TZNAME:EST
DTSTART:20241103T060000
END:STANDARD
BEGIN:DAYLIGHT
TZOFFSETFROM:-0500
TZOFFSETTO:-0400
TZNAME:EDT
DTSTART:20250309T070000
END:DAYLIGHT
BEGIN:STANDARD
TZOFFSETFROM:-0400
TZOFFSETTO:-0500
TZNAME:EST
DTSTART:20251102T060000
END:STANDARD
END:VTIMEZONE
BEGIN:VEVENT
DTSTART;TZID=America/New_York:20240221T180000
DTEND;TZID=America/New_York:20240221T200000
DTSTAMP:20260424T161814
CREATED:20240221T201309Z
LAST-MODIFIED:20240221T201309Z
UID:25185-1708538400-1708545600@864foodtrucks.com
SUMMARY:Bingbi Sushi @ Tetrad
DESCRIPTION:The one and only Sushi Truck in Greenville\n🍣🥙 contact us for all events 📱813-838-7887
URL:https://864foodtrucks.com/event/bingbi-sushi-tetrad/
LOCATION:Tetrad Brewing\, 603 E Stone Ave\, Greenville\, SC\, 29601\, United States
CATEGORIES:Food Truck Schedules,Greenville
ATTACH;FMTTYPE=image/jpeg:https://864foodtrucks.com/wp-content/uploads/2023/11/Bingbi-Sushi.jpg
ORGANIZER;CN="Bingbi Sushi":MAILTO:bingbisushi@gmail.com
GEO:34.8585948;-82.3848082
X-APPLE-STRUCTURED-LOCATION;VALUE=URI;X-ADDRESS=Tetrad Brewing 603 E Stone Ave Greenville SC 29601 United States;X-APPLE-RADIUS=500;X-TITLE=603 E Stone Ave:geo:-82.3848082,34.8585948
END:VEVENT
BEGIN:VEVENT
DTSTART;TZID=America/New_York:20240216T180000
DTEND;TZID=America/New_York:20240216T200000
DTSTAMP:20260424T161814
CREATED:20240213T170157Z
LAST-MODIFIED:20240305T135818Z
UID:25925-1708106400-1708113600@864foodtrucks.com
SUMMARY:Bingbi Sushi @ Game Kastle
DESCRIPTION:The one and only Sushi Truck in Greenville\n🍣🥙 contact us for all events 📱813-838-7887
URL:https://864foodtrucks.com/event/bingbi-sushi-game-kastle/2024-02-16/
LOCATION:Game Kastle Greenville\, Wade Hampton Boulevard 2854a\, Taylors\, South Carolina\, 29687\, United States
CATEGORIES:Food Truck Schedules,Greenville
ATTACH;FMTTYPE=image/jpeg:https://864foodtrucks.com/wp-content/uploads/2023/11/Bingbi-Sushi.jpg
ORGANIZER;CN="Bingbi Sushi":MAILTO:bingbisushi@gmail.com
GEO:34.9030137;-82.3333113
X-APPLE-STRUCTURED-LOCATION;VALUE=URI;X-ADDRESS=Game Kastle Greenville Wade Hampton Boulevard 2854a Taylors South Carolina 29687 United States;X-APPLE-RADIUS=500;X-TITLE=Wade Hampton Boulevard 2854a:geo:-82.3333113,34.9030137
END:VEVENT
BEGIN:VEVENT
DTSTART;TZID=America/New_York:20240202T170000
DTEND;TZID=America/New_York:20240202T200000
DTSTAMP:20260424T161814
CREATED:20240130T195551Z
LAST-MODIFIED:20240213T170026Z
UID:25404-1706893200-1706904000@864foodtrucks.com
SUMMARY:Bingbi Sushi @ The Community Tap
DESCRIPTION:The one and only Sushi Truck in Greenville\n🍣🥙 contact us for all events 📱813-838-7887
URL:https://864foodtrucks.com/event/bingbi-sushi-the-community-tap/2024-02-02/
LOCATION:The Community Tap\, 217 Wade Hampton Blvd\, Greenville\, South Carolina
CATEGORIES:Food Truck Schedules,Greenville
ATTACH;FMTTYPE=image/jpeg:https://864foodtrucks.com/wp-content/uploads/2023/11/Bingbi-Sushi.jpg
ORGANIZER;CN="Bingbi Sushi":MAILTO:bingbisushi@gmail.com
GEO:34.8625763;-82.3857613
X-APPLE-STRUCTURED-LOCATION;VALUE=URI;X-ADDRESS=The Community Tap 217 Wade Hampton Blvd Greenville South Carolina;X-APPLE-RADIUS=500;X-TITLE=217 Wade Hampton Blvd:geo:-82.3857613,34.8625763
END:VEVENT
BEGIN:VEVENT
DTSTART;TZID=America/New_York:20240201T113000
DTEND;TZID=America/New_York:20240201T133000
DTSTAMP:20260424T161814
CREATED:20240130T195358Z
LAST-MODIFIED:20240130T195358Z
UID:25402-1706787000-1706794200@864foodtrucks.com
SUMMARY:Bingbi Sushi @ BJU Press
DESCRIPTION:The one and only Sushi Truck in Greenville\n🍣🥙 contact us for all events 📱813-838-7887
URL:https://864foodtrucks.com/event/bingbi-sushi-bju-press/
LOCATION:BJU Press\, 1430 Wade Hampton Blvd\, Greenville\, South Carolina\, 29609
CATEGORIES:Food Truck Schedules,Greenville
ORGANIZER;CN="Bingbi Sushi":MAILTO:bingbisushi@gmail.com
GEO:34.8715847;-82.369853
X-APPLE-STRUCTURED-LOCATION;VALUE=URI;X-ADDRESS=BJU Press 1430 Wade Hampton Blvd Greenville South Carolina 29609;X-APPLE-RADIUS=500;X-TITLE=1430 Wade Hampton Blvd:geo:-82.369853,34.8715847
END:VEVENT
BEGIN:VEVENT
DTSTART;TZID=America/New_York:20240131T113000
DTEND;TZID=America/New_York:20240131T133000
DTSTAMP:20260424T161814
CREATED:20240130T194111Z
LAST-MODIFIED:20240130T194111Z
UID:25400-1706700600-1706707800@864foodtrucks.com
SUMMARY:Bingbi Sushi @ Pelham Medical Center
DESCRIPTION:The one and only Sushi Truck in Greenville\n🍣🥙 contact us for all events 📱813-838-7887
URL:https://864foodtrucks.com/event/bingbi-sushi-pelham-medical-center/
LOCATION:Pelham Medical Center\, 250 Westmoreland Rd\, Greer\, South Carolina
CATEGORIES:Food Truck Schedules,Greer
ATTACH;FMTTYPE=image/jpeg:https://864foodtrucks.com/wp-content/uploads/2023/11/Bingbi-Sushi.jpg
ORGANIZER;CN="Bingbi Sushi":MAILTO:bingbisushi@gmail.com
GEO:34.8630526;-82.2188726
X-APPLE-STRUCTURED-LOCATION;VALUE=URI;X-ADDRESS=Pelham Medical Center 250 Westmoreland Rd Greer South Carolina;X-APPLE-RADIUS=500;X-TITLE=250 Westmoreland Rd:geo:-82.2188726,34.8630526
END:VEVENT
BEGIN:VEVENT
DTSTART;TZID=America/New_York:20240112T163000
DTEND;TZID=America/New_York:20240112T190000
DTSTAMP:20260424T161814
CREATED:20240110T134726Z
LAST-MODIFIED:20240116T214325Z
UID:25059-1705077000-1705086000@864foodtrucks.com
SUMMARY:Bingbi Sushi @ Otherlands
DESCRIPTION:The one and only Sushi Truck in Greenville\n🍣🥙 contact us for all events 📱813-838-7887
URL:https://864foodtrucks.com/event/bingbi-sushi-otherlands/2024-01-12/
LOCATION:Other Lands\, Rutherford Road 731\, Greenville\, South Carolina\, 29609\, United States
CATEGORIES:Food Truck Schedules,Greenville
ATTACH;FMTTYPE=image/jpeg:https://864foodtrucks.com/wp-content/uploads/2023/11/Bingbi-Sushi.jpg
ORGANIZER;CN="Bingbi Sushi":MAILTO:bingbisushi@gmail.com
GEO:34.8802311;-82.3891408
X-APPLE-STRUCTURED-LOCATION;VALUE=URI;X-ADDRESS=Other Lands Rutherford Road 731 Greenville South Carolina 29609 United States;X-APPLE-RADIUS=500;X-TITLE=Rutherford Road 731:geo:-82.3891408,34.8802311
END:VEVENT
BEGIN:VEVENT
DTSTART;TZID=America/New_York:20240111T170000
DTEND;TZID=America/New_York:20240111T203000
DTSTAMP:20260424T161814
CREATED:20240110T134408Z
LAST-MODIFIED:20240227T185846Z
UID:25057-1704992400-1705005000@864foodtrucks.com
SUMMARY:Bingbi Sushi @ The Whale
DESCRIPTION:The one and only Sushi Truck in Greenville\n🍣🥙 contact us for all events 📱813-838-7887
URL:https://864foodtrucks.com/event/bingbi-sushi-the-whale/2024-01-11/
LOCATION:The Whale\, 1108 S Main St\, Greenville\, SC\, 29601\, United States
CATEGORIES:Food Truck Schedules,Greenville
ATTACH;FMTTYPE=image/jpeg:https://864foodtrucks.com/wp-content/uploads/2023/11/Bingbi-Sushi.jpg
ORGANIZER;CN="Bingbi Sushi":MAILTO:bingbisushi@gmail.com
GEO:34.8430326;-82.4114908
X-APPLE-STRUCTURED-LOCATION;VALUE=URI;X-ADDRESS=The Whale 1108 S Main St Greenville SC 29601 United States;X-APPLE-RADIUS=500;X-TITLE=1108 S Main St:geo:-82.4114908,34.8430326
END:VEVENT
BEGIN:VEVENT
DTSTART;TZID=America/New_York:20231216T120000
DTEND;TZID=America/New_York:20231216T190000
DTSTAMP:20260424T161814
CREATED:20231212T025154Z
LAST-MODIFIED:20240102T224156Z
UID:24620-1702728000-1702753200@864foodtrucks.com
SUMMARY:Bingbi Sushi @ The 8th State Brewing
DESCRIPTION:The one and only Sushi Truck in Greenville\n🍣🥙 contact us for all events 📱813-838-7887
URL:https://864foodtrucks.com/event/bingbi-sushi-the-8th-state-brewing/2023-12-16/
LOCATION:8th State Brewery\, 400 Augusta St\, Greenville\, SC\, 29601\, United States
CATEGORIES:Food Truck Schedules,Greenville
ATTACH;FMTTYPE=image/jpeg:https://864foodtrucks.com/wp-content/uploads/2023/11/Bingbi-Sushi.jpg
ORGANIZER;CN="Bingbi Sushi":MAILTO:bingbisushi@gmail.com
GEO:34.8385698;-82.4066209
X-APPLE-STRUCTURED-LOCATION;VALUE=URI;X-ADDRESS=8th State Brewery 400 Augusta St Greenville SC 29601 United States;X-APPLE-RADIUS=500;X-TITLE=400 Augusta St:geo:-82.4066209,34.8385698
END:VEVENT
BEGIN:VEVENT
DTSTART;TZID=America/New_York:20231214T140000
DTEND;TZID=America/New_York:20231214T183000
DTSTAMP:20260424T161814
CREATED:20231212T025041Z
LAST-MODIFIED:20231212T025041Z
UID:24617-1702562400-1702578600@864foodtrucks.com
SUMMARY:Bingbi Sushi @ Bistrol Apartments
DESCRIPTION:The one and only Sushi Truck in Greenville\n🍣🥙 contact us for all events 📱813-838-7887
URL:https://864foodtrucks.com/event/bingbi-sushi-bistrol-apartments/
LOCATION:The Bistrol\, Cleveland Street 926\, Greenville\, South Carolina\, 29601\, United States
CATEGORIES:Food Truck Schedules,Greenville
ATTACH;FMTTYPE=image/jpeg:https://864foodtrucks.com/wp-content/uploads/2023/11/Bingbi-Sushi.jpg
ORGANIZER;CN="Bingbi Sushi":MAILTO:bingbisushi@gmail.com
GEO:34.8281918;-82.3802925
X-APPLE-STRUCTURED-LOCATION;VALUE=URI;X-ADDRESS=The Bistrol Cleveland Street 926 Greenville South Carolina 29601 United States;X-APPLE-RADIUS=500;X-TITLE=Cleveland Street 926:geo:-82.3802925,34.8281918
END:VEVENT
BEGIN:VEVENT
DTSTART;TZID=America/New_York:20231118T173000
DTEND;TZID=America/New_York:20231118T203000
DTSTAMP:20260424T161814
CREATED:20231113T201054Z
LAST-MODIFIED:20231113T201054Z
UID:24128-1700328600-1700339400@864foodtrucks.com
SUMMARY:Bingbi Sushi @ Traveler's Taproom
DESCRIPTION:The one and only Sushi Truck in Greenville\n🍣🥙 contact us for all events 📱813-838-7887
URL:https://864foodtrucks.com/event/bingbi-sushi-travelers-taproom/
LOCATION:Travelers Taproom\, 2624 Poinsett Hwy\, Greenville\, South Carolina
CATEGORIES:Food Truck Schedules,Greenville
ATTACH;FMTTYPE=image/jpeg:https://864foodtrucks.com/wp-content/uploads/2023/11/Bingbi-Sushi.jpg
ORGANIZER;CN="Bingbi Sushi":MAILTO:bingbisushi@gmail.com
GEO:34.9015748;-82.4159581
X-APPLE-STRUCTURED-LOCATION;VALUE=URI;X-ADDRESS=Travelers Taproom 2624 Poinsett Hwy Greenville South Carolina;X-APPLE-RADIUS=500;X-TITLE=2624 Poinsett Hwy:geo:-82.4159581,34.9015748
END:VEVENT
BEGIN:VEVENT
DTSTART;TZID=America/New_York:20231116T173000
DTEND;TZID=America/New_York:20231116T200000
DTSTAMP:20260424T161814
CREATED:20231113T200550Z
LAST-MODIFIED:20240826T171620Z
UID:24122-1700155800-1700164800@864foodtrucks.com
SUMMARY:Bingbi Sushi @ Grateful Brew
DESCRIPTION:The one and only Sushi Truck in Greenville\n🍣🥙 contact us for all events 📱813-838-7887
URL:https://864foodtrucks.com/event/bingbi-sushi-grateful-brew/2023-11-16/
LOCATION:Grateful Brew\, 501 S Pleasantburg Dr\, Greenville\, SC\, 29607\, United States
CATEGORIES:Food Truck Schedules,Greenville
ATTACH;FMTTYPE=image/jpeg:https://864foodtrucks.com/wp-content/uploads/2023/11/Bingbi-Sushi.jpg
ORGANIZER;CN="Bingbi Sushi":MAILTO:bingbisushi@gmail.com
GEO:34.8292844;-82.36962
X-APPLE-STRUCTURED-LOCATION;VALUE=URI;X-ADDRESS=Grateful Brew 501 S Pleasantburg Dr Greenville SC 29607 United States;X-APPLE-RADIUS=500;X-TITLE=501 S Pleasantburg Dr:geo:-82.36962,34.8292844
END:VEVENT
END:VCALENDAR