BEGIN:VCALENDAR
VERSION:2.0
PRODID:-//864 Food Trucks - ECPv6.15.20//NONSGML v1.0//EN
CALSCALE:GREGORIAN
METHOD:PUBLISH
X-ORIGINAL-URL:https://864foodtrucks.com
X-WR-CALDESC:Events for 864 Food Trucks
REFRESH-INTERVAL;VALUE=DURATION:PT1H
X-Robots-Tag:noindex
X-PUBLISHED-TTL:PT1H
BEGIN:VTIMEZONE
TZID:America/New_York
BEGIN:DAYLIGHT
TZOFFSETFROM:-0500
TZOFFSETTO:-0400
TZNAME:EDT
DTSTART:20220313T070000
END:DAYLIGHT
BEGIN:STANDARD
TZOFFSETFROM:-0400
TZOFFSETTO:-0500
TZNAME:EST
DTSTART:20221106T060000
END:STANDARD
BEGIN:DAYLIGHT
TZOFFSETFROM:-0500
TZOFFSETTO:-0400
TZNAME:EDT
DTSTART:20230312T070000
END:DAYLIGHT
BEGIN:STANDARD
TZOFFSETFROM:-0400
TZOFFSETTO:-0500
TZNAME:EST
DTSTART:20231105T060000
END:STANDARD
BEGIN:DAYLIGHT
TZOFFSETFROM:-0500
TZOFFSETTO:-0400
TZNAME:EDT
DTSTART:20240310T070000
END:DAYLIGHT
BEGIN:STANDARD
TZOFFSETFROM:-0400
TZOFFSETTO:-0500
TZNAME:EST
DTSTART:20241103T060000
END:STANDARD
BEGIN:DAYLIGHT
TZOFFSETFROM:-0500
TZOFFSETTO:-0400
TZNAME:EDT
DTSTART:20250309T070000
END:DAYLIGHT
BEGIN:STANDARD
TZOFFSETFROM:-0400
TZOFFSETTO:-0500
TZNAME:EST
DTSTART:20251102T060000
END:STANDARD
END:VTIMEZONE
BEGIN:VEVENT
DTSTART;TZID=America/New_York:20240704T110000
DTEND;TZID=America/New_York:20240704T200000
DTSTAMP:20260425T145045
CREATED:20240702T011205Z
LAST-MODIFIED:20240909T192004Z
UID:30932-1720090800-1720123200@864foodtrucks.com
SUMMARY:Birria Boy @ Scuffletown
DESCRIPTION:
URL:https://864foodtrucks.com/event/birria-boy-scuffletown-4/2024-07-04/
LOCATION:Scuffletown Food Truck Park\, Ladean Court 206\, Simpsonville\, South Carolina\, 29680\, United States
CATEGORIES:Food Truck Schedules,Simpsonville
ATTACH;FMTTYPE=image/jpeg:https://864foodtrucks.com/wp-content/uploads/2022/08/Birria-Boy.jpg
ORGANIZER;CN="Birria Boy":MAILTO:Birriaboy77@gmail.com
GEO:34.7127674;-82.2550282
X-APPLE-STRUCTURED-LOCATION;VALUE=URI;X-ADDRESS=Scuffletown Food Truck Park Ladean Court 206 Simpsonville South Carolina 29680 United States;X-APPLE-RADIUS=500;X-TITLE=Ladean Court 206:geo:-82.2550282,34.7127674
END:VEVENT
BEGIN:VEVENT
DTSTART;TZID=America/New_York:20240430T120000
DTEND;TZID=America/New_York:20240430T200000
DTSTAMP:20260425T145045
CREATED:20240429T191532Z
LAST-MODIFIED:20240429T191532Z
UID:27664-1714478400-1714507200@864foodtrucks.com
SUMMARY:Birria Boy @ Scuffletown
DESCRIPTION:
URL:https://864foodtrucks.com/event/birria-boy-scuffletown-3/2024-04-30/
LOCATION:Scuffletown Food Truck Park\, Ladean Court 206\, Simpsonville\, South Carolina\, 29680\, United States
CATEGORIES:Food Truck Schedules,Simpsonville
ATTACH;FMTTYPE=image/jpeg:https://864foodtrucks.com/wp-content/uploads/2022/08/Birria-Boy.jpg
ORGANIZER;CN="Birria Boy":MAILTO:Birriaboy77@gmail.com
GEO:34.7127674;-82.2550282
X-APPLE-STRUCTURED-LOCATION;VALUE=URI;X-ADDRESS=Scuffletown Food Truck Park Ladean Court 206 Simpsonville South Carolina 29680 United States;X-APPLE-RADIUS=500;X-TITLE=Ladean Court 206:geo:-82.2550282,34.7127674
END:VEVENT
BEGIN:VEVENT
DTSTART;TZID=America/New_York:20240313T110000
DTEND;TZID=America/New_York:20240313T200000
DTSTAMP:20260425T145045
CREATED:20240311T140418Z
LAST-MODIFIED:20240311T140418Z
UID:26668-1710327600-1710360000@864foodtrucks.com
SUMMARY:Birria Boy @ Scuffletown
DESCRIPTION:
URL:https://864foodtrucks.com/event/birria-boy-scuffletown-2/2024-03-13/
LOCATION:Scuffletown Food Truck Park\, Ladean Court 206\, Simpsonville\, South Carolina\, 29680\, United States
CATEGORIES:Food Truck Schedules,Simpsonville
ATTACH;FMTTYPE=image/jpeg:https://864foodtrucks.com/wp-content/uploads/2022/08/Birria-Boy.jpg
ORGANIZER;CN="Birria Boy":MAILTO:Birriaboy77@gmail.com
GEO:34.7127674;-82.2550282
X-APPLE-STRUCTURED-LOCATION;VALUE=URI;X-ADDRESS=Scuffletown Food Truck Park Ladean Court 206 Simpsonville South Carolina 29680 United States;X-APPLE-RADIUS=500;X-TITLE=Ladean Court 206:geo:-82.2550282,34.7127674
END:VEVENT
BEGIN:VEVENT
DTSTART;TZID=America/New_York:20231221T110000
DTEND;TZID=America/New_York:20231221T210000
DTSTAMP:20260425T145045
CREATED:20231219T150737Z
LAST-MODIFIED:20240209T201410Z
UID:24694-1703156400-1703192400@864foodtrucks.com
SUMMARY:Birria Boy @ Scuffletown
DESCRIPTION:
URL:https://864foodtrucks.com/event/birria-boy-scuffletown/2023-12-21/
LOCATION:Scuffletown Food Truck Park\, Ladean Court 206\, Simpsonville\, South Carolina\, 29680\, United States
CATEGORIES:Food Truck Schedules
ATTACH;FMTTYPE=image/jpeg:https://864foodtrucks.com/wp-content/uploads/2022/08/Birria-Boy.jpg
ORGANIZER;CN="Birria Boy":MAILTO:Birriaboy77@gmail.com
GEO:34.7127674;-82.2550282
X-APPLE-STRUCTURED-LOCATION;VALUE=URI;X-ADDRESS=Scuffletown Food Truck Park Ladean Court 206 Simpsonville South Carolina 29680 United States;X-APPLE-RADIUS=500;X-TITLE=Ladean Court 206:geo:-82.2550282,34.7127674
END:VEVENT
BEGIN:VEVENT
DTSTART;TZID=America/New_York:20230921T130000
DTEND;TZID=America/New_York:20230921T190000
DTSTAMP:20260425T145045
CREATED:20230920T173750Z
LAST-MODIFIED:20230920T173750Z
UID:22983-1695301200-1695322800@864foodtrucks.com
SUMMARY:Birria Boy @ Dockside Clemson
DESCRIPTION:
URL:https://864foodtrucks.com/event/birria-boy-dockside-clemson/
LOCATION:Dockside\, Tiger Boulevard 894\, Clemson\, South Carolina\, 29631\, United States
CATEGORIES:Clemsen,Food Truck Schedules
ATTACH;FMTTYPE=image/jpeg:https://864foodtrucks.com/wp-content/uploads/2022/08/Birria-Boy.jpg
ORGANIZER;CN="Birria Boy":MAILTO:Birriaboy77@gmail.com
GEO:34.6916287;-82.8475708
X-APPLE-STRUCTURED-LOCATION;VALUE=URI;X-ADDRESS=Dockside Tiger Boulevard 894 Clemson South Carolina 29631 United States;X-APPLE-RADIUS=500;X-TITLE=Tiger Boulevard 894:geo:-82.8475708,34.6916287
END:VEVENT
BEGIN:VEVENT
DTSTART;TZID=America/New_York:20230722T110000
DTEND;TZID=America/New_York:20230722T130000
DTSTAMP:20260425T145045
CREATED:20230717T145325Z
LAST-MODIFIED:20230717T145325Z
UID:20842-1690023600-1690030800@864foodtrucks.com
SUMMARY:Birria Boy @ Back to School Kick-Off
DESCRIPTION:
URL:https://864foodtrucks.com/event/birria-boy-back-to-school-kick-off/
LOCATION:Lawrence Chapel\, 2101 Six Mile Hwy\, Central\, SC\, United States
CATEGORIES:Central,Food Truck Schedules
ATTACH;FMTTYPE=image/jpeg:https://864foodtrucks.com/wp-content/uploads/2022/08/Birria-Boy.jpg
ORGANIZER;CN="Birria Boy":MAILTO:Birriaboy77@gmail.com
END:VEVENT
BEGIN:VEVENT
DTSTART;TZID=America/New_York:20230527T090000
DTEND;TZID=America/New_York:20230527T120000
DTSTAMP:20260425T145045
CREATED:20230522T104328Z
LAST-MODIFIED:20230522T104328Z
UID:19119-1685178000-1685188800@864foodtrucks.com
SUMMARY:Birria Boy @ Central Farmers Market
DESCRIPTION:
URL:https://864foodtrucks.com/event/birria-boy-central-farmers-market/
LOCATION:Main Street Central\, Central\, SC\, United States
CATEGORIES:Central,Food Truck Schedules
ATTACH;FMTTYPE=image/jpeg:https://864foodtrucks.com/wp-content/uploads/2022/08/Birria-Boy.jpg
ORGANIZER;CN="Birria Boy":MAILTO:Birriaboy77@gmail.com
END:VEVENT
BEGIN:VEVENT
DTSTART;TZID=America/New_York:20230520T180000
DTEND;TZID=America/New_York:20230520T210000
DTSTAMP:20260425T145045
CREATED:20230515T142921Z
LAST-MODIFIED:20230925T002427Z
UID:18946-1684605600-1684616400@864foodtrucks.com
SUMMARY:Birria Boy @ Traveler's Taproom
DESCRIPTION:
URL:https://864foodtrucks.com/event/birria-boy-travelers-taproom/2023-05-20/
LOCATION:Travelers Taproom\, 2624 Poinsett Hwy\, Greenville\, South Carolina
CATEGORIES:Food Truck Schedules,Greenville
ATTACH;FMTTYPE=image/jpeg:https://864foodtrucks.com/wp-content/uploads/2022/08/Birria-Boy.jpg
ORGANIZER;CN="Birria Boy":MAILTO:Birriaboy77@gmail.com
GEO:34.9015748;-82.4159581
X-APPLE-STRUCTURED-LOCATION;VALUE=URI;X-ADDRESS=Travelers Taproom 2624 Poinsett Hwy Greenville South Carolina;X-APPLE-RADIUS=500;X-TITLE=2624 Poinsett Hwy:geo:-82.4159581,34.9015748
END:VEVENT
BEGIN:VEVENT
DTSTART;TZID=America/New_York:20230415T110000
DTEND;TZID=America/New_York:20230415T200000
DTSTAMP:20260425T145045
CREATED:20230412T124106Z
LAST-MODIFIED:20230412T124106Z
UID:18232-1681556400-1681588800@864foodtrucks.com
SUMMARY:Birria Boy @ Swamp Rabbit Brewery
DESCRIPTION:
URL:https://864foodtrucks.com/event/birria-boy-swamp-rabbit-brewery/2023-04-15/
LOCATION:Swamp Rabbit Brewery\, 26 S Main St\, Travelers Rest\, South Carolina
CATEGORIES:Food Truck Schedules,Travelers Rest
ATTACH;FMTTYPE=image/jpeg:https://864foodtrucks.com/wp-content/uploads/2022/08/Birria-Boy.jpg
ORGANIZER;CN="Birria Boy":MAILTO:Birriaboy77@gmail.com
GEO:34.9670847;-82.4425017
X-APPLE-STRUCTURED-LOCATION;VALUE=URI;X-ADDRESS=Swamp Rabbit Brewery 26 S Main St Travelers Rest South Carolina;X-APPLE-RADIUS=500;X-TITLE=26 S Main St:geo:-82.4425017,34.9670847
END:VEVENT
BEGIN:VEVENT
DTSTART;TZID=America/New_York:20230330T180000
DTEND;TZID=America/New_York:20230330T200000
DTSTAMP:20260425T145045
CREATED:20230328T120341Z
LAST-MODIFIED:20230328T120341Z
UID:17860-1680199200-1680206400@864foodtrucks.com
SUMMARY:Birria Boy @ Bikes and Bluegrass
DESCRIPTION:
URL:https://864foodtrucks.com/event/birria-boy-bikes-and-bluegrass/
LOCATION:Downtown Central\, Centra
CATEGORIES:Central,Food Truck Schedules
ATTACH;FMTTYPE=image/jpeg:https://864foodtrucks.com/wp-content/uploads/2022/08/Birria-Boy.jpg
ORGANIZER;CN="Birria Boy":MAILTO:Birriaboy77@gmail.com
END:VEVENT
BEGIN:VEVENT
DTSTART;TZID=America/New_York:20230329T170000
DTEND;TZID=America/New_York:20230329T200000
DTSTAMP:20260425T145045
CREATED:20230328T120144Z
LAST-MODIFIED:20230328T120454Z
UID:17857-1680109200-1680120000@864foodtrucks.com
SUMMARY:Birria Boy @ Project ROCK
DESCRIPTION:
URL:https://864foodtrucks.com/event/birria-boy-project-rock/
LOCATION:Project ROCK\, 2121 Farrs Bridge Rd\, Easley\, SC\, United States
CATEGORIES:Easley,Food Truck Schedules
ATTACH;FMTTYPE=image/jpeg:https://864foodtrucks.com/wp-content/uploads/2022/08/Birria-Boy.jpg
ORGANIZER;CN="Birria Boy":MAILTO:Birriaboy77@gmail.com
END:VEVENT
BEGIN:VEVENT
DTSTART;TZID=America/New_York:20230328T110000
DTEND;TZID=America/New_York:20230328T200000
DTSTAMP:20260425T145045
CREATED:20230328T115940Z
LAST-MODIFIED:20230717T152239Z
UID:17851-1680001200-1680033600@864foodtrucks.com
SUMMARY:Birria Boy @ Monterrey of Clemsen
DESCRIPTION:
URL:https://864foodtrucks.com/event/birria-boy-monterrey-of-clemsen-2/2023-03-28/
LOCATION:Monterrey of Clemson\, 1710 W Main St\, Central\, SC\, United States
CATEGORIES:Central,Food Truck Schedules
ATTACH;FMTTYPE=image/jpeg:https://864foodtrucks.com/wp-content/uploads/2022/08/Birria-Boy.jpg
ORGANIZER;CN="Birria Boy":MAILTO:Birriaboy77@gmail.com
END:VEVENT
BEGIN:VEVENT
DTSTART;TZID=America/New_York:20230318T103000
DTEND;TZID=America/New_York:20230318T103000
DTSTAMP:20260425T145045
CREATED:20230315T001436Z
LAST-MODIFIED:20230315T001436Z
UID:17573-1679135400-1679135400@864foodtrucks.com
SUMMARY:Birria Boy @ The Pint Station
DESCRIPTION:
URL:https://864foodtrucks.com/event/birria-boy-the-pint-station/
LOCATION:Pint Station Easley\, 116 E Main St\, Easley\, SC\, 29640\, United States
CATEGORIES:Easley,Food Truck Schedules
ATTACH;FMTTYPE=image/jpeg:https://864foodtrucks.com/wp-content/uploads/2022/08/Birria-Boy.jpg
ORGANIZER;CN="Birria Boy":MAILTO:Birriaboy77@gmail.com
GEO:34.8299846;-82.6028589
X-APPLE-STRUCTURED-LOCATION;VALUE=URI;X-ADDRESS=Pint Station Easley 116 E Main St Easley SC 29640 United States;X-APPLE-RADIUS=500;X-TITLE=116 E Main St:geo:-82.6028589,34.8299846
END:VEVENT
BEGIN:VEVENT
DTSTART;TZID=America/New_York:20230103T110000
DTEND;TZID=America/New_York:20230103T170000
DTSTAMP:20260425T145045
CREATED:20240913T171340Z
LAST-MODIFIED:20240913T171340Z
UID:36512-1672743600-1672765200@864foodtrucks.com
SUMMARY:Birria Boy @ Monterrey of Clemsen
DESCRIPTION:
URL:https://864foodtrucks.com/event/birria-boy-monterrey-of-clemsen/
LOCATION:Monterrey of Clemson\, 1710 W Main St\, Central\, SC\, United States
CATEGORIES:Food Truck Schedules
ATTACH;FMTTYPE=image/jpeg:https://864foodtrucks.com/wp-content/uploads/2022/08/Birria-Boy.jpg
ORGANIZER;CN="Birria Boy":MAILTO:Birriaboy77@gmail.com
END:VEVENT
BEGIN:VEVENT
DTSTART;TZID=America/New_York:20230102T110000
DTEND;TZID=America/New_York:20230102T170000
DTSTAMP:20260425T145045
CREATED:20230101T214300Z
LAST-MODIFIED:20230319T194316Z
UID:15873-1672657200-1672678800@864foodtrucks.com
SUMMARY:Birria Boy @ Monterrey of Clemsen
DESCRIPTION:
URL:https://864foodtrucks.com/event/birria-boy-monterrey-of-clemsen/2023-01-02/
LOCATION:Monterrey of Clemson\, 1710 W Main St\, Central\, SC\, United States
CATEGORIES:Food Truck Schedules
ATTACH;FMTTYPE=image/jpeg:https://864foodtrucks.com/wp-content/uploads/2022/08/Birria-Boy.jpg
ORGANIZER;CN="Birria Boy":MAILTO:Birriaboy77@gmail.com
END:VEVENT
END:VCALENDAR