BEGIN:VCALENDAR
VERSION:2.0
PRODID:-//864 Food Trucks - ECPv6.15.20//NONSGML v1.0//EN
CALSCALE:GREGORIAN
METHOD:PUBLISH
X-ORIGINAL-URL:https://864foodtrucks.com
X-WR-CALDESC:Events for 864 Food Trucks
REFRESH-INTERVAL;VALUE=DURATION:PT1H
X-Robots-Tag:noindex
X-PUBLISHED-TTL:PT1H
BEGIN:VTIMEZONE
TZID:America/New_York
BEGIN:DAYLIGHT
TZOFFSETFROM:-0500
TZOFFSETTO:-0400
TZNAME:EDT
DTSTART:20250309T070000
END:DAYLIGHT
BEGIN:STANDARD
TZOFFSETFROM:-0400
TZOFFSETTO:-0500
TZNAME:EST
DTSTART:20251102T060000
END:STANDARD
BEGIN:DAYLIGHT
TZOFFSETFROM:-0500
TZOFFSETTO:-0400
TZNAME:EDT
DTSTART:20260308T070000
END:DAYLIGHT
BEGIN:STANDARD
TZOFFSETFROM:-0400
TZOFFSETTO:-0500
TZNAME:EST
DTSTART:20261101T060000
END:STANDARD
BEGIN:DAYLIGHT
TZOFFSETFROM:-0500
TZOFFSETTO:-0400
TZNAME:EDT
DTSTART:20270314T070000
END:DAYLIGHT
BEGIN:STANDARD
TZOFFSETFROM:-0400
TZOFFSETTO:-0500
TZNAME:EST
DTSTART:20271107T060000
END:STANDARD
END:VTIMEZONE
BEGIN:VEVENT
DTSTART;TZID=America/New_York:20260423T140000
DTEND;TZID=America/New_York:20260423T183000
DTSTAMP:20260423T122203
CREATED:20250915T131112Z
LAST-MODIFIED:20250915T131112Z
UID:62058-1776952800-1776969000@864foodtrucks.com
SUMMARY:Cinnabon @ Chesnee Food Lion
DESCRIPTION:Cinnabon Food Truck Greenville
URL:https://864foodtrucks.com/event/cinnabon-chesnee-food-lion/2026-04-23/
LOCATION:Food Lion Chesnee\, 712 S Alabama Ave\, Chesnee\, South Carolina\, 29323
CATEGORIES:Chesnee,Food Truck Schedules
ATTACH;FMTTYPE=image/jpeg:https://864foodtrucks.com/wp-content/uploads/2024/12/326870080_1829549937401559_2632445834433428235_n-2.jpg
ORGANIZER;CN="Cinnabon Greenville":MAILTO:info@hotbonssc.com
GEO:35.1367556;-81.8630291
X-APPLE-STRUCTURED-LOCATION;VALUE=URI;X-ADDRESS=Food Lion Chesnee 712 S Alabama Ave Chesnee South Carolina 29323;X-APPLE-RADIUS=500;X-TITLE=712 S Alabama Ave:geo:-81.8630291,35.1367556
END:VEVENT
BEGIN:VEVENT
DTSTART;TZID=America/New_York:20260424T120000
DTEND;TZID=America/New_York:20260424T140000
DTSTAMP:20260423T122203
CREATED:20250406T205248Z
LAST-MODIFIED:20250406T205248Z
UID:62060-1777032000-1777039200@864foodtrucks.com
SUMMARY:Cinnabon @ Greenville High School
DESCRIPTION:Cinnabon Food Truck Greenville
URL:https://864foodtrucks.com/event/cinnabon-greenville-high-school/2026-04-24/
LOCATION:Greenville High School\, 1 Vardry St\, Greenville\, SC\, 29601\, United States
CATEGORIES:Food Truck Schedules,Greenville
ATTACH;FMTTYPE=image/jpeg:https://864foodtrucks.com/wp-content/uploads/2024/12/326870080_1829549937401559_2632445834433428235_n-2.jpg
ORGANIZER;CN="Cinnabon Greenville":MAILTO:info@hotbonssc.com
GEO:34.8396843;-82.4082603
X-APPLE-STRUCTURED-LOCATION;VALUE=URI;X-ADDRESS=Greenville High School 1 Vardry St Greenville SC 29601 United States;X-APPLE-RADIUS=500;X-TITLE=1 Vardry St:geo:-82.4082603,34.8396843
END:VEVENT
BEGIN:VEVENT
DTSTART;TZID=America/New_York:20260425T110000
DTEND;TZID=America/New_York:20260425T160000
DTSTAMP:20260423T122203
CREATED:20260330T001309Z
LAST-MODIFIED:20260330T001309Z
UID:62062-1777114800-1777132800@864foodtrucks.com
SUMMARY:Cinnabon @ Dollar General
DESCRIPTION:Cinnabon Food Truck Greenville
URL:https://864foodtrucks.com/event/cinnabon-dollar-general/2026-04-25/
LOCATION:Dollar General Greer\, 3455 SC14\, Greer\, South Carolina
CATEGORIES:Food Truck Schedules,Greer
ATTACH;FMTTYPE=image/jpeg:https://864foodtrucks.com/wp-content/uploads/2024/12/326870080_1829549937401559_2632445834433428235_n-2.jpg
ORGANIZER;CN="Cinnabon Greenville":MAILTO:info@hotbonssc.com
GEO:34.9955642;-82.2482306
X-APPLE-STRUCTURED-LOCATION;VALUE=URI;X-ADDRESS=Dollar General Greer 3455 SC14 Greer South Carolina;X-APPLE-RADIUS=500;X-TITLE=3455 SC14:geo:-82.2482306,34.9955642
END:VEVENT
END:VCALENDAR