BEGIN:VCALENDAR
VERSION:2.0
PRODID:-//864 Food Trucks - ECPv6.15.20//NONSGML v1.0//EN
CALSCALE:GREGORIAN
METHOD:PUBLISH
X-ORIGINAL-URL:https://864foodtrucks.com
X-WR-CALDESC:Events for 864 Food Trucks
REFRESH-INTERVAL;VALUE=DURATION:PT1H
X-Robots-Tag:noindex
X-PUBLISHED-TTL:PT1H
BEGIN:VTIMEZONE
TZID:America/New_York
BEGIN:DAYLIGHT
TZOFFSETFROM:-0500
TZOFFSETTO:-0400
TZNAME:EDT
DTSTART:20250309T070000
END:DAYLIGHT
BEGIN:STANDARD
TZOFFSETFROM:-0400
TZOFFSETTO:-0500
TZNAME:EST
DTSTART:20251102T060000
END:STANDARD
BEGIN:DAYLIGHT
TZOFFSETFROM:-0500
TZOFFSETTO:-0400
TZNAME:EDT
DTSTART:20260308T070000
END:DAYLIGHT
BEGIN:STANDARD
TZOFFSETFROM:-0400
TZOFFSETTO:-0500
TZNAME:EST
DTSTART:20261101T060000
END:STANDARD
BEGIN:DAYLIGHT
TZOFFSETFROM:-0500
TZOFFSETTO:-0400
TZNAME:EDT
DTSTART:20270314T070000
END:DAYLIGHT
BEGIN:STANDARD
TZOFFSETFROM:-0400
TZOFFSETTO:-0500
TZNAME:EST
DTSTART:20271107T060000
END:STANDARD
END:VTIMEZONE
BEGIN:VEVENT
DTSTART;TZID=America/New_York:20260312T140000
DTEND;TZID=America/New_York:20260312T183000
DTSTAMP:20260423T205934
CREATED:20250915T131112Z
LAST-MODIFIED:20260420T125155Z
UID:60431-1773324000-1773340200@864foodtrucks.com
SUMMARY:Cinnabon @ Chesnee Food Lion
DESCRIPTION:Cinnabon Food Truck Greenville
URL:https://864foodtrucks.com/event/cinnabon-chesnee-food-lion/2026-03-12/
LOCATION:Food Lion Chesnee\, 712 S Alabama Ave\, Chesnee\, South Carolina\, 29323
CATEGORIES:Chesnee,Food Truck Schedules
ATTACH;FMTTYPE=image/jpeg:https://864foodtrucks.com/wp-content/uploads/2024/12/326870080_1829549937401559_2632445834433428235_n-2.jpg
ORGANIZER;CN="Cinnabon Greenville":MAILTO:info@hotbonssc.com
GEO:35.1367556;-81.8630291
X-APPLE-STRUCTURED-LOCATION;VALUE=URI;X-ADDRESS=Food Lion Chesnee 712 S Alabama Ave Chesnee South Carolina 29323;X-APPLE-RADIUS=500;X-TITLE=712 S Alabama Ave:geo:-81.8630291,35.1367556
END:VEVENT
BEGIN:VEVENT
DTSTART;TZID=America/New_York:20260312T090000
DTEND;TZID=America/New_York:20260312T120000
DTSTAMP:20260423T205934
CREATED:20250519T171848Z
LAST-MODIFIED:20260323T195521Z
UID:60434-1773306000-1773316800@864foodtrucks.com
SUMMARY:Cinnabon @ Spectrum
DESCRIPTION:Cinnabon Food Truck Greenville
URL:https://864foodtrucks.com/event/cinnabon-spectrum/2026-03-12/
LOCATION:Spectrum\, 2 Digital Place\, Simpsonville\, SC\, United States
CATEGORIES:Food Truck Schedules,Simpsonville
ATTACH;FMTTYPE=image/jpeg:https://864foodtrucks.com/wp-content/uploads/2024/12/326870080_1829549937401559_2632445834433428235_n-2.jpg
ORGANIZER;CN="Cinnabon Greenville":MAILTO:info@hotbonssc.com
GEO:34.7953548;-82.2788291
X-APPLE-STRUCTURED-LOCATION;VALUE=URI;X-ADDRESS=Spectrum 2 Digital Place Simpsonville SC United States;X-APPLE-RADIUS=500;X-TITLE=2 Digital Place:geo:-82.2788291,34.7953548
END:VEVENT
BEGIN:VEVENT
DTSTART;TZID=America/New_York:20260311T120000
DTEND;TZID=America/New_York:20260311T143000
DTSTAMP:20260423T205934
CREATED:20260202T232937Z
LAST-MODIFIED:20260202T232937Z
UID:60430-1773230400-1773239400@864foodtrucks.com
SUMMARY:Cinnabon @ Woodmont High School
DESCRIPTION:Cinnabon Food Truck Greenville
URL:https://864foodtrucks.com/event/cinnabon-woodmont-high-school/2026-03-11/
LOCATION:Woodmont Middle School\, 325 N Flat Rock Rd\, Piedmont\, South Carolina
CATEGORIES:Food Truck Schedules,Greenville
ATTACH;FMTTYPE=image/jpeg:https://864foodtrucks.com/wp-content/uploads/2024/12/326870080_1829549937401559_2632445834433428235_n-2.jpg
ORGANIZER;CN="Cinnabon Greenville":MAILTO:info@hotbonssc.com
END:VEVENT
BEGIN:VEVENT
DTSTART;TZID=America/New_York:20260307T073000
DTEND;TZID=America/New_York:20260307T123000
DTSTAMP:20260423T205934
CREATED:20260126T190532Z
LAST-MODIFIED:20260126T190532Z
UID:60271-1772868600-1772886600@864foodtrucks.com
SUMMARY:Cinnabon @ Middle Tyger YMCA
DESCRIPTION:Cinnabon Food Truck Greenville
URL:https://864foodtrucks.com/event/cinnabon-middle-tyger-ymca/2026-03-07/
LOCATION:Middle Tyger YMCA\, 720 Shoals Rd\, Duncan
CATEGORIES:Duncan,Food Truck Schedules
ATTACH;FMTTYPE=image/jpeg:https://864foodtrucks.com/wp-content/uploads/2024/12/326870080_1829549937401559_2632445834433428235_n-2.jpg
ORGANIZER;CN="Cinnabon Greenville":MAILTO:info@hotbonssc.com
GEO:34.89743;-82.0858075
X-APPLE-STRUCTURED-LOCATION;VALUE=URI;X-ADDRESS=Middle Tyger YMCA 720 Shoals Rd Duncan;X-APPLE-RADIUS=500;X-TITLE=720 Shoals Rd:geo:-82.0858075,34.89743
END:VEVENT
BEGIN:VEVENT
DTSTART;TZID=America/New_York:20260306T143000
DTEND;TZID=America/New_York:20260306T183000
DTSTAMP:20260423T205934
CREATED:20250406T205248Z
LAST-MODIFIED:20260420T125236Z
UID:60276-1772807400-1772821800@864foodtrucks.com
SUMMARY:Cinnabon @ Greenville High School
DESCRIPTION:Cinnabon Food Truck Greenville
URL:https://864foodtrucks.com/event/cinnabon-greenville-high-school/2026-03-06/
LOCATION:Greenville High School\, 1 Vardry St\, Greenville\, SC\, 29601\, United States
CATEGORIES:Food Truck Schedules,Greenville
ATTACH;FMTTYPE=image/jpeg:https://864foodtrucks.com/wp-content/uploads/2024/12/326870080_1829549937401559_2632445834433428235_n-2.jpg
ORGANIZER;CN="Cinnabon Greenville":MAILTO:info@hotbonssc.com
GEO:34.8396843;-82.4082603
X-APPLE-STRUCTURED-LOCATION;VALUE=URI;X-ADDRESS=Greenville High School 1 Vardry St Greenville SC 29601 United States;X-APPLE-RADIUS=500;X-TITLE=1 Vardry St:geo:-82.4082603,34.8396843
END:VEVENT
BEGIN:VEVENT
DTSTART;TZID=America/New_York:20260305T143000
DTEND;TZID=America/New_York:20260305T183000
DTSTAMP:20260423T205934
CREATED:20250915T131112Z
LAST-MODIFIED:20260420T125154Z
UID:60272-1772721000-1772735400@864foodtrucks.com
SUMMARY:Cinnabon @ Chesnee Food Lion
DESCRIPTION:Cinnabon Food Truck Greenville
URL:https://864foodtrucks.com/event/cinnabon-chesnee-food-lion/2026-03-05/
LOCATION:Food Lion Chesnee\, 712 S Alabama Ave\, Chesnee\, South Carolina\, 29323
CATEGORIES:Chesnee,Food Truck Schedules
ATTACH;FMTTYPE=image/jpeg:https://864foodtrucks.com/wp-content/uploads/2024/12/326870080_1829549937401559_2632445834433428235_n-2.jpg
ORGANIZER;CN="Cinnabon Greenville":MAILTO:info@hotbonssc.com
GEO:35.1367556;-81.8630291
X-APPLE-STRUCTURED-LOCATION;VALUE=URI;X-ADDRESS=Food Lion Chesnee 712 S Alabama Ave Chesnee South Carolina 29323;X-APPLE-RADIUS=500;X-TITLE=712 S Alabama Ave:geo:-81.8630291,35.1367556
END:VEVENT
BEGIN:VEVENT
DTSTART;TZID=America/New_York:20260305T090000
DTEND;TZID=America/New_York:20260305T120000
DTSTAMP:20260423T205934
CREATED:20250519T171848Z
LAST-MODIFIED:20260323T195521Z
UID:60274-1772701200-1772712000@864foodtrucks.com
SUMMARY:Cinnabon @ Spectrum
DESCRIPTION:Cinnabon Food Truck Greenville
URL:https://864foodtrucks.com/event/cinnabon-spectrum/2026-03-05/
LOCATION:Spectrum\, 2 Digital Place\, Simpsonville\, SC\, United States
CATEGORIES:Food Truck Schedules,Simpsonville
ATTACH;FMTTYPE=image/jpeg:https://864foodtrucks.com/wp-content/uploads/2024/12/326870080_1829549937401559_2632445834433428235_n-2.jpg
ORGANIZER;CN="Cinnabon Greenville":MAILTO:info@hotbonssc.com
GEO:34.7953548;-82.2788291
X-APPLE-STRUCTURED-LOCATION;VALUE=URI;X-ADDRESS=Spectrum 2 Digital Place Simpsonville SC United States;X-APPLE-RADIUS=500;X-TITLE=2 Digital Place:geo:-82.2788291,34.7953548
END:VEVENT
BEGIN:VEVENT
DTSTART;TZID=America/New_York:20260304T110000
DTEND;TZID=America/New_York:20260304T153000
DTSTAMP:20260423T205934
CREATED:20250331T003544Z
LAST-MODIFIED:20260323T195545Z
UID:60277-1772622000-1772638200@864foodtrucks.com
SUMMARY:Cinnabon @ Spartanburg Reginal Medical Center
DESCRIPTION:Cinnabon Food Truck Greenville
URL:https://864foodtrucks.com/event/cinnabon-spartanburg-reginal-healthcare/2026-03-04/
LOCATION:Spartanburg Regional Healthcare\, 101 E Wood St\, Spartanburg\, South Carolina
CATEGORIES:Food Truck Schedules,Spartanburg
ATTACH;FMTTYPE=image/jpeg:https://864foodtrucks.com/wp-content/uploads/2024/12/326870080_1829549937401559_2632445834433428235_n-2.jpg
ORGANIZER;CN="Cinnabon Greenville":MAILTO:info@hotbonssc.com
GEO:34.966283;-81.9393976
X-APPLE-STRUCTURED-LOCATION;VALUE=URI;X-ADDRESS=Spartanburg Regional Healthcare 101 E Wood St Spartanburg South Carolina;X-APPLE-RADIUS=500;X-TITLE=101 E Wood St:geo:-81.9393976,34.966283
END:VEVENT
BEGIN:VEVENT
DTSTART;TZID=America/New_York:20260227T120000
DTEND;TZID=America/New_York:20260227T140000
DTSTAMP:20260423T205934
CREATED:20260222T203825Z
LAST-MODIFIED:20260222T203825Z
UID:60066-1772193600-1772200800@864foodtrucks.com
SUMMARY:Cinnabon @ Woodmont High School
DESCRIPTION:Cinnabon Food Truck Greenville
URL:https://864foodtrucks.com/event/cinnabon-woodmont-high-school-2/
LOCATION:Woodmont Middle School\, 325 N Flat Rock Rd\, Piedmont\, South Carolina
CATEGORIES:Food Truck Schedules,Greenville
ATTACH;FMTTYPE=image/jpeg:https://864foodtrucks.com/wp-content/uploads/2024/12/326870080_1829549937401559_2632445834433428235_n-2.jpg
ORGANIZER;CN="Cinnabon Greenville":MAILTO:info@hotbonssc.com
END:VEVENT
BEGIN:VEVENT
DTSTART;TZID=America/New_York:20260226T090000
DTEND;TZID=America/New_York:20260226T120000
DTSTAMP:20260423T205934
CREATED:20250519T171848Z
LAST-MODIFIED:20260323T195515Z
UID:60056-1772096400-1772107200@864foodtrucks.com
SUMMARY:Cinnabon @ Spectrum
DESCRIPTION:Cinnabon Food Truck Greenville
URL:https://864foodtrucks.com/event/cinnabon-spectrum/2026-02-26/
LOCATION:Spectrum\, 2 Digital Place\, Simpsonville\, SC\, United States
CATEGORIES:Food Truck Schedules,Simpsonville
ATTACH;FMTTYPE=image/jpeg:https://864foodtrucks.com/wp-content/uploads/2024/12/326870080_1829549937401559_2632445834433428235_n-2.jpg
ORGANIZER;CN="Cinnabon Greenville":MAILTO:info@hotbonssc.com
GEO:34.7953548;-82.2788291
X-APPLE-STRUCTURED-LOCATION;VALUE=URI;X-ADDRESS=Spectrum 2 Digital Place Simpsonville SC United States;X-APPLE-RADIUS=500;X-TITLE=2 Digital Place:geo:-82.2788291,34.7953548
END:VEVENT
BEGIN:VEVENT
DTSTART;TZID=America/New_York:20260225T073000
DTEND;TZID=America/New_York:20260225T113000
DTSTAMP:20260423T205934
CREATED:20260222T201500Z
LAST-MODIFIED:20260222T201500Z
UID:60060-1772004600-1772019000@864foodtrucks.com
SUMMARY:Cinnabon @ OB Specialists
DESCRIPTION:Cinnabon Food Truck Greenville
URL:https://864foodtrucks.com/event/cinnabon-ob-specialists/
LOCATION:OB Speacialists\, 777 Lownes Hill Rd\, Greenville\, SC\, United States
CATEGORIES:Food Truck Schedules,Greenville
ATTACH;FMTTYPE=image/jpeg:https://864foodtrucks.com/wp-content/uploads/2024/12/326870080_1829549937401559_2632445834433428235_n-2.jpg
ORGANIZER;CN="Cinnabon Greenville":MAILTO:info@hotbonssc.com
GEO:34.8553507;-82.3591462
X-APPLE-STRUCTURED-LOCATION;VALUE=URI;X-ADDRESS=OB Speacialists 777 Lownes Hill Rd Greenville SC United States;X-APPLE-RADIUS=500;X-TITLE=777 Lownes Hill Rd:geo:-82.3591462,34.8553507
END:VEVENT
BEGIN:VEVENT
DTSTART;TZID=America/New_York:20260224T170000
DTEND;TZID=America/New_York:20260224T190000
DTSTAMP:20260423T205934
CREATED:20260222T200505Z
LAST-MODIFIED:20260222T200505Z
UID:60057-1771952400-1771959600@864foodtrucks.com
SUMMARY:Cinnabon @ Abner Creek Academy
DESCRIPTION:Cinnabon Food Truck Greenville
URL:https://864foodtrucks.com/event/cinnabon-abner-creek-academy/
LOCATION:Abner Creek Academy\, 2050 Abner Creek Rd\, Duncan\, South Carolina
CATEGORIES:Duncan,Food Truck Schedules
ATTACH;FMTTYPE=image/jpeg:https://864foodtrucks.com/wp-content/uploads/2024/12/326870080_1829549937401559_2632445834433428235_n-2.jpg
ORGANIZER;CN="Cinnabon Greenville":MAILTO:info@hotbonssc.com
END:VEVENT
BEGIN:VEVENT
DTSTART;TZID=America/New_York:20260222T143000
DTEND;TZID=America/New_York:20260222T160000
DTSTAMP:20260423T205934
CREATED:20260222T203658Z
LAST-MODIFIED:20260222T203658Z
UID:60063-1771770600-1771776000@864foodtrucks.com
SUMMARY:Cinnabon @ The Gardens at Eastside
DESCRIPTION:Cinnabon Food Truck Greenville
URL:https://864foodtrucks.com/event/cinnabon-the-gardens-at-eastside/
LOCATION:The Gardens at Eastside\, 275 Commonwealth Drive\, Greenville\, South Carolina
CATEGORIES:Food Truck Schedules,Greenville
ATTACH;FMTTYPE=image/jpeg:https://864foodtrucks.com/wp-content/uploads/2024/12/326870080_1829549937401559_2632445834433428235_n-2.jpg
ORGANIZER;CN="Cinnabon Greenville":MAILTO:info@hotbonssc.com
GEO:34.8527691;-82.3201304
X-APPLE-STRUCTURED-LOCATION;VALUE=URI;X-ADDRESS=The Gardens at Eastside 275 Commonwealth Drive Greenville South Carolina;X-APPLE-RADIUS=500;X-TITLE=275 Commonwealth Drive:geo:-82.3201304,34.8527691
END:VEVENT
BEGIN:VEVENT
DTSTART;TZID=America/New_York:20260214T073000
DTEND;TZID=America/New_York:20260214T113000
DTSTAMP:20260423T205934
CREATED:20260119T002134Z
LAST-MODIFIED:20260119T002134Z
UID:59546-1771054200-1771068600@864foodtrucks.com
SUMMARY:Cinnabon @ Byrnes High School
DESCRIPTION:Cinnabon Food Truck Greenville
URL:https://864foodtrucks.com/event/cinnabon-byrnes-high-school/2026-02-14/
LOCATION:James F Byrnes High School\, East Main Street 150\, Spartanburg\, South Carolina\, 29306\, United States
CATEGORIES:Duncan,Food Truck Schedules
ATTACH;FMTTYPE=image/jpeg:https://864foodtrucks.com/wp-content/uploads/2024/12/326870080_1829549937401559_2632445834433428235_n-2.jpg
ORGANIZER;CN="Cinnabon Greenville":MAILTO:info@hotbonssc.com
GEO:34.949949;-81.9299288
X-APPLE-STRUCTURED-LOCATION;VALUE=URI;X-ADDRESS=James F Byrnes High School East Main Street 150 Spartanburg South Carolina 29306 United States;X-APPLE-RADIUS=500;X-TITLE=East Main Street 150:geo:-81.9299288,34.949949
END:VEVENT
BEGIN:VEVENT
DTSTART;TZID=America/New_York:20260213T120000
DTEND;TZID=America/New_York:20260213T140000
DTSTAMP:20260423T205934
CREATED:20260112T203755Z
LAST-MODIFIED:20260112T203755Z
UID:59549-1770984000-1770991200@864foodtrucks.com
SUMMARY:Cinnabon @ Greenville High School
DESCRIPTION:Cinnabon Food Truck Greenville
URL:https://864foodtrucks.com/event/cinnabon-greenville-high-school-2/2026-02-13/
LOCATION:Greenville High School\, 1 Vardry St\, Greenville\, SC\, 29601\, United States
CATEGORIES:Food Truck Schedules,Greenville
ATTACH;FMTTYPE=image/jpeg:https://864foodtrucks.com/wp-content/uploads/2024/12/326870080_1829549937401559_2632445834433428235_n-2.jpg
ORGANIZER;CN="Cinnabon Greenville":MAILTO:info@hotbonssc.com
GEO:34.8396843;-82.4082603
X-APPLE-STRUCTURED-LOCATION;VALUE=URI;X-ADDRESS=Greenville High School 1 Vardry St Greenville SC 29601 United States;X-APPLE-RADIUS=500;X-TITLE=1 Vardry St:geo:-82.4082603,34.8396843
END:VEVENT
BEGIN:VEVENT
DTSTART;TZID=America/New_York:20260212T143000
DTEND;TZID=America/New_York:20260212T183000
DTSTAMP:20260423T205934
CREATED:20250714T163328Z
LAST-MODIFIED:20250714T163328Z
UID:59547-1770906600-1770921000@864foodtrucks.com
SUMMARY:Cinnabon @ Chesnee's Food Lion
DESCRIPTION:Cinnabon Food Truck Greenville
URL:https://864foodtrucks.com/event/cinnabon-chesnees-food-lion/2026-02-12/
LOCATION:Food Lion Chesnee\, 712 S Alabama Ave\, Chesnee\, South Carolina\, 29323
CATEGORIES:Chesnee,Food Truck Schedules
ATTACH;FMTTYPE=image/jpeg:https://864foodtrucks.com/wp-content/uploads/2024/12/326870080_1829549937401559_2632445834433428235_n-2.jpg
ORGANIZER;CN="Cinnabon Greenville":MAILTO:info@hotbonssc.com
GEO:35.1367556;-81.8630291
X-APPLE-STRUCTURED-LOCATION;VALUE=URI;X-ADDRESS=Food Lion Chesnee 712 S Alabama Ave Chesnee South Carolina 29323;X-APPLE-RADIUS=500;X-TITLE=712 S Alabama Ave:geo:-81.8630291,35.1367556
END:VEVENT
BEGIN:VEVENT
DTSTART;TZID=America/New_York:20260211T073000
DTEND;TZID=America/New_York:20260211T093000
DTSTAMP:20260423T205934
CREATED:20260208T205730Z
LAST-MODIFIED:20260208T205730Z
UID:59550-1770795000-1770802200@864foodtrucks.com
SUMMARY:Cinnabon @ Cypress Cove
DESCRIPTION:Cinnabon Food Truck Greenville
URL:https://864foodtrucks.com/event/cinnabon-cypress-cove/
LOCATION:Cypress Cove\, 1 Cypress Cove Court\, Greenville\, South Carolina
CATEGORIES:Food Truck Schedules,Greenville
ATTACH;FMTTYPE=image/jpeg:https://864foodtrucks.com/wp-content/uploads/2024/12/326870080_1829549937401559_2632445834433428235_n-2.jpg
ORGANIZER;CN="Cinnabon Greenville":MAILTO:info@hotbonssc.com
GEO:34.8007934;-82.4448849
X-APPLE-STRUCTURED-LOCATION;VALUE=URI;X-ADDRESS=Cypress Cove 1 Cypress Cove Court Greenville South Carolina;X-APPLE-RADIUS=500;X-TITLE=1 Cypress Cove Court:geo:-82.4448849,34.8007934
END:VEVENT
BEGIN:VEVENT
DTSTART;TZID=America/New_York:20260207T080000
DTEND;TZID=America/New_York:20260207T113000
DTSTAMP:20260423T205934
CREATED:20260202T232819Z
LAST-MODIFIED:20260202T232819Z
UID:59401-1770451200-1770463800@864foodtrucks.com
SUMMARY:Cinnabon @ Sweet Tea Station
DESCRIPTION:Cinnabon Food Truck Greenville
URL:https://864foodtrucks.com/event/cinnabon-sweet-tea-station-2/
LOCATION:Sweet Tea Station\, Reidville Road 7325\, Woodruff\, SC\, 29388\, United States
CATEGORIES:Food Truck Schedules,Reidville
ATTACH;FMTTYPE=image/jpeg:https://864foodtrucks.com/wp-content/uploads/2024/12/326870080_1829549937401559_2632445834433428235_n-2.jpg
ORGANIZER;CN="Cinnabon Greenville":MAILTO:info@hotbonssc.com
GEO:34.8631063;-82.1133434
X-APPLE-STRUCTURED-LOCATION;VALUE=URI;X-ADDRESS=Sweet Tea Station Reidville Road 7325 Woodruff SC 29388 United States;X-APPLE-RADIUS=500;X-TITLE=Reidville Road 7325:geo:-82.1133434,34.8631063
END:VEVENT
BEGIN:VEVENT
DTSTART;TZID=America/New_York:20260206T120000
DTEND;TZID=America/New_York:20260206T143000
DTSTAMP:20260423T205934
CREATED:20260202T232937Z
LAST-MODIFIED:20260308T230239Z
UID:59404-1770379200-1770388200@864foodtrucks.com
SUMMARY:Cinnabon @ Woodmont High School
DESCRIPTION:Cinnabon Food Truck Greenville
URL:https://864foodtrucks.com/event/cinnabon-woodmont-high-school/2026-02-06/
LOCATION:Woodmont Middle School\, 325 N Flat Rock Rd\, Piedmont\, South Carolina
CATEGORIES:Food Truck Schedules,Greenville
ATTACH;FMTTYPE=image/jpeg:https://864foodtrucks.com/wp-content/uploads/2024/12/326870080_1829549937401559_2632445834433428235_n-2.jpg
ORGANIZER;CN="Cinnabon Greenville":MAILTO:info@hotbonssc.com
END:VEVENT
BEGIN:VEVENT
DTSTART;TZID=America/New_York:20260205T110000
DTEND;TZID=America/New_York:20260205T153000
DTSTAMP:20260423T205934
CREATED:20250519T171848Z
LAST-MODIFIED:20260323T195514Z
UID:59398-1770289200-1770305400@864foodtrucks.com
SUMMARY:Cinnabon @ Spectrum
DESCRIPTION:Cinnabon Food Truck Greenville
URL:https://864foodtrucks.com/event/cinnabon-spectrum/2026-02-05/
LOCATION:Spectrum\, 2 Digital Place\, Simpsonville\, SC\, United States
CATEGORIES:Food Truck Schedules,Simpsonville
ATTACH;FMTTYPE=image/jpeg:https://864foodtrucks.com/wp-content/uploads/2024/12/326870080_1829549937401559_2632445834433428235_n-2.jpg
ORGANIZER;CN="Cinnabon Greenville":MAILTO:info@hotbonssc.com
GEO:34.7953548;-82.2788291
X-APPLE-STRUCTURED-LOCATION;VALUE=URI;X-ADDRESS=Spectrum 2 Digital Place Simpsonville SC United States;X-APPLE-RADIUS=500;X-TITLE=2 Digital Place:geo:-82.2788291,34.7953548
END:VEVENT
BEGIN:VEVENT
DTSTART;TZID=America/New_York:20260204T110000
DTEND;TZID=America/New_York:20260204T160000
DTSTAMP:20260423T205934
CREATED:20250331T003544Z
LAST-MODIFIED:20260323T195545Z
UID:59400-1770202800-1770220800@864foodtrucks.com
SUMMARY:Cinnabon @ Spartanburg Reginal Medical Center
DESCRIPTION:Cinnabon Food Truck Greenville
URL:https://864foodtrucks.com/event/cinnabon-spartanburg-reginal-healthcare/2026-02-04/
LOCATION:Spartanburg Regional Healthcare\, 101 E Wood St\, Spartanburg\, South Carolina
CATEGORIES:Food Truck Schedules,Spartanburg
ATTACH;FMTTYPE=image/jpeg:https://864foodtrucks.com/wp-content/uploads/2024/12/326870080_1829549937401559_2632445834433428235_n-2.jpg
ORGANIZER;CN="Cinnabon Greenville":MAILTO:info@hotbonssc.com
GEO:34.966283;-81.9393976
X-APPLE-STRUCTURED-LOCATION;VALUE=URI;X-ADDRESS=Spartanburg Regional Healthcare 101 E Wood St Spartanburg South Carolina;X-APPLE-RADIUS=500;X-TITLE=101 E Wood St:geo:-81.9393976,34.966283
END:VEVENT
BEGIN:VEVENT
DTSTART;TZID=America/New_York:20260131T073000
DTEND;TZID=America/New_York:20260131T123000
DTSTAMP:20260423T205934
CREATED:20260126T190532Z
LAST-MODIFIED:20260302T003040Z
UID:59182-1769844600-1769862600@864foodtrucks.com
SUMMARY:Cinnabon @ Middle Tyger YMCA
DESCRIPTION:Cinnabon Food Truck Greenville
URL:https://864foodtrucks.com/event/cinnabon-middle-tyger-ymca/2026-01-31/
LOCATION:Middle Tyger YMCA\, 720 Shoals Rd\, Duncan
CATEGORIES:Duncan,Food Truck Schedules
ATTACH;FMTTYPE=image/jpeg:https://864foodtrucks.com/wp-content/uploads/2024/12/326870080_1829549937401559_2632445834433428235_n-2.jpg
ORGANIZER;CN="Cinnabon Greenville":MAILTO:info@hotbonssc.com
GEO:34.89743;-82.0858075
X-APPLE-STRUCTURED-LOCATION;VALUE=URI;X-ADDRESS=Middle Tyger YMCA 720 Shoals Rd Duncan;X-APPLE-RADIUS=500;X-TITLE=720 Shoals Rd:geo:-82.0858075,34.89743
END:VEVENT
BEGIN:VEVENT
DTSTART;TZID=America/New_York:20260129T113000
DTEND;TZID=America/New_York:20260129T133000
DTSTAMP:20260423T205934
CREATED:20260126T190230Z
LAST-MODIFIED:20260126T190230Z
UID:59180-1769686200-1769693400@864foodtrucks.com
SUMMARY:Cinnabon @ Brashier Middle College
DESCRIPTION:Cinnabon Food Truck Greenville
URL:https://864foodtrucks.com/event/cinnabon-brashier-middle-college/
LOCATION:Brashier Middle College\, West Georgia Road 1830\, Simpsonville\, SC\, 29680\, United States
CATEGORIES:Food Truck Schedules,Simpsonville
ATTACH;FMTTYPE=image/jpeg:https://864foodtrucks.com/wp-content/uploads/2024/12/326870080_1829549937401559_2632445834433428235_n-2.jpg
ORGANIZER;CN="Cinnabon Greenville":MAILTO:info@hotbonssc.com
GEO:34.7113252;-82.3087409
X-APPLE-STRUCTURED-LOCATION;VALUE=URI;X-ADDRESS=Brashier Middle College West Georgia Road 1830 Simpsonville SC 29680 United States;X-APPLE-RADIUS=500;X-TITLE=West Georgia Road 1830:geo:-82.3087409,34.7113252
END:VEVENT
BEGIN:VEVENT
DTSTART;TZID=America/New_York:20260128T110000
DTEND;TZID=America/New_York:20260128T153000
DTSTAMP:20260423T205934
CREATED:20260126T190100Z
LAST-MODIFIED:20260420T125132Z
UID:59178-1769598000-1769614200@864foodtrucks.com
SUMMARY:Cinnabon @ Spartanburg Medical Center
DESCRIPTION:Cinnabon Food Truck Greenville
URL:https://864foodtrucks.com/event/cinnabon-spartanburg-medical-center/2026-01-28/
LOCATION:Spartanburg Medical Center\, East Wood Street 101\, Spartanburg\, SC\, 29303\, United States
CATEGORIES:Food Truck Schedules,Spartanburg
ATTACH;FMTTYPE=image/jpeg:https://864foodtrucks.com/wp-content/uploads/2024/12/326870080_1829549937401559_2632445834433428235_n-2.jpg
ORGANIZER;CN="Cinnabon Greenville":MAILTO:info@hotbonssc.com
GEO:34.967042;-81.9385993
X-APPLE-STRUCTURED-LOCATION;VALUE=URI;X-ADDRESS=Spartanburg Medical Center East Wood Street 101 Spartanburg SC 29303 United States;X-APPLE-RADIUS=500;X-TITLE=East Wood Street 101:geo:-81.9385993,34.967042
END:VEVENT
BEGIN:VEVENT
DTSTART;TZID=America/New_York:20260123T120000
DTEND;TZID=America/New_York:20260123T140000
DTSTAMP:20260423T205934
CREATED:20260119T002134Z
LAST-MODIFIED:20260208T205134Z
UID:58973-1769169600-1769176800@864foodtrucks.com
SUMMARY:Cinnabon @ Byrnes High School
DESCRIPTION:Cinnabon Food Truck Greenville
URL:https://864foodtrucks.com/event/cinnabon-byrnes-high-school/2026-01-23/
LOCATION:James F Byrnes High School\, East Main Street 150\, Spartanburg\, South Carolina\, 29306\, United States
CATEGORIES:Duncan,Food Truck Schedules
ATTACH;FMTTYPE=image/jpeg:https://864foodtrucks.com/wp-content/uploads/2024/12/326870080_1829549937401559_2632445834433428235_n-2.jpg
ORGANIZER;CN="Cinnabon Greenville":MAILTO:info@hotbonssc.com
GEO:34.949949;-81.9299288
X-APPLE-STRUCTURED-LOCATION;VALUE=URI;X-ADDRESS=James F Byrnes High School East Main Street 150 Spartanburg South Carolina 29306 United States;X-APPLE-RADIUS=500;X-TITLE=East Main Street 150:geo:-81.9299288,34.949949
END:VEVENT
BEGIN:VEVENT
DTSTART;TZID=America/New_York:20260122T090000
DTEND;TZID=America/New_York:20260122T120000
DTSTAMP:20260423T205934
CREATED:20250519T171848Z
LAST-MODIFIED:20260323T195514Z
UID:58966-1769072400-1769083200@864foodtrucks.com
SUMMARY:Cinnabon @ Spectrum
DESCRIPTION:Cinnabon Food Truck Greenville
URL:https://864foodtrucks.com/event/cinnabon-spectrum/2026-01-22/
LOCATION:Spectrum\, 2 Digital Place\, Simpsonville\, SC\, United States
CATEGORIES:Food Truck Schedules,Simpsonville
ATTACH;FMTTYPE=image/jpeg:https://864foodtrucks.com/wp-content/uploads/2024/12/326870080_1829549937401559_2632445834433428235_n-2.jpg
ORGANIZER;CN="Cinnabon Greenville":MAILTO:info@hotbonssc.com
GEO:34.7953548;-82.2788291
X-APPLE-STRUCTURED-LOCATION;VALUE=URI;X-ADDRESS=Spectrum 2 Digital Place Simpsonville SC United States;X-APPLE-RADIUS=500;X-TITLE=2 Digital Place:geo:-82.2788291,34.7953548
END:VEVENT
BEGIN:VEVENT
DTSTART;TZID=America/New_York:20260121T120000
DTEND;TZID=America/New_York:20260121T143000
DTSTAMP:20260423T205934
CREATED:20260119T002023Z
LAST-MODIFIED:20260330T001225Z
UID:58971-1768996800-1769005800@864foodtrucks.com
SUMMARY:Cinnabon @ Carolina High School
DESCRIPTION:Cinnabon Food Truck Greenville
URL:https://864foodtrucks.com/event/cinnabon-carolina-high-school/2026-01-21/
LOCATION:Carolina High School\, 2725 Anderson Rd\, Greenville\, South Carolina
CATEGORIES:Food Truck Schedules,Greenville
ATTACH;FMTTYPE=image/jpeg:https://864foodtrucks.com/wp-content/uploads/2024/12/326870080_1829549937401559_2632445834433428235_n-2.jpg
ORGANIZER;CN="Cinnabon Greenville":MAILTO:info@hotbonssc.com
GEO:34.8117929;-82.4434541
X-APPLE-STRUCTURED-LOCATION;VALUE=URI;X-ADDRESS=Carolina High School 2725 Anderson Rd Greenville South Carolina;X-APPLE-RADIUS=500;X-TITLE=2725 Anderson Rd:geo:-82.4434541,34.8117929
END:VEVENT
BEGIN:VEVENT
DTSTART;TZID=America/New_York:20260120T073000
DTEND;TZID=America/New_York:20260120T093000
DTSTAMP:20260423T205934
CREATED:20260119T001839Z
LAST-MODIFIED:20260119T001839Z
UID:58968-1768894200-1768901400@864foodtrucks.com
SUMMARY:Cinnabon @ The Bradford Apartments
DESCRIPTION:Cinnabon Food Truck Greenville
URL:https://864foodtrucks.com/event/cinnabon-the-bradford-apartments/
LOCATION:The Bradford Apartments\, 1102 W Pointsett St\, Greer\, South Carolina
CATEGORIES:Food Truck Schedules,Greer
ATTACH;FMTTYPE=image/jpeg:https://864foodtrucks.com/wp-content/uploads/2024/12/326870080_1829549937401559_2632445834433428235_n-2.jpg
ORGANIZER;CN="Cinnabon Greenville":MAILTO:info@hotbonssc.com
GEO:34.9429581;-82.245767
X-APPLE-STRUCTURED-LOCATION;VALUE=URI;X-ADDRESS=The Bradford Apartments 1102 W Pointsett St Greer South Carolina;X-APPLE-RADIUS=500;X-TITLE=1102 W Pointsett St:geo:-82.245767,34.9429581
END:VEVENT
BEGIN:VEVENT
DTSTART;TZID=America/New_York:20260116T113000
DTEND;TZID=America/New_York:20260116T140000
DTSTAMP:20260423T205934
CREATED:20260112T203755Z
LAST-MODIFIED:20260208T205344Z
UID:58773-1768563000-1768572000@864foodtrucks.com
SUMMARY:Cinnabon @ Greenville High School
DESCRIPTION:Cinnabon Food Truck Greenville
URL:https://864foodtrucks.com/event/cinnabon-greenville-high-school-2/2026-01-16/
LOCATION:Greenville High School\, 1 Vardry St\, Greenville\, SC\, 29601\, United States
CATEGORIES:Food Truck Schedules,Greenville
ATTACH;FMTTYPE=image/jpeg:https://864foodtrucks.com/wp-content/uploads/2024/12/326870080_1829549937401559_2632445834433428235_n-2.jpg
ORGANIZER;CN="Cinnabon Greenville":MAILTO:info@hotbonssc.com
GEO:34.8396843;-82.4082603
X-APPLE-STRUCTURED-LOCATION;VALUE=URI;X-ADDRESS=Greenville High School 1 Vardry St Greenville SC 29601 United States;X-APPLE-RADIUS=500;X-TITLE=1 Vardry St:geo:-82.4082603,34.8396843
END:VEVENT
BEGIN:VEVENT
DTSTART;TZID=America/New_York:20260115T143000
DTEND;TZID=America/New_York:20260115T190000
DTSTAMP:20260423T205934
CREATED:20250915T131112Z
LAST-MODIFIED:20260420T125154Z
UID:58768-1768487400-1768503600@864foodtrucks.com
SUMMARY:Cinnabon @ Chesnee Food Lion
DESCRIPTION:Cinnabon Food Truck Greenville
URL:https://864foodtrucks.com/event/cinnabon-chesnee-food-lion/2026-01-15/
LOCATION:Food Lion Chesnee\, 712 S Alabama Ave\, Chesnee\, South Carolina\, 29323
CATEGORIES:Chesnee,Food Truck Schedules
ATTACH;FMTTYPE=image/jpeg:https://864foodtrucks.com/wp-content/uploads/2024/12/326870080_1829549937401559_2632445834433428235_n-2.jpg
ORGANIZER;CN="Cinnabon Greenville":MAILTO:info@hotbonssc.com
GEO:35.1367556;-81.8630291
X-APPLE-STRUCTURED-LOCATION;VALUE=URI;X-ADDRESS=Food Lion Chesnee 712 S Alabama Ave Chesnee South Carolina 29323;X-APPLE-RADIUS=500;X-TITLE=712 S Alabama Ave:geo:-81.8630291,35.1367556
END:VEVENT
END:VCALENDAR