BEGIN:VCALENDAR
VERSION:2.0
PRODID:-//864 Food Trucks - ECPv6.15.20//NONSGML v1.0//EN
CALSCALE:GREGORIAN
METHOD:PUBLISH
X-WR-CALNAME:864 Food Trucks
X-ORIGINAL-URL:https://864foodtrucks.com
X-WR-CALDESC:Events for 864 Food Trucks
REFRESH-INTERVAL;VALUE=DURATION:PT1H
X-Robots-Tag:noindex
X-PUBLISHED-TTL:PT1H
BEGIN:VTIMEZONE
TZID:America/New_York
BEGIN:DAYLIGHT
TZOFFSETFROM:-0500
TZOFFSETTO:-0400
TZNAME:EDT
DTSTART:20220313T070000
END:DAYLIGHT
BEGIN:STANDARD
TZOFFSETFROM:-0400
TZOFFSETTO:-0500
TZNAME:EST
DTSTART:20221106T060000
END:STANDARD
BEGIN:DAYLIGHT
TZOFFSETFROM:-0500
TZOFFSETTO:-0400
TZNAME:EDT
DTSTART:20230312T070000
END:DAYLIGHT
BEGIN:STANDARD
TZOFFSETFROM:-0400
TZOFFSETTO:-0500
TZNAME:EST
DTSTART:20231105T060000
END:STANDARD
BEGIN:DAYLIGHT
TZOFFSETFROM:-0500
TZOFFSETTO:-0400
TZNAME:EDT
DTSTART:20240310T070000
END:DAYLIGHT
BEGIN:STANDARD
TZOFFSETFROM:-0400
TZOFFSETTO:-0500
TZNAME:EST
DTSTART:20241103T060000
END:STANDARD
END:VTIMEZONE
BEGIN:VEVENT
DTSTART;TZID=America/New_York:20230624T160000
DTEND;TZID=America/New_York:20230624T200000
DTSTAMP:20260425T144922
CREATED:20230623T153232Z
LAST-MODIFIED:20230623T153232Z
UID:19939-1687622400-1687636800@864foodtrucks.com
SUMMARY:Daddy's Cookout @ Neely Farms
DESCRIPTION:Daddy’s Cookout is taking Greenville back to the days in the backyard with family and friends\, bringing the combination of flavors of American fast food and Colombian dishes. Start your Cookout with Daddy today.
URL:https://864foodtrucks.com/event/daddys-cookout-neely-farms/
LOCATION:Neely Farms\, 105 Farm Club Dr\,\, Simpsonville\, SC\, 29680\, United States
CATEGORIES:Food Truck Schedules,Simpsonville
ATTACH;FMTTYPE=image/jpeg:https://864foodtrucks.com/wp-content/uploads/2020/04/Daddys-Food-Truck-e1646680987781.jpg
GEO:34.7021818;-82.2815731
X-APPLE-STRUCTURED-LOCATION;VALUE=URI;X-ADDRESS=Neely Farms 105 Farm Club Dr Simpsonville SC 29680 United States;X-APPLE-RADIUS=500;X-TITLE=105 Farm Club Dr\,:geo:-82.2815731,34.7021818
END:VEVENT
BEGIN:VEVENT
DTSTART;TZID=America/New_York:20230407T170000
DTEND;TZID=America/New_York:20230407T200000
DTSTAMP:20260425T144922
CREATED:20230406T192518Z
LAST-MODIFIED:20240507T011228Z
UID:18092-1680886800-1680897600@864foodtrucks.com
SUMMARY:Daddy's Cookout @ Greer Food Truck Rollout
DESCRIPTION:Daddy’s Cookout is taking Greenville back to the days in the backyard with family and friends\, bringing the combination of flavors of American fast food and Colombian dishes. Start your Cookout with Daddy today.
URL:https://864foodtrucks.com/event/daddys-cookout-greer-food-truck-rollout/2023-04-07/
LOCATION:Greer  City Park\, 301 E Poinsett St\, Greer\, SC\, 29651\, United States
CATEGORIES:Food Truck Schedules,Greer
ATTACH;FMTTYPE=image/jpeg:https://864foodtrucks.com/wp-content/uploads/2020/04/Daddys-Food-Truck-e1646680987781.jpg
GEO:34.9377066;-82.2230614
X-APPLE-STRUCTURED-LOCATION;VALUE=URI;X-ADDRESS=Greer  City Park 301 E Poinsett St Greer SC 29651 United States;X-APPLE-RADIUS=500;X-TITLE=301 E Poinsett St:geo:-82.2230614,34.9377066
END:VEVENT
BEGIN:VEVENT
DTSTART;TZID=America/New_York:20230223T110000
DTEND;TZID=America/New_York:20230223T140000
DTSTAMP:20260425T144922
CREATED:20230220T185140Z
LAST-MODIFIED:20230220T185140Z
UID:16988-1677150000-1677160800@864foodtrucks.com
SUMMARY:Daddy's Cookout @ Bob Jones
DESCRIPTION:Daddy’s Cookout is taking Greenville back to the days in the backyard with family and friends\, bringing the combination of flavors of American fast food and Colombian dishes. Start your Cookout with Daddy today.
URL:https://864foodtrucks.com/event/daddys-cookout-bob-jones/
LOCATION:Bob Jones University\, Wade Hampton Blvd\, Greenville\, South Carolina
CATEGORIES:Food Truck Schedules,Greenville
ATTACH;FMTTYPE=image/jpeg:https://864foodtrucks.com/wp-content/uploads/2020/04/Daddys-Food-Truck-e1646680987781.jpg
GEO:34.8752958;-82.3661448
X-APPLE-STRUCTURED-LOCATION;VALUE=URI;X-ADDRESS=Bob Jones University Wade Hampton Blvd Greenville South Carolina;X-APPLE-RADIUS=500;X-TITLE=Wade Hampton Blvd:geo:-82.3661448,34.8752958
END:VEVENT
BEGIN:VEVENT
DTSTART;TZID=America/New_York:20230220T110000
DTEND;TZID=America/New_York:20230220T130000
DTSTAMP:20260425T144922
CREATED:20230220T184957Z
LAST-MODIFIED:20230220T184957Z
UID:16985-1676890800-1676898000@864foodtrucks.com
SUMMARY:Daddy's Cookout @ Fitesa
DESCRIPTION:Daddy’s Cookout is taking Greenville back to the days in the backyard with family and friends\, bringing the combination of flavors of American fast food and Colombian dishes. Start your Cookout with Daddy today.
URL:https://864foodtrucks.com/event/daddys-cookout-fitesa/
LOCATION:Fitesa\, 840 SE Main St\, Simpsonville\, SC\, United States
CATEGORIES:Food Truck Schedules,Simpsonville
ATTACH;FMTTYPE=image/jpeg:https://864foodtrucks.com/wp-content/uploads/2020/04/Daddys-Food-Truck-e1646680987781.jpg
END:VEVENT
END:VCALENDAR