BEGIN:VCALENDAR
VERSION:2.0
PRODID:-//864 Food Trucks - ECPv6.15.20//NONSGML v1.0//EN
CALSCALE:GREGORIAN
METHOD:PUBLISH
X-ORIGINAL-URL:https://864foodtrucks.com
X-WR-CALDESC:Events for 864 Food Trucks
REFRESH-INTERVAL;VALUE=DURATION:PT1H
X-Robots-Tag:noindex
X-PUBLISHED-TTL:PT1H
BEGIN:VTIMEZONE
TZID:America/New_York
BEGIN:DAYLIGHT
TZOFFSETFROM:-0500
TZOFFSETTO:-0400
TZNAME:EDT
DTSTART:20220313T070000
END:DAYLIGHT
BEGIN:STANDARD
TZOFFSETFROM:-0400
TZOFFSETTO:-0500
TZNAME:EST
DTSTART:20221106T060000
END:STANDARD
BEGIN:DAYLIGHT
TZOFFSETFROM:-0500
TZOFFSETTO:-0400
TZNAME:EDT
DTSTART:20230312T070000
END:DAYLIGHT
BEGIN:STANDARD
TZOFFSETFROM:-0400
TZOFFSETTO:-0500
TZNAME:EST
DTSTART:20231105T060000
END:STANDARD
BEGIN:DAYLIGHT
TZOFFSETFROM:-0500
TZOFFSETTO:-0400
TZNAME:EDT
DTSTART:20240310T070000
END:DAYLIGHT
BEGIN:STANDARD
TZOFFSETFROM:-0400
TZOFFSETTO:-0500
TZNAME:EST
DTSTART:20241103T060000
END:STANDARD
BEGIN:DAYLIGHT
TZOFFSETFROM:-0500
TZOFFSETTO:-0400
TZNAME:EDT
DTSTART:20250309T070000
END:DAYLIGHT
BEGIN:STANDARD
TZOFFSETFROM:-0400
TZOFFSETTO:-0500
TZNAME:EST
DTSTART:20251102T060000
END:STANDARD
END:VTIMEZONE
BEGIN:VEVENT
DTSTART;TZID=America/New_York:20240825T140000
DTEND;TZID=America/New_York:20240825T180000
DTSTAMP:20260425T145427
CREATED:20240821T181546Z
LAST-MODIFIED:20240821T184812Z
UID:33637-1724594400-1724608800@864foodtrucks.com
SUMMARY:Donut NV @ Disability Expo
DESCRIPTION:DonutNV brings the party to your door! Hot mini donuts\, fresh squeezed lemonade\, coffee & more!
URL:https://864foodtrucks.com/event/donut-wagon-disability-expo/
LOCATION:Kroc Center\, 424 Westfield St\, Greenville\, South Carolina
CATEGORIES:Food Truck Schedules,Greenville
ATTACH;FMTTYPE=image/jpeg:https://864foodtrucks.com/wp-content/uploads/2023/11/DonutNV.jpg
ORGANIZER;CN="Donut NV Greenville":MAILTO:greenvillesc@donutnv.com
GEO:34.847942;-82.409323
X-APPLE-STRUCTURED-LOCATION;VALUE=URI;X-ADDRESS=Kroc Center 424 Westfield St Greenville South Carolina;X-APPLE-RADIUS=500;X-TITLE=424 Westfield St:geo:-82.409323,34.847942
END:VEVENT
BEGIN:VEVENT
DTSTART;TZID=America/New_York:20240824T140000
DTEND;TZID=America/New_York:20240824T180000
DTSTAMP:20260425T145427
CREATED:20240821T181328Z
LAST-MODIFIED:20240821T181328Z
UID:33634-1724508000-1724522400@864foodtrucks.com
SUMMARY:Donut NV @ Lager Festival at New Grove
DESCRIPTION:DonutNV brings the party to your door! Hot mini donuts\, fresh squeezed lemonade\, coffee & more!
URL:https://864foodtrucks.com/event/donut-nv-lager-festival-at-new-grove/
LOCATION:New Grove\, South Carolina 9\, Bennettsville\, SC\, 29512\, United States
CATEGORIES:Boiling Springs,Food Truck Schedules
ATTACH;FMTTYPE=image/jpeg:https://864foodtrucks.com/wp-content/uploads/2023/11/DonutNV.jpg
ORGANIZER;CN="Donut NV Greenville":MAILTO:greenvillesc@donutnv.com
GEO:34.6427371;-79.7042213
X-APPLE-STRUCTURED-LOCATION;VALUE=URI;X-ADDRESS=New Grove South Carolina 9 Bennettsville SC 29512 United States;X-APPLE-RADIUS=500;X-TITLE=South Carolina 9:geo:-79.7042213,34.6427371
END:VEVENT
BEGIN:VEVENT
DTSTART;TZID=America/New_York:20240824T090000
DTEND;TZID=America/New_York:20240824T110000
DTSTAMP:20260425T145427
CREATED:20240821T174124Z
LAST-MODIFIED:20240821T174124Z
UID:33632-1724490000-1724497200@864foodtrucks.com
SUMMARY:Donut NV @ Avendell
DESCRIPTION:DonutNV brings the party to your door! Hot mini donuts\, fresh squeezed lemonade\, coffee & more!
URL:https://864foodtrucks.com/event/donut-nv-avendell/
LOCATION:Avendell\, 100 Avendell Dr\, Easley
CATEGORIES:Easley,Food Truck Schedules
ATTACH;FMTTYPE=image/jpeg:https://864foodtrucks.com/wp-content/uploads/2023/11/DonutNV.jpg
ORGANIZER;CN="Donut NV Greenville":MAILTO:greenvillesc@donutnv.com
GEO:34.7285738;-82.5929346
X-APPLE-STRUCTURED-LOCATION;VALUE=URI;X-ADDRESS=Avendell 100 Avendell Dr Easley;X-APPLE-RADIUS=500;X-TITLE=100 Avendell Dr:geo:-82.5929346,34.7285738
END:VEVENT
BEGIN:VEVENT
DTSTART;TZID=America/New_York:20240811T100000
DTEND;TZID=America/New_York:20240811T140000
DTSTAMP:20260425T145427
CREATED:20240811T135347Z
LAST-MODIFIED:20240811T135347Z
UID:33448-1723370400-1723384800@864foodtrucks.com
SUMMARY:Donut NV @ Nettles Park
DESCRIPTION:DonutNV brings the party to your door! Hot mini donuts\, fresh squeezed lemonade\, coffee & more!
URL:https://864foodtrucks.com/event/donut-nv-nettles-park/
LOCATION:Nettles Park\, Nettles Park Road\, Clemson\, South Carolina\, 29631\, United States
CATEGORIES:Clemsen,Food Truck Schedules
ATTACH;FMTTYPE=image/jpeg:https://864foodtrucks.com/wp-content/uploads/2023/11/DonutNV.jpg
ORGANIZER;CN="Donut NV Greenville":MAILTO:greenvillesc@donutnv.com
GEO:34.6725279;-82.7843664
X-APPLE-STRUCTURED-LOCATION;VALUE=URI;X-ADDRESS=Nettles Park Nettles Park Road Clemson South Carolina 29631 United States;X-APPLE-RADIUS=500;X-TITLE=Nettles Park Road:geo:-82.7843664,34.6725279
END:VEVENT
BEGIN:VEVENT
DTSTART;TZID=America/New_York:20240721T143000
DTEND;TZID=America/New_York:20240721T173000
DTSTAMP:20260425T145427
CREATED:20240717T133643Z
LAST-MODIFIED:20240717T133643Z
UID:32355-1721572200-1721583000@864foodtrucks.com
SUMMARY:Donut NV @ Designer Athletics
DESCRIPTION:DonutNV brings the party to your door! Hot mini donuts\, fresh squeezed lemonade\, coffee & more!
URL:https://864foodtrucks.com/event/donut-nv-designer-athletics/
LOCATION:Designers Athletics\, River Road 2226\, Greer\, South Carolina\, 29650\, United States
CATEGORIES:Food Truck Schedules,Greer
ATTACH;FMTTYPE=image/jpeg:https://864foodtrucks.com/wp-content/uploads/2023/11/DonutNV.jpg
ORGANIZER;CN="Donut NV Greenville":MAILTO:greenvillesc@donutnv.com
GEO:34.8743746;-82.2467722
X-APPLE-STRUCTURED-LOCATION;VALUE=URI;X-ADDRESS=Designers Athletics River Road 2226 Greer South Carolina 29650 United States;X-APPLE-RADIUS=500;X-TITLE=River Road 2226:geo:-82.2467722,34.8743746
END:VEVENT
BEGIN:VEVENT
DTSTART;TZID=America/New_York:20240720T120000
DTEND;TZID=America/New_York:20240720T160000
DTSTAMP:20260425T145427
CREATED:20240717T133428Z
LAST-MODIFIED:20240717T133428Z
UID:32352-1721476800-1721491200@864foodtrucks.com
SUMMARY:Donut NV @ Mid Summer Mania
DESCRIPTION:DonutNV brings the party to your door! Hot mini donuts\, fresh squeezed lemonade\, coffee & more!
URL:https://864foodtrucks.com/event/donut-nv-mid-summer-mania/
LOCATION:School House Venue\, Locust Hill Road\, Travelers Rest\, South Carolina\, 29690\, United States
CATEGORIES:Food Truck Schedules,Travelers Rest
ATTACH;FMTTYPE=image/jpeg:https://864foodtrucks.com/wp-content/uploads/2023/11/DonutNV.jpg
ORGANIZER;CN="Donut NV Greenville":MAILTO:greenvillesc@donutnv.com
GEO:35.0145785;-82.3791959
X-APPLE-STRUCTURED-LOCATION;VALUE=URI;X-ADDRESS=School House Venue Locust Hill Road Travelers Rest South Carolina 29690 United States;X-APPLE-RADIUS=500;X-TITLE=Locust Hill Road:geo:-82.3791959,35.0145785
END:VEVENT
BEGIN:VEVENT
DTSTART;TZID=America/New_York:20240719T180000
DTEND;TZID=America/New_York:20240719T210000
DTSTAMP:20260425T145427
CREATED:20240717T133031Z
LAST-MODIFIED:20240717T133031Z
UID:32350-1721412000-1721422800@864foodtrucks.com
SUMMARY:Donut NV @ Party on Pendleton
DESCRIPTION:DonutNV brings the party to your door! Hot mini donuts\, fresh squeezed lemonade\, coffee & more!
URL:https://864foodtrucks.com/event/donut-nv-party-on-pendleton/
LOCATION:Pendleton Street\, Pendleton Street 1186\, Greenville\, South Carolina\, 29611\, United States
CATEGORIES:Food Truck Schedules,Pendleton
ATTACH;FMTTYPE=image/jpeg:https://864foodtrucks.com/wp-content/uploads/2023/11/DonutNV.jpg
ORGANIZER;CN="Donut NV Greenville":MAILTO:greenvillesc@donutnv.com
GEO:34.8466754;-82.4261095
X-APPLE-STRUCTURED-LOCATION;VALUE=URI;X-ADDRESS=Pendleton Street Pendleton Street 1186 Greenville South Carolina 29611 United States;X-APPLE-RADIUS=500;X-TITLE=Pendleton Street 1186:geo:-82.4261095,34.8466754
END:VEVENT
BEGIN:VEVENT
DTSTART;TZID=America/New_York:20240716T170000
DTEND;TZID=America/New_York:20240716T190000
DTSTAMP:20260425T145427
CREATED:20240702T132817Z
LAST-MODIFIED:20240702T132817Z
UID:31375-1721149200-1721156400@864foodtrucks.com
SUMMARY:Donut NV @ Trailside at Reedy Point
DESCRIPTION:DonutNV brings the party to your door! Hot mini donuts\, fresh squeezed lemonade\, coffee & more!
URL:https://864foodtrucks.com/event/donut-nv-trailside-at-reedy-point/
LOCATION:Trailside at Reedy Point\, 200 South Academy St\, Greenville\, SC\, 29601\, United States
CATEGORIES:Food Truck Schedules,Greenville
ATTACH;FMTTYPE=image/jpeg:https://864foodtrucks.com/wp-content/uploads/2023/11/DonutNV.jpg
ORGANIZER;CN="Donut NV Greenville":MAILTO:greenvillesc@donutnv.com
GEO:34.8472093;-82.4065614
X-APPLE-STRUCTURED-LOCATION;VALUE=URI;X-ADDRESS=Trailside at Reedy Point 200 South Academy St Greenville SC 29601 United States;X-APPLE-RADIUS=500;X-TITLE=200 South Academy St:geo:-82.4065614,34.8472093
END:VEVENT
BEGIN:VEVENT
DTSTART;TZID=America/New_York:20240309T100000
DTEND;TZID=America/New_York:20240309T113000
DTSTAMP:20260425T145427
CREATED:20240304T002750Z
LAST-MODIFIED:20240717T132856Z
UID:26456-1709978400-1709983800@864foodtrucks.com
SUMMARY:Donut NV @ Saddler's Ridge Neighborhood
DESCRIPTION:DonutNV brings the party to your door! Hot mini donuts\, fresh squeezed lemonade\, coffee & more!
URL:https://864foodtrucks.com/event/donut-nv-saddlers-ridge-neighborhood/2024-03-09/
LOCATION:Saddler’s Ridge Pool\, Harrison Bridge Rd\, Simpsonville\, SC\, United States
CATEGORIES:Food Truck Schedules,Simpsonville
ATTACH;FMTTYPE=image/jpeg:https://864foodtrucks.com/wp-content/uploads/2023/11/DonutNV.jpg
ORGANIZER;CN="Donut NV Greenville":MAILTO:greenvillesc@donutnv.com
END:VEVENT
BEGIN:VEVENT
DTSTART;TZID=America/New_York:20240306T163000
DTEND;TZID=America/New_York:20240306T183000
DTSTAMP:20260425T145427
CREATED:20240304T002642Z
LAST-MODIFIED:20240304T002642Z
UID:26454-1709742600-1709749800@864foodtrucks.com
SUMMARY:Donut NV @ Hawthorne at the Park
DESCRIPTION:DonutNV brings the party to your door! Hot mini donuts\, fresh squeezed lemonade\, coffee & more!
URL:https://864foodtrucks.com/event/donut-nv-hawthorne-at-the-park/
LOCATION:Hawthorne at the Park\, 100 Gloucester Ferry Rd\, Greenville\, South Carolina
CATEGORIES:Food Truck Schedules,Greenville
ATTACH;FMTTYPE=image/jpeg:https://864foodtrucks.com/wp-content/uploads/2023/11/DonutNV.jpg
ORGANIZER;CN="Donut NV Greenville":MAILTO:greenvillesc@donutnv.com
GEO:34.8409108;-82.3224667
X-APPLE-STRUCTURED-LOCATION;VALUE=URI;X-ADDRESS=Hawthorne at the Park 100 Gloucester Ferry Rd Greenville South Carolina;X-APPLE-RADIUS=500;X-TITLE=100 Gloucester Ferry Rd:geo:-82.3224667,34.8409108
END:VEVENT
BEGIN:VEVENT
DTSTART;TZID=America/New_York:20240302T120000
DTEND;TZID=America/New_York:20240302T170000
DTSTAMP:20260425T145427
CREATED:20240226T192718Z
LAST-MODIFIED:20240226T192718Z
UID:26384-1709380800-1709398800@864foodtrucks.com
SUMMARY:Donut NV Greenville @ City Scape Winery
DESCRIPTION:DonutNV brings the party to your door! Hot mini donuts\, fresh squeezed lemonade\, coffee & more!
URL:https://864foodtrucks.com/event/donut-nv-greenville-city-scape-winery/
LOCATION:City Scape Winery\, 589 Dunklin Bridge Rd\, Pelzer\, South Carolina
CATEGORIES:Food Truck Schedules,Pelzer
ATTACH;FMTTYPE=image/jpeg:https://864foodtrucks.com/wp-content/uploads/2023/11/DonutNV.jpg
ORGANIZER;CN="Donut NV Greenville":MAILTO:greenvillesc@donutnv.com
GEO:34.6006559;-82.316679
X-APPLE-STRUCTURED-LOCATION;VALUE=URI;X-ADDRESS=City Scape Winery 589 Dunklin Bridge Rd Pelzer South Carolina;X-APPLE-RADIUS=500;X-TITLE=589 Dunklin Bridge Rd:geo:-82.316679,34.6006559
END:VEVENT
BEGIN:VEVENT
DTSTART;TZID=America/New_York:20240301T120000
DTEND;TZID=America/New_York:20240301T133000
DTSTAMP:20260425T145427
CREATED:20240226T192602Z
LAST-MODIFIED:20240226T192602Z
UID:26382-1709294400-1709299800@864foodtrucks.com
SUMMARY:Donut NV Greenville @ Powdersville High School
DESCRIPTION:DonutNV brings the party to your door! Hot mini donuts\, fresh squeezed lemonade\, coffee & more!
URL:https://864foodtrucks.com/event/donut-nv-greenville-powdersville-high-school/
LOCATION:Powdersville High School\, 145 Hood Rd\, Powdersville\, South Carolina
CATEGORIES:Food Truck Schedules,Greenville
ATTACH;FMTTYPE=image/jpeg:https://864foodtrucks.com/wp-content/uploads/2023/11/DonutNV.jpg
ORGANIZER;CN="Donut NV Greenville":MAILTO:greenvillesc@donutnv.com
GEO:34.800837;-82.4881356
X-APPLE-STRUCTURED-LOCATION;VALUE=URI;X-ADDRESS=Powdersville High School 145 Hood Rd Powdersville South Carolina;X-APPLE-RADIUS=500;X-TITLE=145 Hood Rd:geo:-82.4881356,34.800837
END:VEVENT
BEGIN:VEVENT
DTSTART;TZID=America/New_York:20240229T120000
DTEND;TZID=America/New_York:20240229T140000
DTSTAMP:20260425T145427
CREATED:20240226T192434Z
LAST-MODIFIED:20240226T192434Z
UID:26380-1709208000-1709215200@864foodtrucks.com
SUMMARY:Donut NV Greenville @ Traveler's Rest High School
DESCRIPTION:DonutNV brings the party to your door! Hot mini donuts\, fresh squeezed lemonade\, coffee & more!
URL:https://864foodtrucks.com/event/donut-nv-greenville-travelers-rest-high-school/
LOCATION:Travelers Rest High School\, 301 N Main St\, Travelers Rest\, SC\, United States
CATEGORIES:Food Truck Schedules,Travelers Rest
ATTACH;FMTTYPE=image/jpeg:https://864foodtrucks.com/wp-content/uploads/2023/11/DonutNV.jpg
ORGANIZER;CN="Donut NV Greenville":MAILTO:greenvillesc@donutnv.com
END:VEVENT
BEGIN:VEVENT
DTSTART;TZID=America/New_York:20240227T163000
DTEND;TZID=America/New_York:20240227T183000
DTSTAMP:20260425T145427
CREATED:20240226T192317Z
LAST-MODIFIED:20240226T192317Z
UID:26378-1709051400-1709058600@864foodtrucks.com
SUMMARY:Donut NV Greenville @ Parkview Glen Neighborhood
DESCRIPTION:DonutNV brings the party to your door! Hot mini donuts\, fresh squeezed lemonade\, coffee & more!
URL:https://864foodtrucks.com/event/donut-nv-greenville-parkview-glen-neighborhood/
LOCATION:Parkview Glen\, Pelzer\, South Carolina
CATEGORIES:Food Truck Schedules,Pelzer
ATTACH;FMTTYPE=image/jpeg:https://864foodtrucks.com/wp-content/uploads/2023/11/DonutNV.jpg
ORGANIZER;CN="Donut NV Greenville":MAILTO:greenvillesc@donutnv.com
GEO:34.6462737;-82.4591443
END:VEVENT
BEGIN:VEVENT
DTSTART;TZID=America/New_York:20240224T173000
DTEND;TZID=America/New_York:20240224T203000
DTSTAMP:20260425T145427
CREATED:20240218T213849Z
LAST-MODIFIED:20240218T213849Z
UID:25979-1708795800-1708806600@864foodtrucks.com
SUMMARY:Donut NV @ Palmetto Distillery
DESCRIPTION:DonutNV brings the party to your door! Hot mini donuts\, fresh squeezed lemonade\, coffee & more!
URL:https://864foodtrucks.com/event/donut-nv-palmetto-distillery/
LOCATION:Palmetto Brothers Dispensary\, 115 W Public Square\, Laurens\, South Carolina
CATEGORIES:Anderson,Food Truck Schedules
ATTACH;FMTTYPE=image/jpeg:https://864foodtrucks.com/wp-content/uploads/2023/11/DonutNV.jpg
ORGANIZER;CN="Donut NV Greenville":MAILTO:greenvillesc@donutnv.com
GEO:34.4993714;-82.0152748
X-APPLE-STRUCTURED-LOCATION;VALUE=URI;X-ADDRESS=Palmetto Brothers Dispensary 115 W Public Square Laurens South Carolina;X-APPLE-RADIUS=500;X-TITLE=115 W Public Square:geo:-82.0152748,34.4993714
END:VEVENT
BEGIN:VEVENT
DTSTART;TZID=America/New_York:20240223T170000
DTEND;TZID=America/New_York:20240223T200000
DTSTAMP:20260425T145427
CREATED:20240218T213738Z
LAST-MODIFIED:20240218T213738Z
UID:25977-1708707600-1708718400@864foodtrucks.com
SUMMARY:Donut NV @ Mosby Pointsett Apartments
DESCRIPTION:DonutNV brings the party to your door! Hot mini donuts\, fresh squeezed lemonade\, coffee & more!
URL:https://864foodtrucks.com/event/donut-nv-mosby-pointsett-apartments/
LOCATION:Mosby Poinsett Apartments\, Hampden Drive 6001\, Greenville\, South Carolina\, 29609\, United States
CATEGORIES:Food Truck Schedules,Greenville
ATTACH;FMTTYPE=image/jpeg:https://864foodtrucks.com/wp-content/uploads/2023/11/DonutNV.jpg
ORGANIZER;CN="Donut NV Greenville":MAILTO:greenvillesc@donutnv.com
GEO:34.9161786;-82.4276191
X-APPLE-STRUCTURED-LOCATION;VALUE=URI;X-ADDRESS=Mosby Poinsett Apartments Hampden Drive 6001 Greenville South Carolina 29609 United States;X-APPLE-RADIUS=500;X-TITLE=Hampden Drive 6001:geo:-82.4276191,34.9161786
END:VEVENT
BEGIN:VEVENT
DTSTART;TZID=America/New_York:20240222T080000
DTEND;TZID=America/New_York:20240222T170000
DTSTAMP:20260425T145427
CREATED:20240218T213621Z
LAST-MODIFIED:20240218T213621Z
UID:25974-1708588800-1708621200@864foodtrucks.com
SUMMARY:Donut NV @ Carolina Cheer & Dance
DESCRIPTION:DonutNV brings the party to your door! Hot mini donuts\, fresh squeezed lemonade\, coffee & more!
URL:https://864foodtrucks.com/event/donut-nv-carolina-cheer-dance/
LOCATION:Carolina Cheer & Dance\, River Road 2226\, Greer\, South Carolina\, 29650\, United States
CATEGORIES:Food Truck Schedules,Greer
ATTACH;FMTTYPE=image/jpeg:https://864foodtrucks.com/wp-content/uploads/2023/11/DonutNV.jpg
ORGANIZER;CN="Donut NV Greenville":MAILTO:greenvillesc@donutnv.com
GEO:34.8743746;-82.2467722
X-APPLE-STRUCTURED-LOCATION;VALUE=URI;X-ADDRESS=Carolina Cheer & Dance River Road 2226 Greer South Carolina 29650 United States;X-APPLE-RADIUS=500;X-TITLE=River Road 2226:geo:-82.2467722,34.8743746
END:VEVENT
BEGIN:VEVENT
DTSTART;TZID=America/New_York:20240206T170000
DTEND;TZID=America/New_York:20240206T200000
DTSTAMP:20260425T145427
CREATED:20240131T143711Z
LAST-MODIFIED:20240131T143711Z
UID:25414-1707238800-1707249600@864foodtrucks.com
SUMMARY:Donut NV Greenville @ Fairway Ford
DESCRIPTION:DonutNV brings the party to your door! Hot mini donuts\, fresh squeezed lemonade\, coffee & more!
URL:https://864foodtrucks.com/event/donut-nv-greenville-fairway-ford/
LOCATION:Fairway Ford\, 2323 Laurens Rd\, Greenville
CATEGORIES:Food Truck Schedules,Greenville
ORGANIZER;CN="Donut NV Greenville":MAILTO:greenvillesc@donutnv.com
END:VEVENT
BEGIN:VEVENT
DTSTART;TZID=America/New_York:20240203T150000
DTEND;TZID=America/New_York:20240203T183000
DTSTAMP:20260425T145427
CREATED:20240131T143601Z
LAST-MODIFIED:20240131T143601Z
UID:25410-1706972400-1706985000@864foodtrucks.com
SUMMARY:Donut NV Greenville @ West End Baseball Academy
DESCRIPTION:DonutNV brings the party to your door! Hot mini donuts\, fresh squeezed lemonade\, coffee & more!
URL:https://864foodtrucks.com/event/donut-nv-greenville-west-end-baseball-academy/2024-02-03/
LOCATION:West End Baseball Academy\, Haywood Road 20\, Greenville\, South Carolina\, 29607\, United States
CATEGORIES:Food Truck Schedules,Greenville
ATTACH;FMTTYPE=image/jpeg:https://864foodtrucks.com/wp-content/uploads/2023/11/DonutNV.jpg
ORGANIZER;CN="Donut NV Greenville":MAILTO:greenvillesc@donutnv.com
GEO:34.833435;-82.3468568
X-APPLE-STRUCTURED-LOCATION;VALUE=URI;X-ADDRESS=West End Baseball Academy Haywood Road 20 Greenville South Carolina 29607 United States;X-APPLE-RADIUS=500;X-TITLE=Haywood Road 20:geo:-82.3468568,34.833435
END:VEVENT
BEGIN:VEVENT
DTSTART;TZID=America/New_York:20240107T160000
DTEND;TZID=America/New_York:20240107T190000
DTSTAMP:20260425T145427
CREATED:20240104T135555Z
LAST-MODIFIED:20240204T233442Z
UID:24944-1704643200-1704654000@864foodtrucks.com
SUMMARY:Donut NV @ Traveler's Taproom
DESCRIPTION:DonutNV brings the party to your door! Hot mini donuts\, fresh squeezed lemonade\, coffee & more!
URL:https://864foodtrucks.com/event/donut-nv-travelers-taproom/2024-01-07/
LOCATION:Travelers Taproom\, 2624 Poinsett Hwy\, Greenville\, South Carolina
CATEGORIES:Food Truck Schedules,Greenville
ATTACH;FMTTYPE=image/jpeg:https://864foodtrucks.com/wp-content/uploads/2023/11/DonutNV.jpg
ORGANIZER;CN="Donut NV Greenville":MAILTO:greenvillesc@donutnv.com
GEO:34.9015748;-82.4159581
X-APPLE-STRUCTURED-LOCATION;VALUE=URI;X-ADDRESS=Travelers Taproom 2624 Poinsett Hwy Greenville South Carolina;X-APPLE-RADIUS=500;X-TITLE=2624 Poinsett Hwy:geo:-82.4159581,34.9015748
END:VEVENT
BEGIN:VEVENT
DTSTART;TZID=America/New_York:20231217T140000
DTEND;TZID=America/New_York:20231217T210000
DTSTAMP:20260425T145427
CREATED:20231211T185629Z
LAST-MODIFIED:20231211T185629Z
UID:24598-1702821600-1702846800@864foodtrucks.com
SUMMARY:Donut NV Greenville @ Tribbles Bar & Grill
DESCRIPTION:DonutNV brings the party to your door! Hot mini donuts\, fresh squeezed lemonade\, coffee & more!
URL:https://864foodtrucks.com/event/donut-nv-greenville-tribbles-bar-grill/
LOCATION:Tribble’s Bar & Grill\, 2910 Hwy 86\, Piedmont\, South Carolina
CATEGORIES:Food Truck Schedules,Piedmont
ATTACH;FMTTYPE=image/jpeg:https://864foodtrucks.com/wp-content/uploads/2023/11/DonutNV.jpg
ORGANIZER;CN="Donut NV Greenville":MAILTO:greenvillesc@donutnv.com
GEO:34.7237451;-82.5238051
X-APPLE-STRUCTURED-LOCATION;VALUE=URI;X-ADDRESS=Tribble’s Bar & Grill 2910 Hwy 86 Piedmont South Carolina;X-APPLE-RADIUS=500;X-TITLE=2910 Hwy 86:geo:-82.5238051,34.7237451
END:VEVENT
BEGIN:VEVENT
DTSTART;TZID=America/New_York:20231216T083000
DTEND;TZID=America/New_York:20231216T103000
DTSTAMP:20260425T145427
CREATED:20231211T185520Z
LAST-MODIFIED:20231211T185520Z
UID:24596-1702715400-1702722600@864foodtrucks.com
SUMMARY:Donut NV Greenville @ Roper Mountain Estates
DESCRIPTION:DonutNV brings the party to your door! Hot mini donuts\, fresh squeezed lemonade\, coffee & more!
URL:https://864foodtrucks.com/event/donut-nv-greenville-roper-mountain-estates/
LOCATION:Roper Mountain Estates\, Greenville\, South Carolina
CATEGORIES:Food Truck Schedules,Greenville
ATTACH;FMTTYPE=image/jpeg:https://864foodtrucks.com/wp-content/uploads/2023/11/DonutNV.jpg
ORGANIZER;CN="Donut NV Greenville":MAILTO:greenvillesc@donutnv.com
GEO:34.8526176;-82.3940104
END:VEVENT
BEGIN:VEVENT
DTSTART;TZID=America/New_York:20231214T180000
DTEND;TZID=America/New_York:20231214T200000
DTSTAMP:20260425T145427
CREATED:20231211T185406Z
LAST-MODIFIED:20231211T185406Z
UID:24593-1702576800-1702584000@864foodtrucks.com
SUMMARY:Donut NV Greenville @ Park on Glider Creek
DESCRIPTION:DonutNV brings the party to your door! Hot mini donuts\, fresh squeezed lemonade\, coffee & more!
URL:https://864foodtrucks.com/event/donut-nv-greenville-park-on-glider-creek/
LOCATION:Park on Glider Creek\, East Butler Road 771\, Mauldin\, South Carolina\, 29662\, United States
CATEGORIES:Food Truck Schedules,Mauldin
ATTACH;FMTTYPE=image/jpeg:https://864foodtrucks.com/wp-content/uploads/2023/11/DonutNV.jpg
ORGANIZER;CN="Donut NV Greenville":MAILTO:greenvillesc@donutnv.com
GEO:34.7968551;-82.2867468
X-APPLE-STRUCTURED-LOCATION;VALUE=URI;X-ADDRESS=Park on Glider Creek East Butler Road 771 Mauldin South Carolina 29662 United States;X-APPLE-RADIUS=500;X-TITLE=East Butler Road 771:geo:-82.2867468,34.7968551
END:VEVENT
BEGIN:VEVENT
DTSTART;TZID=America/New_York:20231213T110000
DTEND;TZID=America/New_York:20231213T130000
DTSTAMP:20260425T145427
CREATED:20231211T010134Z
LAST-MODIFIED:20231211T010134Z
UID:24543-1702465200-1702472400@864foodtrucks.com
SUMMARY:Donut NV Greenville @ Varennes Elementary
DESCRIPTION:DonutNV brings the party to your door! Hot mini donuts\, fresh squeezed lemonade\, coffee & more!
URL:https://864foodtrucks.com/event/donut-nv-greenville-varennes-elementary/
LOCATION:Varennes Elementary\, Anderson\, South Carolina\, United States
CATEGORIES:Anderson,Food Truck Schedules
ATTACH;FMTTYPE=image/jpeg:https://864foodtrucks.com/wp-content/uploads/2023/11/DonutNV.jpg
ORGANIZER;CN="Donut NV Greenville":MAILTO:greenvillesc@donutnv.com
GEO:34.5034394;-82.6501332
END:VEVENT
BEGIN:VEVENT
DTSTART;TZID=America/New_York:20231210T120000
DTEND;TZID=America/New_York:20231210T150000
DTSTAMP:20260425T145427
CREATED:20231205T191044Z
LAST-MODIFIED:20231205T191044Z
UID:24530-1702209600-1702220400@864foodtrucks.com
SUMMARY:Donut NV Greenville @ Ryder Junction Apartments
DESCRIPTION:DonutNV brings the party to your door! Hot mini donuts\, fresh squeezed lemonade\, coffee & more!
URL:https://864foodtrucks.com/event/donut-nv-greenville-ryder-junction-apartments/
LOCATION:Ryder Junction Apartments\, 900 Conductor Cir\, Greer
CATEGORIES:Food Truck Schedules,Greenville
ATTACH;FMTTYPE=image/jpeg:https://864foodtrucks.com/wp-content/uploads/2023/11/DonutNV.jpg
ORGANIZER;CN="Donut NV Greenville":MAILTO:greenvillesc@donutnv.com
END:VEVENT
BEGIN:VEVENT
DTSTART;TZID=America/New_York:20231209T180000
DTEND;TZID=America/New_York:20231209T200000
DTSTAMP:20260425T145427
CREATED:20231205T190848Z
LAST-MODIFIED:20231205T190848Z
UID:24527-1702144800-1702152000@864foodtrucks.com
SUMMARY:Donut NV Greenville @ Golden Grove Brew & Farm
DESCRIPTION:DonutNV brings the party to your door! Hot mini donuts\, fresh squeezed lemonade\, coffee & more!
URL:https://864foodtrucks.com/event/donut-nv-greenville-golden-grove-brew-farm/
LOCATION:Golden Grove Farm and Brew\, 115 Krim Road\, Pelzer\, South Carolina
CATEGORIES:Food Truck Schedules,Pelzer
ATTACH;FMTTYPE=image/jpeg:https://864foodtrucks.com/wp-content/uploads/2023/11/DonutNV.jpg
ORGANIZER;CN="Donut NV Greenville":MAILTO:greenvillesc@donutnv.com
GEO:34.682271;-82.519831
X-APPLE-STRUCTURED-LOCATION;VALUE=URI;X-ADDRESS=Golden Grove Farm and Brew 115 Krim Road Pelzer South Carolina;X-APPLE-RADIUS=500;X-TITLE=115 Krim Road:geo:-82.519831,34.682271
END:VEVENT
BEGIN:VEVENT
DTSTART;TZID=America/New_York:20231202T110000
DTEND;TZID=America/New_York:20231202T170000
DTSTAMP:20260425T145427
CREATED:20231127T183338Z
LAST-MODIFIED:20231127T183338Z
UID:24329-1701514800-1701536400@864foodtrucks.com
SUMMARY:DonutNV @ City Scape Winery Holiday Market
DESCRIPTION:DonutNV brings the party to your door! Hot mini donuts\, fresh squeezed lemonade\, coffee & more!
URL:https://864foodtrucks.com/event/donutnv-city-scape-winery-holiday-market/
LOCATION:City Scape Winery\, 589 Dunklin Bridge Rd\, Pelzer\, South Carolina
CATEGORIES:Food Truck Schedules,Pelzer
ATTACH;FMTTYPE=image/jpeg:https://864foodtrucks.com/wp-content/uploads/2023/11/DonutNV.jpg
ORGANIZER;CN="Donut NV Greenville":MAILTO:greenvillesc@donutnv.com
GEO:34.6006559;-82.316679
X-APPLE-STRUCTURED-LOCATION;VALUE=URI;X-ADDRESS=City Scape Winery 589 Dunklin Bridge Rd Pelzer South Carolina;X-APPLE-RADIUS=500;X-TITLE=589 Dunklin Bridge Rd:geo:-82.316679,34.6006559
END:VEVENT
BEGIN:VEVENT
DTSTART;TZID=America/New_York:20231201T190000
DTEND;TZID=America/New_York:20231201T210000
DTSTAMP:20260425T145427
CREATED:20231127T183213Z
LAST-MODIFIED:20231205T190624Z
UID:24327-1701457200-1701464400@864foodtrucks.com
SUMMARY:Donut NV @ Pickens Christmas Parade
DESCRIPTION:DonutNV brings the party to your door! Hot mini donuts\, fresh squeezed lemonade\, coffee & more!
URL:https://864foodtrucks.com/event/donut-nv-pickens-christmas-parade/2023-12-01/
LOCATION:Downtown Pickens\, Main St\, Pickens\, South Carolina
CATEGORIES:Food Truck Schedules,Pickens
ATTACH;FMTTYPE=image/jpeg:https://864foodtrucks.com/wp-content/uploads/2023/11/DonutNV.jpg
ORGANIZER;CN="Donut NV Greenville":MAILTO:greenvillesc@donutnv.com
GEO:34.8815932;-82.7154719
X-APPLE-STRUCTURED-LOCATION;VALUE=URI;X-ADDRESS=Downtown Pickens Main St Pickens South Carolina;X-APPLE-RADIUS=500;X-TITLE=Main St:geo:-82.7154719,34.8815932
END:VEVENT
BEGIN:VEVENT
DTSTART;TZID=America/New_York:20231130T150000
DTEND;TZID=America/New_York:20231130T173000
DTSTAMP:20260425T145427
CREATED:20231127T183005Z
LAST-MODIFIED:20231127T183005Z
UID:24324-1701356400-1701365400@864foodtrucks.com
SUMMARY:DonutNV @ The Growing Place
DESCRIPTION:DonutNV brings the party to your door! Hot mini donuts\, fresh squeezed lemonade\, coffee & more!
URL:https://864foodtrucks.com/event/donutnv-the-growing-place/
LOCATION:The Growing Place\, Chastain Road 136\, Central\, South Carolina\, 29630\, United States
CATEGORIES:Central,Food Truck Schedules
ATTACH;FMTTYPE=image/jpeg:https://864foodtrucks.com/wp-content/uploads/2023/11/DonutNV.jpg
ORGANIZER;CN="Donut NV Greenville":MAILTO:greenvillesc@donutnv.com
GEO:34.7401615;-82.7521297
X-APPLE-STRUCTURED-LOCATION;VALUE=URI;X-ADDRESS=The Growing Place Chastain Road 136 Central South Carolina 29630 United States;X-APPLE-RADIUS=500;X-TITLE=Chastain Road 136:geo:-82.7521297,34.7401615
END:VEVENT
BEGIN:VEVENT
DTSTART;TZID=America/New_York:20231129T180000
DTEND;TZID=America/New_York:20231129T200000
DTSTAMP:20260425T145427
CREATED:20231127T182732Z
LAST-MODIFIED:20240218T212514Z
UID:24322-1701280800-1701288000@864foodtrucks.com
SUMMARY:DonutNV @ Trailside at Reedy Point
DESCRIPTION:DonutNV brings the party to your door! Hot mini donuts\, fresh squeezed lemonade\, coffee & more!
URL:https://864foodtrucks.com/event/donutnv-trailside-at-reedy-point/2023-11-29/
LOCATION:Trailside at Reedy Point\, 200 South Academy St\, Greenville\, SC\, 29601\, United States
CATEGORIES:Food Truck Schedules,Greenville
ATTACH;FMTTYPE=image/jpeg:https://864foodtrucks.com/wp-content/uploads/2023/11/DonutNV.jpg
ORGANIZER;CN="Donut NV Greenville":MAILTO:greenvillesc@donutnv.com
GEO:34.8472093;-82.4065614
X-APPLE-STRUCTURED-LOCATION;VALUE=URI;X-ADDRESS=Trailside at Reedy Point 200 South Academy St Greenville SC 29601 United States;X-APPLE-RADIUS=500;X-TITLE=200 South Academy St:geo:-82.4065614,34.8472093
END:VEVENT
END:VCALENDAR