BEGIN:VCALENDAR
VERSION:2.0
PRODID:-//864 Food Trucks - ECPv6.15.20//NONSGML v1.0//EN
CALSCALE:GREGORIAN
METHOD:PUBLISH
X-WR-CALNAME:864 Food Trucks
X-ORIGINAL-URL:https://864foodtrucks.com
X-WR-CALDESC:Events for 864 Food Trucks
REFRESH-INTERVAL;VALUE=DURATION:PT1H
X-Robots-Tag:noindex
X-PUBLISHED-TTL:PT1H
BEGIN:VTIMEZONE
TZID:America/New_York
BEGIN:DAYLIGHT
TZOFFSETFROM:-0500
TZOFFSETTO:-0400
TZNAME:EDT
DTSTART:20220313T070000
END:DAYLIGHT
BEGIN:STANDARD
TZOFFSETFROM:-0400
TZOFFSETTO:-0500
TZNAME:EST
DTSTART:20221106T060000
END:STANDARD
BEGIN:DAYLIGHT
TZOFFSETFROM:-0500
TZOFFSETTO:-0400
TZNAME:EDT
DTSTART:20230312T070000
END:DAYLIGHT
BEGIN:STANDARD
TZOFFSETFROM:-0400
TZOFFSETTO:-0500
TZNAME:EST
DTSTART:20231105T060000
END:STANDARD
BEGIN:DAYLIGHT
TZOFFSETFROM:-0500
TZOFFSETTO:-0400
TZNAME:EDT
DTSTART:20240310T070000
END:DAYLIGHT
BEGIN:STANDARD
TZOFFSETFROM:-0400
TZOFFSETTO:-0500
TZNAME:EST
DTSTART:20241103T060000
END:STANDARD
END:VTIMEZONE
BEGIN:VEVENT
DTSTART;TZID=America/New_York:20230805T100000
DTEND;TZID=America/New_York:20230805T150000
DTSTAMP:20260425T150841
CREATED:20230801T130857Z
LAST-MODIFIED:20230801T130857Z
UID:21718-1691229600-1691247600@864foodtrucks.com
SUMMARY:El Coco Loco Mariscos Y Tacos @ Jamn Insurance Back to School Bash
DESCRIPTION:EL COCO LOCO MARISCOS Y TACOS TE OFRECE UNA GRAN VARIEDAD DE MARISCOS AL ESTILO CULIACAN SINALOA
URL:https://864foodtrucks.com/event/el-coco-loco-mariscos-y-tacos-jamn-insurance-back-to-school-bash/
LOCATION:Jamn Insurance\, North Pleasantburg Drive 1934\, Greenville\, SC\, 29609\, United States
CATEGORIES:Food Truck Schedules,Greenville
ATTACH;FMTTYPE=image/jpeg:https://864foodtrucks.com/wp-content/uploads/2023/06/El-coco-loco.jpg
GEO:34.887175;-82.370764
X-APPLE-STRUCTURED-LOCATION;VALUE=URI;X-ADDRESS=Jamn Insurance North Pleasantburg Drive 1934 Greenville SC 29609 United States;X-APPLE-RADIUS=500;X-TITLE=North Pleasantburg Drive 1934:geo:-82.370764,34.887175
END:VEVENT
BEGIN:VEVENT
DTSTART;TZID=America/New_York:20230803T160000
DTEND;TZID=America/New_York:20230803T190000
DTSTAMP:20260425T150841
CREATED:20230801T130625Z
LAST-MODIFIED:20230801T130625Z
UID:21715-1691078400-1691089200@864foodtrucks.com
SUMMARY:El Coco Loco Mariscos Y Tacos @ Spartanburg Rehabilitation Institute
DESCRIPTION:EL COCO LOCO MARISCOS Y TACOS TE OFRECE UNA GRAN VARIEDAD DE MARISCOS AL ESTILO CULIACAN SINALOA
URL:https://864foodtrucks.com/event/el-coco-loco-mariscos-y-tacos-spartanburg-rehabilitation-institute/
LOCATION:Spartanburg Rehabilitation Institute\, Harold Fleming Court 160\, Spartanburg\, SC\, 29303\, United States
CATEGORIES:Food Truck Schedules,Spartanburg
ATTACH;FMTTYPE=image/jpeg:https://864foodtrucks.com/wp-content/uploads/2023/06/El-coco-loco.jpg
GEO:34.9896783;-81.9424782
X-APPLE-STRUCTURED-LOCATION;VALUE=URI;X-ADDRESS=Spartanburg Rehabilitation Institute Harold Fleming Court 160 Spartanburg SC 29303 United States;X-APPLE-RADIUS=500;X-TITLE=Harold Fleming Court 160:geo:-81.9424782,34.9896783
END:VEVENT
BEGIN:VEVENT
DTSTART;TZID=America/New_York:20230625T160000
DTEND;TZID=America/New_York:20230625T220000
DTSTAMP:20260425T150841
CREATED:20230619T183712Z
LAST-MODIFIED:20230619T183712Z
UID:19814-1687708800-1687730400@864foodtrucks.com
SUMMARY:El Coco Loco Mariscos Y Tacos @ Wade Hampton Blvd
DESCRIPTION:EL COCO LOCO MARISCOS Y TACOS TE OFRECE UNA GRAN VARIEDAD DE MARISCOS AL ESTILO CULIACAN SINALOA
URL:https://864foodtrucks.com/event/el-coco-loco-mariscos-y-tacos-wade-hampton-blvd/2023-06-25/
LOCATION:2818 Wade Hampton Blvd\, 2818 Wade Hampton Blvd\, Taylors\, SC\, United States
CATEGORIES:Food Truck Schedules,Taylors
ATTACH;FMTTYPE=image/jpeg:https://864foodtrucks.com/wp-content/uploads/2023/06/El-coco-loco.jpg
END:VEVENT
BEGIN:VEVENT
DTSTART;TZID=America/New_York:20230624T120000
DTEND;TZID=America/New_York:20230624T160000
DTSTAMP:20260425T150841
CREATED:20230619T183454Z
LAST-MODIFIED:20230619T183454Z
UID:19812-1687608000-1687622400@864foodtrucks.com
SUMMARY:El Coco Loco Mariscos Y Tacos
DESCRIPTION:EL COCO LOCO MARISCOS Y TACOS TE OFRECE UNA GRAN VARIEDAD DE MARISCOS AL ESTILO CULIACAN SINALOA
URL:https://864foodtrucks.com/event/el-coco-loco-mariscos-y-tacos-2/
LOCATION:Swamp Rabbit Brewery\, 26 S Main St\, Travelers Rest\, South Carolina
CATEGORIES:Food Truck Schedules,Travelers Rest
ATTACH;FMTTYPE=image/jpeg:https://864foodtrucks.com/wp-content/uploads/2023/06/El-coco-loco.jpg
GEO:34.9670847;-82.4425017
X-APPLE-STRUCTURED-LOCATION;VALUE=URI;X-ADDRESS=Swamp Rabbit Brewery 26 S Main St Travelers Rest South Carolina;X-APPLE-RADIUS=500;X-TITLE=26 S Main St:geo:-82.4425017,34.9670847
END:VEVENT
BEGIN:VEVENT
DTSTART;TZID=America/New_York:20230623T170000
DTEND;TZID=America/New_York:20230623T210000
DTSTAMP:20260425T150841
CREATED:20230619T183240Z
LAST-MODIFIED:20230801T130359Z
UID:19810-1687539600-1687554000@864foodtrucks.com
SUMMARY:El Coco Loco Mariscos Y Tacos @ 13 Stripes Brewery
DESCRIPTION:EL COCO LOCO MARISCOS Y TACOS TE OFRECE UNA GRAN VARIEDAD DE MARISCOS AL ESTILO CULIACAN SINALOA
URL:https://864foodtrucks.com/event/el-coco-loco-mariscos-y-tacos-13-stripes-brewery/2023-06-23/
LOCATION:13 Stripes Brewery\, 250 Mill Street\, Ste PW3101 Dock Print Works No\, 3\, Taylors\, South Carolina
CATEGORIES:Food Truck Schedules,Taylors
ATTACH;FMTTYPE=image/jpeg:https://864foodtrucks.com/wp-content/uploads/2023/06/El-coco-loco.jpg
GEO:34.9197401;-82.2845935
X-APPLE-STRUCTURED-LOCATION;VALUE=URI;X-ADDRESS=13 Stripes Brewery 250 Mill Street Ste PW3101 Dock Print Works No 3 Taylors South Carolina;X-APPLE-RADIUS=500;X-TITLE=250 Mill Street\, Ste PW3101 Dock Print Works No\, 3:geo:-82.2845935,34.9197401
END:VEVENT
BEGIN:VEVENT
DTSTART;TZID=America/New_York:20230622T110000
DTEND;TZID=America/New_York:20230622T140000
DTSTAMP:20260425T150841
CREATED:20230619T182401Z
LAST-MODIFIED:20230619T182401Z
UID:19808-1687431600-1687442400@864foodtrucks.com
SUMMARY:El Coco Loco Mariscos Y Tacos @ Ryobi
DESCRIPTION:EL COCO LOCO MARISCOS Y TACOS TE OFRECE UNA GRAN VARIEDAD DE MARISCOS AL ESTILO CULIACAN SINALOA
URL:https://864foodtrucks.com/event/el-coco-loco-mariscos-y-tacos-ryobi/
LOCATION:Ryobi\, 440 Lithium Ln\, Anderson\, SC\, 29621\, United States
CATEGORIES:Anderson,Food Truck Schedules
ATTACH;FMTTYPE=image/jpeg:https://864foodtrucks.com/wp-content/uploads/2023/06/El-coco-loco.jpg
GEO:34.6314402;-82.6131861
X-APPLE-STRUCTURED-LOCATION;VALUE=URI;X-ADDRESS=Ryobi 440 Lithium Ln Anderson SC 29621 United States;X-APPLE-RADIUS=500;X-TITLE=440 Lithium Ln:geo:-82.6131861,34.6314402
END:VEVENT
BEGIN:VEVENT
DTSTART;TZID=America/New_York:20230621T170000
DTEND;TZID=America/New_York:20230621T200000
DTSTAMP:20260425T150841
CREATED:20230619T182215Z
LAST-MODIFIED:20230619T182229Z
UID:19805-1687366800-1687377600@864foodtrucks.com
SUMMARY:El Coco Loco Mariscos Y Tacos @ WineXpress
DESCRIPTION:EL COCO LOCO MARISCOS Y TACOS TE OFRECE UNA GRAN VARIEDAD DE MARISCOS AL ESTILO CULIACAN SINALOA
URL:https://864foodtrucks.com/event/el-coco-loco-mariscos-y-tacos/
LOCATION:WineXpress\, 202 Scuffletown Rd\, Simpsonville\, South Carolina
CATEGORIES:Food Truck Schedules,Simpsonville
ATTACH;FMTTYPE=image/jpeg:https://864foodtrucks.com/wp-content/uploads/2023/06/El-coco-loco.jpg
GEO:34.8046736;-82.2292537
X-APPLE-STRUCTURED-LOCATION;VALUE=URI;X-ADDRESS=WineXpress 202 Scuffletown Rd Simpsonville South Carolina;X-APPLE-RADIUS=500;X-TITLE=202 Scuffletown Rd:geo:-82.2292537,34.8046736
END:VEVENT
BEGIN:VEVENT
DTSTART;TZID=America/New_York:20230620T170000
DTEND;TZID=America/New_York:20230620T200000
DTSTAMP:20260425T150841
CREATED:20230619T182020Z
LAST-MODIFIED:20230619T182020Z
UID:19803-1687280400-1687291200@864foodtrucks.com
SUMMARY:El Coco Loco Mariscos Y Tacos @ Thomas Creek Brewery
DESCRIPTION:EL COCO LOCO MARISCOS Y TACOS TE OFRECE UNA GRAN VARIEDAD DE MARISCOS AL ESTILO CULIACAN SINALOA
URL:https://864foodtrucks.com/event/el-coco-loco-mariscos-y-tacos-thomas-creek-brewery/
LOCATION:Thomas Creek\, 2054 Piedmont Hwy\, Greenville\, South Carolina
CATEGORIES:Food Truck Schedules,Greenville
ATTACH;FMTTYPE=image/jpeg:https://864foodtrucks.com/wp-content/uploads/2023/06/El-coco-loco.jpg
GEO:34.7966066;-82.4234311
X-APPLE-STRUCTURED-LOCATION;VALUE=URI;X-ADDRESS=Thomas Creek 2054 Piedmont Hwy Greenville South Carolina;X-APPLE-RADIUS=500;X-TITLE=2054 Piedmont Hwy:geo:-82.4234311,34.7966066
END:VEVENT
END:VCALENDAR