BEGIN:VCALENDAR
VERSION:2.0
PRODID:-//864 Food Trucks - ECPv6.15.20//NONSGML v1.0//EN
CALSCALE:GREGORIAN
METHOD:PUBLISH
X-ORIGINAL-URL:https://864foodtrucks.com
X-WR-CALDESC:Events for 864 Food Trucks
REFRESH-INTERVAL;VALUE=DURATION:PT1H
X-Robots-Tag:noindex
X-PUBLISHED-TTL:PT1H
BEGIN:VTIMEZONE
TZID:America/New_York
BEGIN:DAYLIGHT
TZOFFSETFROM:-0500
TZOFFSETTO:-0400
TZNAME:EDT
DTSTART:20210314T070000
END:DAYLIGHT
BEGIN:STANDARD
TZOFFSETFROM:-0400
TZOFFSETTO:-0500
TZNAME:EST
DTSTART:20211107T060000
END:STANDARD
BEGIN:DAYLIGHT
TZOFFSETFROM:-0500
TZOFFSETTO:-0400
TZNAME:EDT
DTSTART:20220313T070000
END:DAYLIGHT
BEGIN:STANDARD
TZOFFSETFROM:-0400
TZOFFSETTO:-0500
TZNAME:EST
DTSTART:20221106T060000
END:STANDARD
BEGIN:DAYLIGHT
TZOFFSETFROM:-0500
TZOFFSETTO:-0400
TZNAME:EDT
DTSTART:20230312T070000
END:DAYLIGHT
BEGIN:STANDARD
TZOFFSETFROM:-0400
TZOFFSETTO:-0500
TZNAME:EST
DTSTART:20231105T060000
END:STANDARD
BEGIN:DAYLIGHT
TZOFFSETFROM:-0500
TZOFFSETTO:-0400
TZNAME:EDT
DTSTART:20240310T070000
END:DAYLIGHT
BEGIN:STANDARD
TZOFFSETFROM:-0400
TZOFFSETTO:-0500
TZNAME:EST
DTSTART:20241103T060000
END:STANDARD
END:VTIMEZONE
BEGIN:VEVENT
DTSTART;TZID=America/New_York:20230916T110000
DTEND;TZID=America/New_York:20230916T180000
DTSTAMP:20260425T083729
CREATED:20230913T124559Z
LAST-MODIFIED:20230913T124559Z
UID:22842-1694862000-1694887200@864foodtrucks.com
SUMMARY:Feta Flav @ Stepp Orchards
DESCRIPTION:Serving Greek and Mediterranean Food to WNC and Upper SC!
URL:https://864foodtrucks.com/event/feta-flav-stepp-orchards/2023-09-16/
LOCATION:Stepp Orchards\, Stepp Orchard Drive 170\, Hendersonville\, NC\, 28792\, United States
CATEGORIES:Food Truck Schedules,Hendersonville
ATTACH;FMTTYPE=image/jpeg:https://864foodtrucks.com/wp-content/uploads/2022/02/feta-flav.jpg
ORGANIZER;CN="Feta Flav":MAILTO:chefsquaredco@gmail.com
GEO:35.3659154;-82.3746831
X-APPLE-STRUCTURED-LOCATION;VALUE=URI;X-ADDRESS=Stepp Orchards Stepp Orchard Drive 170 Hendersonville NC 28792 United States;X-APPLE-RADIUS=500;X-TITLE=Stepp Orchard Drive 170:geo:-82.3746831,35.3659154
END:VEVENT
BEGIN:VEVENT
DTSTART;TZID=America/New_York:20230804T160000
DTEND;TZID=America/New_York:20230804T200000
DTSTAMP:20260425T083729
CREATED:20230731T161444Z
LAST-MODIFIED:20230822T164359Z
UID:21635-1691164800-1691179200@864foodtrucks.com
SUMMARY:Feta Flav @ Trailside Brewing Co
DESCRIPTION:Serving Greek and Mediterranean Food to WNC and Upper SC!
URL:https://864foodtrucks.com/event/feta-flav-trailside-brewing-co/2023-08-04/
LOCATION:Trailside Brewing Co\, Lenox Park Drive 873\, Hendersonville\, NC\, 28739\, United States
CATEGORIES:Food Truck Schedules,Hendersonville
ATTACH;FMTTYPE=image/jpeg:https://864foodtrucks.com/wp-content/uploads/2022/02/feta-flav.jpg
ORGANIZER;CN="Feta Flav":MAILTO:chefsquaredco@gmail.com
GEO:35.308681;-82.469761
X-APPLE-STRUCTURED-LOCATION;VALUE=URI;X-ADDRESS=Trailside Brewing Co Lenox Park Drive 873 Hendersonville NC 28739 United States;X-APPLE-RADIUS=500;X-TITLE=Lenox Park Drive 873:geo:-82.469761,35.308681
END:VEVENT
BEGIN:VEVENT
DTSTART;TZID=America/New_York:20230218T120000
DTEND;TZID=America/New_York:20230218T200000
DTSTAMP:20260425T083729
CREATED:20230213T200958Z
LAST-MODIFIED:20231122T224436Z
UID:16843-1676721600-1676750400@864foodtrucks.com
SUMMARY:Feta Flav @ Blue Ridge Beer Garden
DESCRIPTION:Serving Greek and Mediterranean Food to WNC and Upper SC!
URL:https://864foodtrucks.com/event/feta-flav-blue-ridge-beer-garden-2/2023-02-18/
LOCATION:Blue Ridge Beer Garden\, 402 S Church St\, Hendersonville
CATEGORIES:Food Truck Schedules,Hendersonville
ATTACH;FMTTYPE=image/jpeg:https://864foodtrucks.com/wp-content/uploads/2022/02/feta-flav.jpg
ORGANIZER;CN="Feta Flav":MAILTO:chefsquaredco@gmail.com
END:VEVENT
BEGIN:VEVENT
DTSTART;TZID=America/New_York:20230216T110000
DTEND;TZID=America/New_York:20230216T170000
DTSTAMP:20260425T083729
CREATED:20230213T200815Z
LAST-MODIFIED:20230521T190655Z
UID:16840-1676545200-1676566800@864foodtrucks.com
SUMMARY:Feta Flav @ The Hub
DESCRIPTION:Serving Greek and Mediterranean Food to WNC and Upper SC!
URL:https://864foodtrucks.com/event/feta-flav-the-hub-2/2023-02-16/
LOCATION:The Hub\, 11 Mama's Pl\, Pisgah Forest\, North Carolina
CATEGORIES:Food Truck Schedules,Pisgah Forest
ATTACH;FMTTYPE=image/jpeg:https://864foodtrucks.com/wp-content/uploads/2022/02/feta-flav.jpg
ORGANIZER;CN="Feta Flav":MAILTO:chefsquaredco@gmail.com
GEO:35.2533327;-82.6835888
X-APPLE-STRUCTURED-LOCATION;VALUE=URI;X-ADDRESS=The Hub 11 Mama's Pl Pisgah Forest North Carolina;X-APPLE-RADIUS=500;X-TITLE=11 Mama's Pl:geo:-82.6835888,35.2533327
END:VEVENT
BEGIN:VEVENT
DTSTART;TZID=America/New_York:20230207T173000
DTEND;TZID=America/New_York:20230207T200000
DTSTAMP:20260425T083729
CREATED:20230202T193258Z
LAST-MODIFIED:20230202T193258Z
UID:16518-1675791000-1675800000@864foodtrucks.com
SUMMARY:Feta Flav @ Tetrad Brewing Co
DESCRIPTION:Serving Greek and Mediterranean Food to WNC and Upper SC!
URL:https://864foodtrucks.com/event/feta-flav-tetrad-brewing-co/2023-02-07/
LOCATION:Tetrad Brewing\, 603 E Stone Ave\, Greenville\, SC\, 29601\, United States
CATEGORIES:Food Truck Schedules,Greenville
ATTACH;FMTTYPE=image/jpeg:https://864foodtrucks.com/wp-content/uploads/2022/02/feta-flav.jpg
ORGANIZER;CN="Feta Flav":MAILTO:chefsquaredco@gmail.com
GEO:34.8585948;-82.3848082
X-APPLE-STRUCTURED-LOCATION;VALUE=URI;X-ADDRESS=Tetrad Brewing 603 E Stone Ave Greenville SC 29601 United States;X-APPLE-RADIUS=500;X-TITLE=603 E Stone Ave:geo:-82.3848082,34.8585948
END:VEVENT
BEGIN:VEVENT
DTSTART;TZID=America/New_York:20230111T160000
DTEND;TZID=America/New_York:20230111T200000
DTSTAMP:20260425T083729
CREATED:20230109T203925Z
LAST-MODIFIED:20230109T203925Z
UID:16041-1673452800-1673467200@864foodtrucks.com
SUMMARY:Feta Flav @ Thomas Creek Brewing
DESCRIPTION:Serving Greek and Mediterranean Food to WNC and Upper SC!
URL:https://864foodtrucks.com/event/feta-flav-thomas-creek-brewing/
LOCATION:Thomas Creek\, 2054 Piedmont Hwy\, Greenville\, South Carolina
CATEGORIES:Food Truck Schedules,Greenville
ATTACH;FMTTYPE=image/jpeg:https://864foodtrucks.com/wp-content/uploads/2022/02/feta-flav.jpg
ORGANIZER;CN="Feta Flav":MAILTO:chefsquaredco@gmail.com
GEO:34.7966066;-82.4234311
X-APPLE-STRUCTURED-LOCATION;VALUE=URI;X-ADDRESS=Thomas Creek 2054 Piedmont Hwy Greenville South Carolina;X-APPLE-RADIUS=500;X-TITLE=2054 Piedmont Hwy:geo:-82.4234311,34.7966066
END:VEVENT
BEGIN:VEVENT
DTSTART;TZID=America/New_York:20221218T120000
DTEND;TZID=America/New_York:20221218T200000
DTSTAMP:20260425T083729
CREATED:20221213T130519Z
LAST-MODIFIED:20230109T194623Z
UID:15646-1671364800-1671393600@864foodtrucks.com
SUMMARY:Feta Flav @ Blue Ridge Beer Garden
DESCRIPTION:Serving Greek and Mediterranean Food to WNC and Upper SC!
URL:https://864foodtrucks.com/event/feta-flav-blue-ridge-beer-garden/2022-12-18/
LOCATION:Blue Ridge Beer Garden\, 402 S Church St\, Hendersonville
CATEGORIES:Food Truck Schedules,Hendersonville
ATTACH;FMTTYPE=image/jpeg:https://864foodtrucks.com/wp-content/uploads/2022/02/feta-flav.jpg
ORGANIZER;CN="Feta Flav":MAILTO:chefsquaredco@gmail.com
END:VEVENT
BEGIN:VEVENT
DTSTART;TZID=America/New_York:20221214T160000
DTEND;TZID=America/New_York:20221214T200000
DTSTAMP:20260425T083729
CREATED:20221213T130631Z
LAST-MODIFIED:20230522T103424Z
UID:15648-1671033600-1671048000@864foodtrucks.com
SUMMARY:Feta Flav @ Southern Appalachian Brewery
DESCRIPTION:Serving Greek and Mediterranean Food to WNC and Upper SC!
URL:https://864foodtrucks.com/event/feta-flav-southern-appalachian-brewery-2/2022-12-14/
LOCATION:Southern Appalachian Brewery\, 822 Locust St\, Henersonville\, SC\, United States
CATEGORIES:Food Truck Schedules,Hendersonville
ATTACH;FMTTYPE=image/jpeg:https://864foodtrucks.com/wp-content/uploads/2022/02/feta-flav.jpg
ORGANIZER;CN="Feta Flav":MAILTO:chefsquaredco@gmail.com
GEO:35.3223409;-82.4591662
X-APPLE-STRUCTURED-LOCATION;VALUE=URI;X-ADDRESS=Southern Appalachian Brewery 822 Locust St Henersonville SC United States;X-APPLE-RADIUS=500;X-TITLE=822 Locust St:geo:-82.4591662,35.3223409
END:VEVENT
BEGIN:VEVENT
DTSTART;TZID=America/New_York:20221127T120000
DTEND;TZID=America/New_York:20221127T180000
DTSTAMP:20260425T083729
CREATED:20221122T130826Z
LAST-MODIFIED:20230822T164430Z
UID:14929-1669550400-1669572000@864foodtrucks.com
SUMMARY:Feta Flav @ Sideways Farm and Brewery
DESCRIPTION:Serving Greek and Mediterranean Food to WNC and Upper SC!
URL:https://864foodtrucks.com/event/feta-flav-sideways-farm-and-brewery-2/2022-11-27/
LOCATION:Sideways Farm and Brewery\, 62 Eade Rd\, Etowah\, North Carolina
CATEGORIES:Entowah,Food Truck Schedules
ATTACH;FMTTYPE=image/jpeg:https://864foodtrucks.com/wp-content/uploads/2022/02/feta-flav.jpg
ORGANIZER;CN="Feta Flav":MAILTO:chefsquaredco@gmail.com
GEO:35.3089034;-82.6085984
X-APPLE-STRUCTURED-LOCATION;VALUE=URI;X-ADDRESS=Sideways Farm and Brewery 62 Eade Rd Etowah North Carolina;X-APPLE-RADIUS=500;X-TITLE=62 Eade Rd:geo:-82.6085984,35.3089034
END:VEVENT
BEGIN:VEVENT
DTSTART;TZID=America/New_York:20221125T120000
DTEND;TZID=America/New_York:20221125T120000
DTSTAMP:20260425T083729
CREATED:20221122T130718Z
LAST-MODIFIED:20231122T224357Z
UID:14926-1669377600-1669377600@864foodtrucks.com
SUMMARY:Feta Flav @ Burning Blush Brewery
DESCRIPTION:Serving Greek and Mediterranean Food to WNC and Upper SC!
URL:https://864foodtrucks.com/event/feta-flav-burning-blush-brewery-2/2022-11-25/
LOCATION:Burning Blush Brewery\, 4891 Boylston Hwy\, Mills River\, NC\, United States
CATEGORIES:Food Truck Schedules,Mills River
ATTACH;FMTTYPE=image/jpeg:https://864foodtrucks.com/wp-content/uploads/2022/02/feta-flav.jpg
ORGANIZER;CN="Feta Flav":MAILTO:chefsquaredco@gmail.com
GEO:35.3837231;-82.5689964
X-APPLE-STRUCTURED-LOCATION;VALUE=URI;X-ADDRESS=Burning Blush Brewery 4891 Boylston Hwy Mills River NC United States;X-APPLE-RADIUS=500;X-TITLE=4891 Boylston Hwy:geo:-82.5689964,35.3837231
END:VEVENT
BEGIN:VEVENT
DTSTART;TZID=America/New_York:20221123T170000
DTEND;TZID=America/New_York:20221123T200000
DTSTAMP:20260425T083729
CREATED:20221122T130605Z
LAST-MODIFIED:20221122T130605Z
UID:14924-1669222800-1669233600@864foodtrucks.com
SUMMARY:Feta Flav @ Southern Appalachian Brewery
DESCRIPTION:Serving Greek and Mediterranean Food to WNC and Upper SC!
URL:https://864foodtrucks.com/event/feta-flav-southern-appalachian-brewery/
LOCATION:Southern Appalachian Brewery\, 822 Locust St\, Henersonville\, SC\, United States
CATEGORIES:Food Truck Schedules,Hendersonville
ATTACH;FMTTYPE=image/jpeg:https://864foodtrucks.com/wp-content/uploads/2022/02/feta-flav.jpg
ORGANIZER;CN="Feta Flav":MAILTO:chefsquaredco@gmail.com
GEO:35.3223409;-82.4591662
X-APPLE-STRUCTURED-LOCATION;VALUE=URI;X-ADDRESS=Southern Appalachian Brewery 822 Locust St Henersonville SC United States;X-APPLE-RADIUS=500;X-TITLE=822 Locust St:geo:-82.4591662,35.3223409
END:VEVENT
BEGIN:VEVENT
DTSTART;TZID=America/New_York:20221103T110000
DTEND;TZID=America/New_York:20221103T170000
DTSTAMP:20260425T083729
CREATED:20221101T235707Z
LAST-MODIFIED:20221213T130400Z
UID:14237-1667473200-1667494800@864foodtrucks.com
SUMMARY:Feta Flav @ The Hub
DESCRIPTION:Serving Greek and Mediterranean Food to WNC and Upper SC!
URL:https://864foodtrucks.com/event/feta-flav-the-hub/2022-11-03/
LOCATION:The Hub\, 11 Mama's Pl\, Pisgah Forest\, North Carolina
CATEGORIES:Food Truck Schedules,Pisgah Forest
ORGANIZER;CN="Feta Flav":MAILTO:chefsquaredco@gmail.com
GEO:35.2533327;-82.6835888
X-APPLE-STRUCTURED-LOCATION;VALUE=URI;X-ADDRESS=The Hub 11 Mama's Pl Pisgah Forest North Carolina;X-APPLE-RADIUS=500;X-TITLE=11 Mama's Pl:geo:-82.6835888,35.2533327
END:VEVENT
END:VCALENDAR