BEGIN:VCALENDAR
VERSION:2.0
PRODID:-//864 Food Trucks - ECPv6.15.20//NONSGML v1.0//EN
CALSCALE:GREGORIAN
METHOD:PUBLISH
X-WR-CALNAME:864 Food Trucks
X-ORIGINAL-URL:https://864foodtrucks.com
X-WR-CALDESC:Events for 864 Food Trucks
REFRESH-INTERVAL;VALUE=DURATION:PT1H
X-Robots-Tag:noindex
X-PUBLISHED-TTL:PT1H
BEGIN:VTIMEZONE
TZID:America/New_York
BEGIN:DAYLIGHT
TZOFFSETFROM:-0500
TZOFFSETTO:-0400
TZNAME:EDT
DTSTART:20230312T070000
END:DAYLIGHT
BEGIN:STANDARD
TZOFFSETFROM:-0400
TZOFFSETTO:-0500
TZNAME:EST
DTSTART:20231105T060000
END:STANDARD
BEGIN:DAYLIGHT
TZOFFSETFROM:-0500
TZOFFSETTO:-0400
TZNAME:EDT
DTSTART:20240310T070000
END:DAYLIGHT
BEGIN:STANDARD
TZOFFSETFROM:-0400
TZOFFSETTO:-0500
TZNAME:EST
DTSTART:20241103T060000
END:STANDARD
BEGIN:DAYLIGHT
TZOFFSETFROM:-0500
TZOFFSETTO:-0400
TZNAME:EDT
DTSTART:20250309T070000
END:DAYLIGHT
BEGIN:STANDARD
TZOFFSETFROM:-0400
TZOFFSETTO:-0500
TZNAME:EST
DTSTART:20251102T060000
END:STANDARD
END:VTIMEZONE
BEGIN:VEVENT
DTSTART;TZID=America/New_York:20241108T183000
DTEND;TZID=America/New_York:20241108T183000
DTSTAMP:20260425T194211
CREATED:20241105T133515Z
LAST-MODIFIED:20260406T200346Z
UID:39594-1731090600-1731090600@864foodtrucks.com
SUMMARY:Fuel Foods @ Lincoln Taproom
DESCRIPTION:Fuel Foods – Food Truck & Catering\nClean\, Unique & Delicious!\nLocated in Clemson & Upstate\, SC 📍\nBook Us for Events! Contact for More Info!
URL:https://864foodtrucks.com/event/fuel-foods-lincoln-taproom/2024-11-08/
LOCATION:Lincoln Taproom\, 28A Main St\, Pelzer\, South Carolina\, 29669
CATEGORIES:Food Truck Schedules,Pelzer
ATTACH;FMTTYPE=image/jpeg:https://864foodtrucks.com/wp-content/uploads/2024/08/Fuel-Foods-Food-Truck.jpg
ORGANIZER;CN="Fuel Foods Food Truck":MAILTO:fuelfoods.truck@gmail.com
GEO:34.644879;-82.4683195
X-APPLE-STRUCTURED-LOCATION;VALUE=URI;X-ADDRESS=Lincoln Taproom 28A Main St Pelzer South Carolina 29669;X-APPLE-RADIUS=500;X-TITLE=28A Main St:geo:-82.4683195,34.644879
END:VEVENT
BEGIN:VEVENT
DTSTART;TZID=America/New_York:20241102T100000
DTEND;TZID=America/New_York:20241102T140000
DTSTAMP:20260425T194211
CREATED:20241028T001917Z
LAST-MODIFIED:20241028T001917Z
UID:39405-1730541600-1730556000@864foodtrucks.com
SUMMARY:Fuel Foods @ Anderson Holiday Makers Market
DESCRIPTION:Fuel Foods – Food Truck & Catering\nClean\, Unique & Delicious!\nLocated in Clemson & Upstate\, SC 📍\nBook Us for Events! Contact for More Info!
URL:https://864foodtrucks.com/event/fuel-foods-anderson-holiday-makers-market/
LOCATION:Rocky River Plantation\, East River Street 2000\, Anderson\, South Carolina\, 29621\, United States
CATEGORIES:Anderson,Food Truck Schedules
ATTACH;FMTTYPE=image/jpeg:https://864foodtrucks.com/wp-content/uploads/2024/08/Fuel-Foods-Food-Truck.jpg
ORGANIZER;CN="Fuel Foods Food Truck":MAILTO:fuelfoods.truck@gmail.com
GEO:34.4958152;-82.6210591
X-APPLE-STRUCTURED-LOCATION;VALUE=URI;X-ADDRESS=Rocky River Plantation East River Street 2000 Anderson South Carolina 29621 United States;X-APPLE-RADIUS=500;X-TITLE=East River Street 2000:geo:-82.6210591,34.4958152
END:VEVENT
BEGIN:VEVENT
DTSTART;TZID=America/New_York:20241026T100000
DTEND;TZID=America/New_York:20241026T160000
DTSTAMP:20260425T194211
CREATED:20241023T180536Z
LAST-MODIFIED:20241023T180536Z
UID:39391-1729936800-1729958400@864foodtrucks.com
SUMMARY:Fuel Foods @ Pelzer Jack O' Lantern Fall Festival
DESCRIPTION:Fuel Foods – Food Truck & Catering\nClean\, Unique & Delicious!\nLocated in Clemson & Upstate\, SC 📍\nBook Us for Events! Contact for More Info!
URL:https://864foodtrucks.com/event/fuel-foods-pelzer-jack-o-lantern-fall-festival/
LOCATION:Downtown Pelzer\, Pelzer\, South Carolina\, United States
CATEGORIES:Food Truck Schedules,Pelzer
ATTACH;FMTTYPE=image/jpeg:https://864foodtrucks.com/wp-content/uploads/2024/08/Fuel-Foods-Food-Truck.jpg
ORGANIZER;CN="Fuel Foods Food Truck":MAILTO:fuelfoods.truck@gmail.com
GEO:34.6462737;-82.4591443
END:VEVENT
BEGIN:VEVENT
DTSTART;TZID=America/New_York:20241012T163000
DTEND;TZID=America/New_York:20241012T210000
DTSTAMP:20260425T194211
CREATED:20241007T180700Z
LAST-MODIFIED:20241111T204820Z
UID:39140-1728750600-1728766800@864foodtrucks.com
SUMMARY:Fuel Foods @ Scuffletown
DESCRIPTION:Fuel Foods – Food Truck & Catering\nClean\, Unique & Delicious!\nLocated in Clemson & Upstate\, SC 📍\nBook Us for Events! Contact for More Info!
URL:https://864foodtrucks.com/event/fuel-foods-scuffletown/2024-10-12/
LOCATION:Scuffletown Food Truck Park\, Ladean Court 206\, Simpsonville\, South Carolina\, 29680\, United States
CATEGORIES:Food Truck Schedules,Simpsonville
ATTACH;FMTTYPE=image/jpeg:https://864foodtrucks.com/wp-content/uploads/2024/08/Fuel-Foods-Food-Truck.jpg
ORGANIZER;CN="Fuel Foods Food Truck":MAILTO:fuelfoods.truck@gmail.com
GEO:34.7127674;-82.2550282
X-APPLE-STRUCTURED-LOCATION;VALUE=URI;X-ADDRESS=Scuffletown Food Truck Park Ladean Court 206 Simpsonville South Carolina 29680 United States;X-APPLE-RADIUS=500;X-TITLE=Ladean Court 206:geo:-82.2550282,34.7127674
END:VEVENT
BEGIN:VEVENT
DTSTART;TZID=America/New_York:20241011T110000
DTEND;TZID=America/New_York:20241011T140000
DTSTAMP:20260425T194211
CREATED:20241007T230304Z
LAST-MODIFIED:20241014T003253Z
UID:39162-1728644400-1728655200@864foodtrucks.com
SUMMARY:Fuel Foods @ Honea Path Food Truck Friday
DESCRIPTION:Fuel Foods – Food Truck & Catering\nClean\, Unique & Delicious!\nLocated in Clemson & Upstate\, SC 📍\nBook Us for Events! Contact for More Info!
URL:https://864foodtrucks.com/event/fuel-foods-honea-path-food-truck-friday/2024-10-11/
LOCATION:Downtown Honea Path\, Honea Path\, South Carolina\, 29654\, United States
CATEGORIES:Food Truck Schedules,Honea Path
ATTACH;FMTTYPE=image/jpeg:https://864foodtrucks.com/wp-content/uploads/2024/08/Fuel-Foods-Food-Truck.jpg
ORGANIZER;CN="Fuel Foods Food Truck":MAILTO:fuelfoods.truck@gmail.com
GEO:34.4465018;-82.3915121
END:VEVENT
BEGIN:VEVENT
DTSTART;TZID=America/New_York:20241010T073000
DTEND;TZID=America/New_York:20241010T140000
DTSTAMP:20260425T194211
CREATED:20241007T230027Z
LAST-MODIFIED:20241007T230027Z
UID:39159-1728545400-1728568800@864foodtrucks.com
SUMMARY:Fuel Foods @ Ace Hardware Williamston
DESCRIPTION:Fuel Foods – Food Truck & Catering\nClean\, Unique & Delicious!\nLocated in Clemson & Upstate\, SC 📍\nBook Us for Events! Contact for More Info!
URL:https://864foodtrucks.com/event/fuel-foods-ace-hardware-williamston/
LOCATION:Ace Hardware Williamston\, North Hamilton Street\, Williamston\, South Carolina\, 29697\, United States
CATEGORIES:Food Truck Schedules,Williamston
ATTACH;FMTTYPE=image/jpeg:https://864foodtrucks.com/wp-content/uploads/2024/08/Fuel-Foods-Food-Truck.jpg
ORGANIZER;CN="Fuel Foods Food Truck":MAILTO:fuelfoods.truck@gmail.com
GEO:34.6244153;-82.4732548
X-APPLE-STRUCTURED-LOCATION;VALUE=URI;X-ADDRESS=Ace Hardware Williamston North Hamilton Street Williamston South Carolina 29697 United States;X-APPLE-RADIUS=500;X-TITLE=North Hamilton Street:geo:-82.4732548,34.6244153
END:VEVENT
BEGIN:VEVENT
DTSTART;TZID=America/New_York:20240918T070000
DTEND;TZID=America/New_York:20240918T140000
DTSTAMP:20260425T194211
CREATED:20240916T005603Z
LAST-MODIFIED:20240916T005603Z
UID:38821-1726642800-1726668000@864foodtrucks.com
SUMMARY:Fuel Foods @ BorgWarner
DESCRIPTION:Fuel Foods – Food Truck & Catering\nClean\, Unique & Delicious!\nLocated in Clemson & Upstate\, SC 📍\nBook Us for Events! Contact for More Info!
URL:https://864foodtrucks.com/event/fuel-foods-borgwarner/
LOCATION:BorgWarner\, 15545 Wells Hwy\, Seneca
CATEGORIES:Food Truck Schedules,Seneca
ATTACH;FMTTYPE=image/jpeg:https://864foodtrucks.com/wp-content/uploads/2024/08/Fuel-Foods-Food-Truck.jpg
ORGANIZER;CN="Fuel Foods Food Truck":MAILTO:fuelfoods.truck@gmail.com
END:VEVENT
BEGIN:VEVENT
DTSTART;TZID=America/New_York:20240903T110000
DTEND;TZID=America/New_York:20240903T170000
DTSTAMP:20260425T194211
CREATED:20240831T212739Z
LAST-MODIFIED:20250408T175357Z
UID:33743-1725361200-1725382800@864foodtrucks.com
SUMMARY:Fuel Foods @ Max Fitness
DESCRIPTION:Fuel Foods – Food Truck & Catering\nClean\, Unique & Delicious!\nLocated in Clemson & Upstate\, SC 📍\nBook Us for Events! Contact for More Info!
URL:https://864foodtrucks.com/event/fuel-foods-max-fitness/2024-09-03/
LOCATION:Max Fitness\, Old Greenville Highway\, Clemson\, South Carolina\, 29631\, United States
CATEGORIES:Clemsen,Food Truck Schedules
ATTACH;FMTTYPE=image/jpeg:https://864foodtrucks.com/wp-content/uploads/2024/08/Fuel-Foods-Food-Truck.jpg
ORGANIZER;CN="Fuel Foods Food Truck":MAILTO:fuelfoods.truck@gmail.com
GEO:34.6883258;-82.8104501
X-APPLE-STRUCTURED-LOCATION;VALUE=URI;X-ADDRESS=Max Fitness Old Greenville Highway Clemson South Carolina 29631 United States;X-APPLE-RADIUS=500;X-TITLE=Old Greenville Highway:geo:-82.8104501,34.6883258
END:VEVENT
END:VCALENDAR