BEGIN:VCALENDAR
VERSION:2.0
PRODID:-//864 Food Trucks - ECPv6.15.20//NONSGML v1.0//EN
CALSCALE:GREGORIAN
METHOD:PUBLISH
X-WR-CALNAME:864 Food Trucks
X-ORIGINAL-URL:https://864foodtrucks.com
X-WR-CALDESC:Events for 864 Food Trucks
REFRESH-INTERVAL;VALUE=DURATION:PT1H
X-Robots-Tag:noindex
X-PUBLISHED-TTL:PT1H
BEGIN:VTIMEZONE
TZID:America/New_York
BEGIN:DAYLIGHT
TZOFFSETFROM:-0500
TZOFFSETTO:-0400
TZNAME:EDT
DTSTART:20210314T070000
END:DAYLIGHT
BEGIN:STANDARD
TZOFFSETFROM:-0400
TZOFFSETTO:-0500
TZNAME:EST
DTSTART:20211107T060000
END:STANDARD
BEGIN:DAYLIGHT
TZOFFSETFROM:-0500
TZOFFSETTO:-0400
TZNAME:EDT
DTSTART:20220313T070000
END:DAYLIGHT
BEGIN:STANDARD
TZOFFSETFROM:-0400
TZOFFSETTO:-0500
TZNAME:EST
DTSTART:20221106T060000
END:STANDARD
BEGIN:DAYLIGHT
TZOFFSETFROM:-0500
TZOFFSETTO:-0400
TZNAME:EDT
DTSTART:20230312T070000
END:DAYLIGHT
BEGIN:STANDARD
TZOFFSETFROM:-0400
TZOFFSETTO:-0500
TZNAME:EST
DTSTART:20231105T060000
END:STANDARD
BEGIN:DAYLIGHT
TZOFFSETFROM:-0500
TZOFFSETTO:-0400
TZNAME:EDT
DTSTART:20240310T070000
END:DAYLIGHT
BEGIN:STANDARD
TZOFFSETFROM:-0400
TZOFFSETTO:-0500
TZNAME:EST
DTSTART:20241103T060000
END:STANDARD
BEGIN:DAYLIGHT
TZOFFSETFROM:-0500
TZOFFSETTO:-0400
TZNAME:EDT
DTSTART:20250309T070000
END:DAYLIGHT
BEGIN:STANDARD
TZOFFSETFROM:-0400
TZOFFSETTO:-0500
TZNAME:EST
DTSTART:20251102T060000
END:STANDARD
END:VTIMEZONE
BEGIN:VEVENT
DTSTART;TZID=America/New_York:20240308T000000
DTEND;TZID=America/New_York:20240308T000000
DTSTAMP:20260424T173043
CREATED:20240306T215013Z
LAST-MODIFIED:20240306T215013Z
UID:26546-1709856000-1709856000@864foodtrucks.com
SUMMARY:G Rod's Latin Fusion Foods @ Piney Mountain Bike Lounge
DESCRIPTION:We are enjoying serving you and trying to satisfy your wishes for Latin Food
URL:https://864foodtrucks.com/event/g-rods-latin-fusion-foods-piney-mountain-bike-lounge/
LOCATION:Piney Mountain Bike Lounge\, 20 Piney Mountain Rd\, Greenville\, South Carolina
CATEGORIES:Food Truck Schedules,Greenville
ATTACH;FMTTYPE=image/jpeg:https://864foodtrucks.com/wp-content/uploads/2022/07/GRods-Latin-Fusion.jpg
ORGANIZER;CN="GRod's Latin Fusion Food Truck":MAILTO:grod_latinfusionft@outlook.com
GEO:34.8913881;-82.373773
X-APPLE-STRUCTURED-LOCATION;VALUE=URI;X-ADDRESS=Piney Mountain Bike Lounge 20 Piney Mountain Rd Greenville South Carolina;X-APPLE-RADIUS=500;X-TITLE=20 Piney Mountain Rd:geo:-82.373773,34.8913881
END:VEVENT
BEGIN:VEVENT
DTSTART;TZID=America/New_York:20240104T170000
DTEND;TZID=America/New_York:20240104T200000
DTSTAMP:20260424T173043
CREATED:20240102T173542Z
LAST-MODIFIED:20240102T173542Z
UID:24905-1704387600-1704398400@864foodtrucks.com
SUMMARY:GRod Latin Fusion @ Trailside at Reedy Point
DESCRIPTION:We are enjoying serving you and trying to satisfy your wishes for Latin Food
URL:https://864foodtrucks.com/event/grod-latin-fusion-trailside-at-reedy-point/
LOCATION:Trailside at Reedy Point\, 200 South Academy St\, Greenville\, SC\, 29601\, United States
CATEGORIES:Food Truck Schedules,Greenville
ATTACH;FMTTYPE=image/jpeg:https://864foodtrucks.com/wp-content/uploads/2022/07/GRods-Latin-Fusion.jpg
ORGANIZER;CN="GRod's Latin Fusion Food Truck":MAILTO:grod_latinfusionft@outlook.com
GEO:34.8472093;-82.4065614
X-APPLE-STRUCTURED-LOCATION;VALUE=URI;X-ADDRESS=Trailside at Reedy Point 200 South Academy St Greenville SC 29601 United States;X-APPLE-RADIUS=500;X-TITLE=200 South Academy St:geo:-82.4065614,34.8472093
END:VEVENT
BEGIN:VEVENT
DTSTART;TZID=America/New_York:20230309T170000
DTEND;TZID=America/New_York:20230309T210000
DTSTAMP:20260424T173043
CREATED:20230309T222431Z
LAST-MODIFIED:20230309T222431Z
UID:17376-1678381200-1678395600@864foodtrucks.com
SUMMARY:G-Rod's Latin Fusion
DESCRIPTION:
URL:https://864foodtrucks.com/event/g-rods-latin-fusion/
LOCATION:13 Stripes Brewery\, 250 Mill Street\, Ste PW3101 Dock Print Works No\, 3\, Taylors\, South Carolina
CATEGORIES:Food Truck Schedules,Taylors
ATTACH;FMTTYPE=image/jpeg:https://864foodtrucks.com/wp-content/uploads/2022/07/GRods-Latin-Fusion.jpg
ORGANIZER;CN="GRod's Latin Fusion Food Truck":MAILTO:grod_latinfusionft@outlook.com
GEO:34.9197401;-82.2845935
X-APPLE-STRUCTURED-LOCATION;VALUE=URI;X-ADDRESS=13 Stripes Brewery 250 Mill Street Ste PW3101 Dock Print Works No 3 Taylors South Carolina;X-APPLE-RADIUS=500;X-TITLE=250 Mill Street\, Ste PW3101 Dock Print Works No\, 3:geo:-82.2845935,34.9197401
END:VEVENT
BEGIN:VEVENT
DTSTART;TZID=America/New_York:20221117T173000
DTEND;TZID=America/New_York:20221117T173000
DTSTAMP:20260424T173043
CREATED:20221116T212850Z
LAST-MODIFIED:20230309T221904Z
UID:14713-1668706200-1668706200@864foodtrucks.com
SUMMARY:G-Rod Latin Fusion @ Piney Mountain Bike Lounge
DESCRIPTION:
URL:https://864foodtrucks.com/event/g-rod-latin-fusion-piney-mountain-bike-lounge/2022-11-17/
LOCATION:Piney Mountain Bike Lounge\, 20 Piney Mountain Rd\, Greenville\, South Carolina
CATEGORIES:Food Truck Schedules,Greenville
ATTACH;FMTTYPE=image/jpeg:https://864foodtrucks.com/wp-content/uploads/2022/07/GRods-Latin-Fusion.jpg
ORGANIZER;CN="GRod's Latin Fusion Food Truck":MAILTO:grod_latinfusionft@outlook.com
GEO:34.8913881;-82.373773
X-APPLE-STRUCTURED-LOCATION;VALUE=URI;X-ADDRESS=Piney Mountain Bike Lounge 20 Piney Mountain Rd Greenville South Carolina;X-APPLE-RADIUS=500;X-TITLE=20 Piney Mountain Rd:geo:-82.373773,34.8913881
END:VEVENT
BEGIN:VEVENT
DTSTART;TZID=America/New_York:20221103T173000
DTEND;TZID=America/New_York:20221103T203000
DTSTAMP:20260424T173043
CREATED:20221031T180551Z
LAST-MODIFIED:20230508T144517Z
UID:13975-1667496600-1667507400@864foodtrucks.com
SUMMARY:GRod's Latin Fusion @ Traveler's Taproom
DESCRIPTION:We are enjoying serving you and trying to satisfy your wishes for Latin Food
URL:https://864foodtrucks.com/event/grods-latin-fusion/2022-11-03/
LOCATION:Travelers Taproom\, 2624 Poinsett Hwy\, Greenville\, South Carolina
CATEGORIES:Food Truck Schedules,Greenville
ATTACH;FMTTYPE=image/jpeg:https://864foodtrucks.com/wp-content/uploads/2022/07/GRods-Latin-Fusion.jpg
ORGANIZER;CN="GRod's Latin Fusion Food Truck":MAILTO:grod_latinfusionft@outlook.com
GEO:34.9015748;-82.4159581
X-APPLE-STRUCTURED-LOCATION;VALUE=URI;X-ADDRESS=Travelers Taproom 2624 Poinsett Hwy Greenville South Carolina;X-APPLE-RADIUS=500;X-TITLE=2624 Poinsett Hwy:geo:-82.4159581,34.9015748
END:VEVENT
END:VCALENDAR