BEGIN:VCALENDAR
VERSION:2.0
PRODID:-//864 Food Trucks - ECPv6.15.20//NONSGML v1.0//EN
CALSCALE:GREGORIAN
METHOD:PUBLISH
X-WR-CALNAME:864 Food Trucks
X-ORIGINAL-URL:https://864foodtrucks.com
X-WR-CALDESC:Events for 864 Food Trucks
REFRESH-INTERVAL;VALUE=DURATION:PT1H
X-Robots-Tag:noindex
X-PUBLISHED-TTL:PT1H
BEGIN:VTIMEZONE
TZID:America/New_York
BEGIN:DAYLIGHT
TZOFFSETFROM:-0500
TZOFFSETTO:-0400
TZNAME:EDT
DTSTART:20230312T070000
END:DAYLIGHT
BEGIN:STANDARD
TZOFFSETFROM:-0400
TZOFFSETTO:-0500
TZNAME:EST
DTSTART:20231105T060000
END:STANDARD
BEGIN:DAYLIGHT
TZOFFSETFROM:-0500
TZOFFSETTO:-0400
TZNAME:EDT
DTSTART:20240310T070000
END:DAYLIGHT
BEGIN:STANDARD
TZOFFSETFROM:-0400
TZOFFSETTO:-0500
TZNAME:EST
DTSTART:20241103T060000
END:STANDARD
BEGIN:DAYLIGHT
TZOFFSETFROM:-0500
TZOFFSETTO:-0400
TZNAME:EDT
DTSTART:20250309T070000
END:DAYLIGHT
BEGIN:STANDARD
TZOFFSETFROM:-0400
TZOFFSETTO:-0500
TZNAME:EST
DTSTART:20251102T060000
END:STANDARD
BEGIN:DAYLIGHT
TZOFFSETFROM:-0500
TZOFFSETTO:-0400
TZNAME:EDT
DTSTART:20260308T070000
END:DAYLIGHT
BEGIN:STANDARD
TZOFFSETFROM:-0400
TZOFFSETTO:-0500
TZNAME:EST
DTSTART:20261101T060000
END:STANDARD
BEGIN:DAYLIGHT
TZOFFSETFROM:-0500
TZOFFSETTO:-0400
TZNAME:EDT
DTSTART:20270314T070000
END:DAYLIGHT
BEGIN:STANDARD
TZOFFSETFROM:-0400
TZOFFSETTO:-0500
TZNAME:EST
DTSTART:20271107T060000
END:STANDARD
END:VTIMEZONE
BEGIN:VEVENT
DTSTART;TZID=America/New_York:20260214T170000
DTEND;TZID=America/New_York:20260214T200000
DTSTAMP:20260424T103921
CREATED:20260119T202716Z
LAST-MODIFIED:20260119T202716Z
UID:59662-1771088400-1771099200@864foodtrucks.com
SUMMARY:Havana Taste @ Wine & Bourbon Barn
DESCRIPTION:Authentic Cuban Savor
URL:https://864foodtrucks.com/event/havana-taste-wine-bourbon-barn/2026-02-14/
LOCATION:Wine & Bourbon Barn\, 30 Ray E Talley Ct\, Simpsonville\, South Carolina
CATEGORIES:Food Truck Schedules,Simpsonville
ATTACH;FMTTYPE=image/jpeg:https://864foodtrucks.com/wp-content/uploads/2024/11/Havana-taste.jpg
ORGANIZER;CN="Havana Taste":MAILTO:havanatasteinc@gmail.com
GEO:34.7131362;-82.254555
X-APPLE-STRUCTURED-LOCATION;VALUE=URI;X-ADDRESS=Wine & Bourbon Barn 30 Ray E Talley Ct Simpsonville South Carolina;X-APPLE-RADIUS=500;X-TITLE=30 Ray E Talley Ct:geo:-82.254555,34.7131362
END:VEVENT
BEGIN:VEVENT
DTSTART;TZID=America/New_York:20260213T170000
DTEND;TZID=America/New_York:20260213T200000
DTSTAMP:20260424T103921
CREATED:20250408T204152Z
LAST-MODIFIED:20250408T204152Z
UID:59663-1771002000-1771012800@864foodtrucks.com
SUMMARY:Havana Taste @ WineXpress
DESCRIPTION:Authentic Cuban Savor
URL:https://864foodtrucks.com/event/havana-taste-winexpress-2/2026-02-13/
LOCATION:WineXpress\, 202 Scuffletown Rd\, Simpsonville\, South Carolina
CATEGORIES:Food Truck Schedules,Simpsonville
ATTACH;FMTTYPE=image/jpeg:https://864foodtrucks.com/wp-content/uploads/2024/11/Havana-taste.jpg
ORGANIZER;CN="Havana Taste":MAILTO:havanatasteinc@gmail.com
GEO:34.8046736;-82.2292537
X-APPLE-STRUCTURED-LOCATION;VALUE=URI;X-ADDRESS=WineXpress 202 Scuffletown Rd Simpsonville South Carolina;X-APPLE-RADIUS=500;X-TITLE=202 Scuffletown Rd:geo:-82.2292537,34.8046736
END:VEVENT
BEGIN:VEVENT
DTSTART;TZID=America/New_York:20260123T170000
DTEND;TZID=America/New_York:20260123T200000
DTSTAMP:20260424T103921
CREATED:20260119T202716Z
LAST-MODIFIED:20260210T183231Z
UID:59007-1769187600-1769198400@864foodtrucks.com
SUMMARY:Havana Taste @ Wine & Bourbon Barn
DESCRIPTION:Authentic Cuban Savor
URL:https://864foodtrucks.com/event/havana-taste-wine-bourbon-barn/2026-01-23/
LOCATION:Wine & Bourbon Barn\, 30 Ray E Talley Ct\, Simpsonville\, South Carolina
CATEGORIES:Food Truck Schedules,Simpsonville
ATTACH;FMTTYPE=image/jpeg:https://864foodtrucks.com/wp-content/uploads/2024/11/Havana-taste.jpg
ORGANIZER;CN="Havana Taste":MAILTO:havanatasteinc@gmail.com
GEO:34.7131362;-82.254555
X-APPLE-STRUCTURED-LOCATION;VALUE=URI;X-ADDRESS=Wine & Bourbon Barn 30 Ray E Talley Ct Simpsonville South Carolina;X-APPLE-RADIUS=500;X-TITLE=30 Ray E Talley Ct:geo:-82.254555,34.7131362
END:VEVENT
BEGIN:VEVENT
DTSTART;TZID=America/New_York:20260122T170000
DTEND;TZID=America/New_York:20260122T200000
DTSTAMP:20260424T103921
CREATED:20250408T204152Z
LAST-MODIFIED:20260210T183252Z
UID:59005-1769101200-1769112000@864foodtrucks.com
SUMMARY:Havana Taste @ WineXpress
DESCRIPTION:Authentic Cuban Savor
URL:https://864foodtrucks.com/event/havana-taste-winexpress-2/2026-01-22/
LOCATION:WineXpress\, 202 Scuffletown Rd\, Simpsonville\, South Carolina
CATEGORIES:Food Truck Schedules,Simpsonville
ATTACH;FMTTYPE=image/jpeg:https://864foodtrucks.com/wp-content/uploads/2024/11/Havana-taste.jpg
ORGANIZER;CN="Havana Taste":MAILTO:havanatasteinc@gmail.com
GEO:34.8046736;-82.2292537
X-APPLE-STRUCTURED-LOCATION;VALUE=URI;X-ADDRESS=WineXpress 202 Scuffletown Rd Simpsonville South Carolina;X-APPLE-RADIUS=500;X-TITLE=202 Scuffletown Rd:geo:-82.2292537,34.8046736
END:VEVENT
BEGIN:VEVENT
DTSTART;TZID=America/New_York:20251025T150000
DTEND;TZID=America/New_York:20251025T150000
DTSTAMP:20260424T103921
CREATED:20251024T174707Z
LAST-MODIFIED:20251024T174707Z
UID:55490-1761404400-1761404400@864foodtrucks.com
SUMMARY:Havana Taste @ Duncan Halloween Event
DESCRIPTION:Authentic Cuban Savor
URL:https://864foodtrucks.com/event/havana-taste-duncan-halloween-event/
LOCATION:Duncan Event Center\, 121 S Spencer St\, Duncan\, SC\, United States
CATEGORIES:Duncan,Food Truck Schedules
ATTACH;FMTTYPE=image/jpeg:https://864foodtrucks.com/wp-content/uploads/2024/11/Havana-taste.jpg
ORGANIZER;CN="Havana Taste":MAILTO:havanatasteinc@gmail.com
END:VEVENT
BEGIN:VEVENT
DTSTART;TZID=America/New_York:20250621T120000
DTEND;TZID=America/New_York:20250621T150000
DTSTAMP:20260424T103921
CREATED:20250618T211611Z
LAST-MODIFIED:20250618T211611Z
UID:48521-1750507200-1750518000@864foodtrucks.com
SUMMARY:Havana Taste @ Lost River
DESCRIPTION:Authentic Cuban Savor
URL:https://864foodtrucks.com/event/havana-taste-lost-river/
LOCATION:Lost River\, 505 Whitemarsh Ave\, Simpsonville\, South Carolina
CATEGORIES:Food Truck Schedules,Simpsonville
ATTACH;FMTTYPE=image/jpeg:https://864foodtrucks.com/wp-content/uploads/2024/11/Havana-taste.jpg
ORGANIZER;CN="Havana Taste":MAILTO:havanatasteinc@gmail.com
GEO:34.6970438;-82.2953521
X-APPLE-STRUCTURED-LOCATION;VALUE=URI;X-ADDRESS=Lost River 505 Whitemarsh Ave Simpsonville South Carolina;X-APPLE-RADIUS=500;X-TITLE=505 Whitemarsh Ave:geo:-82.2953521,34.6970438
END:VEVENT
BEGIN:VEVENT
DTSTART;TZID=America/New_York:20250531T130000
DTEND;TZID=America/New_York:20250531T170000
DTSTAMP:20260424T103921
CREATED:20250528T150758Z
LAST-MODIFIED:20250528T150758Z
UID:46788-1748696400-1748710800@864foodtrucks.com
SUMMARY:Havana Taste @ Upstate Nursery
DESCRIPTION:Authentic Cuban Savor
URL:https://864foodtrucks.com/event/havana-taste-upstate-nursery/2025-05-31/
LOCATION:Upstate Nursery\, 364 Dillard Rd\, Reidville\, South Carolina
CATEGORIES:Food Truck Schedules,Greenville
ATTACH;FMTTYPE=image/jpeg:https://864foodtrucks.com/wp-content/uploads/2024/11/Havana-taste.jpg
ORGANIZER;CN="Havana Taste":MAILTO:havanatasteinc@gmail.com
GEO:34.8653345;-82.1069652
X-APPLE-STRUCTURED-LOCATION;VALUE=URI;X-ADDRESS=Upstate Nursery 364 Dillard Rd Reidville South Carolina;X-APPLE-RADIUS=500;X-TITLE=364 Dillard Rd:geo:-82.1069652,34.8653345
END:VEVENT
BEGIN:VEVENT
DTSTART;TZID=America/New_York:20250530T183000
DTEND;TZID=America/New_York:20250530T213000
DTSTAMP:20260424T103921
CREATED:20250528T145955Z
LAST-MODIFIED:20250625T000518Z
UID:46785-1748629800-1748640600@864foodtrucks.com
SUMMARY:Havana Taste @ Mauldin Amp's Friday
DESCRIPTION:Authentic Cuban Savor
URL:https://864foodtrucks.com/event/havana-taste-mauldin-amps-friday/2025-05-30/
LOCATION:Mauldin Cultural Center\, 101 E Butler Road\, Mauldin\, South Carolina
CATEGORIES:Food Truck Schedules,Mauldin
ATTACH;FMTTYPE=image/jpeg:https://864foodtrucks.com/wp-content/uploads/2024/11/Havana-taste.jpg
ORGANIZER;CN="Havana Taste":MAILTO:havanatasteinc@gmail.com
GEO:34.7796468;-82.3063956
X-APPLE-STRUCTURED-LOCATION;VALUE=URI;X-ADDRESS=Mauldin Cultural Center 101 E Butler Road Mauldin South Carolina;X-APPLE-RADIUS=500;X-TITLE=101 E Butler Road:geo:-82.3063956,34.7796468
END:VEVENT
BEGIN:VEVENT
DTSTART;TZID=America/New_York:20250522T100000
DTEND;TZID=America/New_York:20250522T133000
DTSTAMP:20260424T103921
CREATED:20250519T154149Z
LAST-MODIFIED:20250519T154149Z
UID:45834-1747908000-1747920600@864foodtrucks.com
SUMMARY:Havana Taste @ Tindall
DESCRIPTION:Authentic Cuban Savor
URL:https://864foodtrucks.com/event/havana-taste-tindall/
LOCATION:Tindall\, 2877 Fairforest Clevedale Rd\, Spartanburg\, Spartanburg
CATEGORIES:Food Truck Schedules,Simpsonville
ATTACH;FMTTYPE=image/jpeg:https://864foodtrucks.com/wp-content/uploads/2024/11/Havana-taste.jpg
ORGANIZER;CN="Havana Taste":MAILTO:havanatasteinc@gmail.com
GEO:34.9474661;-82.0241616
X-APPLE-STRUCTURED-LOCATION;VALUE=URI;X-ADDRESS=Tindall 2877 Fairforest Clevedale Rd Spartanburg Spartanburg;X-APPLE-RADIUS=500;X-TITLE=2877 Fairforest Clevedale Rd:geo:-82.0241616,34.9474661
END:VEVENT
BEGIN:VEVENT
DTSTART;TZID=America/New_York:20250517T110000
DTEND;TZID=America/New_York:20250517T160000
DTSTAMP:20260424T103921
CREATED:20250514T163237Z
LAST-MODIFIED:20250514T163237Z
UID:45374-1747479600-1747497600@864foodtrucks.com
SUMMARY:Havana Taste @ Reidville Spring Festival
DESCRIPTION:Authentic Cuban Savor
URL:https://864foodtrucks.com/event/havana-taste-reidville-spring-festival/
LOCATION:City of Reidville\, Reidville\, South Carolina
CATEGORIES:Food Truck Schedules,Reidville
ATTACH;FMTTYPE=image/jpeg:https://864foodtrucks.com/wp-content/uploads/2024/11/Havana-taste.jpg
ORGANIZER;CN="Havana Taste":MAILTO:havanatasteinc@gmail.com
GEO:34.8634502;-82.1141959
END:VEVENT
BEGIN:VEVENT
DTSTART;TZID=America/New_York:20250515T173000
DTEND;TZID=America/New_York:20250515T193000
DTSTAMP:20260424T103921
CREATED:20250514T163002Z
LAST-MODIFIED:20250514T163002Z
UID:45372-1747330200-1747337400@864foodtrucks.com
SUMMARY:Havana Taste @ Silver Meadow
DESCRIPTION:Authentic Cuban Savor
URL:https://864foodtrucks.com/event/havana-taste-silver-meadow/
LOCATION:Silver Meadows\, Travelers Rest\, South Carolina
CATEGORIES:Food Truck Schedules,Taylors
ATTACH;FMTTYPE=image/jpeg:https://864foodtrucks.com/wp-content/uploads/2024/11/Havana-taste.jpg
ORGANIZER;CN="Havana Taste":MAILTO:havanatasteinc@gmail.com
GEO:34.9676167;-82.4434548
END:VEVENT
BEGIN:VEVENT
DTSTART;TZID=America/New_York:20250510T180000
DTEND;TZID=America/New_York:20250510T210000
DTSTAMP:20260424T103922
CREATED:20250506T010232Z
LAST-MODIFIED:20250506T010232Z
UID:44374-1746900000-1746910800@864foodtrucks.com
SUMMARY:Havana Taste @ TR Concert in the Park
DESCRIPTION:Authentic Cuban Savor
URL:https://864foodtrucks.com/event/havana-taste-tr-concert-in-the-park/
LOCATION:Trailblazer Park\, 235 Trailblazer Dr\, Travelers Rest\, SC\, 29690\, United States
CATEGORIES:Food Truck Schedules,Travelers Rest
ORGANIZER;CN="Havana Taste":MAILTO:havanatasteinc@gmail.com
GEO:34.95593;-82.4419747
X-APPLE-STRUCTURED-LOCATION;VALUE=URI;X-ADDRESS=Trailblazer Park 235 Trailblazer Dr Travelers Rest SC 29690 United States;X-APPLE-RADIUS=500;X-TITLE=235 Trailblazer Dr:geo:-82.4419747,34.95593
END:VEVENT
BEGIN:VEVENT
DTSTART;TZID=America/New_York:20250503T170000
DTEND;TZID=America/New_York:20250503T200000
DTSTAMP:20260424T103922
CREATED:20250430T163525Z
LAST-MODIFIED:20250430T163525Z
UID:44216-1746291600-1746302400@864foodtrucks.com
SUMMARY:Havana Taste @ Duncan Fork and Knife Festival
DESCRIPTION:Authentic Cuban Savor
URL:https://864foodtrucks.com/event/havana-taste-duncan-fork-and-knife-festival/
LOCATION:Shipreck Cove\, 119 S Spencer St\, Duncan\, SC\, United States
CATEGORIES:Duncan,Food Truck Schedules
ATTACH;FMTTYPE=image/jpeg:https://864foodtrucks.com/wp-content/uploads/2024/11/Havana-taste.jpg
ORGANIZER;CN="Havana Taste":MAILTO:havanatasteinc@gmail.com
END:VEVENT
BEGIN:VEVENT
DTSTART;TZID=America/New_York:20250501T120000
DTEND;TZID=America/New_York:20250501T140000
DTSTAMP:20260424T103922
CREATED:20250430T163359Z
LAST-MODIFIED:20250430T163359Z
UID:44212-1746100800-1746108000@864foodtrucks.com
SUMMARY:Havana Taste @ Lyceum 2025
DESCRIPTION:Authentic Cuban Savor
URL:https://864foodtrucks.com/event/havana-taste-lyceum-2025/2025-05-01/
LOCATION:Sherman College of Chiropratic\, 2020 Spingfield Rd\, Spartanburg\, South Carolina
CATEGORIES:Food Truck Schedules,Spartanburg
ATTACH;FMTTYPE=image/jpeg:https://864foodtrucks.com/wp-content/uploads/2024/11/Havana-taste.jpg
ORGANIZER;CN="Havana Taste":MAILTO:havanatasteinc@gmail.com
GEO:35.0139919;-81.9864707
X-APPLE-STRUCTURED-LOCATION;VALUE=URI;X-ADDRESS=Sherman College of Chiropratic 2020 Spingfield Rd Spartanburg South Carolina;X-APPLE-RADIUS=500;X-TITLE=2020 Spingfield Rd:geo:-81.9864707,35.0139919
END:VEVENT
BEGIN:VEVENT
DTSTART;TZID=America/New_York:20250426T140000
DTEND;TZID=America/New_York:20250426T210000
DTSTAMP:20260424T103922
CREATED:20250422T160350Z
LAST-MODIFIED:20250422T160350Z
UID:44024-1745676000-1745701200@864foodtrucks.com
SUMMARY:Havana Taste @ Mauldin Blues & Jazz Festival
DESCRIPTION:Authentic Cuban Savor
URL:https://864foodtrucks.com/event/havana-taste-mauldin-blues-jazz-festival/
LOCATION:Mauldin Cultural Center\, 101 E Butler Road\, Mauldin\, South Carolina
CATEGORIES:Food Truck Schedules,Mauldin
ATTACH;FMTTYPE=image/jpeg:https://864foodtrucks.com/wp-content/uploads/2024/11/Havana-taste.jpg
ORGANIZER;CN="Havana Taste":MAILTO:havanatasteinc@gmail.com
GEO:34.7796468;-82.3063956
X-APPLE-STRUCTURED-LOCATION;VALUE=URI;X-ADDRESS=Mauldin Cultural Center 101 E Butler Road Mauldin South Carolina;X-APPLE-RADIUS=500;X-TITLE=101 E Butler Road:geo:-82.3063956,34.7796468
END:VEVENT
BEGIN:VEVENT
DTSTART;TZID=America/New_York:20250425T170000
DTEND;TZID=America/New_York:20250425T190000
DTSTAMP:20260424T103922
CREATED:20250422T160708Z
LAST-MODIFIED:20250422T160708Z
UID:44026-1745600400-1745607600@864foodtrucks.com
SUMMARY:Havana Taste @ Stonesthrow Apartments
DESCRIPTION:Authentic Cuban Savor
URL:https://864foodtrucks.com/event/havana-taste-stonesthrow-apartments/
LOCATION:Stonesthrow Apartments\, 65 Century Cr\, Greenville\, South Carolina
CATEGORIES:Food Truck Schedules,Greenville
ATTACH;FMTTYPE=image/jpeg:https://864foodtrucks.com/wp-content/uploads/2024/11/Havana-taste.jpg
ORGANIZER;CN="Havana Taste":MAILTO:havanatasteinc@gmail.com
GEO:34.8598816;-82.3605944
X-APPLE-STRUCTURED-LOCATION;VALUE=URI;X-ADDRESS=Stonesthrow Apartments 65 Century Cr Greenville South Carolina;X-APPLE-RADIUS=500;X-TITLE=65 Century Cr:geo:-82.3605944,34.8598816
END:VEVENT
BEGIN:VEVENT
DTSTART;TZID=America/New_York:20250417T110000
DTEND;TZID=America/New_York:20250417T130000
DTSTAMP:20260424T103922
CREATED:20250414T185726Z
LAST-MODIFIED:20250414T185726Z
UID:43807-1744887600-1744894800@864foodtrucks.com
SUMMARY:Havana Taste @ Ryobi
DESCRIPTION:Authentic Cuban Savor
URL:https://864foodtrucks.com/event/havana-taste-ryobi/
LOCATION:Ryobi\, 440 Lithium Ln\, Anderson\, SC\, 29621\, United States
CATEGORIES:Anderson,Food Truck Schedules
ATTACH;FMTTYPE=image/jpeg:https://864foodtrucks.com/wp-content/uploads/2024/11/Havana-taste.jpg
ORGANIZER;CN="Havana Taste":MAILTO:havanatasteinc@gmail.com
GEO:34.6314402;-82.6131861
X-APPLE-STRUCTURED-LOCATION;VALUE=URI;X-ADDRESS=Ryobi 440 Lithium Ln Anderson SC 29621 United States;X-APPLE-RADIUS=500;X-TITLE=440 Lithium Ln:geo:-82.6131861,34.6314402
END:VEVENT
BEGIN:VEVENT
DTSTART;TZID=America/New_York:20250412T100000
DTEND;TZID=America/New_York:20250412T170000
DTSTAMP:20260424T103922
CREATED:20250408T204806Z
LAST-MODIFIED:20250408T204806Z
UID:43658-1744452000-1744477200@864foodtrucks.com
SUMMARY:Havana Taste @ Country Club Rd Park
DESCRIPTION:Authentic Cuban Savor
URL:https://864foodtrucks.com/event/havana-taste-country-club-rd-park/
LOCATION:Country Club Road Park\, 2501 Country Club Rd\, Greer\, SC\, United States
CATEGORIES:Food Truck Schedules,Greer
ATTACH;FMTTYPE=image/jpeg:https://864foodtrucks.com/wp-content/uploads/2024/11/Havana-taste.jpg
ORGANIZER;CN="Havana Taste":MAILTO:havanatasteinc@gmail.com
END:VEVENT
BEGIN:VEVENT
DTSTART;TZID=America/New_York:20250411T110000
DTEND;TZID=America/New_York:20250411T150000
DTSTAMP:20260424T103922
CREATED:20250408T204312Z
LAST-MODIFIED:20250408T204312Z
UID:43656-1744369200-1744383600@864foodtrucks.com
SUMMARY:Havana Taste @ Westside Market
DESCRIPTION:Authentic Cuban Savor
URL:https://864foodtrucks.com/event/havana-taste-westside-market/
LOCATION:Westside Market\, Wade Hampton Blvd\, Greenville\, SC\, United States
CATEGORIES:Food Truck Schedules,Greenville
ATTACH;FMTTYPE=image/jpeg:https://864foodtrucks.com/wp-content/uploads/2024/11/Havana-taste.jpg
ORGANIZER;CN="Havana Taste":MAILTO:havanatasteinc@gmail.com
END:VEVENT
BEGIN:VEVENT
DTSTART;TZID=America/New_York:20250409T170000
DTEND;TZID=America/New_York:20250409T200000
DTSTAMP:20260424T103922
CREATED:20250408T204152Z
LAST-MODIFIED:20260210T183252Z
UID:43654-1744218000-1744228800@864foodtrucks.com
SUMMARY:Havana Taste @ WineXpress
DESCRIPTION:Authentic Cuban Savor
URL:https://864foodtrucks.com/event/havana-taste-winexpress-2/2025-04-09/
LOCATION:WineXpress\, 202 Scuffletown Rd\, Simpsonville\, South Carolina
CATEGORIES:Food Truck Schedules,Simpsonville
ATTACH;FMTTYPE=image/jpeg:https://864foodtrucks.com/wp-content/uploads/2024/11/Havana-taste.jpg
ORGANIZER;CN="Havana Taste":MAILTO:havanatasteinc@gmail.com
GEO:34.8046736;-82.2292537
X-APPLE-STRUCTURED-LOCATION;VALUE=URI;X-ADDRESS=WineXpress 202 Scuffletown Rd Simpsonville South Carolina;X-APPLE-RADIUS=500;X-TITLE=202 Scuffletown Rd:geo:-82.2292537,34.8046736
END:VEVENT
BEGIN:VEVENT
DTSTART;TZID=America/New_York:20250328T170000
DTEND;TZID=America/New_York:20250328T193000
DTSTAMP:20260424T103922
CREATED:20250324T131624Z
LAST-MODIFIED:20250331T182259Z
UID:43287-1743181200-1743190200@864foodtrucks.com
SUMMARY:Havana Taste @ Wooden Community
DESCRIPTION:Authentic Cuban Savor
URL:https://864foodtrucks.com/event/havana-taste-wooden-community/2025-03-28/
LOCATION:Wooden Community\, Powdersville\, South Carolina
CATEGORIES:Food Truck Schedules,Powdersville
ATTACH;FMTTYPE=image/jpeg:https://864foodtrucks.com/wp-content/uploads/2024/11/Havana-taste.jpg
ORGANIZER;CN="Havana Taste":MAILTO:havanatasteinc@gmail.com
GEO:34.7917845;-82.4929054
END:VEVENT
BEGIN:VEVENT
DTSTART;TZID=America/New_York:20250303T110000
DTEND;TZID=America/New_York:20250303T170000
DTSTAMP:20260424T103922
CREATED:20250303T181403Z
LAST-MODIFIED:20250303T181403Z
UID:42762-1740999600-1741021200@864foodtrucks.com
SUMMARY:Havana Taste @ Moonville Tobacco & Vape
DESCRIPTION:Authentic Cuban Savor
URL:https://864foodtrucks.com/event/havana-taste-moonville-tobacco-vape/2025-03-03/
LOCATION:Moonville Tobacco & Vape\, 100 Grove Reserve Pkwy\, Piedmont\, South Carolina
CATEGORIES:Food Truck Schedules,Piedmont
ATTACH;FMTTYPE=image/jpeg:https://864foodtrucks.com/wp-content/uploads/2024/11/Havana-taste.jpg
ORGANIZER;CN="Havana Taste":MAILTO:havanatasteinc@gmail.com
GEO:34.7271801;-82.3897935
X-APPLE-STRUCTURED-LOCATION;VALUE=URI;X-ADDRESS=Moonville Tobacco & Vape 100 Grove Reserve Pkwy Piedmont South Carolina;X-APPLE-RADIUS=500;X-TITLE=100 Grove Reserve Pkwy:geo:-82.3897935,34.7271801
END:VEVENT
BEGIN:VEVENT
DTSTART;TZID=America/New_York:20241219T113000
DTEND;TZID=America/New_York:20241219T130000
DTSTAMP:20260424T103922
CREATED:20241217T005813Z
LAST-MODIFIED:20241217T005813Z
UID:41259-1734607800-1734613200@864foodtrucks.com
SUMMARY:Havana Taste @ Pickens City Office
DESCRIPTION:Authentic Cuban Savor
URL:https://864foodtrucks.com/event/havana-taste-pickens-city-office/
LOCATION:Pickens County City Hall\, McDaniel Avenue 222\, Pickens\, South Carolina\, 29671\, United States
CATEGORIES:Food Truck Schedules,Pickens
ATTACH;FMTTYPE=image/jpeg:https://864foodtrucks.com/wp-content/uploads/2024/11/Havana-taste.jpg
ORGANIZER;CN="Havana Taste":MAILTO:havanatasteinc@gmail.com
GEO:34.8691475;-82.7095948
X-APPLE-STRUCTURED-LOCATION;VALUE=URI;X-ADDRESS=Pickens County City Hall McDaniel Avenue 222 Pickens South Carolina 29671 United States;X-APPLE-RADIUS=500;X-TITLE=McDaniel Avenue 222:geo:-82.7095948,34.8691475
END:VEVENT
BEGIN:VEVENT
DTSTART;TZID=America/New_York:20241214T120000
DTEND;TZID=America/New_York:20241214T160000
DTSTAMP:20260424T103922
CREATED:20241210T135752Z
LAST-MODIFIED:20241210T135752Z
UID:41129-1734177600-1734192000@864foodtrucks.com
SUMMARY:Havana Taste @ Travelers Rest Merry Market
DESCRIPTION:Authentic Cuban Savor
URL:https://864foodtrucks.com/event/havana-taste-travelers-rest-merry-market/
LOCATION:Trailblazer Park\, 235 Trailblazer Dr\, Travelers Rest\, SC\, 29690\, United States
CATEGORIES:Food Truck Schedules,Travelers Rest
ATTACH;FMTTYPE=image/jpeg:https://864foodtrucks.com/wp-content/uploads/2024/11/Havana-taste.jpg
ORGANIZER;CN="Havana Taste":MAILTO:havanatasteinc@gmail.com
GEO:34.95593;-82.4419747
X-APPLE-STRUCTURED-LOCATION;VALUE=URI;X-ADDRESS=Trailblazer Park 235 Trailblazer Dr Travelers Rest SC 29690 United States;X-APPLE-RADIUS=500;X-TITLE=235 Trailblazer Dr:geo:-82.4419747,34.95593
END:VEVENT
BEGIN:VEVENT
DTSTART;TZID=America/New_York:20241122T160000
DTEND;TZID=America/New_York:20241122T200000
DTSTAMP:20260424T103922
CREATED:20241119T193512Z
LAST-MODIFIED:20241119T194048Z
UID:40003-1732291200-1732305600@864foodtrucks.com
SUMMARY:Havana Taste @ Scuffletown
DESCRIPTION:Authentic Cuban Savor
URL:https://864foodtrucks.com/event/havana-taste-scuffletown/2024-11-22/
LOCATION:Scuffletown Food Truck Park\, Ladean Court 206\, Simpsonville\, South Carolina\, 29680\, United States
CATEGORIES:Food Truck Schedules,Simpsonville
ATTACH;FMTTYPE=image/jpeg:https://864foodtrucks.com/wp-content/uploads/2024/11/Havana-taste.jpg
ORGANIZER;CN="Havana Taste":MAILTO:havanatasteinc@gmail.com
GEO:34.7127674;-82.2550282
X-APPLE-STRUCTURED-LOCATION;VALUE=URI;X-ADDRESS=Scuffletown Food Truck Park Ladean Court 206 Simpsonville South Carolina 29680 United States;X-APPLE-RADIUS=500;X-TITLE=Ladean Court 206:geo:-82.2550282,34.7127674
END:VEVENT
BEGIN:VEVENT
DTSTART;TZID=America/New_York:20241120T170000
DTEND;TZID=America/New_York:20241120T200000
DTSTAMP:20260424T103922
CREATED:20241119T194643Z
LAST-MODIFIED:20250331T182314Z
UID:40008-1732122000-1732132800@864foodtrucks.com
SUMMARY:Havana Taste @ WineXpress
DESCRIPTION:Authentic Cuban Savor
URL:https://864foodtrucks.com/event/havana-taste-winexpress/2024-11-20/
LOCATION:WineXpress\, 202 Scuffletown Rd\, Simpsonville\, South Carolina
CATEGORIES:Food Truck Schedules,Simpsonville
ATTACH;FMTTYPE=image/jpeg:https://864foodtrucks.com/wp-content/uploads/2024/11/Havana-taste.jpg
ORGANIZER;CN="Havana Taste":MAILTO:havanatasteinc@gmail.com
GEO:34.8046736;-82.2292537
X-APPLE-STRUCTURED-LOCATION;VALUE=URI;X-ADDRESS=WineXpress 202 Scuffletown Rd Simpsonville South Carolina;X-APPLE-RADIUS=500;X-TITLE=202 Scuffletown Rd:geo:-82.2292537,34.8046736
END:VEVENT
END:VCALENDAR