BEGIN:VCALENDAR
VERSION:2.0
PRODID:-//864 Food Trucks - ECPv6.15.20//NONSGML v1.0//EN
CALSCALE:GREGORIAN
METHOD:PUBLISH
X-WR-CALNAME:864 Food Trucks
X-ORIGINAL-URL:https://864foodtrucks.com
X-WR-CALDESC:Events for 864 Food Trucks
REFRESH-INTERVAL;VALUE=DURATION:PT1H
X-Robots-Tag:noindex
X-PUBLISHED-TTL:PT1H
BEGIN:VTIMEZONE
TZID:America/New_York
BEGIN:DAYLIGHT
TZOFFSETFROM:-0500
TZOFFSETTO:-0400
TZNAME:EDT
DTSTART:20220313T070000
END:DAYLIGHT
BEGIN:STANDARD
TZOFFSETFROM:-0400
TZOFFSETTO:-0500
TZNAME:EST
DTSTART:20221106T060000
END:STANDARD
BEGIN:DAYLIGHT
TZOFFSETFROM:-0500
TZOFFSETTO:-0400
TZNAME:EDT
DTSTART:20230312T070000
END:DAYLIGHT
BEGIN:STANDARD
TZOFFSETFROM:-0400
TZOFFSETTO:-0500
TZNAME:EST
DTSTART:20231105T060000
END:STANDARD
BEGIN:DAYLIGHT
TZOFFSETFROM:-0500
TZOFFSETTO:-0400
TZNAME:EDT
DTSTART:20240310T070000
END:DAYLIGHT
BEGIN:STANDARD
TZOFFSETFROM:-0400
TZOFFSETTO:-0500
TZNAME:EST
DTSTART:20241103T060000
END:STANDARD
END:VTIMEZONE
BEGIN:VEVENT
DTSTART;TZID=America/New_York:20230506T100000
DTEND;TZID=America/New_York:20230506T140000
DTSTAMP:20260424T194041
CREATED:20230430T233701Z
LAST-MODIFIED:20230430T233701Z
UID:18534-1683367200-1683381600@864foodtrucks.com
SUMMARY:Healthy Food Truck @ Social House
DESCRIPTION:🌶️MEXICAN FLAVOR\n🍅HEALTHY FOOD\n🥬MEAL PREPS
URL:https://864foodtrucks.com/event/healthy-food-truck-social-house-2/
LOCATION:Social House\, 25 Delano Dr Unit A\, Greenville\, SC\, United States
CATEGORIES:Food Truck Schedules,Greenville
ORGANIZER;CN="Healthy Food Truck GVL":MAILTO:Nefgym@gmail.com
END:VEVENT
BEGIN:VEVENT
DTSTART;TZID=America/New_York:20230505T170000
DTEND;TZID=America/New_York:20230505T210000
DTSTAMP:20260424T194041
CREATED:20230430T233219Z
LAST-MODIFIED:20230430T233219Z
UID:18528-1683306000-1683320400@864foodtrucks.com
SUMMARY:Healthy Food Truck @ Hoping GLV
DESCRIPTION:🌶️MEXICAN FLAVOR\n🍅HEALTHY FOOD\n🥬MEAL PREPS
URL:https://864foodtrucks.com/event/healthy-food-truck-hoping-glv/
LOCATION:Hoping GVL\, 118 B Narjkey St Suite 102\, Greenville\, SC\, United States
CATEGORIES:Food Truck Schedules,Greenville
ATTACH;FMTTYPE=image/jpeg:https://864foodtrucks.com/wp-content/uploads/2023/02/Healthy-Food-Truck-Greenville.jpg
ORGANIZER;CN="Healthy Food Truck GVL":MAILTO:Nefgym@gmail.com
END:VEVENT
BEGIN:VEVENT
DTSTART;TZID=America/New_York:20230502T170000
DTEND;TZID=America/New_York:20230502T200000
DTSTAMP:20260424T194041
CREATED:20230430T231936Z
LAST-MODIFIED:20230430T231936Z
UID:18525-1683046800-1683057600@864foodtrucks.com
SUMMARY:Healthy Food Truck @ Crescent Park Commons
DESCRIPTION:🌶️MEXICAN FLAVOR\n🍅HEALTHY FOOD\n🥬MEAL PREPS
URL:https://864foodtrucks.com/event/healthy-food-truck-crescent-park-commons/
LOCATION:Crescent Park Commons\, 401 Elizabeth Sarah Blvd\, Greer\, SC\, United States
CATEGORIES:Food Truck Schedules,Greer
ATTACH;FMTTYPE=image/jpeg:https://864foodtrucks.com/wp-content/uploads/2023/02/Healthy-Food-Truck-Greenville.jpg
ORGANIZER;CN="Healthy Food Truck GVL":MAILTO:Nefgym@gmail.com
END:VEVENT
BEGIN:VEVENT
DTSTART;TZID=America/New_York:20230415T100000
DTEND;TZID=America/New_York:20230415T140000
DTSTAMP:20260424T194041
CREATED:20230410T135208Z
LAST-MODIFIED:20230410T135208Z
UID:18151-1681552800-1681567200@864foodtrucks.com
SUMMARY:Healthy Food Truck @ Social House
DESCRIPTION:🌶️MEXICAN FLAVOR\n🍅HEALTHY FOOD\n🥬MEAL PREPS
URL:https://864foodtrucks.com/event/healthy-food-truck-social-house/
LOCATION:Social House\, 25 Delano Dr Unit A\, Greenville\, SC\, United States
CATEGORIES:Food Truck Schedules,Greenville
ATTACH;FMTTYPE=image/jpeg:https://864foodtrucks.com/wp-content/uploads/2023/02/Healthy-Food-Truck-Greenville.jpg
ORGANIZER;CN="Healthy Food Truck GVL":MAILTO:Nefgym@gmail.com
END:VEVENT
BEGIN:VEVENT
DTSTART;TZID=America/New_York:20230414T110000
DTEND;TZID=America/New_York:20230414T140000
DTSTAMP:20260424T194041
CREATED:20230410T135053Z
LAST-MODIFIED:20230410T135053Z
UID:18149-1681470000-1681480800@864foodtrucks.com
SUMMARY:Healthy Food Truck GVL @ Eva Hurley State Farm
DESCRIPTION:🌶️MEXICAN FLAVOR\n🍅HEALTHY FOOD\n🥬MEAL PREPS
URL:https://864foodtrucks.com/event/healthy-food-truck-gvl-eva-hurley-state-farm/
LOCATION:Eva Hurley State Farm\, 3906 S Highway 14\, Greenville\, South Carolina
CATEGORIES:Food Truck Schedules,Greenville
ATTACH;FMTTYPE=image/jpeg:https://864foodtrucks.com/wp-content/uploads/2023/02/Healthy-Food-Truck-Greenville.jpg
ORGANIZER;CN="Healthy Food Truck GVL":MAILTO:Nefgym@gmail.com
GEO:34.8221327;-82.2569293
X-APPLE-STRUCTURED-LOCATION;VALUE=URI;X-ADDRESS=Eva Hurley State Farm 3906 S Highway 14 Greenville South Carolina;X-APPLE-RADIUS=500;X-TITLE=3906 S Highway 14:geo:-82.2569293,34.8221327
END:VEVENT
BEGIN:VEVENT
DTSTART;TZID=America/New_York:20230411T170000
DTEND;TZID=America/New_York:20230411T200000
DTSTAMP:20260424T194041
CREATED:20230410T134937Z
LAST-MODIFIED:20230612T114912Z
UID:18147-1681232400-1681243200@864foodtrucks.com
SUMMARY:Healthy Food Truck @ Kennington Family Winery
DESCRIPTION:🌶️MEXICAN FLAVOR\n🍅HEALTHY FOOD\n🥬MEAL PREPS
URL:https://864foodtrucks.com/event/healthy-food-truck-kennington-family-winery/2023-04-11/
LOCATION:Kennington Family Winery\, 507 Beaver Dam Rd\, Marietta\, South Carolina
CATEGORIES:Food Truck Schedules,Marietta
ATTACH;FMTTYPE=image/jpeg:https://864foodtrucks.com/wp-content/uploads/2023/02/Healthy-Food-Truck-Greenville.jpg
ORGANIZER;CN="Healthy Food Truck GVL":MAILTO:Nefgym@gmail.com
GEO:33.836081;-81.1637245
X-APPLE-STRUCTURED-LOCATION;VALUE=URI;X-ADDRESS=Kennington Family Winery 507 Beaver Dam Rd Marietta South Carolina;X-APPLE-RADIUS=500;X-TITLE=507 Beaver Dam Rd:geo:-81.1637245,33.836081
END:VEVENT
BEGIN:VEVENT
DTSTART;TZID=America/New_York:20230319T140000
DTEND;TZID=America/New_York:20230319T170000
DTSTAMP:20260424T194041
CREATED:20230313T182126Z
LAST-MODIFIED:20230313T182126Z
UID:17442-1679234400-1679245200@864foodtrucks.com
SUMMARY:Healthy Food GVL @ Duncan Event Center
DESCRIPTION:🌶️MEXICAN FLAVOR\n🍅HEALTHY FOOD\n🥬MEAL PREPS
URL:https://864foodtrucks.com/event/healthy-food-gvl-duncan-event-center/
LOCATION:Duncan Event Center\, 121 S Spencer St\, Duncan\, SC\, United States
CATEGORIES:Duncan,Food Truck Schedules
ATTACH;FMTTYPE=image/jpeg:https://864foodtrucks.com/wp-content/uploads/2023/02/Healthy-Food-Truck-Greenville.jpg
ORGANIZER;CN="Healthy Food Truck GVL":MAILTO:Nefgym@gmail.com
END:VEVENT
BEGIN:VEVENT
DTSTART;TZID=America/New_York:20230317T173000
DTEND;TZID=America/New_York:20230317T193000
DTSTAMP:20260424T194041
CREATED:20230313T143959Z
LAST-MODIFIED:20230313T143959Z
UID:17439-1679074200-1679081400@864foodtrucks.com
SUMMARY:Healthy Food Truck GVL @ Skipton St
DESCRIPTION:🌶️MEXICAN FLAVOR\n🍅HEALTHY FOOD\n🥬MEAL PREPS
URL:https://864foodtrucks.com/event/healthy-food-truck-gvl-skipton-st/
LOCATION:308 Skipton St\, 308 Skipton St\, Greenville\, SC\, United States
CATEGORIES:Food Truck Schedules,Greenville
ATTACH;FMTTYPE=image/jpeg:https://864foodtrucks.com/wp-content/uploads/2023/02/Healthy-Food-Truck-Greenville.jpg
ORGANIZER;CN="Healthy Food Truck GVL":MAILTO:Nefgym@gmail.com
END:VEVENT
BEGIN:VEVENT
DTSTART;TZID=America/New_York:20230315T170000
DTEND;TZID=America/New_York:20230315T190000
DTSTAMP:20260424T194041
CREATED:20230313T143810Z
LAST-MODIFIED:20230515T145301Z
UID:17436-1678899600-1678906800@864foodtrucks.com
SUMMARY:Healthy Food Truck GVL @ The Dapper Dog
DESCRIPTION:🌶️MEXICAN FLAVOR\n🍅HEALTHY FOOD\n🥬MEAL PREPS
URL:https://864foodtrucks.com/event/healthy-food-truck-gvl-the-dapper-dog/2023-03-15/
LOCATION:The Dapper Dog\, 201 Murray Dr\, Mauldin\, SC\, United States
CATEGORIES:Food Truck Schedules,Mauldin
ATTACH;FMTTYPE=image/jpeg:https://864foodtrucks.com/wp-content/uploads/2023/02/Healthy-Food-Truck-Greenville.jpg
ORGANIZER;CN="Healthy Food Truck GVL":MAILTO:Nefgym@gmail.com
END:VEVENT
BEGIN:VEVENT
DTSTART;TZID=America/New_York:20230307T170000
DTEND;TZID=America/New_York:20230307T170000
DTSTAMP:20260424T194041
CREATED:20230306T125801Z
LAST-MODIFIED:20230306T125801Z
UID:17305-1678208400-1678208400@864foodtrucks.com
SUMMARY:Heathy Food GVL @ 13 Stripes Brewery
DESCRIPTION:🌶️MEXICAN FLAVOR\n🍅HEALTHY FOOD\n🥬MEAL PREPS
URL:https://864foodtrucks.com/event/heathy-food-gvl-13-stripes-brewery/2023-03-07/
LOCATION:13 Stripes Brewery\, 250 Mill Street\, Ste PW3101 Dock Print Works No\, 3\, Taylors\, South Carolina
CATEGORIES:Food Truck Schedules,Taylors
ATTACH;FMTTYPE=image/jpeg:https://864foodtrucks.com/wp-content/uploads/2023/02/Healthy-Food-Truck-Greenville.jpg
ORGANIZER;CN="Healthy Food Truck GVL":MAILTO:Nefgym@gmail.com
GEO:34.9197401;-82.2845935
X-APPLE-STRUCTURED-LOCATION;VALUE=URI;X-ADDRESS=13 Stripes Brewery 250 Mill Street Ste PW3101 Dock Print Works No 3 Taylors South Carolina;X-APPLE-RADIUS=500;X-TITLE=250 Mill Street\, Ste PW3101 Dock Print Works No\, 3:geo:-82.2845935,34.9197401
END:VEVENT
BEGIN:VEVENT
DTSTART;TZID=America/New_York:20230306T110000
DTEND;TZID=America/New_York:20230306T140000
DTSTAMP:20260424T194041
CREATED:20230306T125518Z
LAST-MODIFIED:20230528T234533Z
UID:17300-1678100400-1678111200@864foodtrucks.com
SUMMARY:Healthy Food Truck GVL @ NEF Gym & Juice
DESCRIPTION:🌶️MEXICAN FLAVOR\n🍅HEALTHY FOOD\n🥬MEAL PREPS
URL:https://864foodtrucks.com/event/healthy-food-truck-gvl-nef-gym-juice/2023-03-06/
LOCATION:NEF Gym & Juice\, 1302 Cedar Lane Rd\, Greenville\, SC\, United States
CATEGORIES:Food Truck Schedules,Greenville
ATTACH;FMTTYPE=image/jpeg:https://864foodtrucks.com/wp-content/uploads/2023/02/Healthy-Food-Truck-Greenville.jpg
ORGANIZER;CN="Healthy Food Truck GVL":MAILTO:Nefgym@gmail.com
END:VEVENT
END:VCALENDAR