BEGIN:VCALENDAR
VERSION:2.0
PRODID:-//864 Food Trucks - ECPv6.15.20//NONSGML v1.0//EN
CALSCALE:GREGORIAN
METHOD:PUBLISH
X-ORIGINAL-URL:https://864foodtrucks.com
X-WR-CALDESC:Events for 864 Food Trucks
REFRESH-INTERVAL;VALUE=DURATION:PT1H
X-Robots-Tag:noindex
X-PUBLISHED-TTL:PT1H
BEGIN:VTIMEZONE
TZID:America/New_York
BEGIN:DAYLIGHT
TZOFFSETFROM:-0500
TZOFFSETTO:-0400
TZNAME:EDT
DTSTART:20210314T070000
END:DAYLIGHT
BEGIN:STANDARD
TZOFFSETFROM:-0400
TZOFFSETTO:-0500
TZNAME:EST
DTSTART:20211107T060000
END:STANDARD
BEGIN:DAYLIGHT
TZOFFSETFROM:-0500
TZOFFSETTO:-0400
TZNAME:EDT
DTSTART:20220313T070000
END:DAYLIGHT
BEGIN:STANDARD
TZOFFSETFROM:-0400
TZOFFSETTO:-0500
TZNAME:EST
DTSTART:20221106T060000
END:STANDARD
BEGIN:DAYLIGHT
TZOFFSETFROM:-0500
TZOFFSETTO:-0400
TZNAME:EDT
DTSTART:20230312T070000
END:DAYLIGHT
BEGIN:STANDARD
TZOFFSETFROM:-0400
TZOFFSETTO:-0500
TZNAME:EST
DTSTART:20231105T060000
END:STANDARD
BEGIN:DAYLIGHT
TZOFFSETFROM:-0500
TZOFFSETTO:-0400
TZNAME:EDT
DTSTART:20240310T070000
END:DAYLIGHT
BEGIN:STANDARD
TZOFFSETFROM:-0400
TZOFFSETTO:-0500
TZNAME:EST
DTSTART:20241103T060000
END:STANDARD
END:VTIMEZONE
BEGIN:VEVENT
DTSTART;TZID=America/New_York:20230420T170000
DTEND;TZID=America/New_York:20230420T200000
DTSTAMP:20260424T074428
CREATED:20230417T193802Z
LAST-MODIFIED:20230417T193802Z
UID:18307-1682010000-1682020800@864foodtrucks.com
SUMMARY:Just a Smile Caribbean @ Kelsey Glenn
DESCRIPTION:JUST-A-SMILE ENTERTAINMENT PROVIDING YOUR PLACE OR VENUE COMPLETE CARIBBEAN EXPERIENCE THROUGH FOOD DANCE AND UNITY. WE BRING SMILES.
URL:https://864foodtrucks.com/event/just-a-smile-caribbean-kelsey-glenn/
LOCATION:Kelsey Glen\, 25 Redvales Road\, Simpsonville\, South Carolina
CATEGORIES:Food Truck Schedules,Simpsonville
ATTACH;FMTTYPE=image/jpeg:https://864foodtrucks.com/wp-content/uploads/2021/05/Just-A-Smile.jpg
GEO:34.7796809;-82.1934799
X-APPLE-STRUCTURED-LOCATION;VALUE=URI;X-ADDRESS=Kelsey Glen 25 Redvales Road Simpsonville South Carolina;X-APPLE-RADIUS=500;X-TITLE=25 Redvales Road:geo:-82.1934799,34.7796809
END:VEVENT
BEGIN:VEVENT
DTSTART;TZID=America/New_York:20230303T160000
DTEND;TZID=America/New_York:20230303T190000
DTSTAMP:20260424T074428
CREATED:20230227T220552Z
LAST-MODIFIED:20240425T155052Z
UID:17196-1677859200-1677870000@864foodtrucks.com
SUMMARY:Just a Smile Caribbean @ McCall's Produce
DESCRIPTION:JUST-A-SMILE ENTERTAINMENT PROVIDING YOUR PLACE OR VENUE COMPLETE CARIBBEAN EXPERIENCE THROUGH FOOD DANCE AND UNITY. WE BRING SMILES.
URL:https://864foodtrucks.com/event/just-a-smile-caribbean-mccalls-produce/2023-03-03/
LOCATION:McCall’s Produce\, 306 E Greer St\, Honea Path\, South Carolina
CATEGORIES:Food Truck Schedules,Honea Path
ATTACH;FMTTYPE=image/jpeg:https://864foodtrucks.com/wp-content/uploads/2021/05/Just-A-Smile.jpg
GEO:34.445578;-82.3894105
X-APPLE-STRUCTURED-LOCATION;VALUE=URI;X-ADDRESS=McCall’s Produce 306 E Greer St Honea Path South Carolina;X-APPLE-RADIUS=500;X-TITLE=306 E Greer St:geo:-82.3894105,34.445578
END:VEVENT
BEGIN:VEVENT
DTSTART;TZID=America/New_York:20230223T163000
DTEND;TZID=America/New_York:20230223T203000
DTSTAMP:20260424T074428
CREATED:20230220T185824Z
LAST-MODIFIED:20230530T215623Z
UID:16990-1677169800-1677184200@864foodtrucks.com
SUMMARY:Just a Smile Caribbean @ Harrison Landing
DESCRIPTION:JUST-A-SMILE ENTERTAINMENT PROVIDING YOUR PLACE OR VENUE COMPLETE CARIBBEAN EXPERIENCE THROUGH FOOD DANCE AND UNITY. WE BRING SMILES.
URL:https://864foodtrucks.com/event/just-a-smile-caribbean-harrison-landing/2023-02-23/
LOCATION:Harrison Landing\, 106 McGuires Place\, Simpsonville\, South Carolina
CATEGORIES:Food Truck Schedules,Simpsonville
ATTACH;FMTTYPE=image/jpeg:https://864foodtrucks.com/wp-content/uploads/2021/05/Just-A-Smile.jpg
GEO:34.6998601;-82.2722374
X-APPLE-STRUCTURED-LOCATION;VALUE=URI;X-ADDRESS=Harrison Landing 106 McGuires Place Simpsonville South Carolina;X-APPLE-RADIUS=500;X-TITLE=106 McGuires Place:geo:-82.2722374,34.6998601
END:VEVENT
BEGIN:VEVENT
DTSTART;TZID=America/New_York:20230212T130000
DTEND;TZID=America/New_York:20230212T170000
DTSTAMP:20260424T074428
CREATED:20230206T234021Z
LAST-MODIFIED:20230206T234021Z
UID:16611-1676206800-1676221200@864foodtrucks.com
SUMMARY:Just a Smile Caribbean Food @ Cityscape Winery
DESCRIPTION:JUST-A-SMILE ENTERTAINMENT PROVIDING YOUR PLACE OR VENUE COMPLETE CARIBBEAN EXPERIENCE THROUGH FOOD DANCE AND UNITY. WE BRING SMILES.
URL:https://864foodtrucks.com/event/just-a-smile-caribbean-food-cityscape-winery/
LOCATION:City Scape Winery\, 589 Dunklin Bridge Rd\, Pelzer\, South Carolina
CATEGORIES:Food Truck Schedules,Pelzer
ATTACH;FMTTYPE=image/jpeg:https://864foodtrucks.com/wp-content/uploads/2021/05/Just-A-Smile.jpg
GEO:34.6006559;-82.316679
X-APPLE-STRUCTURED-LOCATION;VALUE=URI;X-ADDRESS=City Scape Winery 589 Dunklin Bridge Rd Pelzer South Carolina;X-APPLE-RADIUS=500;X-TITLE=589 Dunklin Bridge Rd:geo:-82.316679,34.6006559
END:VEVENT
BEGIN:VEVENT
DTSTART;TZID=America/New_York:20230208T110000
DTEND;TZID=America/New_York:20230208T140000
DTSTAMP:20260424T074428
CREATED:20230206T234144Z
LAST-MODIFIED:20230206T234144Z
UID:16613-1675854000-1675864800@864foodtrucks.com
SUMMARY:Just a Smile Caribbean @ ISO Flex
DESCRIPTION:JUST-A-SMILE ENTERTAINMENT PROVIDING YOUR PLACE OR VENUE COMPLETE CARIBBEAN EXPERIENCE THROUGH FOOD DANCE AND UNITY. WE BRING SMILES.
URL:https://864foodtrucks.com/event/just-a-smile-caribbean-iso-flex/
LOCATION:ISO Flex\, 101 ISO Parkway\, Gray Court\, South Carolina
CATEGORIES:Food Truck Schedules,Gray Court
ATTACH;FMTTYPE=image/jpeg:https://864foodtrucks.com/wp-content/uploads/2021/05/Just-A-Smile.jpg
GEO:34.6153664;-82.1240984
X-APPLE-STRUCTURED-LOCATION;VALUE=URI;X-ADDRESS=ISO Flex 101 ISO Parkway Gray Court South Carolina;X-APPLE-RADIUS=500;X-TITLE=101 ISO Parkway:geo:-82.1240984,34.6153664
END:VEVENT
BEGIN:VEVENT
DTSTART;TZID=America/New_York:20230103T130000
DTEND;TZID=America/New_York:20230103T130000
DTSTAMP:20260424T074428
CREATED:20230102T172831Z
LAST-MODIFIED:20241230T143751Z
UID:15903-1672750800-1672750800@864foodtrucks.com
SUMMARY:Just a Smile @ Jerry's Mart
DESCRIPTION:JUST-A-SMILE ENTERTAINMENT PROVIDING YOUR PLACE OR VENUE COMPLETE CARIBBEAN EXPERIENCE THROUGH FOOD DANCE AND UNITY. WE BRING SMILES.
URL:https://864foodtrucks.com/event/just-a-smile-jerrys-mart/2023-01-03/
LOCATION:Jerrys Mart\, 2314 Fork Shoals Road\, Piedmont\, South Carolina
CATEGORIES:Food Truck Schedules,Piedmont
ATTACH;FMTTYPE=image/jpeg:https://864foodtrucks.com/wp-content/uploads/2021/05/Just-A-Smile.jpg
GEO:34.7214497;-82.3402297
X-APPLE-STRUCTURED-LOCATION;VALUE=URI;X-ADDRESS=Jerrys Mart 2314 Fork Shoals Road Piedmont South Carolina;X-APPLE-RADIUS=500;X-TITLE=2314 Fork Shoals Road:geo:-82.3402297,34.7214497
END:VEVENT
BEGIN:VEVENT
DTSTART;TZID=America/New_York:20221214T093000
DTEND;TZID=America/New_York:20221214T140000
DTSTAMP:20260424T074428
CREATED:20221212T185859Z
LAST-MODIFIED:20221212T185859Z
UID:15592-1671010200-1671026400@864foodtrucks.com
SUMMARY:Just a Smile Caribbean @ Siemens
DESCRIPTION:
URL:https://864foodtrucks.com/event/just-a-smile-caribbean-siemens/
LOCATION:Siemens\, 1320 Old Georgia Highway Road\, Roebuck\, South Carolina
CATEGORIES:Food Truck Schedules,Roebuck
ATTACH;FMTTYPE=image/jpeg:https://864foodtrucks.com/wp-content/uploads/2021/05/Just-A-Smile.jpg
GEO:35.0640427;-81.6658089
X-APPLE-STRUCTURED-LOCATION;VALUE=URI;X-ADDRESS=Siemens 1320 Old Georgia Highway Road Roebuck South Carolina;X-APPLE-RADIUS=500;X-TITLE=1320 Old Georgia Highway Road:geo:-81.6658089,35.0640427
END:VEVENT
BEGIN:VEVENT
DTSTART;TZID=America/New_York:20221207T160000
DTEND;TZID=America/New_York:20221207T200000
DTSTAMP:20260424T074428
CREATED:20221205T211340Z
LAST-MODIFIED:20221205T211340Z
UID:15439-1670428800-1670443200@864foodtrucks.com
SUMMARY:Just a Smile @ WineXpress
DESCRIPTION:
URL:https://864foodtrucks.com/event/just-a-smile-winexpress/
LOCATION:WineXpress\, 202 Scuffletown Rd\, Simpsonville\, South Carolina
CATEGORIES:Food Truck Schedules,Simpsonville
ATTACH;FMTTYPE=image/jpeg:https://864foodtrucks.com/wp-content/uploads/2021/05/Just-A-Smile.jpg
GEO:34.8046736;-82.2292537
X-APPLE-STRUCTURED-LOCATION;VALUE=URI;X-ADDRESS=WineXpress 202 Scuffletown Rd Simpsonville South Carolina;X-APPLE-RADIUS=500;X-TITLE=202 Scuffletown Rd:geo:-82.2292537,34.8046736
END:VEVENT
BEGIN:VEVENT
DTSTART;TZID=America/New_York:20221206T110000
DTEND;TZID=America/New_York:20221206T140000
DTSTAMP:20260424T074428
CREATED:20221205T211505Z
LAST-MODIFIED:20230220T190021Z
UID:15441-1670324400-1670335200@864foodtrucks.com
SUMMARY:Just a Smile Caribbean @ Timken
DESCRIPTION:
URL:https://864foodtrucks.com/event/just-a-smile-caribbean-timken/2022-12-06/
LOCATION:Timken\, 415 Brick Mill Rd\, Honea Path\, South Carolina
CATEGORIES:Food Truck Schedules,Honea Path
ATTACH;FMTTYPE=image/jpeg:https://864foodtrucks.com/wp-content/uploads/2021/05/Just-A-Smile.jpg
GEO:34.473788;-82.4200864
X-APPLE-STRUCTURED-LOCATION;VALUE=URI;X-ADDRESS=Timken 415 Brick Mill Rd Honea Path South Carolina;X-APPLE-RADIUS=500;X-TITLE=415 Brick Mill Rd:geo:-82.4200864,34.473788
END:VEVENT
BEGIN:VEVENT
DTSTART;TZID=America/New_York:20221118T173000
DTEND;TZID=America/New_York:20221118T173000
DTSTAMP:20260424T074428
CREATED:20221116T213037Z
LAST-MODIFIED:20250514T163339Z
UID:14715-1668792600-1668792600@864foodtrucks.com
SUMMARY:Just a Smile Caribbean @ Piney Mountain Bike Lounge
DESCRIPTION:
URL:https://864foodtrucks.com/event/just-a-smile-caribbean-piney-mountain-bike-lounge/2022-11-18/
LOCATION:Piney Mountain Bike Lounge\, 20 Piney Mountain Rd\, Greenville\, South Carolina
CATEGORIES:Food Truck Schedules,Greenville
ATTACH;FMTTYPE=image/jpeg:https://864foodtrucks.com/wp-content/uploads/2021/05/Just-A-Smile.jpg
GEO:34.8913881;-82.373773
X-APPLE-STRUCTURED-LOCATION;VALUE=URI;X-ADDRESS=Piney Mountain Bike Lounge 20 Piney Mountain Rd Greenville South Carolina;X-APPLE-RADIUS=500;X-TITLE=20 Piney Mountain Rd:geo:-82.373773,34.8913881
END:VEVENT
BEGIN:VEVENT
DTSTART;TZID=America/New_York:20221117T160000
DTEND;TZID=America/New_York:20221117T200000
DTSTAMP:20260424T074428
CREATED:20221116T213448Z
LAST-MODIFIED:20231106T203748Z
UID:14720-1668700800-1668715200@864foodtrucks.com
SUMMARY:Just a Smile Caribbean @ Magnolia Manor
DESCRIPTION:
URL:https://864foodtrucks.com/event/just-a-smile-caribbean-magnolia-manor/2022-11-17/
LOCATION:Magnolia Manor\, 1415 Parkway\, Greenwood
CATEGORIES:Food Truck Schedules,Greenwood
ATTACH;FMTTYPE=image/jpeg:https://864foodtrucks.com/wp-content/uploads/2021/05/Just-A-Smile.jpg
GEO:34.1725253;-82.1575526
X-APPLE-STRUCTURED-LOCATION;VALUE=URI;X-ADDRESS=Magnolia Manor 1415 Parkway Greenwood;X-APPLE-RADIUS=500;X-TITLE=1415 Parkway:geo:-82.1575526,34.1725253
END:VEVENT
BEGIN:VEVENT
DTSTART;TZID=America/New_York:20221114T100000
DTEND;TZID=America/New_York:20221115T000000
DTSTAMP:20260424T074428
CREATED:20221114T171144Z
LAST-MODIFIED:20221114T171144Z
UID:14590-1668420000-1668470400@864foodtrucks.com
SUMMARY:Just a Smile @ Walmart Simpsonville
DESCRIPTION:Coffee. Tea. Community.\nThe vision of Vita Nova is to bring communities together around good coffee\, delicacies and various entertainment!
URL:https://864foodtrucks.com/event/just-a-smile-walmart-simpsonville/
LOCATION:Walmart Neighborhood\, 1401 W Georgia Rd\, Simpsonville
CATEGORIES:Food Truck Schedules,Simpsonville
ATTACH;FMTTYPE=image/jpeg:https://864foodtrucks.com/wp-content/uploads/2021/05/Just-A-Smile.jpg
END:VEVENT
END:VCALENDAR