BEGIN:VCALENDAR
VERSION:2.0
PRODID:-//864 Food Trucks - ECPv6.15.20//NONSGML v1.0//EN
CALSCALE:GREGORIAN
METHOD:PUBLISH
X-WR-CALNAME:864 Food Trucks
X-ORIGINAL-URL:https://864foodtrucks.com
X-WR-CALDESC:Events for 864 Food Trucks
REFRESH-INTERVAL;VALUE=DURATION:PT1H
X-Robots-Tag:noindex
X-PUBLISHED-TTL:PT1H
BEGIN:VTIMEZONE
TZID:America/New_York
BEGIN:DAYLIGHT
TZOFFSETFROM:-0500
TZOFFSETTO:-0400
TZNAME:EDT
DTSTART:20220313T070000
END:DAYLIGHT
BEGIN:STANDARD
TZOFFSETFROM:-0400
TZOFFSETTO:-0500
TZNAME:EST
DTSTART:20221106T060000
END:STANDARD
BEGIN:DAYLIGHT
TZOFFSETFROM:-0500
TZOFFSETTO:-0400
TZNAME:EDT
DTSTART:20230312T070000
END:DAYLIGHT
BEGIN:STANDARD
TZOFFSETFROM:-0400
TZOFFSETTO:-0500
TZNAME:EST
DTSTART:20231105T060000
END:STANDARD
BEGIN:DAYLIGHT
TZOFFSETFROM:-0500
TZOFFSETTO:-0400
TZNAME:EDT
DTSTART:20240310T070000
END:DAYLIGHT
BEGIN:STANDARD
TZOFFSETFROM:-0400
TZOFFSETTO:-0500
TZNAME:EST
DTSTART:20241103T060000
END:STANDARD
END:VTIMEZONE
BEGIN:VEVENT
DTSTART;TZID=America/New_York:20231117T070000
DTEND;TZID=America/New_York:20231117T100000
DTSTAMP:20260425T171117
CREATED:20231113T144722Z
LAST-MODIFIED:20231113T144722Z
UID:24105-1700204400-1700215200@864foodtrucks.com
SUMMARY:Little Leaf Coffee @ Mccalls Produce
DESCRIPTION:Mobile coffee truck in Greenville SC.
URL:https://864foodtrucks.com/event/little-leaf-coffee-mccalls-produce/
LOCATION:McCall’s Produce\, 306 E Greer St\, Honea Path\, South Carolina
CATEGORIES:Food Truck Schedules,Honea Path
ATTACH;FMTTYPE=image/jpeg:https://864foodtrucks.com/wp-content/uploads/2023/06/Little-Leaf-Coffee.jpg
ORGANIZER;CN="Little Leaf Coffee":MAILTO:Littleleafcoffee@gmail.com
GEO:34.445578;-82.3894105
X-APPLE-STRUCTURED-LOCATION;VALUE=URI;X-ADDRESS=McCall’s Produce 306 E Greer St Honea Path South Carolina;X-APPLE-RADIUS=500;X-TITLE=306 E Greer St:geo:-82.3894105,34.445578
END:VEVENT
BEGIN:VEVENT
DTSTART;TZID=America/New_York:20231115T090000
DTEND;TZID=America/New_York:20231115T120000
DTSTAMP:20260425T171117
CREATED:20231113T144602Z
LAST-MODIFIED:20231113T144602Z
UID:24103-1700038800-1700049600@864foodtrucks.com
SUMMARY:Little Leaf Coffee @ Fairway Ford
DESCRIPTION:Mobile coffee truck in Greenville SC.
URL:https://864foodtrucks.com/event/little-leaf-coffee-fairway-ford/
LOCATION:Fairway Ford\, 2323 Laurens Rd\, Greenville
CATEGORIES:Food Truck Schedules,Greenville
ATTACH;FMTTYPE=image/jpeg:https://864foodtrucks.com/wp-content/uploads/2023/06/Little-Leaf-Coffee.jpg
ORGANIZER;CN="Little Leaf Coffee":MAILTO:Littleleafcoffee@gmail.com
END:VEVENT
BEGIN:VEVENT
DTSTART;TZID=America/New_York:20231007T090000
DTEND;TZID=America/New_York:20231007T130000
DTSTAMP:20260425T171117
CREATED:20231002T211129Z
LAST-MODIFIED:20231002T211129Z
UID:23305-1696669200-1696683600@864foodtrucks.com
SUMMARY:Little Leaf Coffee @ Old Pacelot Rd
DESCRIPTION:Mobile coffee truck in Greenville SC.
URL:https://864foodtrucks.com/event/little-leaf-coffee-old-pacelot-rd/
LOCATION:1941 Old Pacelot Rd\, Old Pacolet Road 1941\, Spartanburg\, South Carolina\, 29307\, United States
CATEGORIES:Food Truck Schedules,Greenville
ATTACH;FMTTYPE=image/jpeg:https://864foodtrucks.com/wp-content/uploads/2023/06/Little-Leaf-Coffee.jpg
ORGANIZER;CN="Little Leaf Coffee":MAILTO:Littleleafcoffee@gmail.com
GEO:34.9912526;-81.7775166
X-APPLE-STRUCTURED-LOCATION;VALUE=URI;X-ADDRESS=1941 Old Pacelot Rd Old Pacolet Road 1941 Spartanburg South Carolina 29307 United States;X-APPLE-RADIUS=500;X-TITLE=Old Pacolet Road 1941:geo:-81.7775166,34.9912526
END:VEVENT
BEGIN:VEVENT
DTSTART;TZID=America/New_York:20231006T170000
DTEND;TZID=America/New_York:20231006T190000
DTSTAMP:20260425T171117
CREATED:20231002T210911Z
LAST-MODIFIED:20231002T210911Z
UID:23303-1696611600-1696618800@864foodtrucks.com
SUMMARY:Little Leaf Coffee @ Brushy Creek Elementary
DESCRIPTION:Mobile coffee truck in Greenville SC.
URL:https://864foodtrucks.com/event/little-leaf-coffee-brushy-creek-elementary/
LOCATION:Brushy Creek Elementary\, 1344 Brushy Creek Rd\, Taylors\, SC\, United States
CATEGORIES:Food Truck Schedules,Taylors
ATTACH;FMTTYPE=image/jpeg:https://864foodtrucks.com/wp-content/uploads/2023/06/Little-Leaf-Coffee.jpg
ORGANIZER;CN="Little Leaf Coffee":MAILTO:Littleleafcoffee@gmail.com
END:VEVENT
BEGIN:VEVENT
DTSTART;TZID=America/New_York:20230929T073000
DTEND;TZID=America/New_York:20230929T100000
DTSTAMP:20260425T171117
CREATED:20230925T125745Z
LAST-MODIFIED:20230925T125745Z
UID:23123-1695972600-1695981600@864foodtrucks.com
SUMMARY:Little Leaf Coffee @ Trailblazer Park
DESCRIPTION:Mobile coffee truck in Greenville SC.
URL:https://864foodtrucks.com/event/little-leaf-coffee-trailblazer-park/
LOCATION:Trailblazer Park\, 235 Trailblazer Dr\, Travelers Rest\, SC\, 29690\, United States
CATEGORIES:Food Truck Schedules,Travelers Rest
ATTACH;FMTTYPE=image/jpeg:https://864foodtrucks.com/wp-content/uploads/2023/06/Little-Leaf-Coffee.jpg
ORGANIZER;CN="Little Leaf Coffee":MAILTO:Littleleafcoffee@gmail.com
GEO:34.95593;-82.4419747
X-APPLE-STRUCTURED-LOCATION;VALUE=URI;X-ADDRESS=Trailblazer Park 235 Trailblazer Dr Travelers Rest SC 29690 United States;X-APPLE-RADIUS=500;X-TITLE=235 Trailblazer Dr:geo:-82.4419747,34.95593
END:VEVENT
BEGIN:VEVENT
DTSTART;TZID=America/New_York:20230818T100000
DTEND;TZID=America/New_York:20230818T140000
DTSTAMP:20260425T171117
CREATED:20230815T213404Z
LAST-MODIFIED:20230815T213404Z
UID:22162-1692352800-1692367200@864foodtrucks.com
SUMMARY:Little Leaf Coffee @ 301 Fairforest Way
DESCRIPTION:Mobile coffee truck in Greenville SC.
URL:https://864foodtrucks.com/event/little-leaf-coffee-301-fairforest-way/
LOCATION:301 Fairforest Way\, Fairforest Way 301\, Greenville\, SC\, 29607\, United States
CATEGORIES:Food Truck Schedules,Greenville
ATTACH;FMTTYPE=image/jpeg:https://864foodtrucks.com/wp-content/uploads/2023/06/Little-Leaf-Coffee.jpg
ORGANIZER;CN="Little Leaf Coffee":MAILTO:Littleleafcoffee@gmail.com
GEO:34.7960007;-82.3442166
X-APPLE-STRUCTURED-LOCATION;VALUE=URI;X-ADDRESS=301 Fairforest Way Fairforest Way 301 Greenville SC 29607 United States;X-APPLE-RADIUS=500;X-TITLE=Fairforest Way 301:geo:-82.3442166,34.7960007
END:VEVENT
BEGIN:VEVENT
DTSTART;TZID=America/New_York:20230808T080000
DTEND;TZID=America/New_York:20230808T200000
DTSTAMP:20260425T171117
CREATED:20230807T145938Z
LAST-MODIFIED:20240205T001310Z
UID:21847-1691481600-1691524800@864foodtrucks.com
SUMMARY:Little Leaf Coffee @ 35 East Lee Rd
DESCRIPTION:Mobile coffee truck in Greenville SC.
URL:https://864foodtrucks.com/event/little-leaf-coffee-35-east-lee-rd/2023-08-08/
LOCATION:35 East Lee Rd\, 35 East Lee Rd\, Taylors\, SC\, United States
CATEGORIES:Food Truck Schedules,Taylors
ATTACH;FMTTYPE=image/jpeg:https://864foodtrucks.com/wp-content/uploads/2023/06/Little-Leaf-Coffee.jpg
ORGANIZER;CN="Little Leaf Coffee":MAILTO:Littleleafcoffee@gmail.com
END:VEVENT
BEGIN:VEVENT
DTSTART;TZID=America/New_York:20230611T080000
DTEND;TZID=America/New_York:20230611T170000
DTSTAMP:20260425T171117
CREATED:20230611T193700Z
LAST-MODIFIED:20230925T125616Z
UID:19585-1686470400-1686502800@864foodtrucks.com
SUMMARY:Little Leaf Coffee @ East Lee Rd
DESCRIPTION:Mobile coffee truck in Greenville SC.
URL:https://864foodtrucks.com/event/little-leaf-coffee-east-lee-rd/2023-06-11/
LOCATION:35 East Lee Rd\, 35 East Lee Rd\, Taylors\, SC\, United States
CATEGORIES:Food Truck Schedules,Taylors
ATTACH;FMTTYPE=image/jpeg:https://864foodtrucks.com/wp-content/uploads/2023/06/Little-Leaf-Coffee-1.jpg
ORGANIZER;CN="Little Leaf Coffee":MAILTO:Littleleafcoffee@gmail.com
END:VEVENT
END:VCALENDAR